{"text_format":"3","workbook":"xlsx","n_sheets":11,"sheets":["メニュー","一級建築士登録事項変更届・書換え交付申請書","一級建築士免許書換え交付申請書（携帯型免許証明書への変更）","一級建築士免許書換え交付申請書","一級建築士免許証・免許証明書 再交付申請書","一級建築士住所等の届出〔B〕","都道府県リスト","国名コード","例示リスト","年数合計","計算シート"],"not_rendered":{"images":70,"macros":1,"defined_names":18},"read":"whole","date_system":"1900"}

{"sheet":"メニュー","index":0,"n_rows":8,"n_cols":3,"rows_kept":8}
{"$rows_empty":7}
[null,null,"<書換え交付申請>"]

{"sheet":"一級建築士登録事項変更届・書換え交付申請書","index":1,"n_rows":30,"n_cols":19,"rows_kept":30,"merged":[[0,0,0,19],[2,2,2,18],[3,3,3,18],[5,3,5,6],[6,3,6,6],[7,3,7,6],[7,17,7,18],[9,7,10,9],[9,10,9,18],[10,10,10,18],[12,7,12,9],[12,10,12,18],[13,2,13,19],[14,2,14,19],[15,2,15,4],[15,5,15,11],[15,12,15,18],[16,2,16,4],[16,5,16,11],[16,12,16,18],[17,2,17,4],[17,5,17,11],[17,12,17,18],[18,2,18,4],[19,2,19,4],[19,5,19,11],[19,12,19,18],[20,2,20,4],[20,5,20,18],[21,2,21,4],[21,6,21,7],[21,9,21,10],[21,12,21,13],[21,15,21,18],[22,2,22,4],[22,6,22,7],[22,9,22,10],[22,12,22,13],[22,15,25,18],[23,2,23,4],[23,5,23,14],[24,2,24,14],[25,3,25,4],[25,5,25,14],[27,2,27,18],[28,2,29,3],[28,4,28,15],[28,16,29,18],[29,4,29,15],[30,2,30,18]]}
[]
[]
[null,null,"一級建築士登録事項変更届・書換え交付申請書"]
[{"$nulls":3},"私は、このたび下記のとおり登録事項に変更が生じましたので、建築士法施行規則\n第４条第１項の規定により届け出ます。\nまた、建築士法施行規則第４条の２第１項及び第２項の規定により書換え交付を\n申請します。"]
[{"$nulls":12},"令和",4,"年",null,"月",null,"日"]
[{"$nulls":3},"国   土   交   通   大   臣"]
[{"$nulls":3},"中央指定登録機関",{"$nulls":4},"殿"]
[null,null,"\n","公益社団法人日本建築士会連合会"]
[]
[{"$nulls":7},"申請者住所"]
[]
[]
[{"$nulls":7},"氏　　　　　名"]
[]
[null,null,"記"]
[{"$nulls":5},"登録事項",{"$nulls":6},"変更"]
[null,null,"ふ　　り　　が　　な"]
[null,null,"1　氏　　　　　　名"]
[null,null,"2　生　年　月　日",{"$nulls":4},"年",null,"月",null,"日",null,null,"年",null,"月",null,"日"]
[null,null,"3　性　　　　　別"]
[null,null,"4　登　録　番　号"]
[null,null,"5　登 録 年 月 日",{"$nulls":5},"年",null,null,"月",null,null,"日"]
[null,null,"6　変 更 年 月 日",{"$nulls":5},"年",null,null,"月",null,null,"日"]
[null,null,"7　変 更 の 理 由"]
[]
[null,null,8,"講習受講履歴\n記  載  希  望"]
[]
[null,null,"\n\n\n\n振替払込受付証明書 貼付欄"]
[{"$nulls":4},"※ここには原本を貼り付けてください。"]
[{"$nulls":4},"※貼る前に必ずコピーをとり保管しておいてください。"]

{"sheet":"一級建築士免許書換え交付申請書（携帯型免許証明書への変更）","index":2,"n_rows":28,"n_cols":19,"rows_kept":28,"merged":[[0,0,0,19],[2,2,2,18],[3,4,3,16],[5,3,5,18],[7,3,7,6],[8,3,8,6],[9,3,9,6],[9,17,9,18],[11,7,12,9],[11,10,11,18],[12,10,12,18],[14,7,14,9],[14,10,14,18],[15,2,15,19],[16,2,16,19],[17,2,17,4],[17,5,17,14],[17,15,20,18],[18,2,18,4],[18,5,18,14],[19,2,19,4],[19,6,19,7],[19,9,19,10],[19,12,19,13],[20,2,20,4],[20,5,20,14],[21,2,21,4],[21,5,21,18],[22,2,22,4],[22,6,22,7],[22,9,22,10],[22,12,22,13],[22,15,22,18],[23,3,23,4],[23,5,23,18],[25,2,25,18],[26,2,27,3],[26,4,26,15],[26,16,27,18],[27,4,27,15],[28,2,28,18]]}
[]
[]
[null,null,"一級建築士免許書換え交付申請書"]
[{"$nulls":4},"(携帯型免許証明書への変更)"]
[]
[{"$nulls":3},"私は、このたび建築士法第5条第3項及び建築士法施行規則第4条の2第2項の規定\nにより下記のとおり一級建築士免許証明書の書換え交付を申請します。"]
[{"$nulls":12},"令和",4,"年",null,"月",null,"日"]
[{"$nulls":3},"国   土   交   通   大   臣"]
[{"$nulls":3},"中央指定登録機関",{"$nulls":4},"殿"]
[null,null,"\n","公益社団法人日本建築士会連合会"]
[]
[{"$nulls":7},"申請者住所"]
[]
[]
[{"$nulls":7},"氏　　　　　名"]
[]
[null,null,"記"]
[null,null,"ふ　　り　　が　　な"]
[null,null,"1　氏　　　　　　名"]
[null,null,"2　生　年　月　日",{"$nulls":5},"年",null,null,"月",null,null,"日"]
[null,null,"3　性　　　　　別"]
[null,null,"4　登　録　番　号"]
[null,null,"5　登 録 年 月 日",{"$nulls":5},"年",null,null,"月",null,null,"日"]
[null,null,6,"講習受講履歴\n記  載  希  望"]
[]
[null,null,"\n\n\n振替払込受付証明書  貼付欄"]
[{"$nulls":4},"※ここには原本を貼り付けてください。"]
[{"$nulls":4},"※貼る前に必ずコピーをとり保管しておいてください。"]

{"sheet":"一級建築士免許書換え交付申請書","index":3,"n_rows":28,"n_cols":19,"rows_kept":28,"merged":[[0,0,0,19],[2,2,2,18],[3,4,3,16],[5,3,5,18],[7,3,7,6],[8,3,8,6],[9,3,9,6],[9,17,9,18],[11,7,12,9],[11,10,11,18],[12,10,12,18],[14,7,14,9],[14,10,14,18],[15,2,15,19],[16,2,16,19],[17,2,17,4],[17,5,17,14],[17,15,20,18],[18,2,18,4],[18,5,18,14],[19,2,19,4],[19,6,19,7],[19,9,19,10],[19,12,19,13],[20,2,20,4],[20,5,20,14],[21,2,21,4],[21,5,21,18],[22,2,22,4],[22,6,22,7],[22,9,22,10],[22,12,22,13],[22,15,22,18],[23,3,23,4],[23,5,23,18],[25,2,25,18],[26,2,27,3],[26,4,26,15],[26,16,27,18],[27,4,27,15],[28,2,28,18]]}
[]
[]
[null,null,"一級建築士免許書換え交付申請書"]
[]
[]
[{"$nulls":3},"私は、このたび建築士法第5条第3項及び建築士法施行規則第4条の2第2項の規定\nにより下記のとおり一級建築士免許証明書の書換え交付を申請します。"]
[{"$nulls":12},"令和",4,"年",null,"月",null,"日"]
[{"$nulls":3},"国   土   交   通   大   臣"]
[{"$nulls":3},"中央指定登録機関",{"$nulls":4},"殿"]
[null,null,"\n","公益社団法人日本建築士会連合会"]
[]
[{"$nulls":7},"申請者住所"]
[]
[]
[{"$nulls":7},"氏　　　　　名"]
[]
[null,null,"記"]
[null,null,"ふ　　り　　が　　な"]
[null,null,"1　氏　　　　　　名"]
[null,null,"2　生　年　月　日",{"$nulls":5},"年",null,null,"月",null,null,"日"]
[null,null,"3　性　　　　　別"]
[null,null,"4　登　録　番　号"]
[null,null,"5　登 録 年 月 日",{"$nulls":5},"年",null,null,"月",null,null,"日"]
[null,null,6,"講習受講履歴\n記  載  希  望"]
[]
[null,null,"\n\n\n振替払込受付証明書  貼付欄"]
[{"$nulls":4},"※ここには原本を貼り付けてください。"]
[{"$nulls":4},"※貼る前に必ずコピーをとり保管しておいてください。"]

{"sheet":"一級建築士免許証・免許証明書 再交付申請書","index":4,"n_rows":31,"n_cols":19,"rows_kept":31,"merged":[[0,0,0,19],[2,2,2,18],[3,4,3,16],[5,3,5,18],[7,3,7,6],[8,3,8,6],[9,3,9,6],[9,17,9,18],[11,7,12,9],[11,10,11,18],[12,10,12,18],[14,7,14,9],[14,10,14,18],[15,2,15,19],[16,2,16,19],[17,2,17,4],[17,5,17,14],[17,15,21,18],[18,2,18,4],[18,5,18,14],[19,2,19,4],[19,6,19,7],[19,9,19,10],[19,12,19,13],[20,2,20,4],[20,5,20,14],[21,2,21,4],[21,5,21,14],[22,2,22,4],[22,6,22,7],[22,9,22,10],[22,12,22,13],[22,15,22,18],[23,3,23,4],[23,6,23,7],[23,9,23,10],[23,12,23,13],[23,15,23,18],[24,3,24,4],[24,5,24,8],[24,9,24,18],[25,2,25,18],[26,3,26,4],[26,5,26,18],[28,2,28,18],[29,2,30,3],[29,4,29,15],[29,16,30,18],[30,4,30,15],[31,2,31,18]]}
[]
[]
[null,null,"一級建築士免許証・免許証明書再交付申請書"]
[]
[]
[{"$nulls":3},"私は、このたび免許証・免許証明書を汚損、亡失しましたので、建築士法施行規則\n第４条の２第２項及び第５条の規定により下記のとおり書換え及び再交付を申請します。"]
[{"$nulls":12},"令和",4,"年",null,"月",null,"日"]
[{"$nulls":3},"国   土   交   通   大   臣"]
[{"$nulls":3},"中央指定登録機関",{"$nulls":4},"殿"]
[null,null,"\n","公益社団法人日本建築士会連合会"]
[]
[{"$nulls":7},"申請者住所"]
[]
[]
[{"$nulls":7},"氏　　　　　名"]
[]
[null,null,"記"]
[null,null,"ふ　　り　　が　　な"]
[null,null,"1　氏　　　　　　名"]
[null,null,"2　生　年　月　日",{"$nulls":5},"年",null,null,"月",null,null,"日"]
[null,null,"3　性　　　　　別"]
[null,null,"4　登　録　番　号"]
[null,null,"5　登 録 年 月 日",{"$nulls":5},"年",null,null,"月",null,null,"日"]
[null,null,6,"汚損又は亡失\nの　年　月　日",{"$nulls":4},"年",null,null,"月",null,null,"日"]
[null,null,7,"汚損又は亡失の理由",null,"(具体的に詳しく記入のこと)"]
[]
[null,null,8,"講習受講履歴\n記  載  希  望"]
[]
[null,null,"\n\n\n振替払込受付証明書  貼付欄"]
[{"$nulls":4},"※ここには原本を貼り付けてください。"]
[{"$nulls":4},"※貼る前に必ずコピーをとり保管しておいてください。"]

{"sheet":"一級建築士住所等の届出〔B〕","index":5,"n_rows":104,"n_cols":61,"rows_kept":104,"merged":[[0,0,0,62],[1,21,3,39],[3,47,3,49],[3,50,3,51],[3,52,3,53],[3,54,3,55],[3,56,3,57],[3,58,3,59],[3,60,3,61],[4,1,10,6],[4,7,6,13],[4,14,6,22],[4,23,6,30],[4,31,11,33],[4,34,11,38],[4,39,11,41],[4,42,11,43],[4,44,11,46],[4,47,11,48],[4,49,11,51],[4,52,11,53],[4,54,11,56],[4,57,11,61],[4,62,10,62],[7,7,11,13],[7,14,11,22],[7,23,11,30],[12,2,12,5],[12,7,15,13],[12,14,15,21],[12,22,15,61],[13,2,14,5],[15,2,17,5],[16,7,17,13],[16,14,17,61],[18,7,27,13],[18,14,19,15],[18,16,19,19],[18,20,19,21],[18,22,19,27],[18,28,19,61],[20,2,21,5],[20,14,23,21],[20,22,23,61],[22,2,24,5],[24,14,27,41],[24,42,27,45],[24,46,27,49],[24,50,27,51],[24,52,27,55],[24,56,27,57],[24,58,27,61],[25,2,28,5],[28,7,32,13],[28,14,32,15],[28,16,32,33],[28,34,32,35],[28,36,32,44],[28,45,32,49],[28,50,32,51],[28,52,32,53],[28,54,32,55],[28,56,32,57],[28,58,32,59],[28,60,32,61],[32,2,32,3],[33,2,34,5],[33,7,39,13],[33,14,39,61],[35,2,36,5],[37,2,37,3],[38,2,38,3],[39,2,39,3],[40,7,50,8],[40,9,42,13],[40,14,42,61],[42,2,43,5],[43,9,50,13],[43,14,44,15],[43,16,44,19],[43,20,44,21],[43,22,44,27],[43,28,44,61],[44,2,46,5],[45,14,47,21],[45,22,47,61],[47,2,49,5],[48,14,50,41],[48,42,50,45],[48,46,50,49],[48,50,50,51],[48,52,50,55],[48,56,50,57],[48,58,50,61],[54,0,55,1],[55,37,56,61],[57,0,57,50],[57,52,72,62],[58,0,58,5],[58,6,58,17],[58,18,58,28],[58,29,58,37],[58,38,58,50],[59,0,66,5],[59,6,66,17],[59,18,66,28],[59,29,66,37],[59,38,66,50],[68,0,68,8],[68,11,68,14],[68,15,68,30],[68,31,68,34],[68,35,68,50],[69,0,70,8],[69,11,74,14],[69,15,74,30],[69,31,74,34],[69,35,74,50],[71,0,72,4],[71,5,72,8],[77,0,79,8],[77,9,78,42],[77,45,77,62],[78,45,79,50],[78,51,79,51],[78,52,79,57],[78,58,79,58],[78,59,79,62],[79,9,79,42],[80,0,81,2],[80,3,81,16],[80,17,81,20],[80,21,81,42],[81,45,81,62],[82,0,87,2],[82,3,87,16],[82,17,87,20],[82,21,87,42],[82,45,83,54],[82,55,83,56],[82,57,83,62],[85,45,85,62],[86,45,86,50],[86,51,86,62],[87,45,88,50],[87,51,88,62],[90,45,95,62],[91,0,91,42],[92,0,92,20],[92,21,92,42],[93,0,96,20],[93,21,96,42],[96,45,97,46],[96,47,97,50],[96,51,97,52],[96,53,97,56],[96,57,97,58],[96,59,97,62],[98,0,98,42],[98,45,101,62],[99,0,101,42],[103,0,105,62]]}
[]
[{"$nulls":7},"第三号書式(第八条関係)",{"$nulls":13},"一級建築士住所等の届出"]
[]
[{"$nulls":47},"令和",null,null,4,null,"年",{"$nulls":3},"月",{"$nulls":3},"日"]
[null,"※以下のコードも記入して下さい",{"$nulls":5},"ふ　り　が　な",{"$nulls":23},"生年月日",{"$nulls":10},"年",{"$nulls":4},"月",{"$nulls":4},"日",null,"性　別"]
[]
[]
[{"$nulls":7},"氏　　　名"]
[]
[]
[]
[]
[null,null,"本籍",{"$nulls":4},"本　　　籍"]
[null,null,"都道府県コード"]
[]
[null,null,{"$f":"IF(ISERROR(INDEX(都道府県リスト!$A$3:$B$49,MATCH($O$13,都道府県リスト!B3:$B$49,FALSE),1)),\"\",INDEX(都道府県リスト!$A$3:$B$49,MATCH($O$13,都道府県リスト!B3:$B$49,FALSE),1))","v":""}]
[{"$nulls":7},"ふ　り　が　な"]
[]
[{"$nulls":7},"住　　　所",{"$nulls":6},"〒",{"$nulls":5},"-"]
[]
[null,null,"住所"]
[]
[null,null,"都道府県コード"]
[]
[{"$nulls":42},"電話",{"$nulls":7},"-",{"$nulls":5},"-"]
[null,null,{"$f":"IF(ISERROR(INDEX(都道府県リスト!$A$3:$B$49,MATCH($O$21,都道府県リスト!B3:$B$49,FALSE),1)),\"\",INDEX(都道府県リスト!$A$3:$B$49,MATCH($O$21,都道府県リスト!B3:$B$49,FALSE),1))","v":""}]
[]
[]
[{"$nulls":7},"登 録 番 号",{"$nulls":6},"第",{"$nulls":19},"号",null,"登 録 年 月 日",{"$nulls":15},"年",{"$nulls":3},"月",{"$nulls":3},"日"]
[]
[]
[]
[]
[null,null,"業務の\n種別",{"$nulls":4},"業 務の種 別\n      (注1・2)"]
[]
[null,null,""]
[]
[]
[]
[]
[{"$nulls":7},"勤 務 先",null,"名　　称\n(注3)"]
[]
[null,null,"勤務先"]
[{"$nulls":9},"所  在  地",{"$nulls":4},"〒",{"$nulls":5},"-"]
[null,null,"都道府県コード"]
[]
[]
[null,null,{"$f":"IF(ISERROR(INDEX(都道府県リスト!$A$3:$B$49,MATCH($O$46,都道府県リスト!B3:$B$49,FALSE),1)),\"\",INDEX(都道府県リスト!$A$3:$B$49,MATCH($O$46,都道府県リスト!B3:$B$49,FALSE),1))","v":""}]
[{"$nulls":42},"電話",{"$nulls":7},"-",{"$nulls":5},"-"]
[]
[]
[{"$nulls":7},"〔記入注意〕",{"$nulls":4},"1.業務の種別及び勤務先の欄は、建築に関する業務に従事しているときに記入して下さい。"]
[{"$nulls":12},"2.業務種別欄は、該当する数字を選択して下さい。2種以上の業務に従事しているときは、主に従事しているもの1つを選択して下さい。"]
[{"$nulls":12},"3.建築士事務所に勤務しているときは、その事務所の開設者名を勤務先の名称の欄に併記して下さい。"]
["Ｂ"]
[{"$nulls":37},"※「一級建築士住所等の届出」との重複項目もご記入ください。"]
[]
["手続種別(上段)と理由(下段) ※該当するもの全てをチェックしてください。"]
["    1 一級再交付",{"$nulls":5},"2 一級事項変更",{"$nulls":11},"3 構造・設備",{"$nulls":10},"4 一級書換え",{"$nulls":8},"5 構造・設備書換え"]
{"$rows_empty":9}
["申請都道府県",{"$nulls":10},"フリガナ",{"$nulls":3},{"$f":"PHONETIC(O5)&\"\"","v":""},{"$nulls":15},"フリガナ",{"$nulls":3},{"$f":"PHONETIC(X5)&\"\"","v":""}]
[{"$nulls":11},"姓",{"$nulls":3},{"$f":"O8&\"\"","v":""},{"$nulls":15},"名",{"$nulls":3},{"$f":"X8&\"\"","v":""}]
[]
["都道府県コード",{"$nulls":4},{"$f":"IF(ISERROR(INDEX(都道府県リスト!$A$3:$B$49,MATCH($A$70,都道府県リスト!B3:$B$49,FALSE),1)),\"\",INDEX(都道府県リスト!$A$3:$B$49,MATCH($A$70,都道府県リスト!B3:$B$49,FALSE),1))","v":""}]
[]
[]
[]
[]
["※楷書で大きくはっきりと記入してください。(特に特別な字体があるとき)"]
[" 旧姓・通称名の併記",{"$nulls":44},"連絡可能な日中のご連絡先"]
[{"$nulls":51},"-",{"$nulls":6},"-"]
[{"$nulls":9},"※1併記を希望する方は、以下の旧姓あるいは通称名欄にご記入ください。"]
["フリガナ",{"$nulls":16},"フリガナ"]
[{"$nulls":45},"連絡可能なメールアドレス"]
["旧姓",{"$nulls":16},"通称名\n※2",{"$nulls":37},"@"]
[]
[]
[{"$nulls":45},"外国籍"]
[{"$nulls":45},"国名コード",{"$nulls":5},"国名"]
[{"$nulls":45},{"$f":"IF(ISERROR(INDEX(国名コード!$A$2:$B$246,MATCH($AZ$88,国名コード!B2:$B$246,FALSE),1)),\"\",INDEX(国名コード!$A$2:$B$246,MATCH($AZ$88,国名コード!B2:$B$246,FALSE),1))","v":""}]
["※1 旧姓や通称名を新たに併記または既存の併記を削除する場合は「登録事項変更届・書換え交付申請」が必要です。"]
["※2 通称名は住民票(H24/7/9開始在留管理制度)に記載されているものを記入してください。(単なるペンネームは不可)"]
[{"$nulls":45},"事務連絡欄"]
["構造・設備設計一級建築士証の再交付を申請する場合に記入"]
["構造設計一級建築士　士証番号",{"$nulls":20},"設備設計一級建築士　士証番号"]
[]
[]
[]
[{"$nulls":47},"新字",{"$nulls":5},"写真",{"$nulls":5},"再交付DB"]
[]
["二級建築士・木造建築士をお持ちの方は、該当の番号を選択してください。",{"$nulls":44},"連合会受付番号"]
[]
[]
[]
[]
["個人情報保護について 1)記載された内容は個人情報保護法に基づき適切な方法で管理します。 2)記入された内容は一級建築士名簿(建築士データベース)に記載・管理され、\nカード型免許証明書の作成及び閲覧(一級建築士名簿の登録事項のみ公開)に利用する以外の目的としては使用しません。"]

{"sheet":"都道府県リスト","index":6,"n_rows":49,"n_cols":2,"rows_kept":49,"hidden":true}
[]
[null,"県名"]
["01","北海道"]
["02","青森県"]
["03","岩手県"]
["04","宮城県"]
["05","秋田県"]
["06","山形県"]
["07","福島県"]
["08","茨城県"]
["09","栃木県"]
["10","群馬県"]
["11","埼玉県"]
["12","千葉県"]
["13","東京都"]
["14","神奈川県"]
["15","新潟県"]
["16","富山県"]
["17","石川県"]
["18","福井県"]
["19","山梨県"]
["20","長野県"]
["21","岐阜県"]
["22","静岡県"]
["23","愛知県"]
["24","三重県"]
["25","滋賀県"]
["26","京都府"]
["27","大阪府"]
["28","兵庫県"]
["29","奈良県"]
["30","和歌山県"]
["31","鳥取県"]
["32","島根県"]
["33","岡山県"]
["34","広島県"]
["35","山口県"]
["36","徳島県"]
["37","香川県"]
["38","愛媛県"]
["39","高知県"]
["40","福岡県"]
["41","佐賀県"]
["42","長崎県"]
["43","熊本県"]
["44","大分県"]
["45","宮崎県"]
["46","鹿児島県"]
["47","沖縄県"]

{"sheet":"国名コード","index":7,"n_rows":246,"n_cols":3,"rows_kept":246,"hidden":true}
[null,"日本語による国名・地域名","英語による簡略名"]
["ISL","アイスランド共和国","ANDORRA"]
["IRL","アイルランド","ICELAND"]
["AZE","アゼルバイジャン共和国","IrelAND"]
["AFG","アフガニスタン・イスラム国","AZERBAIJAN"]
["USA","アメリカ合衆国","AFGHANISTAN"]
["ARE","アラブ首長国連邦","UNITED STATES"]
["DZA","アルジェリア民主人民共和国","UNITED ARAB EMIRATES"]
["ARG","アルゼンチン共和国","ALGERIA"]
["ABW","アルバ","ARGENTINA"]
["ALB","アルバニア共和国","ARUBA"]
["ARM","アルメニア共和国","ALBANIA"]
["AIA","アンギラ","ARMENIA"]
["AGO","アンゴラ共和国","ANGUILLA"]
["ATG","アンティグア・バーブーダ","ANGOLA"]
["AND","アンドラ公国","ANTIGUA AND BARBUDA"]
["YEM","イエメン共和国","YEMEN"]
["ISR","イスラエル国","ISRAEL"]
["ITA","イタリア共和国","ITALY"]
["IRQ","イラク共和国","IRAQ"]
["IRN","イラン・イスラム共和国","IRAN (ISLAMIC REPUBLIC OF)"]
["IND","インド","INDIA"]
["IDN","インドネシア共和国","INDONESIA"]
["UGA","ウガンダ共和国","UGANDA"]
["UKR","ウクライナ","UKRAINE"]
["UZB","ウズベキスタン共和国","UZBEKISTAN"]
["URY","ウルグアイ東方共和国","URUGUAY"]
["IOT","英領インド洋地域","BRITISH INDIAN OCEAN TERRITORY"]
["VGB","英領バージン諸島","VIRGIN ISLANDS (BRITISH )"]
["ECU","エクアドル共和国","ECUADOR"]
["EGY","エジプト・アラブ共和国","EGYPT"]
["EST","エストニア共和国","ESTONIA"]
["ETH","エチオピア連邦民主共和国","ETHIOPIA"]
["ERI","エリトリア国","ERITREA"]
["SLV","エルサルバドル共和国","EL SALVADOR"]
["AUS","オーストラリア連邦","AUSTRALIA"]
["AUT","オーストリア共和国","AUSTRIA"]
["ALA","オーランド諸島","OMAN"]
["OMN","オマーン国","NETHERLANDS"]
["NLD","オランダ王国","NETHERLANDS ANTILLES"]
["ANT","オランダ領アンティル","GHANA"]
["GHA","ガーナ共和国","CAPE VERDE"]
["CPV","カーボベルデ共和国","GUYANA"]
["GGY","ガーンジー島","KAZAKHSTAN"]
["GUY","ガイアナ共和国","QATAR"]
["KAZ","カザフスタン共和国","CANADA"]
["QAT","カタール国","GABON"]
["CAN","カナダ","CAMEROON"]
["GAB","ガボン共和国","GAMBIA"]
["CMR","カメルーン共和国","CAMBODIA"]
["GMB","ガンビア共和国","KOREA, DEMOCRATIC PEOPLE'S REPUBLIC OF"]
["KHM","カンボジア王国","NORTHERN MARIANA ISLANDS"]
["PRK","北朝鮮=朝鮮民主主義人民共和国","GUINEA-BISSAU"]
["MNP","北マリアナ諸島","GUINEA"]
["GNB","ギニアビサウ共和国","CYPRUS"]
["GIN","ギニア共和国","CUBA"]
["CYP","キプロス共和国","GREECE"]
["CUB","キューバ共和国","KIRIBATI"]
["GRC","ギリシャ共和国","KYRGYZSTAN"]
["KIR","キリバス共和国","GUATEMALA"]
["KGZ","キルギス共和国","GUADELOUPE"]
["GTM","グアテマラ共和国","GUAM"]
["GLP","グアドループ島","KUWAIT"]
["GUM","グアム","COOK ISLANDS"]
["KWT","クウェート国","GREENLAND"]
["COK","クック諸島","CHRISTMAS ISLAND"]
["GRL","グリーンランド","GEORGIA"]
["CXR","クリスマス島","UNITED KINGDOM"]
["GEO","グルジア","GRENADA"]
["GBR","グレ－トブリテン･北アイルランド連合王国(英国)","CROATIA"]
["GRD","グレナダ","CAYMAN ISLANDS"]
["HRV","クロアチア共和国","KENYA"]
["CYM","ケイマン諸島","COTE D'IVOIRE"]
["KEN","ケニア共和国","COCOS (KEELING) ISLANDS"]
["CIV","コートジボワール共和国","COSTA RICA"]
["CCK","ココス諸島","COMOROS"]
["CRI","コスタリカ共和国","COLOMBIA"]
["COM","コモロ連合","CONGO"]
["COL","コロンビア共和国","ZAIRE"]
["COG","コンゴ共和国","SAUDI ARABIA"]
["COD","コンゴ民主共和国","SAO TOME AND PRINCIPE"]
["SAU","サウジアラビア王国","ZAMBIA"]
["WSM","サモア独立国","SAINT PIERRE AND MIQUELON"]
["STP","サントメ・プリンシペ民主共和国","SAN MARINO"]
["BLM","サンバルテルミー","SIERRA LEONE"]
["ZMB","ザンビア共和国","DJIBOUTI"]
["SPM","サンピエール島・ミクロン島","GIBRALTAR"]
["SMR","サンマリノ共和国","LIBYAN ARAB JAMAHIRIYA"]
["MAF","サンマルタン","JAMAICA"]
["SLE","シエラレオネ共和国","SYRIAN ARAB REPUBLIC"]
["DJI","ジブチ共和国","SINGAPORE"]
["GIB","ジブラルタル","ZIMBABWE"]
["JEY","ジャージー島","SWITZERLAND"]
["JAM","ジャマイカ","SWEDEN"]
["SYR","シリア・アラブ共和国","SUDAN"]
["SGP","シンガポール共和国","SVALBARD AND JAN MAYEN"]
["ZWE","ジンバブエ共和国","SPAIN"]
["CHE","スイス連邦","SURINAME"]
["SWE","スウェーデン王国","SRI LANKA"]
["SDN","スーダン共和国","SLOVAKIA"]
["SJM","スバールバル諸島・ヤンマイエン島","SLOVENIA"]
["ESP","スペイン","SWAZILAND"]
["SUR","スリナム共和国","SEYCHELLES"]
["LKA","スリランカ民主社会主義共和国","EQUATORIAL GUINEA"]
["SVK","スロバキア共和国","SENEGAL"]
["SVN","スロベニア共和国","SAINT KITTS AND NEVIS"]
["SWZ","スワジランド王国","SAINT VINCENT AND THE GRENADINES"]
["PSE","西岸・ガザ(パレスチナ自治区)","SAINT HELENA"]
["SYC","セーシェル共和国","SAINT LUCIA"]
["GNQ","赤道ギニア共和国","SOMALIA"]
["SEN","セネガル共和国","SOLOMON ISLANDS"]
["SRB","セルビア共和国","TURKS AND CAICOS ISLANDS"]
["KNA","セントキッツ・ネービス","THAILAND"]
["VCT","セントビンセント･グレナディーン諸島","KOREA, REPUBLIC OF"]
["SHN","セントヘレナ･アセンション･トリスタンダクーニャ","TAIWAN, PROVINCE OF CHINA"]
["LCA","セントルシア","TAJIKISTAN"]
["SOM","ソマリア民主共和国","TANZANIA, UNITED REPUBLIC OF"]
["SLB","ソロモン諸島","CZECH REPUBLIC"]
["TCA","タークス・カイコス諸島","CHAD"]
["THA","タイ王国","CENTRAL AFRICAN REPUBLIC"]
["KOR","大韓民国","CHINA"]
["LBY","大リビア・アラブ社会主義人民ジャマーヒリーヤ国","TUNISIA"]
["TWN","台湾(タイワン)","CHILE"]
["TJK","タジキスタン共和国","TUVALU"]
["TZA","タンザニア連合共和国","DENMARK"]
["CZE","チェコ共和国","GERMANY"]
["TCD","チャド共和国","TOGO"]
["CAF","中央アフリカ共和国","TOKELAU"]
["CHN","中華人民共和国","DOMINICAN REPUBLIC"]
["TUN","チュニジア共和国","DOMINICA"]
["CHL","チリ共和国","TRINIDAD AND TOBAGO"]
["TUV","ツバル","TURKMENISTAN"]
["DNK","デンマーク王国","TURKEY"]
["DEU","ドイツ連邦共和国","TONGA"]
["TGO","トーゴ共和国","NIGERIA"]
["TKL","トケラウ諸島","NAURU"]
["DOM","ドミニカ共和国","NAMIBIA"]
["DMA","ドミニカ国","ANTARCTICA"]
["TTO","トリニダード・トバゴ共和国","NIUE"]
["TKM","トルクメニスタン","NICARAGUA"]
["TUR","トルコ共和国","WESTERN SAHARA"]
["TON","トンガ王国","SAMOA"]
["NGA","ナイジェリア連邦共和国","NIGER"]
["NRU","ナウル共和国","NEW CALEDONIA"]
["NAM","ナミビア共和国","NEW ZEALAND"]
["ATA","南極","NEPAL"]
["NIU","ニウエ","NORFOLK ISLAND"]
["NIC","ニカラグア共和国","NORWAY"]
["NER","ニジェール共和国","BERMUDA"]
["ESH","西サハラ","BAHRAIN"]
["NCL","ニューカレドニア","HAITI"]
["NZL","ニュージーランド","PAKISTAN"]
["NPL","ネパール連邦民主共和国","VATICAN CITY STATE (HOLY SEE)"]
["NFK","ノーフォーク島","PANAMA"]
["NOR","ノルウェー王国","VANUATU"]
["HMD","ハード島・マクドナルド諸島","BAHAMAS"]
["BHR","バーレーン王国","PAPUA NEW GUINEA"]
["HTI","ハイチ共和国","PALAU"]
["PAK","パキスタン・イスラム共和国","PARAGUAY"]
["VAT","バチカン市国","BARBADOS"]
["PAN","パナマ共和国","HUNGARY"]
["VUT","バヌアツ共和国","BANGLADESH"]
["BHS","バハマ国","EAST TIMOR"]
["PNG","パプアニューギニア独立国","PITCAIRN"]
["BMU","バミューダ諸島","FIJI"]
["PLW","パラオ共和国","PHILIPPINES"]
["PRY","パラグアイ共和国","FINLAND"]
["BRB","バルバドス","BHUTAN"]
["HUN","ハンガリー共和国","BOUVET ISLAND"]
["BGD","バングラデシュ人民共和国","PUERTO RICO"]
["TLS","東ティモール民主共和国","FAROE ISLANDS"]
["PCN","ピトケアン諸島","FALKLAND ISLAND (MALVINAS)"]
["FJI","フィジー諸島共和国","BRAZIL"]
["PHL","フィリピン共和国","FRANCE"]
["FIN","フィンランド共和国","FRENCH GUIANA"]
["BTN","ブータン王国","FRENCH POLYNESIA"]
["BVT","ブーベ島","FRENCH SOUTHERN TERRITORIES"]
["PRI","プエルトリコ","BULGARIA"]
["FRO","フェロー諸島","BURKINA FASO"]
["FLK","フォークランド(マルビナス)諸島","BRUNEI DARUSSALAM"]
["BRA","ブラジル連邦共和国","BURUNDI"]
["FRA","フランス共和国","HEARD ISLAND AND MCDONALD ISLANDS"]
["GUF","フランス領ギアナ","AMERICAN SAMOA"]
["PYF","フランス領ポリネシア","UNITED STATES MINOR OUTLYING ISLANDS"]
["ATF","フランス領極南諸島","VIRGIN ISLANDS (U.S.)"]
["BGR","ブルガリア共和国","VIET NAM"]
["BFA","ブルキナファソ","BENIN"]
["BRN","ブルネイ・ダルサラーム国","VENEZUELA"]
["BDI","ブルンジ共和国","BELARUS"]
["ASM","米領サモア","BELIZE"]
["UMI","米領小離島","PERU"]
["VIR","米領バージン諸島","BELGIUM"]
["VNM","ベトナム社会主義共和国","POLAND"]
["BEN","ベナン共和国","BOSNIA AND HERZEGOVINA"]
["VEN","ベネズエラ・ボリバル共和国","BOTSWANA"]
["BLR","ベラルーシ共和国","BOLIVIA"]
["BLZ","ベリーズ","PORTUGAL"]
["PER","ペルー共和国","HONG KONG"]
["BEL","ベルギー王国","HONDURAS"]
["POL","ポーランド共和国","MARSHALL ISLANDS"]
["BIH","ボスニア・ヘルツェゴビナ","MAYOTTE"]
["BWA","ボツワナ共和国","MACAU"]
["BOL","ボリビア多民族国","MADAGASCAR"]
["PRT","ポルトガル共和国","MALAWI"]
["HKG","ホンコン(香港)特別行政区","MALI"]
["HND","ホンジュラス共和国","MALTA"]
["MHL","マーシャル諸島共和国","MARTINIQUE"]
["MYT","マイヨット島","MALAYSIA"]
["MAC","マカオ(澳門)特別行政区","MICRONESIA (FEDERATED STATES OF)"]
["MKD","マケドニア旧ユーゴスラビア共和国","SOUTH AFRICA"]
["MDG","マダガスカル共和国","SOUTH GEORGIA AND THE SOUTH SANDWICH ISLANDS"]
["MWI","マラウイ共和国","MYANMAR"]
["MLI","マリ共和国","MEXICO"]
["MLT","マルタ共和国","MAURITIUS"]
["MTQ","マルチニーク島","MAURITANIA"]
["MYS","マレーシア","MOZAMBIQUE"]
["IMN","マン島","MONACO"]
["FSM","ミクロネシア連邦","MALDIVES"]
["ZAF","南アフリカ共和国","MOLDOVA, REPUBLIC OF"]
["SGS","南ジョージア島・南サンドイッチ諸島","MOROCCO"]
["MMR","ミャンマー連邦","MONGOLIA"]
["MEX","メキシコ合衆国","MONTSERRAT"]
["MUS","モーリシャス共和国","YUGOSLAVIA"]
["MRT","モーリタニア・イスラム共和国","JORDAN"]
["MOZ","モザンビーク共和国","LAO PEOPLE'S DEMOCRATIC REPUBLIC"]
["MCO","モナコ公国","LATVIA"]
["MDV","モルディブ共和国","LITHUANIA"]
["MDA","モルドバ共和国","LIECHTENSTEIN"]
["MAR","モロッコ王国","LIBERIA"]
["MNG","モンゴル国","ROMANIA"]
["MNE","モンテネグロ","LUXEMBOURG"]
["MSR","モントセラト","RWANDA"]
["JOR","ヨルダン・ハシミテ王国","LESOTHO"]
["LAO","ラオス人民民主共和国","LEBANON"]
["LVA","ラトビア共和国","REUNION"]
["LTU","リトアニア共和国","RUSSIAN FEDERATION"]
["LIE","リヒテンシュタイン公国","WALLIS AND FUTUNA ISLANDS"]
["LBR","リベリア共和国"]
["ROU","ルーマニア"]
["LUX","ルクセンブルク大公国"]
["RWA","ルワンダ共和国"]
["LSO","レソト王国"]
["LBN","レバノン共和国"]
["REU","レユニオン"]
["RUS","ロシア連邦"]
["WLF","ワリス・フテュナ諸島"]

{"sheet":"例示リスト","index":8,"n_rows":67,"n_cols":4,"rows_kept":67,"hidden":true,"merged":[[2,0,16,0]]}
["コード","A","B","C"]
["期間","平成20年11月27日以前","平成20年11月28日から令和2年2月29日まで","令和2年3月1日以降"]
["実務","―","―","―"]
[null,"建築物の設計に関する実務","建築物の設計に関する実務","建築物の設計に関する実務"]
[null,"建築物の工事監理に関する実務","建築物の工事監理に関する実務","建築物の工事監理に関する実務"]
[null,"建築工事の指導監督に関する実務","建築工事の指導監督に関する実務","建築工事の指導監督に関する実務"]
[null,"工事の施工の技術上の管理に関する実務","工事の施工の技術上の管理に関する実務","建築士事務所の業務として行う建築物に関する調査又は評価に関する実務"]
[null,"建築基準法第18条の3第1項に規定する確認審査等に関する実務","建築基準法第18条の3第1項に規定する確認審査等に関する実務","工事の施工の技術上の管理に関する実務"]
[null,"消防長又は消防署長が建築基準法第93条第1項の規定によって同意を求められた場合に行う審査に関する実務","消防長又は消防署長が建築基準法第93条第1項の規定によって同意を求められた場合に行う審査に関する実務","建築基準法第18条の3第1項に規定する確認審査等に関する実務"]
[null,"建築物の耐震診断等に関する実務","建築物の耐震診断等に関する実務","消防長又は消防署長が建築基準法第93条第1項の規定によって同意を求められた場合に行う審査に関する実務"]
[null,"大学院の課程におけるインターンシップ等","大学院の課程におけるインターンシップ等","建築行政に関する実務"]
[null,"その他","その他","住宅行政に関する実務"]
[{"$nulls":3},"都市計画行政に関する実務"]
[{"$nulls":3},"建築教育に関する実務"]
[{"$nulls":3},"建築物に係る研究開発に関する実務"]
[{"$nulls":3},"大学院の課程におけるインターンシップ"]
[{"$nulls":3},"その他"]
[]
[null,"1A-01","1B-01","1C-01"]
[null,"1A-02","1B-02","1C-02"]
[null,"1A-04","1B-04","1C-03"]
[null,"1A-07","1B-07","1C-04"]
[null,"2A-01","2B-01","1C-06"]
[null,"3A-01","3B-01","1C-07"]
[null,"3A-02","4B-01","1C-08"]
[null,"3A-03","5B-01","1C-09"]
[null,"4A-01","6B-01","1C-10"]
[null,"4A-03","7B-01","1C-11"]
[null,"4A-04","8B-01","1C-99"]
[null,"4A-05","99B-04","2C-01"]
[null,"5A-01",null,"2C-99"]
[null,"6A-01",null,"3C-01"]
[null,"7A-01",null,"3C-02"]
[null,"7A-02",null,"3C-99"]
[null,"8A-02",null,"4C-01"]
[null,"99A-01",null,"4C-02"]
[null,"99A-02",null,"4C-99"]
[null,"99A-03",null,"5C-01"]
[null,"99A-04",null,"5C-02"]
[null,"99A-05",null,"5C-03"]
[null,"99A-06",null,"5C-04"]
[null,"99A-07",null,"5C-05"]
[null,"99A-08",null,"5C-06"]
[null,"99A-09",null,"5C-07"]
[{"$nulls":3},"5C-08"]
[{"$nulls":3},"5C-10"]
[{"$nulls":3},"5C-99"]
[{"$nulls":3},"6C-01"]
[{"$nulls":3},"6C-99"]
[{"$nulls":3},"7C-01"]
[{"$nulls":3},"7C-99"]
[{"$nulls":3},"8C-01"]
[{"$nulls":3},"8C-02"]
[{"$nulls":3},"8C-03"]
[{"$nulls":3},"8C-99"]
[{"$nulls":3},"9C-01"]
[{"$nulls":3},"9C-99"]
[{"$nulls":3},"10C-01"]
[{"$nulls":3},"10C-99"]
[{"$nulls":3},"11C-01"]
[{"$nulls":3},"11C-99"]
[{"$nulls":3},"12C-01"]
[{"$nulls":3},"12C-99"]
[{"$nulls":3},"13C-01"]
[{"$nulls":3},"99C-01"]
[{"$nulls":3},"99C-02"]
[{"$nulls":3},"99C-99"]

{"sheet":"年数合計","index":9,"n_rows":24,"n_cols":25,"rows_kept":24,"hidden":true,"merged":[[0,20,1,24],[2,0,2,18],[3,5,3,9],[3,15,3,18],[5,0,5,18],[6,5,6,9],[6,15,6,18],[10,0,10,18],[11,5,11,9],[11,15,11,18]]}
[]
[]
["在職期間の合計"]
[null,"開始","終了",null,null,"合計期間年月",{"$nulls":4},"月数",null,null,"割合%","割合月数","実質期間年月",{"$nulls":4},"（月→年月）"]
[1,{"$error":"#VALUE!"},{"$error":"#VALUE!"},{"$f":"IF(B5=\"\",\"\",DATEDIF(B5,C5,\"Y\"))","v":{"$error":"#VALUE!"}},null,{"$f":"IF(I5=12,D5+1,D5)","v":{"$error":"#VALUE!"}},"年",{"$f":"IF(I5=12,\"0\",I5)","v":{"$error":"#VALUE!"}},{"$f":"IF(B5=\"\",\"\",DATEDIF(B5,C5,\"YM\")+1)","v":{"$error":"#VALUE!"}},"月",{"$f":"IF(B5=\"\",0,DATEDIF(B5,C5,\"m\")+1)","v":{"$error":"#VALUE!"}},null,null,100,{"$f":"K5/(100/N5)","v":{"$error":"#VALUE!"}},{"$f":"INT(O5/12)","v":{"$error":"#VALUE!"}},"年",{"$f":"INT(MOD(O5,12))","v":{"$error":"#VALUE!"}},"月",null,null,{"$f":"INT(U5/12)","v":0},"年",{"$f":"INT(MOD(U5,12))","v":0},"月"]
["在職期間"]
[null,"開始","終了",null,null,"合計期間年月",{"$nulls":4},"月数","期間コード","期間コード\n(2段目用)","割合%","割合月数","実質期間年月"]
[1,{"$error":"#VALUE!"},{"$error":"#VALUE!"},{"$error":"#VALUE!"},null,{"$f":"IF(I8=12,D8+1,D8)","v":{"$error":"#VALUE!"}},"年",{"$error":"#VALUE!"},{"$error":"#VALUE!"},"月",{"$error":"#VALUE!"},{"$f":"IF(B8<=DATE(2008,11,27),\"A\",IF(B8>=DATE(2020,3,1),\"_C\",\"B\"))","v":{"$error":"#VALUE!"}},{"$f":"IF(B8<=DATE(2008,11,27),\"A2nd\",IF(B8>=DATE(2020,3,1),\"_C2nd\",\"B2nd\"))","v":{"$error":"#VALUE!"}},100,{"$f":"K8/(100/N8)","v":{"$error":"#VALUE!"}},{"$error":"#VALUE!"},"年",{"$error":"#VALUE!"},"月",null,"（計算用）"]
[2,{"$error":"#VALUE!"},{"$error":"#VALUE!"},{"$error":"#VALUE!"},null,{"$f":"IF(I9=12,D9+1,D9)","v":{"$error":"#VALUE!"}},"年",{"$error":"#VALUE!"},{"$error":"#VALUE!"},"月",{"$error":"#VALUE!"},{"$f":"IF(B9<=DATE(2008,11,27),\"A\",IF(B9>=DATE(2020,3,1),\"_C\",\"B\"))","v":{"$error":"#VALUE!"}},{"$f":"IF(B9<=DATE(2008,11,27),\"A2nd\",IF(B9>=DATE(2020,3,1),\"_C2nd\",\"B2nd\"))","v":{"$error":"#VALUE!"}},100,{"$error":"#VALUE!"},{"$error":"#VALUE!"},"年",{"$error":"#VALUE!"},"月",null,{"$f":"SUM(U10:U24)","v":0},{"$f":"INT(U9/12)","v":0},"年",{"$f":"INT(MOD(U9,12))","v":0},"月"]
[3,{"$error":"#VALUE!"},{"$error":"#VALUE!"},{"$error":"#VALUE!"},null,{"$error":"#VALUE!"},"年",{"$error":"#VALUE!"},{"$error":"#VALUE!"},"月",{"$error":"#VALUE!"},{"$f":"IF(B10<=DATE(2008,11,27),\"A\",IF(B10>=DATE(2020,3,1),\"_C\",\"B\"))","v":{"$error":"#VALUE!"}},{"$f":"IF(B10<=DATE(2008,11,27),\"A2nd\",IF(B10>=DATE(2020,3,1),\"_C2nd\",\"B2nd\"))","v":{"$error":"#VALUE!"}},100,{"$error":"#VALUE!"},{"$error":"#VALUE!"},"年",{"$error":"#VALUE!"},"月"]
["建築実務経験期間"]
[null,"開始","終了",null,null,"合計期間年月",{"$nulls":4},"月数",null,null,"割合%","割合月数","実質期間年月"]
[1,{"$error":"#VALUE!"},{"$error":"#VALUE!"},{"$error":"#VALUE!"},null,{"$error":"#VALUE!"},"年",{"$error":"#VALUE!"},{"$error":"#VALUE!"},"月",{"$error":"#VALUE!"},{"$f":"IF(B13<=DATE(2008,11,27),\"_A2\",IF(B13>=DATE(2020,3,1),\"_C2\",\"_B2\"))","v":{"$error":"#VALUE!"}},null,100,{"$error":"#VALUE!"},{"$error":"#VALUE!"},"年",{"$error":"#VALUE!"},"月"]
[2,{"$error":"#VALUE!"},{"$error":"#VALUE!"},{"$error":"#VALUE!"},null,{"$error":"#VALUE!"},"年",{"$error":"#VALUE!"},{"$error":"#VALUE!"},"月",{"$error":"#VALUE!"},{"$f":"IF(B14<=DATE(2008,11,27),\"_A2\",IF(B14>=DATE(2020,3,1),\"_C2\",\"_B2\"))","v":{"$error":"#VALUE!"}},null,100,{"$error":"#VALUE!"},{"$error":"#VALUE!"},"年",{"$error":"#VALUE!"},"月"]
[3,{"$error":"#VALUE!"},{"$error":"#VALUE!"},{"$error":"#VALUE!"},null,{"$error":"#VALUE!"},"年",{"$error":"#VALUE!"},{"$error":"#VALUE!"},"月",{"$error":"#VALUE!"},{"$error":"#VALUE!"},null,100,{"$error":"#VALUE!"},{"$error":"#VALUE!"},"年",{"$error":"#VALUE!"},"月"]
[4,{"$error":"#VALUE!"},{"$error":"#VALUE!"},{"$error":"#VALUE!"},null,{"$error":"#VALUE!"},"年",{"$error":"#VALUE!"},{"$error":"#VALUE!"},"月",{"$error":"#VALUE!"},{"$error":"#VALUE!"},null,100,{"$error":"#VALUE!"},{"$error":"#VALUE!"},"年",{"$error":"#VALUE!"},"月"]
[5,{"$error":"#VALUE!"},{"$error":"#VALUE!"},{"$error":"#VALUE!"},null,{"$error":"#VALUE!"},"年",{"$error":"#VALUE!"},{"$error":"#VALUE!"},"月",{"$error":"#VALUE!"},{"$error":"#VALUE!"},null,100,{"$error":"#VALUE!"},{"$error":"#VALUE!"},"年",{"$error":"#VALUE!"},"月"]
[6,{"$error":"#VALUE!"},{"$error":"#VALUE!"},{"$error":"#VALUE!"},null,{"$error":"#VALUE!"},"年",{"$error":"#VALUE!"},{"$error":"#VALUE!"},"月",{"$error":"#VALUE!"},{"$error":"#VALUE!"},null,100,{"$error":"#VALUE!"},{"$error":"#VALUE!"},"年",{"$error":"#VALUE!"},"月"]
[7,{"$error":"#VALUE!"},{"$error":"#VALUE!"},{"$error":"#VALUE!"},null,{"$error":"#VALUE!"},"年",{"$error":"#VALUE!"},{"$error":"#VALUE!"},"月",{"$error":"#VALUE!"},{"$error":"#VALUE!"},null,100,{"$error":"#VALUE!"},{"$error":"#VALUE!"},"年",{"$error":"#VALUE!"},"月"]
[8,{"$error":"#VALUE!"},{"$error":"#VALUE!"},{"$error":"#VALUE!"},null,{"$error":"#VALUE!"},"年",{"$error":"#VALUE!"},{"$error":"#VALUE!"},"月",{"$error":"#VALUE!"},{"$error":"#VALUE!"},null,100,{"$error":"#VALUE!"},{"$error":"#VALUE!"},"年",{"$error":"#VALUE!"},"月"]
[13,null,null,"",null,"","年","","","月",0,null,null,100,0,0,"年",0,"月"]
[14,null,null,"",null,"","年","","","月",0,null,null,100,0,0,"年",0,"月"]
[]
[null,null,"総合計",null,null,{"$f":"INT(N24/12)","v":{"$error":"#VALUE!"}},"年",{"$f":"INT(MOD(N24,12))","v":{"$error":"#VALUE!"}},"月","月",{"$f":"SUM(K8:K22)","v":{"$error":"#VALUE!"}},null,null,{"$f":"SUM(K8:K22)","v":{"$error":"#VALUE!"}},{"$f":"SUM(O8:O22)","v":{"$error":"#VALUE!"}},{"$f":"INT(O24/12)","v":{"$error":"#VALUE!"}},"年",{"$f":"INT(MOD(O24,12))","v":{"$error":"#VALUE!"}},"月"]

{"sheet":"計算シート","index":10,"n_rows":22,"n_cols":1979,"rows_kept":22,"hidden":true,"merged":[[1,5,1,28],[1,29,1,52],[1,53,1,76],[1,77,1,100],[1,101,1,124],[1,125,1,148],[1,149,1,172],[1,173,1,196],[1,197,1,220],[1,221,1,244],[1,245,1,268],[1,269,1,292],[1,293,1,316],[1,317,1,340],[1,341,1,364],[1,365,1,388],[1,389,1,412],[1,413,1,436],[1,437,1,460],[1,461,1,484],[1,485,1,508],[1,509,1,532],[1,533,1,556],[1,557,1,580],[1,581,1,604],[1,605,1,628],[1,629,1,652],[1,653,1,676],[1,677,1,700],[1,701,1,724],[1,725,1,748],[1,749,1,772],[1,773,1,796],[1,797,1,820],[1,821,1,844],[1,845,1,868],[1,869,1,892],[1,893,1,916],[1,917,1,940],[1,941,1,964],[1,965,1,988],[1,989,1,1012],[1,1013,1,1036],[1,1037,1,1060],[1,1061,1,1084],[1,1085,1,1108],[1,1109,1,1132],[1,1133,1,1156],[1,1157,1,1180],[1,1181,1,1204],[1,1205,1,1228],[1,1229,1,1252],[1,1253,1,1276],[1,1277,1,1300],[1,1301,1,1324],[1,1325,1,1348],[1,1349,1,1372],[1,1373,1,1396],[1,1397,1,1420],[1,1421,1,1444],[1,1445,1,1468],[1,1469,1,1492],[1,1493,1,1516],[1,1517,1,1540],[1,1541,1,1564],[1,1565,1,1588],[1,1589,1,1612],[1,1613,1,1636],[1,1637,1,1660],[1,1661,1,1684],[1,1685,1,1708],[1,1709,1,1732],[1,1733,1,1756],[1,1757,1,1780],[1,1781,1,1804],[1,1805,1,1828],[1,1829,1,1852],[1,1853,1,1876],[1,1877,1,1900],[1,1901,1,1924],[1,1925,1,1948],[1,1949,1,1972],[2,0,3,0],[2,1,3,1],[2,2,3,2],[2,3,3,4],[2,5,3,6],[2,7,3,8],[2,9,3,10],[2,11,3,12],[2,13,3,14],[2,15,3,16],[2,17,3,18],[2,19,3,20],[2,21,3,22],[2,23,3,24],[2,25,3,26],[2,27,3,28],[2,29,3,30],[2,31,3,32],[2,33,3,34],[2,35,3,36],[2,37,3,38],[2,39,3,40],[2,41,3,42],[2,43,3,44],[2,45,3,46],[2,47,3,48],[2,49,3,50],[2,51,3,52],[2,53,3,54],[2,55,3,56],[2,57,3,58],[2,59,3,60],[2,61,3,62],[2,63,3,64],[2,65,3,66],[2,67,3,68],[2,69,3,70],[2,71,3,72],[2,73,3,74],[2,75,3,76],[2,77,3,78],[2,79,3,80],[2,81,3,82],[2,83,3,84],[2,85,3,86],[2,87,3,88],[2,89,3,90],[2,91,3,92],[2,93,3,94],[2,95,3,96],[2,97,3,98],[2,99,3,100],[2,101,3,102],[2,103,3,104],[2,105,3,106],[2,107,3,108],[2,109,3,110],[2,111,3,112],[2,113,3,114],[2,115,3,116],[2,117,3,118],[2,119,3,120],[2,121,3,122],[2,123,3,124],[2,125,3,126],[2,127,3,128],[2,129,3,130],[2,131,3,132],[2,133,3,134],[2,135,3,136],[2,137,3,138],[2,139,3,140],[2,141,3,142],[2,143,3,144],[2,145,3,146],[2,147,3,148],[2,149,3,150],[2,151,3,152],[2,153,3,154],[2,155,3,156],[2,157,3,158],[2,159,3,160],[2,161,3,162],[2,163,3,164],[2,165,3,166],[2,167,3,168],[2,169,3,170],[2,171,3,172],[2,173,3,174],[2,175,3,176],[2,177,3,178],[2,179,3,180],[2,181,3,182],[2,183,3,184],[2,185,3,186],[2,187,3,188],[2,189,3,190],[2,191,3,192],[2,193,3,194],[2,195,3,196],[2,197,3,198],[2,199,3,200],[2,201,3,202],[2,203,3,204],[2,205,3,206],[2,207,3,208],[2,209,3,210],[2,211,3,212],[2,213,3,214],[2,215,3,216],[2,217,3,218],[2,219,3,220],[2,221,3,222],[2,223,3,224],[2,225,3,226],[2,227,3,228],[2,229,3,230],[2,231,3,232],[2,233,3,234],[2,235,3,236],[2,237,3,238],[2,239,3,240],[2,241,3,242],[2,243,3,244],[2,245,3,246],[2,247,3,248],[2,249,3,250],[2,251,3,252],[2,253,3,254],[2,255,3,256],[2,257,3,258],[2,259,3,260],[2,261,3,262],[2,263,3,264],[2,265,3,266],[2,267,3,268],[2,269,3,270],[2,271,3,272],[2,273,3,274],[2,275,3,276],[2,277,3,278],[2,279,3,280],[2,281,3,282],[2,283,3,284],[2,285,3,286],[2,287,3,288],[2,289,3,290],[2,291,3,292],[2,293,3,294],[2,295,3,296],[2,297,3,298],[2,299,3,300],[2,301,3,302],[2,303,3,304],[2,305,3,306],[2,307,3,308],[2,309,3,310],[2,311,3,312],[2,313,3,314],[2,315,3,316],[2,317,3,318],[2,319,3,320],[2,321,3,322],[2,323,3,324],[2,325,3,326],[2,327,3,328],[2,329,3,330],[2,331,3,332],[2,333,3,334],[2,335,3,336],[2,337,3,338],[2,339,3,340],[2,341,3,342],[2,343,3,344],[2,345,3,346],[2,347,3,348],[2,349,3,350],[2,351,3,352],[2,353,3,354],[2,355,3,356],[2,357,3,358],[2,359,3,360],[2,361,3,362],[2,363,3,364],[2,365,3,366],[2,367,3,368],[2,369,3,370],[2,371,3,372],[2,373,3,374],[2,375,3,376],[2,377,3,378],[2,379,3,380],[2,381,3,382],[2,383,3,384],[2,385,3,386],[2,387,3,388],[2,389,3,390],[2,391,3,392],[2,393,3,394],[2,395,3,396],[2,397,3,398],[2,399,3,400],[2,401,3,402],[2,403,3,404],[2,405,3,406],[2,407,3,408],[2,409,3,410],[2,411,3,412],[2,413,3,414],[2,415,3,416],[2,417,3,418],[2,419,3,420],[2,421,3,422],[2,423,3,424],[2,425,3,426],[2,427,3,428],[2,429,3,430],[2,431,3,432],[2,433,3,434],[2,435,3,436],[2,437,3,438],[2,439,3,440],[2,441,3,442],[2,443,3,444],[2,445,3,446],[2,447,3,448],[2,449,3,450],[2,451,3,452],[2,453,3,454],[2,455,3,456],[2,457,3,458],[2,459,3,460],[2,461,3,462],[2,463,3,464],[2,465,3,466],[2,467,3,468],[2,469,3,470],[2,471,3,472],[2,473,3,474],[2,475,3,476],[2,477,3,478],[2,479,3,480],[2,481,3,482],[2,483,3,484],[2,485,3,486],[2,487,3,488],[2,489,3,490],[2,491,3,492],[2,493,3,494],[2,495,3,496],[2,497,3,498],[2,499,3,500],[2,501,3,502],[2,503,3,504],[2,505,3,506],[2,507,3,508],[2,509,3,510],[2,511,3,512],[2,513,3,514],[2,515,3,516],[2,517,3,518],[2,519,3,520],[2,521,3,522],[2,523,3,524],[2,525,3,526],[2,527,3,528],[2,529,3,530],[2,531,3,532],[2,533,3,534],[2,535,3,536],[2,537,3,538],[2,539,3,540],[2,541,3,542],[2,543,3,544],[2,545,3,546],[2,547,3,548],[2,549,3,550],[2,551,3,552],[2,553,3,554],[2,555,3,556],[2,557,3,558],[2,559,3,560],[2,561,3,562],[2,563,3,564],[2,565,3,566],[2,567,3,568],[2,569,3,570],[2,571,3,572],[2,573,3,574],[2,575,3,576],[2,577,3,578],[2,579,3,580],[2,581,3,582],[2,583,3,584],[2,585,3,586],[2,587,3,588],[2,589,3,590],[2,591,3,592],[2,593,3,594],[2,595,3,596],[2,597,3,598],[2,599,3,600],[2,601,3,602],[2,603,3,604],[2,605,3,606],[2,607,3,608],[2,609,3,610],[2,611,3,612],[2,613,3,614],[2,615,3,616],[2,617,3,618],[2,619,3,620],[2,621,3,622],[2,623,3,624],[2,625,3,626],[2,627,3,628],[2,629,3,630],[2,631,3,632],[2,633,3,634],[2,635,3,636],[2,637,3,638],[2,639,3,640],[2,641,3,642],[2,643,3,644],[2,645,3,646],[2,647,3,648],[2,649,3,650],[2,651,3,652],[2,653,3,654],[2,655,3,656],[2,657,3,658],[2,659,3,660],[2,661,3,662],[2,663,3,664],[2,665,3,666],[2,667,3,668],[2,669,3,670],[2,671,3,672],[2,673,3,674],[2,675,3,676],[2,677,3,678],[2,679,3,680],[2,681,3,682],[2,683,3,684],[2,685,3,686],[2,687,3,688],[2,689,3,690],[2,691,3,692],[2,693,3,694],[2,695,3,696],[2,697,3,698],[2,699,3,700],[2,701,3,702],[2,703,3,704],[2,705,3,706],[2,707,3,708],[2,709,3,710],[2,711,3,712],[2,713,3,714],[2,715,3,716],[2,717,3,718],[2,719,3,720],[2,721,3,722],[2,723,3,724],[2,725,3,726],[2,727,3,728],[2,729,3,730],[2,731,3,732],[2,733,3,734],[2,735,3,736],[2,737,3,738],[2,739,3,740],[2,741,3,742],[2,743,3,744],[2,745,3,746],[2,747,3,748],[2,749,3,750],[2,751,3,752],[2,753,3,754],[2,755,3,756],[2,757,3,758],[2,759,3,760],[2,761,3,762],[2,763,3,764],[2,765,3,766],[2,767,3,768],[2,769,3,770],[2,771,3,772],[2,773,3,774],[2,775,3,776],[2,777,3,778],[2,779,3,780],[2,781,3,782],[2,783,3,784],[2,785,3,786],[2,787,3,788],[2,789,3,790],[2,791,3,792],[2,793,3,794],[2,795,3,796],[2,797,3,798],[2,799,3,800],[2,801,3,802],[2,803,3,804],[2,805,3,806],[2,807,3,808],[2,809,3,810],[2,811,3,812],[2,813,3,814],[2,815,3,816],[2,817,3,818],[2,819,3,820],[2,821,3,822],[2,823,3,824],[2,825,3,826],[2,827,3,828],[2,829,3,830],[2,831,3,832],[2,833,3,834],[2,835,3,836],[2,837,3,838],[2,839,3,840],[2,841,3,842],[2,843,3,844],[2,845,3,846],[2,847,3,848],[2,849,3,850],[2,851,3,852],[2,853,3,854],[2,855,3,856],[2,857,3,858],[2,859,3,860],[2,861,3,862],[2,863,3,864],[2,865,3,866],[2,867,3,868],[2,869,3,870],[2,871,3,872],[2,873,3,874],[2,875,3,876],[2,877,3,878],[2,879,3,880],[2,881,3,882],[2,883,3,884],[2,885,3,886],[2,887,3,888],[2,889,3,890],[2,891,3,892],[2,893,3,894],[2,895,3,896],[2,897,3,898],[2,899,3,900],[2,901,3,902],[2,903,3,904],[2,905,3,906],[2,907,3,908],[2,909,3,910],[2,911,3,912],[2,913,3,914],[2,915,3,916],[2,917,3,918],[2,919,3,920],[2,921,3,922],[2,923,3,924],[2,925,3,926],[2,927,3,928],[2,929,3,930],[2,931,3,932],[2,933,3,934],[2,935,3,936],[2,937,3,938],[2,939,3,940],[2,941,3,942],[2,943,3,944],[2,945,3,946],[2,947,3,948],[2,949,3,950],[2,951,3,952],[2,953,3,954],[2,955,3,956],[2,957,3,958],[2,959,3,960],[2,961,3,962],[2,963,3,964],[2,965,3,966],[2,967,3,968],[2,969,3,970],[2,971,3,972],[2,973,3,974],[2,975,3,976],[2,977,3,978],[2,979,3,980],[2,981,3,982],[2,983,3,984],[2,985,3,986],[2,987,3,988],[2,989,3,990],[2,991,3,992],[2,993,3,994],[2,995,3,996],[2,997,3,998],[2,999,3,1000],[2,1001,3,1002],[2,1003,3,1004],[2,1005,3,1006],[2,1007,3,1008],[2,1009,3,1010],[2,1011,3,1012],[2,1013,3,1014],[2,1015,3,1016],[2,1017,3,1018],[2,1019,3,1020],[2,1021,3,1022],[2,1023,3,1024],[2,1025,3,1026],[2,1027,3,1028],[2,1029,3,1030],[2,1031,3,1032],[2,1033,3,1034],[2,1035,3,1036],[2,1037,3,1038],[2,1039,3,1040],[2,1041,3,1042],[2,1043,3,1044],[2,1045,3,1046],[2,1047,3,1048],[2,1049,3,1050],[2,1051,3,1052],[2,1053,3,1054],[2,1055,3,1056],[2,1057,3,1058],[2,1059,3,1060],[2,1061,3,1062],[2,1063,3,1064],[2,1065,3,1066],[2,1067,3,1068],[2,1069,3,1070],[2,1071,3,1072],[2,1073,3,1074],[2,1075,3,1076],[2,1077,3,1078],[2,1079,3,1080],[2,1081,3,1082],[2,1083,3,1084],[2,1085,3,1086],[2,1087,3,1088],[2,1089,3,1090],[2,1091,3,1092],[2,1093,3,1094],[2,1095,3,1096],[2,1097,3,1098],[2,1099,3,1100],[2,1101,3,1102],[2,1103,3,1104],[2,1105,3,1106],[2,1107,3,1108],[2,1109,3,1110],[2,1111,3,1112],[2,1113,3,1114],[2,1115,3,1116],[2,1117,3,1118],[2,1119,3,1120],[2,1121,3,1122],[2,1123,3,1124],[2,1125,3,1126],[2,1127,3,1128],[2,1129,3,1130],[2,1131,3,1132],[2,1133,3,1134],[2,1135,3,1136],[2,1137,3,1138],[2,1139,3,1140],[2,1141,3,1142],[2,1143,3,1144],[2,1145,3,1146],[2,1147,3,1148],[2,1149,3,1150],[2,1151,3,1152],[2,1153,3,1154],[2,1155,3,1156],[2,1157,3,1158],[2,1159,3,1160],[2,1161,3,1162],[2,1163,3,1164],[2,1165,3,1166],[2,1167,3,1168],[2,1169,3,1170],[2,1171,3,1172],[2,1173,3,1174],[2,1175,3,1176],[2,1177,3,1178],[2,1179,3,1180],[2,1181,3,1182],[2,1183,3,1184],[2,1185,3,1186],[2,1187,3,1188],[2,1189,3,1190],[2,1191,3,1192],[2,1193,3,1194],[2,1195,3,1196],[2,1197,3,1198],[2,1199,3,1200],[2,1201,3,1202],[2,1203,3,1204],[2,1205,3,1206],[2,1207,3,1208],[2,1209,3,1210],[2,1211,3,1212],[2,1213,3,1214],[2,1215,3,1216],[2,1217,3,1218],[2,1219,3,1220],[2,1221,3,1222],[2,1223,3,1224],[2,1225,3,1226],[2,1227,3,1228],[2,1229,3,1230],[2,1231,3,1232],[2,1233,3,1234],[2,1235,3,1236],[2,1237,3,1238],[2,1239,3,1240],[2,1241,3,1242],[2,1243,3,1244],[2,1245,3,1246],[2,1247,3,1248],[2,1249,3,1250],[2,1251,3,1252],[2,1253,3,1254],[2,1255,3,1256],[2,1257,3,1258],[2,1259,3,1260],[2,1261,3,1262],[2,1263,3,1264],[2,1265,3,1266],[2,1267,3,1268],[2,1269,3,1270],[2,1271,3,1272],[2,1273,3,1274],[2,1275,3,1276],[2,1277,3,1278],[2,1279,3,1280],[2,1281,3,1282],[2,1283,3,1284],[2,1285,3,1286],[2,1287,3,1288],[2,1289,3,1290],[2,1291,3,1292],[2,1293,3,1294],[2,1295,3,1296],[2,1297,3,1298],[2,1299,3,1300],[2,1301,3,1302],[2,1303,3,1304],[2,1305,3,1306],[2,1307,3,1308],[2,1309,3,1310],[2,1311,3,1312],[2,1313,3,1314],[2,1315,3,1316],[2,1317,3,1318],[2,1319,3,1320],[2,1321,3,1322],[2,1323,3,1324],[2,1325,3,1326],[2,1327,3,1328],[2,1329,3,1330],[2,1331,3,1332],[2,1333,3,1334],[2,1335,3,1336],[2,1337,3,1338],[2,1339,3,1340],[2,1341,3,1342],[2,1343,3,1344],[2,1345,3,1346],[2,1347,3,1348],[2,1349,3,1350],[2,1351,3,1352],[2,1353,3,1354],[2,1355,3,1356],[2,1357,3,1358],[2,1359,3,1360],[2,1361,3,1362],[2,1363,3,1364],[2,1365,3,1366],[2,1367,3,1368],[2,1369,3,1370],[2,1371,3,1372],[2,1373,3,1374],[2,1375,3,1376],[2,1377,3,1378],[2,1379,3,1380],[2,1381,3,1382],[2,1383,3,1384],[2,1385,3,1386],[2,1387,3,1388],[2,1389,3,1390],[2,1391,3,1392],[2,1393,3,1394],[2,1395,3,1396],[2,1397,3,1398],[2,1399,3,1400],[2,1401,3,1402],[2,1403,3,1404],[2,1405,3,1406],[2,1407,3,1408],[2,1409,3,1410],[2,1411,3,1412],[2,1413,3,1414],[2,1415,3,1416],[2,1417,3,1418],[2,1419,3,1420],[2,1421,3,1422],[2,1423,3,1424],[2,1425,3,1426],[2,1427,3,1428],[2,1429,3,1430],[2,1431,3,1432],[2,1433,3,1434],[2,1435,3,1436],[2,1437,3,1438],[2,1439,3,1440],[2,1441,3,1442],[2,1443,3,1444],[2,1445,3,1446],[2,1447,3,1448],[2,1449,3,1450],[2,1451,3,1452],[2,1453,3,1454],[2,1455,3,1456],[2,1457,3,1458],[2,1459,3,1460],[2,1461,3,1462],[2,1463,3,1464],[2,1465,3,1466],[2,1467,3,1468],[2,1469,3,1470],[2,1471,3,1472],[2,1473,3,1474],[2,1475,3,1476],[2,1477,3,1478],[2,1479,3,1480],[2,1481,3,1482],[2,1483,3,1484],[2,1485,3,1486],[2,1487,3,1488],[2,1489,3,1490],[2,1491,3,1492],[2,1493,3,1494],[2,1495,3,1496],[2,1497,3,1498],[2,1499,3,1500],[2,1501,3,1502],[2,1503,3,1504],[2,1505,3,1506],[2,1507,3,1508],[2,1509,3,1510],[2,1511,3,1512],[2,1513,3,1514],[2,1515,3,1516],[2,1517,3,1518],[2,1519,3,1520],[2,1521,3,1522],[2,1523,3,1524],[2,1525,3,1526],[2,1527,3,1528],[2,1529,3,1530],[2,1531,3,1532],[2,1533,3,1534],[2,1535,3,1536],[2,1537,3,1538],[2,1539,3,1540],[2,1541,3,1542],[2,1543,3,1544],[2,1545,3,1546],[2,1547,3,1548],[2,1549,3,1550],[2,1551,3,1552],[2,1553,3,1554],[2,1555,3,1556],[2,1557,3,1558],[2,1559,3,1560],[2,1561,3,1562],[2,1563,3,1564],[2,1565,3,1566],[2,1567,3,1568],[2,1569,3,1570],[2,1571,3,1572],[2,1573,3,1574],[2,1575,3,1576],[2,1577,3,1578],[2,1579,3,1580],[2,1581,3,1582],[2,1583,3,1584],[2,1585,3,1586],[2,1587,3,1588],[2,1589,3,1590],[2,1591,3,1592],[2,1593,3,1594],[2,1595,3,1596],[2,1597,3,1598],[2,1599,3,1600],[2,1601,3,1602],[2,1603,3,1604],[2,1605,3,1606],[2,1607,3,1608],[2,1609,3,1610],[2,1611,3,1612],[2,1613,3,1614],[2,1615,3,1616],[2,1617,3,1618],[2,1619,3,1620],[2,1621,3,1622],[2,1623,3,1624],[2,1625,3,1626],[2,1627,3,1628],[2,1629,3,1630],[2,1631,3,1632],[2,1633,3,1634],[2,1635,3,1636],[2,1637,3,1638],[2,1639,3,1640],[2,1641,3,1642],[2,1643,3,1644],[2,1645,3,1646],[2,1647,3,1648],[2,1649,3,1650],[2,1651,3,1652],[2,1653,3,1654],[2,1655,3,1656],[2,1657,3,1658],[2,1659,3,1660],[2,1661,3,1662],[2,1663,3,1664],[2,1665,3,1666],[2,1667,3,1668],[2,1669,3,1670],[2,1671,3,1672],[2,1673,3,1674],[2,1675,3,1676],[2,1677,3,1678],[2,1679,3,1680],[2,1681,3,1682],[2,1683,3,1684],[2,1685,3,1686],[2,1687,3,1688],[2,1689,3,1690],[2,1691,3,1692],[2,1693,3,1694],[2,1695,3,1696],[2,1697,3,1698],[2,1699,3,1700],[2,1701,3,1702],[2,1703,3,1704],[2,1705,3,1706],[2,1707,3,1708],[2,1709,3,1710],[2,1711,3,1712],[2,1713,3,1714],[2,1715,3,1716],[2,1717,3,1718],[2,1719,3,1720],[2,1721,3,1722],[2,1723,3,1724],[2,1725,3,1726],[2,1727,3,1728],[2,1729,3,1730],[2,1731,3,1732],[2,1733,3,1734],[2,1735,3,1736],[2,1737,3,1738],[2,1739,3,1740],[2,1741,3,1742],[2,1743,3,1744],[2,1745,3,1746],[2,1747,3,1748],[2,1749,3,1750],[2,1751,3,1752],[2,1753,3,1754],[2,1755,3,1756],[2,1757,3,1758],[2,1759,3,1760],[2,1761,3,1762],[2,1763,3,1764],[2,1765,3,1766],[2,1767,3,1768],[2,1769,3,1770],[2,1771,3,1772],[2,1773,3,1774],[2,1775,3,1776],[2,1777,3,1778],[2,1779,3,1780],[2,1781,3,1782],[2,1783,3,1784],[2,1785,3,1786],[2,1787,3,1788],[2,1789,3,1790],[2,1791,3,1792],[2,1793,3,1794],[2,1795,3,1796],[2,1833,3,1834],[2,1835,3,1836],[2,1837,3,1838],[2,1839,3,1840],[2,1841,3,1842],[2,1843,3,1844],[2,1845,3,1846],[2,1847,3,1848],[2,1849,3,1850],[2,1851,3,1852],[2,1853,3,1854],[2,1855,3,1856],[2,1857,3,1858],[2,1859,3,1860],[2,1861,3,1862],[2,1863,3,1864],[2,1865,3,1866],[2,1867,3,1868]],"merged_total":10021,"flags":["merged_cut"]}
[]
[{"$nulls":5},"S16",{"$nulls":23},"S17",{"$nulls":23},"S18",{"$nulls":23},"S19",{"$nulls":23},"S20",{"$nulls":23},"S21",{"$nulls":23},"S22",{"$nulls":23},"S23",{"$nulls":23},"S24",{"$nulls":23},"S25",{"$nulls":23},"S26",{"$nulls":23},"S27",{"$nulls":23},"S28",{"$nulls":23},"S29",{"$nulls":23},"S30",{"$nulls":23},"S31",{"$nulls":23},"S32",{"$nulls":23},"S33",{"$nulls":23},"S34",{"$nulls":23},"S35",{"$nulls":23},"S36",{"$nulls":23},"S37",{"$nulls":23},"S38",{"$nulls":23},"S39",{"$nulls":23},"S40",{"$nulls":23},"S41",{"$nulls":23},"S42",{"$nulls":23},"S43",{"$nulls":23},"S44",{"$nulls":23},"S45",{"$nulls":23},"S46",{"$nulls":23},"S47",{"$nulls":23},"S48",{"$nulls":23},"S49",{"$nulls":23},"S50",{"$nulls":23},"S51",{"$nulls":23},"S52",{"$nulls":23},"S53",{"$nulls":23},"S54",{"$nulls":23},"S55",{"$nulls":23},"S56",{"$nulls":23},"S57",{"$nulls":23},"S58",{"$nulls":23},"S59",{"$nulls":23},"S60",{"$nulls":23},"S61",{"$nulls":23},"S62",{"$nulls":23},"S63",{"$nulls":23},"H1",{"$nulls":23},"H2",{"$nulls":23},"H3",{"$nulls":23},"H4",{"$nulls":23},"H5",{"$nulls":23},"H6",{"$nulls":23},"H7",{"$nulls":23},"H8",{"$nulls":23},"H9",{"$nulls":23},"H10",{"$nulls":23},"H11",{"$nulls":23},"H12",{"$nulls":23},"H13",{"$nulls":23},"H14",{"$nulls":23},"H15",{"$nulls":23},"H16",{"$nulls":23},"H17",{"$nulls":23},"H18",{"$nulls":23},"H19",{"$nulls":23},"H20",{"$nulls":23},"H21",{"$nulls":23},"H22",{"$nulls":23},"H23",{"$nulls":23},"H24",{"$nulls":23},"H25",{"$nulls":23},"H26",{"$nulls":23},"H27",{"$nulls":23},"H28",{"$nulls":23},"H29",{"$nulls":23},"H30",{"$nulls":23},"R1",{"$nulls":23},"R2",{"$nulls":23},"R3",{"$nulls":23},"R4"]
["実務経歴書記載の実務","開始","終了","年月～年月の月数",null,"1941-01-01",null,"1941-02-01",null,"1941-03-01",null,"1941-04-01",null,"1941-05-01",null,"1941-06-01",null,"1941-07-01",null,"1941-08-01",null,"1941-09-01",null,"1941-10-01",null,"1941-11-01",null,"1941-12-01",null,"1942-01-01",null,"1942-02-01",null,"1942-03-01",null,"1942-04-01",null,"1942-05-01",null,"1942-06-01",null,"1942-07-01",null,"1942-08-01",null,"1942-09-01",null,"1942-10-01",null,"1942-11-01",null,"1942-12-01",null,"1943-01-01",null,"1943-02-01",null,"1943-03-01",null,"1943-04-01",null,"1943-05-01",null,"1943-06-01",null,"1943-07-01",null,"1943-08-01",null,"1943-09-01",null,"1943-10-01",null,"1943-11-01",null,"1943-12-01",null,"1944-01-01",null,"1944-02-01",null,"1944-03-01",null,"1944-04-01",null,"1944-05-01",null,"1944-06-01",null,"1944-07-01",null,"1944-08-01",null,"1944-09-01",null,"1944-10-01",null,"1944-11-01",null,"1944-12-01",null,"1945-01-01",null,"1945-02-01",null,"1945-03-01",null,"1945-04-01",null,"1945-05-01",null,"1945-06-01",null,"1945-07-01",null,"1945-08-01",null,"1945-09-01",null,"1945-10-01",null,"1945-11-01",null,"1945-12-01",null,"1946-01-01",null,"1946-02-01",null,"1946-03-01",null,"1946-04-01",null,"1946-05-01",null,"1946-06-01",null,"1946-07-01",null,"1946-08-01",null,"1946-09-01",null,"1946-10-01",null,"1946-11-01",null,"1946-12-01",null,"1947-01-01",null,"1947-02-01",null,"1947-03-01",null,"1947-04-01",null,"1947-05-01",null,"1947-06-01",null,"1947-07-01",null,"1947-08-01",null,"1947-09-01",null,"1947-10-01",null,"1947-11-01",null,"1947-12-01",null,"1948-01-01",null,"1948-02-01",null,"1948-03-01",null,"1948-04-01",null,"1948-05-01",null,"1948-06-01",null,"1948-07-01",null,"1948-08-01",null,"1948-09-01",null,"1948-10-01",null,"1948-11-01",null,"1948-12-01",null,"1949-01-01",null,"1949-02-01",null,"1949-03-01",null,"1949-04-01",null,"1949-05-01",null,"1949-06-01",null,"1949-07-01",null,"1949-08-01",null,"1949-09-01",null,"1949-10-01",null,"1949-11-01",null,"1949-12-01",null,"1950-01-01",null,"1950-02-01",null,"1950-03-01",null,"1950-04-01",null,"1950-05-01",null,"1950-06-01",null,"1950-07-01",null,"1950-08-01",null,"1950-09-01",null,"1950-10-01",null,"1950-11-01",null,"1950-12-01",null,"1951-01-01",null,"1951-02-01",null,"1951-03-01",null,"1951-04-01",null,"1951-05-01",null,"1951-06-01",null,"1951-07-01",null,"1951-08-01",null,"1951-09-01",null,"1951-10-01",null,"1951-11-01",null,"1951-12-01",null,"1952-01-01",null,"1952-02-01",null,"1952-03-01",null,"1952-04-01",null,"1952-05-01",null,"1952-06-01",null,"1952-07-01",null,"1952-08-01",null,"1952-09-01",null,"1952-10-01",null,"1952-11-01",null,"1952-12-01",null,"1953-01-01",null,"1953-02-01",null,"1953-03-01",null,"1953-04-01",null,"1953-05-01",null,"1953-06-01",null,"1953-07-01",null,"1953-08-01",null,"1953-09-01",null,"1953-10-01",null,"1953-11-01",null,"1953-12-01",null,"1954-01-01",null,"1954-02-01",null,"1954-03-01",null,"1954-04-01",null,"1954-05-01",null,"1954-06-01",null,"1954-07-01",null,"1954-08-01",null,"1954-09-01",null,"1954-10-01",null,"1954-11-01",null,"1954-12-01",null,"1955-01-01",null,"1955-02-01",null,"1955-03-01",null,"1955-04-01",null,"1955-05-01",null,"1955-06-01",null,"1955-07-01",null,"1955-08-01",null,"1955-09-01",null,"1955-10-01",null,"1955-11-01",null,"1955-12-01",null,"1956-01-01",null,"1956-02-01",null,"1956-03-01",null,"1956-04-01",null,"1956-05-01",null,"1956-06-01",null,"1956-07-01",null,"1956-08-01",null,"1956-09-01",null,"1956-10-01",null,"1956-11-01",null,"1956-12-01",null,"1957-01-01",null,"1957-02-01",null,"1957-03-01",null,"1957-04-01",null,"1957-05-01",null,"1957-06-01",null,"1957-07-01",null,"1957-08-01",null,"1957-09-01",null,"1957-10-01",null,"1957-11-01",null,"1957-12-01",null,"1958-01-01",null,"1958-02-01",null,"1958-03-01",null,"1958-04-01",null,"1958-05-01",null,"1958-06-01",null,"1958-07-01",null,"1958-08-01",null,"1958-09-01",null,"1958-10-01",null,"1958-11-01",null,"1958-12-01",null,"1959-01-01",null,"1959-02-01",null,"1959-03-01",null,"1959-04-01",null,"1959-05-01",null,"1959-06-01",null,"1959-07-01",null,"1959-08-01",null,"1959-09-01",null,"1959-10-01",null,"1959-11-01",null,"1959-12-01",null,"1960-01-01",null,"1960-02-01",null,"1960-03-01",null,"1960-04-01",null,"1960-05-01",null,"1960-06-01",null,"1960-07-01",null,"1960-08-01",null,"1960-09-01",null,"1960-10-01",null,"1960-11-01",null,"1960-12-01",null,"1961-01-01",null,"1961-02-01",null,"1961-03-01",null,"1961-04-01",null,"1961-05-01",null,"1961-06-01",null,"1961-07-01",null,"1961-08-01",null,"1961-09-01",null,"1961-10-01",null,"1961-11-01",null,"1961-12-01",null,"1962-01-01",null,"1962-02-01",null,"1962-03-01",null,"1962-04-01",null,"1962-05-01",null,"1962-06-01",null,"1962-07-01",null,"1962-08-01",null,"1962-09-01",null,"1962-10-01",null,"1962-11-01",null,"1962-12-01",null,"1963-01-01",null,"1963-02-01",null,"1963-03-01",null,"1963-04-01",null,"1963-05-01",null,"1963-06-01",null,"1963-07-01",null,"1963-08-01",null,"1963-09-01",null,"1963-10-01",null,"1963-11-01",null,"1963-12-01",null,"1964-01-01",null,"1964-02-01",null,"1964-03-01",null,"1964-04-01",null,"1964-05-01",null,"1964-06-01",null,"1964-07-01",null,"1964-08-01",null,"1964-09-01",null,"1964-10-01",null,"1964-11-01",null,"1964-12-01",null,"1965-01-01",null,"1965-02-01",null,"1965-03-01",null,"1965-04-01",null,"1965-05-01",null,"1965-06-01",null,"1965-07-01",null,"1965-08-01",null,"1965-09-01",null,"1965-10-01",null,"1965-11-01",null,"1965-12-01",null,"1966-01-01",null,"1966-02-01",null,"1966-03-01",null,"1966-04-01",null,"1966-05-01",null,"1966-06-01",null,"1966-07-01",null,"1966-08-01",null,"1966-09-01",null,"1966-10-01",null,"1966-11-01",null,"1966-12-01",null,"1967-01-01",null,"1967-02-01",null,"1967-03-01",null,"1967-04-01",null,"1967-05-01",null,"1967-06-01",null,"1967-07-01",null,"1967-08-01",null,"1967-09-01",null,"1967-10-01",null,"1967-11-01",null,"1967-12-01",null,"1968-01-01",null,"1968-02-01",null,"1968-03-01",null,"1968-04-01",null,"1968-05-01",null,"1968-06-01",null,"1968-07-01",null,"1968-08-01",null,"1968-09-01",null,"1968-10-01",null,"1968-11-01",null,"1968-12-01",null,"1969-01-01",null,"1969-02-01",null,"1969-03-01",null,"1969-04-01",null,"1969-05-01",null,"1969-06-01",null,"1969-07-01",null,"1969-08-01",null,"1969-09-01",null,"1969-10-01",null,"1969-11-01",null,"1969-12-01",null,"1970-01-01",null,"1970-02-01",null,"1970-03-01",null,"1970-04-01",null,"1970-05-01",null,"1970-06-01",null,"1970-07-01",null,"1970-08-01",null,"1970-09-01",null,"1970-10-01",null,"1970-11-01",null,"1970-12-01",null,"1971-01-01",null,"1971-02-01",null,"1971-03-01",null,"1971-04-01",null,"1971-05-01",null,"1971-06-01",null,"1971-07-01",null,"1971-08-01",null,"1971-09-01",null,"1971-10-01",null,"1971-11-01",null,"1971-12-01",null,"1972-01-01",null,"1972-02-01",null,"1972-03-01",null,"1972-04-01",null,"1972-05-01",null,"1972-06-01",null,"1972-07-01",null,"1972-08-01",null,"1972-09-01",null,"1972-10-01",null,"1972-11-01",null,"1972-12-01",null,"1973-01-01",null,"1973-02-01",null,"1973-03-01",null,"1973-04-01",null,"1973-05-01",null,"1973-06-01",null,"1973-07-01",null,"1973-08-01",null,"1973-09-01",null,"1973-10-01",null,"1973-11-01",null,"1973-12-01",null,"1974-01-01",null,"1974-02-01",null,"1974-03-01",null,"1974-04-01",null,"1974-05-01",null,"1974-06-01",null,"1974-07-01",null,"1974-08-01",null,"1974-09-01",null,"1974-10-01",null,"1974-11-01",null,"1974-12-01",null,"1975-01-01",null,"1975-02-01",null,"1975-03-01",null,"1975-04-01",null,"1975-05-01",null,"1975-06-01",null,"1975-07-01",null,"1975-08-01",null,"1975-09-01",null,"1975-10-01",null,"1975-11-01",null,"1975-12-01",null,"1976-01-01",null,"1976-02-01",null,"1976-03-01",null,"1976-04-01",null,"1976-05-01",null,"1976-06-01",null,"1976-07-01",null,"1976-08-01",null,"1976-09-01",null,"1976-10-01",null,"1976-11-01",null,"1976-12-01",null,"1977-01-01",null,"1977-02-01",null,"1977-03-01",null,"1977-04-01",null,"1977-05-01",null,"1977-06-01",null,"1977-07-01",null,"1977-08-01",null,"1977-09-01",null,"1977-10-01",null,"1977-11-01",null,"1977-12-01",null,"1978-01-01",null,"1978-02-01",null,"1978-03-01",null,"1978-04-01",null,"1978-05-01",null,"1978-06-01",null,"1978-07-01",null,"1978-08-01",null,"1978-09-01",null,"1978-10-01",null,"1978-11-01",null,"1978-12-01",null,"1979-01-01",null,"1979-02-01",null,"1979-03-01",null,"1979-04-01",null,"1979-05-01",null,"1979-06-01",null,"1979-07-01",null,"1979-08-01",null,"1979-09-01",null,"1979-10-01",null,"1979-11-01",null,"1979-12-01",null,"1980-01-01",null,"1980-02-01",null,"1980-03-01",null,"1980-04-01",null,"1980-05-01",null,"1980-06-01",null,"1980-07-01",null,"1980-08-01",null,"1980-09-01",null,"1980-10-01",null,"1980-11-01",null,"1980-12-01",null,"1981-01-01",null,"1981-02-01",null,"1981-03-01",null,"1981-04-01",null,"1981-05-01",null,"1981-06-01",null,"1981-07-01",null,"1981-08-01",null,"1981-09-01",null,"1981-10-01",null,"1981-11-01",null,"1981-12-01",null,"1982-01-01",null,"1982-02-01",null,"1982-03-01",null,"1982-04-01",null,"1982-05-01",null,"1982-06-01",null,"1982-07-01",null,"1982-08-01",null,"1982-09-01",null,"1982-10-01",null,"1982-11-01",null,"1982-12-01",null,"1983-01-01",null,"1983-02-01",null,"1983-03-01",null,"1983-04-01",null,"1983-05-01",null,"1983-06-01",null,"1983-07-01",null,"1983-08-01",null,"1983-09-01",null,"1983-10-01",null,"1983-11-01",null,"1983-12-01",null,"1984-01-01",null,"1984-02-01",null,"1984-03-01",null,"1984-04-01",null,"1984-05-01",null,"1984-06-01",null,"1984-07-01",null,"1984-08-01",null,"1984-09-01",null,"1984-10-01",null,"1984-11-01",null,"1984-12-01",null,"1985-01-01",null,"1985-02-01",null,"1985-03-01",null,"1985-04-01",null,"1985-05-01",null,"1985-06-01",null,"1985-07-01",null,"1985-08-01",null,"1985-09-01",null,"1985-10-01",null,"1985-11-01",null,"1985-12-01",null,"1986-01-01",null,"1986-02-01",null,"1986-03-01",null,"1986-04-01",null,"1986-05-01",null,"1986-06-01",null,"1986-07-01",null,"1986-08-01",null,"1986-09-01",null,"1986-10-01",null,"1986-11-01",null,"1986-12-01",null,"1987-01-01",null,"1987-02-01",null,"1987-03-01",null,"1987-04-01",null,"1987-05-01",null,"1987-06-01",null,"1987-07-01",null,"1987-08-01",null,"1987-09-01",null,"1987-10-01",null,"1987-11-01",null,"1987-12-01",null,"1988-01-01",null,"1988-02-01",null,"1988-03-01",null,"1988-04-01",null,"1988-05-01",null,"1988-06-01",null,"1988-07-01",null,"1988-08-01",null,"1988-09-01",null,"1988-10-01",null,"1988-11-01",null,"1988-12-01",null,"1989-01-01",null,"1989-02-01",null,"1989-03-01",null,"1989-04-01",null,"1989-05-01",null,"1989-06-01",null,"1989-07-01",null,"1989-08-01",null,"1989-09-01",null,"1989-10-01",null,"1989-11-01",null,"1989-12-01",null,"1990-01-01",null,"1990-02-01",null,"1990-03-01",null,"1990-04-01",null,"1990-05-01",null,"1990-06-01",null,"1990-07-01",null,"1990-08-01",null,"1990-09-01",null,"1990-10-01",null,"1990-11-01",null,"1990-12-01",null,"1991-01-01",null,"1991-02-01",null,"1991-03-01",null,"1991-04-01",null,"1991-05-01",null,"1991-06-01",null,"1991-07-01",null,"1991-08-01",null,"1991-09-01",null,"1991-10-01",null,"1991-11-01",null,"1991-12-01",null,"1992-01-01",null,"1992-02-01",null,"1992-03-01",null,"1992-04-01",null,"1992-05-01",null,"1992-06-01",null,"1992-07-01",null,"1992-08-01",null,"1992-09-01",null,"1992-10-01",null,"1992-11-01",null,"1992-12-01",null,"1993-01-01",null,"1993-02-01",null,"1993-03-01",null,"1993-04-01",null,"1993-05-01",null,"1993-06-01",null,"1993-07-01",null,"1993-08-01",null,"1993-09-01",null,"1993-10-01",null,"1993-11-01",null,"1993-12-01",null,"1994-01-01",null,"1994-02-01",null,"1994-03-01",null,"1994-04-01",null,"1994-05-01",null,"1994-06-01",null,"1994-07-01",null,"1994-08-01",null,"1994-09-01",null,"1994-10-01",null,"1994-11-01",null,"1994-12-01",null,"1995-01-01",null,"1995-02-01",null,"1995-03-01",null,"1995-04-01",null,"1995-05-01",null,"1995-06-01",null,"1995-07-01",null,"1995-08-01",null,"1995-09-01",null,"1995-10-01",null,"1995-11-01",null,"1995-12-01",null,"1996-01-01",null,"1996-02-01",null,"1996-03-01",null,"1996-04-01",null,"1996-05-01",null,"1996-06-01",null,"1996-07-01",null,"1996-08-01",null,"1996-09-01",null,"1996-10-01",null,"1996-11-01",null,"1996-12-01",null,"1997-01-01",null,"1997-02-01",null,"1997-03-01",null,"1997-04-01",null,"1997-05-01",null,"1997-06-01",null,"1997-07-01",null,"1997-08-01",null,"1997-09-01",null,"1997-10-01",null,"1997-11-01",null,"1997-12-01",null,"1998-01-01",null,"1998-02-01",null,"1998-03-01",null,"1998-04-01",null,"1998-05-01",null,"1998-06-01",null,"1998-07-01",null,"1998-08-01",null,"1998-09-01",null,"1998-10-01",null,"1998-11-01",null,"1998-12-01",null,"1999-01-01",null,"1999-02-01",null,"1999-03-01",null,"1999-04-01",null,"1999-05-01",null,"1999-06-01",null,"1999-07-01",null,"1999-08-01",null,"1999-09-01",null,"1999-10-01",null,"1999-11-01",null,"1999-12-01",null,"2000-01-01",null,"2000-02-01",null,"2000-03-01",null,"2000-04-01",null,"2000-05-01",null,"2000-06-01",null,"2000-07-01",null,"2000-08-01",null,"2000-09-01",null,"2000-10-01",null,"2000-11-01",null,"2000-12-01",null,"2001-01-01",null,"2001-02-01",null,"2001-03-01",null,"2001-04-01",null,"2001-05-01",null,"2001-06-01",null,"2001-07-01",null,"2001-08-01",null,"2001-09-01",null,"2001-10-01",null,"2001-11-01",null,"2001-12-01",null,"2002-01-01",null,"2002-02-01",null,"2002-03-01",null,"2002-04-01",null,"2002-05-01",null,"2002-06-01",null,"2002-07-01",null,"2002-08-01",null,"2002-09-01",null,"2002-10-01",null,"2002-11-01",null,"2002-12-01",null,"2003-01-01",null,"2003-02-01",null,"2003-03-01",null,"2003-04-01",null,"2003-05-01",null,"2003-06-01",null,"2003-07-01",null,"2003-08-01",null,"2003-09-01",null,"2003-10-01",null,"2003-11-01",null,"2003-12-01",null,"2004-01-01",null,"2004-02-01",null,"2004-03-01",null,"2004-04-01",null,"2004-05-01",null,"2004-06-01",null,"2004-07-01",null,"2004-08-01",null,"2004-09-01",null,"2004-10-01",null,"2004-11-01",null,"2004-12-01",null,"2005-01-01",null,"2005-02-01",null,"2005-03-01",null,"2005-04-01",null,"2005-05-01",null,"2005-06-01",null,"2005-07-01",null,"2005-08-01",null,"2005-09-01",null,"2005-10-01",null,"2005-11-01",null,"2005-12-01",null,"2006-01-01",null,"2006-02-01",null,"2006-03-01",null,"2006-04-01",null,"2006-05-01",null,"2006-06-01",null,"2006-07-01",null,"2006-08-01",null,"2006-09-01",null,"2006-10-01",null,"2006-11-01",null,"2006-12-01",null,"2007-01-01",null,"2007-02-01",null,"2007-03-01",null,"2007-04-01",null,"2007-05-01",null,"2007-06-01",null,"2007-07-01",null,"2007-08-01",null,"2007-09-01",null,"2007-10-01",null,"2007-11-01",null,"2007-12-01",null,"2008-01-01",null,"2008-02-01",null,"2008-03-01",null,"2008-04-01",null,"2008-05-01",null,"2008-06-01",null,"2008-07-01",null,"2008-08-01",null,"2008-09-01",null,"2008-10-01",null,"2008-11-01",null,"2008-12-01",null,"2009-01-01",null,"2009-02-01",null,"2009-03-01",null,"2009-04-01",null,"2009-05-01",null,"2009-06-01",null,"2009-07-01",null,"2009-08-01",null,"2009-09-01",null,"2009-10-01",null,"2009-11-01",null,"2009-12-01",null,"2010-01-01",null,"2010-02-01",null,"2010-03-01",null,"2010-04-01",null,"2010-05-01",null,"2010-06-01",null,"2010-07-01",null,"2010-08-01",null,"2010-09-01",null,"2010-10-01",null,"2010-11-01",null,"2010-12-01",null,"2011-01-01",null,"2011-02-01",null,"2011-03-01",null,"2011-04-01",null,"2011-05-01",null,"2011-06-01",null,"2011-07-01",null,"2011-08-01",null,"2011-09-01",null,"2011-10-01",null,"2011-11-01",null,"2011-12-01",null,"2012-01-01",null,"2012-02-01",null,"2012-03-01",null,"2012-04-01",null,"2012-05-01",null,"2012-06-01",null,"2012-07-01",null,"2012-08-01",null,"2012-09-01",null,"2012-10-01",null,"2012-11-01",null,"2012-12-01",null,"2013-01-01",null,"2013-02-01",null,"2013-03-01",null,"2013-04-01",null,"2013-05-01",null,"2013-06-01",null,"2013-07-01",null,"2013-08-01",null,"2013-09-01",null,"2013-10-01",null,"2013-11-01",null,"2013-12-01",null,"2014-01-01",null,"2014-02-01",null,"2014-03-01",null,"2014-04-01",null,"2014-05-01",null,"2014-06-01",null,"2014-07-01",null,"2014-08-01",null,"2014-09-01",null,"2014-10-01",null,"2014-11-01",null,"2014-12-01",null,"2015-01-01",null,"2015-02-01",null,"2015-03-01",null,"2015-04-01",null,"2015-05-01",null,"2015-06-01",null,"2015-07-01",null,"2015-08-01",null,"2015-09-01",null,"2015-10-01",null,"2015-11-01",null,"2015-12-01",null,"2016-01-01",null,"2016-02-01",null,"2016-03-01",null,"2016-04-01",null,"2016-05-01",null,"2016-06-01",null,"2016-07-01",null,"2016-08-01",null,"2016-09-01",null,"2016-10-01",null,"2016-11-01",null,"2016-12-01",null,"2017-01-01",null,"2017-02-01",null,"2017-03-01",null,"2017-04-01",null,"2017-05-01",null,"2017-06-01",null,"2017-07-01",null,"2017-08-01",null,"2017-09-01",null,"2017-10-01",null,"2017-11-01",null,"2017-12-01",null,"2018-01-01",null,"2018-02-01",null,"2018-03-01",null,"2018-04-01",null,"2018-05-01",null,"2018-06-01",null,"2018-07-01",null,"2018-08-01",null,"2018-09-01",null,"2018-10-01",null,"2018-11-01",null,"2018-12-01",null,"2019-01-01",null,"2019-02-01",null,"2019-03-01",null,"2019-04-01",null,"2019-05-01",null,"2019-06-01",null,"2019-07-01",null,"2019-08-01",null,"2019-09-01",null,"2019-10-01",null,"2019-11-01",null,"2019-12-01",null,"2020-01-01",null,"2020-02-01",null,"2020-03-01",null,"2020-04-01",null,"2020-05-01",null,"2020-06-01",null,"2020-07-01",null,"2020-08-01",null,"2020-09-01",null,"2020-10-01",null,"2020-11-01",null,"2020-12-01",null,"2021-01-01",null,"2021-02-01",null,"2021-03-01",null,"2021-04-01",null,"2021-05-01",null,"2021-06-01",null,"2021-07-01",null,"2021-08-01",null,"2021-09-01",null,"2021-10-01",null,"2021-11-01",null,"2021-12-01",null,"2022-01-01",null,"2022-02-01",null,"2022-03-01",null,"2022-04-01",null,"2022-05-01",null,"2022-06-01",null,"2022-07-01",null,"2022-08-01",null,"2022-09-01",null,"2022-10-01",null,"2022-11-01",null,"2022-12-01",null,"実務経歴書記載の年月数",null,"実務経歴書記載の建築実務の割合","月数×割合","実務経歴書年月数"]
[{"$nulls":1977},"年","月"]
["実務（１）",{"$f":"年数合計!B13","v":{"$error":"#VALUE!"}},{"$f":"年数合計!C13","v":{"$error":"#VALUE!"}},{"$f":"COUNTIF(F5:BWW5,\"○\")","v":0},"月",{"$f":"IFERROR(IF(AND(F$3>=$B$5,F$3<=$C$5),\"○\",\"\"),\"\")","v":""},null,"",null,"",null,"",null,"",null,"",null,"",null,"",null,"",null,"",null,"",null,"",null,"",null,"",null,"",null,"",null,"",null,"",null,"",null,"",null,"",null,"",null,"",null,"",null,"",null,"",null,"",null,"",null,"",null,"",null,"",null,"",null,{"$f":"IFERROR(IF(AND(BR$3>=$B$5,BR$3<=$C$5),\"○\",\"\"),\"\")","v":""},null,"",null,"",null,"",null,"",null,"",null,"",null,"",null,"",null,"",null,"",null,"",null,"",null,"",null,"",null,"",null,"",null,"",null,"",null,"",null,"",null,"",null,"",null,"",null,"",null,"",null,"",null,"",null,"",null,"",null,"",null,"",null,{"$f":"IFERROR(IF(AND(ED$3>=$B$5,ED$3<=$C$5),\"○\",\"\"),\"\")","v":""},null,"",null,"",null,"",null,"",null,"",null,"",null,"",null,"",null,"",null,"",null,"",null,"",null,"",null,"",null,"",null,"",null,"",null,"",null,"",null,"",null,"",null,"",null,"",null,"",null,"",null,"",null,"",null,"",null,"",null,"",null,"",null,{"$f":"IFERROR(IF(AND(GP$3>=$B$5,GP$3<=$C$5),\"○\",\"\"),\"\")","v":""},null,"",null,"",null,"",null,"",null,"",null,"",null,"",null,"",null,"",null,"",null,"",null,"",null,"",null,"",null,"",null,"",null,"",null,"",null,"",null,"",null,"",null,"",null,"",null,"",null,"",null,"",null,"",null,"",null,"",null,"",null,"",null,{"$f":"IFERROR(IF(AND(JB$3>=$B$5,JB$3<=$C$5),\"○\",\"\"),\"\")","v":""},null,"",null,"",null,"",null,"",null,"",null,"",null,"",null,"",null,"",null,"",null,"",null,"",null,"",null,"",null,"",null,"",null,"",null,"",null,"",null,"",null,"",null,"",null,"",null,"",null,"",null,"",null,"",null,"",null,"",null,"",null,"",null,{"$f":"IFERROR(IF(AND(LN$3>=$B$5,LN$3<=$C$5),\"○\",\"\"),\"\")","v":""},null,"",null,"",null,"",null,"",null,"",null,"",null,"",null,"",null,"",null,"",null,"",null,"",null,"",null,"",null,"",null,"",null,"",null,"",null,"",null,"",null,"",null,"",null,"",null,"",null,"",null,"",null,"",null,"",null,"",null,"",null,"",null,{"$f":"IFERROR(IF(AND(NZ$3>=$B$5,NZ$3<=$C$5),\"○\",\"\"),\"\")","v":""},null,"",null,"",null,"",null,"",null,"",null,"",null,"",null,"",null,"",null,"",null,"",null,"",null,"",null,"",null,"",null,"",null,"",null,"",null,"",null,"",null,"",null,"",null,"",null,"",null,"",null,"",null,"",null,"",null,"",null,"",null,"",null,{"$f":"IFERROR(IF(AND(QL$3>=$B$5,QL$3<=$C$5),\"○\",\"\"),\"\")","v":""},null,"",null,"",null,"",null,"",null,"",null,"",null,"",null,"",null,"",null,"",null,"",null,"",null,"",null,"",null,"",null,"",null,"",null,"",null,"",null,"",null,"",null,"",null,"",null,"",null,"",null,"",null,"",null,"",null,"",null,"",null,"",null,{"$f":"IFERROR(IF(AND(SX$3>=$B$5,SX$3<=$C$5),\"○\",\"\"),\"\")","v":""},null,"",null,"",null,"",null,"",null,"",null,"",null,"",null,"",null,"",null,"",null,"",null,"",null,"",null,"",null,"",null,"",null,"",null,"",null,"",null,"",null,"",null,"",null,"",null,"",null,"",null,"",null,"",null,"",null,"",null,"",null,"",null,{"$f":"IFERROR(IF(AND(VJ$3>=$B$5,VJ$3<=$C$5),\"○\",\"\"),\"\")","v":""},null,"",null,"",null,"",null,"",null,"",null,"",null,"",null,"",null,"",null,"",null,"",null,"",null,"",null,"",null,"",null,"",null,"",null,"",null,"",null,"",null,"",null,"",null,"",null,"",null,"",null,"",null,"",null,"",null,"",null,"",null,"",null,{"$f":"IFERROR(IF(AND(XV$3>=$B$5,XV$3<=$C$5),\"○\",\"\"),\"\")","v":""},null,"",null,"",null,"",null,"",null,"",null,"",null,"",null,"",null,"",null,"",null,"",null,"",null,"",null,"",null,"",null,"",null,"",null,"",null,"",null,"",null,"",null,"",null,"",null,"",null,"",null,"",null,"",null,"",null,"",null,"",null,"",null,{"$f":"IFERROR(IF(AND(AAH$3>=$B$5,AAH$3<=$C$5),\"○\",\"\"),\"\")","v":""},null,"",null,"",null,"",null,"",null,"",null,"",null,"",null,"",null,"",null,"",null,"",null,"",null,"",null,"",null,"",null,"",null,"",null,"",null,"",null,"",null,"",null,"",null,"",null,"",null,"",null,"",null,"",null,"",null,"",null,"",null,"",null,{"$f":"IFERROR(IF(AND(ACT$3>=$B$5,ACT$3<=$C$5),\"○\",\"\"),\"\")","v":""},null,"",null,"",null,"",null,"",null,"",null,"",null,"",null,"",null,"",null,"",null,"",null,"",null,"",null,"",null,"",null,"",null,"",null,"",null,"",null,"",null,"",null,"",null,"",null,"",null,"",null,"",null,"",null,"",null,"",null,"",null,"",null,{"$f":"IFERROR(IF(AND(AFF$3>=$B$5,AFF$3<=$C$5),\"○\",\"\"),\"\")","v":""},null,"",null,"",null,"",null,"",null,"",null,"",null,"",null,"",null,"",null,"",null,"",null,"",null,"",null,"",null,"",null,"",null,"",null,"",null,"",null,"",null,"",null,"",null,"",null,"",null,"",null,"",null,"",null,"",null,"",null,"",null,"",null,{"$f":"IFERROR(IF(AND(AHR$3>=$B$5,AHR$3<=$C$5),\"○\",\"\"),\"\")","v":""},null,"",null,"",null,"",null,"",null,"",null,"",null,"",null,"",null,"",null,"",null,"",null,"",null,"",null,"",null,"",null,"",null,"",null,"",null,"",null,"",null,"",null,"",null,"",null,"",null,"",null,"",null,"",null,"",null,"",null,"",null,"",null,{"$f":"IFERROR(IF(AND(AKD$3>=$B$5,AKD$3<=$C$5),\"○\",\"\"),\"\")","v":""},null,"",null,"",null,"",null,"",null,"",null,"",null,"",null,"",null,"",null,"",null,"",null,"",null,"",null,"",null,"",null,"",null,"",null,"",null,"",null,"",null,"",null,"",null,"",null,"",null,"",null,"",null,"",null,"",null,"",null,"",null,"",null,{"$f":"IFERROR(IF(AND(AMP$3>=$B$5,AMP$3<=$C$5),\"○\",\"\"),\"\")","v":""},null,"",null,"",null,"",null,"",null,"",null,"",null,"",null,"",null,"",null,"",null,"",null,"",null,"",null,"",null,"",null,"",null,"",null,"",null,"",null,"",null,"",null,"",null,"",null,"",null,"",null,"",null,"",null,"",null,"",null,"",null,"",null,{"$f":"IFERROR(IF(AND(APB$3>=$B$5,APB$3<=$C$5),\"○\",\"\"),\"\")","v":""},null,"",null,"",null,"",null,"",null,"",null,"",null,"",null,"",null,"",null,"",null,"",null,"",null,"",null,"",null,"",null,"",null,"",null,"",null,"",null,"",null,"",null,"",null,"",null,"",null,"",null,"",null,"",null,"",null,"",null,"",null,"",null,{"$f":"IFERROR(IF(AND(ARN$3>=$B$5,ARN$3<=$C$5),\"○\",\"\"),\"\")","v":""},null,"",null,"",null,"",null,"",null,"",null,"",null,"",null,"",null,"",null,"",null,"",null,{"$f":"IFERROR(IF(AND(ASL$3>=$B$5,ASL$3<=$C$5),\"○\",\"\"),\"\")","v":""},null,"",null,"",null,"",null,"",null,"",null,"",null,"",null,"",null,"",null,"",null,"",null,"",null,"",null,"",null,"",null,"",null,"",null,"",null,"",null,"",null,"",null,"",null,"",null,"",null,"",null,"",null,"",null,"",null,"",null,"",null,"",null,{"$f":"IFERROR(IF(AND(AUX$3>=$B$5,AUX$3<=$C$5),\"○\",\"\"),\"\")","v":""},null,"",null,"",null,"",null,"",null,"",null,"",null,"",null,"",null,"",null,"",null,"",null,"",null,"",null,"",null,"",null,"",null,"",null,"",null,"",null,"",null,"",null,"",null,"",null,"",null,"",null,"",null,"",null,"",null,"",null,"",null,"",null,{"$f":"IFERROR(IF(AND(AXJ$3>=$B$5,AXJ$3<=$C$5),\"○\",\"\"),\"\")","v":""},null,"",null,"",null,"",null,"",null,"",null,"",null,"",null,"",null,"",null,"",null,"",null,"",null,"",null,"",null,"",null,"",null,"",null,"",null,"",null,"",null,"",null,"",null,"",null,"",null,"",null,"",null,"",null,"",null,"",null,"",null,"",null,{"$f":"IFERROR(IF(AND(AZV$3>=$B$5,AZV$3<=$C$5),\"○\",\"\"),\"\")","v":""},null,"",null,"",null,"",null,"",null,"",null,"",null,"",null,"",null,"",null,"",null,"",null,"",null,"",null,"",null,"",null,"",null,"",null,"",null,"",null,"",null,"",null,"",null,"",null,"",null,"",null,"",null,"",null,"",null,"",null,"",null,"",null,{"$f":"IFERROR(IF(AND(BCH$3>=$B$5,BCH$3<=$C$5),\"○\",\"\"),\"\")","v":""},null,"",null,"",null,"",null,"",null,"",null,"",null,"",null,"",null,"",null,"",null,"",null,"",null,"",null,"",null,"",null,"",null,"",null,"",null,"",null,"",null,"",null,"",null,"",null,"",null,"",null,"",null,"",null,"",null,"",null,"",null,"",null,{"$f":"IFERROR(IF(AND(BET$3>=$B$5,BET$3<=$C$5),\"○\",\"\"),\"\")","v":""},null,"",null,"",null,"",null,"",null,"",null,"",null,"",null,"",null,"",null,"",null,"",null,"",null,"",null,"",null,"",null,"",null,"",null,"",null,"",null,"",null,"",null,"",null,"",null,"",null,"",null,"",null,"",null,"",null,"",null,"",null,"",null,{"$f":"IFERROR(IF(AND(BHF$3>=$B$5,BHF$3<=$C$5),\"○\",\"\"),\"\")","v":""},null,"",null,"",null,"",null,"",null,"",null,"",null,"",null,"",null,"",null,"",null,"",null,"",null,"",null,"",null,"",null,"",null,"",null,"",null,"",null,"",null,"",null,"",null,"",null,"",null,"",null,"",null,"",null,"",null,"",null,"",null,"",null,{"$f":"IFERROR(IF(AND(BJR$3>=$B$5,BJR$3<=$C$5),\"○\",\"\"),\"\")","v":""},null,"",null,"",null,"",null,"",null,"",null,"",null,"",null,"",null,"",null,"",null,"",null,"",null,"",null,"",null,"",null,"",null,"",null,"",null,"",null,"",null,"",null,"",null,"",null,"",null,"",null,"",null,"",null,"",null,"",null,"",null,"",null,{"$f":"IFERROR(IF(AND(BMD$3>=$B$5,BMD$3<=$C$5),\"○\",\"\"),\"\")","v":""},null,"",null,"",null,"",null,"",null,"",null,"",null,"",null,"",null,"",null,"",null,"",null,"",null,"",null,"",null,"",null,"",null,"",null,"",null,"",null,"",null,"",null,"",null,"",null,"",null,"",null,"",null,"",null,"",null,"",null,"",null,"",null,{"$f":"IFERROR(IF(AND(BOP$3>=$B$5,BOP$3<=$C$5),\"○\",\"\"),\"\")","v":""},null,"",null,"",null,"",null,"",null,"",null,"",null,"",null,"",null,"",null,"",null,"",null,{"$f":"IFERROR(IF(AND(BPN$3>=$B$5,BPN$3<=$C$5),\"○\",\"\"),\"\")","v":""},null,"",null,"",null,"",null,"",null,"",null,"",null,"",null,"",null,"",null,"",null,"",null,"",null,"",null,"",null,"",null,"",null,"",null,"",null,"",null,"",null,"",null,"",null,"",null,"",null,"",null,"",null,"",null,"",null,"",null,"",null,"",null,{"$f":"IFERROR(IF(AND(BRZ$3>=$B$5,BRZ$3<=$C$5),\"○\",\"\"),\"\")","v":""},null,"",null,"",null,"",null,"",null,"",null,"",null,"",null,"",null,"",null,"",null,"",null,"",null,"",null,"",null,"",null,{"$f":"IFERROR(IF(AND(BTF$3>=$B$5,BTF$3<=$C$5),\"○\",\"\"),\"\")","v":""},null,"",null,"",null,"",null,"",null,"",null,"",null,"",null,"",null,"",null,"",null,"",null,{"$f":"IFERROR(IF(AND(BUD$3>=$B$5,BUD$3<=$C$5),\"○\",\"\"),\"\")","v":""},null,{"$f":"IFERROR(IF(AND(BUF$3>=$B$5,BUF$3<=$C$5),\"○\",\"\"),\"\")","v":""},null,{"$f":"IFERROR(IF(AND(BUH$3>=$B$5,BUH$3<=$C$5),\"○\",\"\"),\"\")","v":""},null,{"$f":"IFERROR(IF(AND(BUJ$3>=$B$5,BUJ$3<=$C$5),\"○\",\"\"),\"\")","v":""},null,{"$f":"IFERROR(IF(AND(BUL$3>=$B$5,BUL$3<=$C$5),\"○\",\"\"),\"\")","v":""},null,{"$f":"IFERROR(IF(AND(BUN$3>=$B$5,BUN$3<=$C$5),\"○\",\"\"),\"\")","v":""},null,{"$f":"IFERROR(IF(AND(BUP$3>=$B$5,BUP$3<=$C$5),\"○\",\"\"),\"\")","v":""},null,{"$f":"IFERROR(IF(AND(BUR$3>=$B$5,BUR$3<=$C$5),\"○\",\"\"),\"\")","v":""},null,{"$f":"IFERROR(IF(AND(BUT$3>=$B$5,BUT$3<=$C$5),\"○\",\"\"),\"\")","v":""},null,{"$f":"IFERROR(IF(AND(BUV$3>=$B$5,BUV$3<=$C$5),\"○\",\"\"),\"\")","v":""},null,{"$f":"IFERROR(IF(AND(BUX$3>=$B$5,BUX$3<=$C$5),\"○\",\"\"),\"\")","v":""},null,{"$f":"IFERROR(IF(AND(BUZ$3>=$B$5,BUZ$3<=$C$5),\"○\",\"\"),\"\")","v":""},null,{"$f":"IFERROR(IF(AND(BVB$3>=$B$5,BVB$3<=$C$5),\"○\",\"\"),\"\")","v":""},null,{"$f":"IFERROR(IF(AND(BVD$3>=$B$5,BVD$3<=$C$5),\"○\",\"\"),\"\")","v":""},null,{"$f":"IFERROR(IF(AND(BVF$3>=$B$5,BVF$3<=$C$5),\"○\",\"\"),\"\")","v":""},null,{"$f":"IFERROR(IF(AND(BVH$3>=$B$5,BVH$3<=$C$5),\"○\",\"\"),\"\")","v":""},null,{"$f":"IFERROR(IF(AND(BVJ$3>=$B$5,BVJ$3<=$C$5),\"○\",\"\"),\"\")","v":""},null,{"$f":"IFERROR(IF(AND(BVL$3>=$B$5,BVL$3<=$C$5),\"○\",\"\"),\"\")","v":""},null,{"$f":"IFERROR(IF(AND(BVN$3>=$B$5,BVN$3<=$C$5),\"○\",\"\"),\"\")","v":""},null,{"$f":"IFERROR(IF(AND(BVP$3>=$B$5,BVP$3<=$C$5),\"○\",\"\"),\"\")","v":""},null,{"$f":"IFERROR(IF(AND(BVR$3>=$B$5,BVR$3<=$C$5),\"○\",\"\"),\"\")","v":""},null,{"$f":"IFERROR(IF(AND(BVT$3>=$B$5,BVT$3<=$C$5),\"○\",\"\"),\"\")","v":""},null,{"$f":"IFERROR(IF(AND(BVV$3>=$B$5,BVV$3<=$C$5),\"○\",\"\"),\"\")","v":""},null,{"$f":"IFERROR(IF(AND(BVX$3>=$B$5,BVX$3<=$C$5),\"○\",\"\"),\"\")","v":""},null,"",null,"",null,"",null,"",null,"",null,"",null,"",null,"",null,"",null,"",null,"",null,{"$f":"IFERROR(IF(AND(BWV$3>=$B$5,BWV$3<=$C$5),\"○\",\"\"),\"\")","v":""},null,{"$f":"SUM(F6:BWW6)","v":{"v":0,"d":"0.00"}},"月",{"$f":"BWX5/D5","v":{"$error":"#DIV/0!"}},{"v":0,"d":"0.00"},{"$f":"QUOTIENT(BXA5,12)","v":0},{"$f":"MOD(BXA5,12)","v":{"v":0,"d":"0.00"}}]
[{"$nulls":6},{"$f":"IF(F5=\"\",\"0\",1/F$22)","v":"0"},null,{"$f":"IF(H5=\"\",\"0\",1/H$22)","v":"0"},null,{"$f":"IF(J5=\"\",\"0\",1/J$22)","v":"0"},null,{"$f":"IF(L5=\"\",\"0\",1/L$22)","v":"0"},null,{"$f":"IF(N5=\"\",\"0\",1/N$22)","v":"0"},null,{"$f":"IF(P5=\"\",\"0\",1/P$22)","v":"0"},null,{"$f":"IF(R5=\"\",\"0\",1/R$22)","v":"0"},null,{"$f":"IF(T5=\"\",\"0\",1/T$22)","v":"0"},null,{"$f":"IF(V5=\"\",\"0\",1/V$22)","v":"0"},null,{"$f":"IF(X5=\"\",\"0\",1/X$22)","v":"0"},null,{"$f":"IF(Z5=\"\",\"0\",1/Z$22)","v":"0"},null,{"$f":"IF(AB5=\"\",\"0\",1/AB$22)","v":"0"},null,{"$f":"IF(AD5=\"\",\"0\",1/AD$22)","v":"0"},null,{"$f":"IF(AF5=\"\",\"0\",1/AF$22)","v":"0"},null,{"$f":"IF(AH5=\"\",\"0\",1/AH$22)","v":"0"},null,{"$f":"IF(AJ5=\"\",\"0\",1/AJ$22)","v":"0"},null,{"$f":"IF(AL5=\"\",\"0\",1/AL$22)","v":"0"},null,{"$f":"IF(AN5=\"\",\"0\",1/AN$22)","v":"0"},null,{"$f":"IF(AP5=\"\",\"0\",1/AP$22)","v":"0"},null,{"$f":"IF(AR5=\"\",\"0\",1/AR$22)","v":"0"},null,{"$f":"IF(AT5=\"\",\"0\",1/AT$22)","v":"0"},null,{"$f":"IF(AV5=\"\",\"0\",1/AV$22)","v":"0"},null,{"$f":"IF(AX5=\"\",\"0\",1/AX$22)","v":"0"},null,{"$f":"IF(AZ5=\"\",\"0\",1/AZ$22)","v":"0"},null,{"$f":"IF(BB5=\"\",\"0\",1/BB$22)","v":"0"},null,{"$f":"IF(BD5=\"\",\"0\",1/BD$22)","v":"0"},null,{"$f":"IF(BF5=\"\",\"0\",1/BF$22)","v":"0"},null,{"$f":"IF(BH5=\"\",\"0\",1/BH$22)","v":"0"},null,{"$f":"IF(BJ5=\"\",\"0\",1/BJ$22)","v":"0"},null,{"$f":"IF(BL5=\"\",\"0\",1/BL$22)","v":"0"},null,{"$f":"IF(BN5=\"\",\"0\",1/BN$22)","v":"0"},null,{"$f":"IF(BP5=\"\",\"0\",1/BP$22)","v":"0"},null,{"$f":"IF(BR5=\"\",\"0\",1/BR$22)","v":"0"},null,{"$f":"IF(BT5=\"\",\"0\",1/BT$22)","v":"0"},null,{"$f":"IF(BV5=\"\",\"0\",1/BV$22)","v":"0"},null,{"$f":"IF(BX5=\"\",\"0\",1/BX$22)","v":"0"},null,{"$f":"IF(BZ5=\"\",\"0\",1/BZ$22)","v":"0"},null,{"$f":"IF(CB5=\"\",\"0\",1/CB$22)","v":"0"},null,{"$f":"IF(CD5=\"\",\"0\",1/CD$22)","v":"0"},null,{"$f":"IF(CF5=\"\",\"0\",1/CF$22)","v":"0"},null,{"$f":"IF(CH5=\"\",\"0\",1/CH$22)","v":"0"},null,{"$f":"IF(CJ5=\"\",\"0\",1/CJ$22)","v":"0"},null,{"$f":"IF(CL5=\"\",\"0\",1/CL$22)","v":"0"},null,{"$f":"IF(CN5=\"\",\"0\",1/CN$22)","v":"0"},null,{"$f":"IF(CP5=\"\",\"0\",1/CP$22)","v":"0"},null,{"$f":"IF(CR5=\"\",\"0\",1/CR$22)","v":"0"},null,{"$f":"IF(CT5=\"\",\"0\",1/CT$22)","v":"0"},null,{"$f":"IF(CV5=\"\",\"0\",1/CV$22)","v":"0"},null,{"$f":"IF(CX5=\"\",\"0\",1/CX$22)","v":"0"},null,{"$f":"IF(CZ5=\"\",\"0\",1/CZ$22)","v":"0"},null,{"$f":"IF(DB5=\"\",\"0\",1/DB$22)","v":"0"},null,{"$f":"IF(DD5=\"\",\"0\",1/DD$22)","v":"0"},null,{"$f":"IF(DF5=\"\",\"0\",1/DF$22)","v":"0"},null,{"$f":"IF(DH5=\"\",\"0\",1/DH$22)","v":"0"},null,{"$f":"IF(DJ5=\"\",\"0\",1/DJ$22)","v":"0"},null,{"$f":"IF(DL5=\"\",\"0\",1/DL$22)","v":"0"},null,{"$f":"IF(DN5=\"\",\"0\",1/DN$22)","v":"0"},null,{"$f":"IF(DP5=\"\",\"0\",1/DP$22)","v":"0"},null,{"$f":"IF(DR5=\"\",\"0\",1/DR$22)","v":"0"},null,{"$f":"IF(DT5=\"\",\"0\",1/DT$22)","v":"0"},null,{"$f":"IF(DV5=\"\",\"0\",1/DV$22)","v":"0"},null,{"$f":"IF(DX5=\"\",\"0\",1/DX$22)","v":"0"},null,{"$f":"IF(DZ5=\"\",\"0\",1/DZ$22)","v":"0"},null,{"$f":"IF(EB5=\"\",\"0\",1/EB$22)","v":"0"},null,{"$f":"IF(ED5=\"\",\"0\",1/ED$22)","v":"0"},null,{"$f":"IF(EF5=\"\",\"0\",1/EF$22)","v":"0"},null,{"$f":"IF(EH5=\"\",\"0\",1/EH$22)","v":"0"},null,{"$f":"IF(EJ5=\"\",\"0\",1/EJ$22)","v":"0"},null,{"$f":"IF(EL5=\"\",\"0\",1/EL$22)","v":"0"},null,{"$f":"IF(EN5=\"\",\"0\",1/EN$22)","v":"0"},null,{"$f":"IF(EP5=\"\",\"0\",1/EP$22)","v":"0"},null,{"$f":"IF(ER5=\"\",\"0\",1/ER$22)","v":"0"},null,{"$f":"IF(ET5=\"\",\"0\",1/ET$22)","v":"0"},null,{"$f":"IF(EV5=\"\",\"0\",1/EV$22)","v":"0"},null,{"$f":"IF(EX5=\"\",\"0\",1/EX$22)","v":"0"},null,{"$f":"IF(EZ5=\"\",\"0\",1/EZ$22)","v":"0"},null,{"$f":"IF(FB5=\"\",\"0\",1/FB$22)","v":"0"},null,{"$f":"IF(FD5=\"\",\"0\",1/FD$22)","v":"0"},null,{"$f":"IF(FF5=\"\",\"0\",1/FF$22)","v":"0"},null,{"$f":"IF(FH5=\"\",\"0\",1/FH$22)","v":"0"},null,{"$f":"IF(FJ5=\"\",\"0\",1/FJ$22)","v":"0"},null,{"$f":"IF(FL5=\"\",\"0\",1/FL$22)","v":"0"},null,{"$f":"IF(FN5=\"\",\"0\",1/FN$22)","v":"0"},null,{"$f":"IF(FP5=\"\",\"0\",1/FP$22)","v":"0"},null,{"$f":"IF(FR5=\"\",\"0\",1/FR$22)","v":"0"},null,{"$f":"IF(FT5=\"\",\"0\",1/FT$22)","v":"0"},null,{"$f":"IF(FV5=\"\",\"0\",1/FV$22)","v":"0"},null,{"$f":"IF(FX5=\"\",\"0\",1/FX$22)","v":"0"},null,{"$f":"IF(FZ5=\"\",\"0\",1/FZ$22)","v":"0"},null,{"$f":"IF(GB5=\"\",\"0\",1/GB$22)","v":"0"},null,{"$f":"IF(GD5=\"\",\"0\",1/GD$22)","v":"0"},null,{"$f":"IF(GF5=\"\",\"0\",1/GF$22)","v":"0"},null,{"$f":"IF(GH5=\"\",\"0\",1/GH$22)","v":"0"},null,{"$f":"IF(GJ5=\"\",\"0\",1/GJ$22)","v":"0"},null,{"$f":"IF(GL5=\"\",\"0\",1/GL$22)","v":"0"},null,{"$f":"IF(GN5=\"\",\"0\",1/GN$22)","v":"0"},null,{"$f":"IF(GP5=\"\",\"0\",1/GP$22)","v":"0"},null,{"$f":"IF(GR5=\"\",\"0\",1/GR$22)","v":"0"},null,{"$f":"IF(GT5=\"\",\"0\",1/GT$22)","v":"0"},null,{"$f":"IF(GV5=\"\",\"0\",1/GV$22)","v":"0"},null,{"$f":"IF(GX5=\"\",\"0\",1/GX$22)","v":"0"},null,{"$f":"IF(GZ5=\"\",\"0\",1/GZ$22)","v":"0"},null,{"$f":"IF(HB5=\"\",\"0\",1/HB$22)","v":"0"},null,{"$f":"IF(HD5=\"\",\"0\",1/HD$22)","v":"0"},null,{"$f":"IF(HF5=\"\",\"0\",1/HF$22)","v":"0"},null,{"$f":"IF(HH5=\"\",\"0\",1/HH$22)","v":"0"},null,{"$f":"IF(HJ5=\"\",\"0\",1/HJ$22)","v":"0"},null,{"$f":"IF(HL5=\"\",\"0\",1/HL$22)","v":"0"},null,{"$f":"IF(HN5=\"\",\"0\",1/HN$22)","v":"0"},null,{"$f":"IF(HP5=\"\",\"0\",1/HP$22)","v":"0"},null,{"$f":"IF(HR5=\"\",\"0\",1/HR$22)","v":"0"},null,{"$f":"IF(HT5=\"\",\"0\",1/HT$22)","v":"0"},null,{"$f":"IF(HV5=\"\",\"0\",1/HV$22)","v":"0"},null,{"$f":"IF(HX5=\"\",\"0\",1/HX$22)","v":"0"},null,{"$f":"IF(HZ5=\"\",\"0\",1/HZ$22)","v":"0"},null,{"$f":"IF(IB5=\"\",\"0\",1/IB$22)","v":"0"},null,{"$f":"IF(ID5=\"\",\"0\",1/ID$22)","v":"0"},null,{"$f":"IF(IF5=\"\",\"0\",1/IF$22)","v":"0"},null,{"$f":"IF(IH5=\"\",\"0\",1/IH$22)","v":"0"},null,{"$f":"IF(IJ5=\"\",\"0\",1/IJ$22)","v":"0"},null,{"$f":"IF(IL5=\"\",\"0\",1/IL$22)","v":"0"},null,{"$f":"IF(IN5=\"\",\"0\",1/IN$22)","v":"0"},null,{"$f":"IF(IP5=\"\",\"0\",1/IP$22)","v":"0"},null,{"$f":"IF(IR5=\"\",\"0\",1/IR$22)","v":"0"},null,{"$f":"IF(IT5=\"\",\"0\",1/IT$22)","v":"0"},null,{"$f":"IF(IV5=\"\",\"0\",1/IV$22)","v":"0"},null,{"$f":"IF(IX5=\"\",\"0\",1/IX$22)","v":"0"},null,{"$f":"IF(IZ5=\"\",\"0\",1/IZ$22)","v":"0"},null,{"$f":"IF(JB5=\"\",\"0\",1/JB$22)","v":"0"},null,{"$f":"IF(JD5=\"\",\"0\",1/JD$22)","v":"0"},null,{"$f":"IF(JF5=\"\",\"0\",1/JF$22)","v":"0"},null,{"$f":"IF(JH5=\"\",\"0\",1/JH$22)","v":"0"},null,{"$f":"IF(JJ5=\"\",\"0\",1/JJ$22)","v":"0"},null,{"$f":"IF(JL5=\"\",\"0\",1/JL$22)","v":"0"},null,{"$f":"IF(JN5=\"\",\"0\",1/JN$22)","v":"0"},null,{"$f":"IF(JP5=\"\",\"0\",1/JP$22)","v":"0"},null,{"$f":"IF(JR5=\"\",\"0\",1/JR$22)","v":"0"},null,{"$f":"IF(JT5=\"\",\"0\",1/JT$22)","v":"0"},null,{"$f":"IF(JV5=\"\",\"0\",1/JV$22)","v":"0"},null,{"$f":"IF(JX5=\"\",\"0\",1/JX$22)","v":"0"},null,{"$f":"IF(JZ5=\"\",\"0\",1/JZ$22)","v":"0"},null,{"$f":"IF(KB5=\"\",\"0\",1/KB$22)","v":"0"},null,{"$f":"IF(KD5=\"\",\"0\",1/KD$22)","v":"0"},null,{"$f":"IF(KF5=\"\",\"0\",1/KF$22)","v":"0"},null,{"$f":"IF(KH5=\"\",\"0\",1/KH$22)","v":"0"},null,{"$f":"IF(KJ5=\"\",\"0\",1/KJ$22)","v":"0"},null,{"$f":"IF(KL5=\"\",\"0\",1/KL$22)","v":"0"},null,{"$f":"IF(KN5=\"\",\"0\",1/KN$22)","v":"0"},null,{"$f":"IF(KP5=\"\",\"0\",1/KP$22)","v":"0"},null,{"$f":"IF(KR5=\"\",\"0\",1/KR$22)","v":"0"},null,{"$f":"IF(KT5=\"\",\"0\",1/KT$22)","v":"0"},null,{"$f":"IF(KV5=\"\",\"0\",1/KV$22)","v":"0"},null,{"$f":"IF(KX5=\"\",\"0\",1/KX$22)","v":"0"},null,{"$f":"IF(KZ5=\"\",\"0\",1/KZ$22)","v":"0"},null,{"$f":"IF(LB5=\"\",\"0\",1/LB$22)","v":"0"},null,{"$f":"IF(LD5=\"\",\"0\",1/LD$22)","v":"0"},null,{"$f":"IF(LF5=\"\",\"0\",1/LF$22)","v":"0"},null,{"$f":"IF(LH5=\"\",\"0\",1/LH$22)","v":"0"},null,{"$f":"IF(LJ5=\"\",\"0\",1/LJ$22)","v":"0"},null,{"$f":"IF(LL5=\"\",\"0\",1/LL$22)","v":"0"},null,{"$f":"IF(LN5=\"\",\"0\",1/LN$22)","v":"0"},null,{"$f":"IF(LP5=\"\",\"0\",1/LP$22)","v":"0"},null,{"$f":"IF(LR5=\"\",\"0\",1/LR$22)","v":"0"},null,{"$f":"IF(LT5=\"\",\"0\",1/LT$22)","v":"0"},null,{"$f":"IF(LV5=\"\",\"0\",1/LV$22)","v":"0"},null,{"$f":"IF(LX5=\"\",\"0\",1/LX$22)","v":"0"},null,{"$f":"IF(LZ5=\"\",\"0\",1/LZ$22)","v":"0"},null,{"$f":"IF(MB5=\"\",\"0\",1/MB$22)","v":"0"},null,{"$f":"IF(MD5=\"\",\"0\",1/MD$22)","v":"0"},null,{"$f":"IF(MF5=\"\",\"0\",1/MF$22)","v":"0"},null,{"$f":"IF(MH5=\"\",\"0\",1/MH$22)","v":"0"},null,{"$f":"IF(MJ5=\"\",\"0\",1/MJ$22)","v":"0"},null,{"$f":"IF(ML5=\"\",\"0\",1/ML$22)","v":"0"},null,{"$f":"IF(MN5=\"\",\"0\",1/MN$22)","v":"0"},null,{"$f":"IF(MP5=\"\",\"0\",1/MP$22)","v":"0"},null,{"$f":"IF(MR5=\"\",\"0\",1/MR$22)","v":"0"},null,{"$f":"IF(MT5=\"\",\"0\",1/MT$22)","v":"0"},null,{"$f":"IF(MV5=\"\",\"0\",1/MV$22)","v":"0"},null,{"$f":"IF(MX5=\"\",\"0\",1/MX$22)","v":"0"},null,{"$f":"IF(MZ5=\"\",\"0\",1/MZ$22)","v":"0"},null,{"$f":"IF(NB5=\"\",\"0\",1/NB$22)","v":"0"},null,{"$f":"IF(ND5=\"\",\"0\",1/ND$22)","v":"0"},null,{"$f":"IF(NF5=\"\",\"0\",1/NF$22)","v":"0"},null,{"$f":"IF(NH5=\"\",\"0\",1/NH$22)","v":"0"},null,{"$f":"IF(NJ5=\"\",\"0\",1/NJ$22)","v":"0"},null,{"$f":"IF(NL5=\"\",\"0\",1/NL$22)","v":"0"},null,{"$f":"IF(NN5=\"\",\"0\",1/NN$22)","v":"0"},null,{"$f":"IF(NP5=\"\",\"0\",1/NP$22)","v":"0"},null,{"$f":"IF(NR5=\"\",\"0\",1/NR$22)","v":"0"},null,{"$f":"IF(NT5=\"\",\"0\",1/NT$22)","v":"0"},null,{"$f":"IF(NV5=\"\",\"0\",1/NV$22)","v":"0"},null,{"$f":"IF(NX5=\"\",\"0\",1/NX$22)","v":"0"},null,{"$f":"IF(NZ5=\"\",\"0\",1/NZ$22)","v":"0"},null,{"$f":"IF(OB5=\"\",\"0\",1/OB$22)","v":"0"},null,{"$f":"IF(OD5=\"\",\"0\",1/OD$22)","v":"0"},null,{"$f":"IF(OF5=\"\",\"0\",1/OF$22)","v":"0"},null,{"$f":"IF(OH5=\"\",\"0\",1/OH$22)","v":"0"},null,{"$f":"IF(OJ5=\"\",\"0\",1/OJ$22)","v":"0"},null,{"$f":"IF(OL5=\"\",\"0\",1/OL$22)","v":"0"},null,{"$f":"IF(ON5=\"\",\"0\",1/ON$22)","v":"0"},null,{"$f":"IF(OP5=\"\",\"0\",1/OP$22)","v":"0"},null,{"$f":"IF(OR5=\"\",\"0\",1/OR$22)","v":"0"},null,{"$f":"IF(OT5=\"\",\"0\",1/OT$22)","v":"0"},null,{"$f":"IF(OV5=\"\",\"0\",1/OV$22)","v":"0"},null,{"$f":"IF(OX5=\"\",\"0\",1/OX$22)","v":"0"},null,{"$f":"IF(OZ5=\"\",\"0\",1/OZ$22)","v":"0"},null,{"$f":"IF(PB5=\"\",\"0\",1/PB$22)","v":"0"},null,{"$f":"IF(PD5=\"\",\"0\",1/PD$22)","v":"0"},null,{"$f":"IF(PF5=\"\",\"0\",1/PF$22)","v":"0"},null,{"$f":"IF(PH5=\"\",\"0\",1/PH$22)","v":"0"},null,{"$f":"IF(PJ5=\"\",\"0\",1/PJ$22)","v":"0"},null,{"$f":"IF(PL5=\"\",\"0\",1/PL$22)","v":"0"},null,{"$f":"IF(PN5=\"\",\"0\",1/PN$22)","v":"0"},null,{"$f":"IF(PP5=\"\",\"0\",1/PP$22)","v":"0"},null,{"$f":"IF(PR5=\"\",\"0\",1/PR$22)","v":"0"},null,{"$f":"IF(PT5=\"\",\"0\",1/PT$22)","v":"0"},null,{"$f":"IF(PV5=\"\",\"0\",1/PV$22)","v":"0"},null,{"$f":"IF(PX5=\"\",\"0\",1/PX$22)","v":"0"},null,{"$f":"IF(PZ5=\"\",\"0\",1/PZ$22)","v":"0"},null,{"$f":"IF(QB5=\"\",\"0\",1/QB$22)","v":"0"},null,{"$f":"IF(QD5=\"\",\"0\",1/QD$22)","v":"0"},null,{"$f":"IF(QF5=\"\",\"0\",1/QF$22)","v":"0"},null,{"$f":"IF(QH5=\"\",\"0\",1/QH$22)","v":"0"},null,{"$f":"IF(QJ5=\"\",\"0\",1/QJ$22)","v":"0"},null,{"$f":"IF(QL5=\"\",\"0\",1/QL$22)","v":"0"},null,{"$f":"IF(QN5=\"\",\"0\",1/QN$22)","v":"0"},null,{"$f":"IF(QP5=\"\",\"0\",1/QP$22)","v":"0"},null,{"$f":"IF(QR5=\"\",\"0\",1/QR$22)","v":"0"},null,{"$f":"IF(QT5=\"\",\"0\",1/QT$22)","v":"0"},null,{"$f":"IF(QV5=\"\",\"0\",1/QV$22)","v":"0"},null,{"$f":"IF(QX5=\"\",\"0\",1/QX$22)","v":"0"},null,{"$f":"IF(QZ5=\"\",\"0\",1/QZ$22)","v":"0"},null,{"$f":"IF(RB5=\"\",\"0\",1/RB$22)","v":"0"},null,{"$f":"IF(RD5=\"\",\"0\",1/RD$22)","v":"0"},null,{"$f":"IF(RF5=\"\",\"0\",1/RF$22)","v":"0"},null,{"$f":"IF(RH5=\"\",\"0\",1/RH$22)","v":"0"},null,{"$f":"IF(RJ5=\"\",\"0\",1/RJ$22)","v":"0"},null,{"$f":"IF(RL5=\"\",\"0\",1/RL$22)","v":"0"},null,{"$f":"IF(RN5=\"\",\"0\",1/RN$22)","v":"0"},null,{"$f":"IF(RP5=\"\",\"0\",1/RP$22)","v":"0"},null,{"$f":"IF(RR5=\"\",\"0\",1/RR$22)","v":"0"},null,{"$f":"IF(RT5=\"\",\"0\",1/RT$22)","v":"0"},null,{"$f":"IF(RV5=\"\",\"0\",1/RV$22)","v":"0"},null,{"$f":"IF(RX5=\"\",\"0\",1/RX$22)","v":"0"},null,{"$f":"IF(RZ5=\"\",\"0\",1/RZ$22)","v":"0"},null,{"$f":"IF(SB5=\"\",\"0\",1/SB$22)","v":"0"},null,{"$f":"IF(SD5=\"\",\"0\",1/SD$22)","v":"0"},null,{"$f":"IF(SF5=\"\",\"0\",1/SF$22)","v":"0"},null,{"$f":"IF(SH5=\"\",\"0\",1/SH$22)","v":"0"},null,{"$f":"IF(SJ5=\"\",\"0\",1/SJ$22)","v":"0"},null,{"$f":"IF(SL5=\"\",\"0\",1/SL$22)","v":"0"},null,{"$f":"IF(SN5=\"\",\"0\",1/SN$22)","v":"0"},null,{"$f":"IF(SP5=\"\",\"0\",1/SP$22)","v":"0"},null,{"$f":"IF(SR5=\"\",\"0\",1/SR$22)","v":"0"},null,{"$f":"IF(ST5=\"\",\"0\",1/ST$22)","v":"0"},null,{"$f":"IF(SV5=\"\",\"0\",1/SV$22)","v":"0"},null,{"$f":"IF(SX5=\"\",\"0\",1/SX$22)","v":"0"},null,{"$f":"IF(SZ5=\"\",\"0\",1/SZ$22)","v":"0"},null,{"$f":"IF(TB5=\"\",\"0\",1/TB$22)","v":"0"},null,{"$f":"IF(TD5=\"\",\"0\",1/TD$22)","v":"0"},null,{"$f":"IF(TF5=\"\",\"0\",1/TF$22)","v":"0"},null,{"$f":"IF(TH5=\"\",\"0\",1/TH$22)","v":"0"},null,{"$f":"IF(TJ5=\"\",\"0\",1/TJ$22)","v":"0"},null,{"$f":"IF(TL5=\"\",\"0\",1/TL$22)","v":"0"},null,{"$f":"IF(TN5=\"\",\"0\",1/TN$22)","v":"0"},null,{"$f":"IF(TP5=\"\",\"0\",1/TP$22)","v":"0"},null,{"$f":"IF(TR5=\"\",\"0\",1/TR$22)","v":"0"},null,{"$f":"IF(TT5=\"\",\"0\",1/TT$22)","v":"0"},null,{"$f":"IF(TV5=\"\",\"0\",1/TV$22)","v":"0"},null,{"$f":"IF(TX5=\"\",\"0\",1/TX$22)","v":"0"},null,{"$f":"IF(TZ5=\"\",\"0\",1/TZ$22)","v":"0"},null,{"$f":"IF(UB5=\"\",\"0\",1/UB$22)","v":"0"},null,{"$f":"IF(UD5=\"\",\"0\",1/UD$22)","v":"0"},null,{"$f":"IF(UF5=\"\",\"0\",1/UF$22)","v":"0"},null,{"$f":"IF(UH5=\"\",\"0\",1/UH$22)","v":"0"},null,{"$f":"IF(UJ5=\"\",\"0\",1/UJ$22)","v":"0"},null,{"$f":"IF(UL5=\"\",\"0\",1/UL$22)","v":"0"},null,{"$f":"IF(UN5=\"\",\"0\",1/UN$22)","v":"0"},null,{"$f":"IF(UP5=\"\",\"0\",1/UP$22)","v":"0"},null,{"$f":"IF(UR5=\"\",\"0\",1/UR$22)","v":"0"},null,{"$f":"IF(UT5=\"\",\"0\",1/UT$22)","v":"0"},null,{"$f":"IF(UV5=\"\",\"0\",1/UV$22)","v":"0"},null,{"$f":"IF(UX5=\"\",\"0\",1/UX$22)","v":"0"},null,{"$f":"IF(UZ5=\"\",\"0\",1/UZ$22)","v":"0"},null,{"$f":"IF(VB5=\"\",\"0\",1/VB$22)","v":"0"},null,{"$f":"IF(VD5=\"\",\"0\",1/VD$22)","v":"0"},null,{"$f":"IF(VF5=\"\",\"0\",1/VF$22)","v":"0"},null,{"$f":"IF(VH5=\"\",\"0\",1/VH$22)","v":"0"},null,{"$f":"IF(VJ5=\"\",\"0\",1/VJ$22)","v":"0"},null,{"$f":"IF(VL5=\"\",\"0\",1/VL$22)","v":"0"},null,{"$f":"IF(VN5=\"\",\"0\",1/VN$22)","v":"0"},null,{"$f":"IF(VP5=\"\",\"0\",1/VP$22)","v":"0"},null,{"$f":"IF(VR5=\"\",\"0\",1/VR$22)","v":"0"},null,{"$f":"IF(VT5=\"\",\"0\",1/VT$22)","v":"0"},null,{"$f":"IF(VV5=\"\",\"0\",1/VV$22)","v":"0"},null,{"$f":"IF(VX5=\"\",\"0\",1/VX$22)","v":"0"},null,{"$f":"IF(VZ5=\"\",\"0\",1/VZ$22)","v":"0"},null,{"$f":"IF(WB5=\"\",\"0\",1/WB$22)","v":"0"},null,{"$f":"IF(WD5=\"\",\"0\",1/WD$22)","v":"0"},null,{"$f":"IF(WF5=\"\",\"0\",1/WF$22)","v":"0"},null,{"$f":"IF(WH5=\"\",\"0\",1/WH$22)","v":"0"},null,{"$f":"IF(WJ5=\"\",\"0\",1/WJ$22)","v":"0"},null,{"$f":"IF(WL5=\"\",\"0\",1/WL$22)","v":"0"},null,{"$f":"IF(WN5=\"\",\"0\",1/WN$22)","v":"0"},null,{"$f":"IF(WP5=\"\",\"0\",1/WP$22)","v":"0"},null,{"$f":"IF(WR5=\"\",\"0\",1/WR$22)","v":"0"},null,{"$f":"IF(WT5=\"\",\"0\",1/WT$22)","v":"0"},null,{"$f":"IF(WV5=\"\",\"0\",1/WV$22)","v":"0"},null,{"$f":"IF(WX5=\"\",\"0\",1/WX$22)","v":"0"},null,{"$f":"IF(WZ5=\"\",\"0\",1/WZ$22)","v":"0"},null,{"$f":"IF(XB5=\"\",\"0\",1/XB$22)","v":"0"},null,{"$f":"IF(XD5=\"\",\"0\",1/XD$22)","v":"0"},null,{"$f":"IF(XF5=\"\",\"0\",1/XF$22)","v":"0"},null,{"$f":"IF(XH5=\"\",\"0\",1/XH$22)","v":"0"},null,{"$f":"IF(XJ5=\"\",\"0\",1/XJ$22)","v":"0"},null,{"$f":"IF(XL5=\"\",\"0\",1/XL$22)","v":"0"},null,{"$f":"IF(XN5=\"\",\"0\",1/XN$22)","v":"0"},null,{"$f":"IF(XP5=\"\",\"0\",1/XP$22)","v":"0"},null,{"$f":"IF(XR5=\"\",\"0\",1/XR$22)","v":"0"},null,{"$f":"IF(XT5=\"\",\"0\",1/XT$22)","v":"0"},null,{"$f":"IF(XV5=\"\",\"0\",1/XV$22)","v":"0"},null,{"$f":"IF(XX5=\"\",\"0\",1/XX$22)","v":"0"},null,{"$f":"IF(XZ5=\"\",\"0\",1/XZ$22)","v":"0"},null,{"$f":"IF(YB5=\"\",\"0\",1/YB$22)","v":"0"},null,{"$f":"IF(YD5=\"\",\"0\",1/YD$22)","v":"0"},null,{"$f":"IF(YF5=\"\",\"0\",1/YF$22)","v":"0"},null,{"$f":"IF(YH5=\"\",\"0\",1/YH$22)","v":"0"},null,{"$f":"IF(YJ5=\"\",\"0\",1/YJ$22)","v":"0"},null,{"$f":"IF(YL5=\"\",\"0\",1/YL$22)","v":"0"},null,{"$f":"IF(YN5=\"\",\"0\",1/YN$22)","v":"0"},null,{"$f":"IF(YP5=\"\",\"0\",1/YP$22)","v":"0"},null,{"$f":"IF(YR5=\"\",\"0\",1/YR$22)","v":"0"},null,{"$f":"IF(YT5=\"\",\"0\",1/YT$22)","v":"0"},null,{"$f":"IF(YV5=\"\",\"0\",1/YV$22)","v":"0"},null,{"$f":"IF(YX5=\"\",\"0\",1/YX$22)","v":"0"},null,{"$f":"IF(YZ5=\"\",\"0\",1/YZ$22)","v":"0"},null,{"$f":"IF(ZB5=\"\",\"0\",1/ZB$22)","v":"0"},null,{"$f":"IF(ZD5=\"\",\"0\",1/ZD$22)","v":"0"},null,{"$f":"IF(ZF5=\"\",\"0\",1/ZF$22)","v":"0"},null,{"$f":"IF(ZH5=\"\",\"0\",1/ZH$22)","v":"0"},null,{"$f":"IF(ZJ5=\"\",\"0\",1/ZJ$22)","v":"0"},null,{"$f":"IF(ZL5=\"\",\"0\",1/ZL$22)","v":"0"},null,{"$f":"IF(ZN5=\"\",\"0\",1/ZN$22)","v":"0"},null,{"$f":"IF(ZP5=\"\",\"0\",1/ZP$22)","v":"0"},null,{"$f":"IF(ZR5=\"\",\"0\",1/ZR$22)","v":"0"},null,{"$f":"IF(ZT5=\"\",\"0\",1/ZT$22)","v":"0"},null,{"$f":"IF(ZV5=\"\",\"0\",1/ZV$22)","v":"0"},null,{"$f":"IF(ZX5=\"\",\"0\",1/ZX$22)","v":"0"},null,{"$f":"IF(ZZ5=\"\",\"0\",1/ZZ$22)","v":"0"},null,{"$f":"IF(AAB5=\"\",\"0\",1/AAB$22)","v":"0"},null,{"$f":"IF(AAD5=\"\",\"0\",1/AAD$22)","v":"0"},null,{"$f":"IF(AAF5=\"\",\"0\",1/AAF$22)","v":"0"},null,{"$f":"IF(AAH5=\"\",\"0\",1/AAH$22)","v":"0"},null,{"$f":"IF(AAJ5=\"\",\"0\",1/AAJ$22)","v":"0"},null,{"$f":"IF(AAL5=\"\",\"0\",1/AAL$22)","v":"0"},null,{"$f":"IF(AAN5=\"\",\"0\",1/AAN$22)","v":"0"},null,{"$f":"IF(AAP5=\"\",\"0\",1/AAP$22)","v":"0"},null,{"$f":"IF(AAR5=\"\",\"0\",1/AAR$22)","v":"0"},null,{"$f":"IF(AAT5=\"\",\"0\",1/AAT$22)","v":"0"},null,{"$f":"IF(AAV5=\"\",\"0\",1/AAV$22)","v":"0"},null,{"$f":"IF(AAX5=\"\",\"0\",1/AAX$22)","v":"0"},null,{"$f":"IF(AAZ5=\"\",\"0\",1/AAZ$22)","v":"0"},null,{"$f":"IF(ABB5=\"\",\"0\",1/ABB$22)","v":"0"},null,{"$f":"IF(ABD5=\"\",\"0\",1/ABD$22)","v":"0"},null,{"$f":"IF(ABF5=\"\",\"0\",1/ABF$22)","v":"0"},null,{"$f":"IF(ABH5=\"\",\"0\",1/ABH$22)","v":"0"},null,{"$f":"IF(ABJ5=\"\",\"0\",1/ABJ$22)","v":"0"},null,{"$f":"IF(ABL5=\"\",\"0\",1/ABL$22)","v":"0"},null,{"$f":"IF(ABN5=\"\",\"0\",1/ABN$22)","v":"0"},null,{"$f":"IF(ABP5=\"\",\"0\",1/ABP$22)","v":"0"},null,{"$f":"IF(ABR5=\"\",\"0\",1/ABR$22)","v":"0"},null,{"$f":"IF(ABT5=\"\",\"0\",1/ABT$22)","v":"0"},null,{"$f":"IF(ABV5=\"\",\"0\",1/ABV$22)","v":"0"},null,{"$f":"IF(ABX5=\"\",\"0\",1/ABX$22)","v":"0"},null,{"$f":"IF(ABZ5=\"\",\"0\",1/ABZ$22)","v":"0"},null,{"$f":"IF(ACB5=\"\",\"0\",1/ACB$22)","v":"0"},null,{"$f":"IF(ACD5=\"\",\"0\",1/ACD$22)","v":"0"},null,{"$f":"IF(ACF5=\"\",\"0\",1/ACF$22)","v":"0"},null,{"$f":"IF(ACH5=\"\",\"0\",1/ACH$22)","v":"0"},null,{"$f":"IF(ACJ5=\"\",\"0\",1/ACJ$22)","v":"0"},null,{"$f":"IF(ACL5=\"\",\"0\",1/ACL$22)","v":"0"},null,{"$f":"IF(ACN5=\"\",\"0\",1/ACN$22)","v":"0"},null,{"$f":"IF(ACP5=\"\",\"0\",1/ACP$22)","v":"0"},null,{"$f":"IF(ACR5=\"\",\"0\",1/ACR$22)","v":"0"},null,{"$f":"IF(ACT5=\"\",\"0\",1/ACT$22)","v":"0"},null,{"$f":"IF(ACV5=\"\",\"0\",1/ACV$22)","v":"0"},null,{"$f":"IF(ACX5=\"\",\"0\",1/ACX$22)","v":"0"},null,{"$f":"IF(ACZ5=\"\",\"0\",1/ACZ$22)","v":"0"},null,{"$f":"IF(ADB5=\"\",\"0\",1/ADB$22)","v":"0"},null,{"$f":"IF(ADD5=\"\",\"0\",1/ADD$22)","v":"0"},null,{"$f":"IF(ADF5=\"\",\"0\",1/ADF$22)","v":"0"},null,{"$f":"IF(ADH5=\"\",\"0\",1/ADH$22)","v":"0"},null,{"$f":"IF(ADJ5=\"\",\"0\",1/ADJ$22)","v":"0"},null,{"$f":"IF(ADL5=\"\",\"0\",1/ADL$22)","v":"0"},null,{"$f":"IF(ADN5=\"\",\"0\",1/ADN$22)","v":"0"},null,{"$f":"IF(ADP5=\"\",\"0\",1/ADP$22)","v":"0"},null,{"$f":"IF(ADR5=\"\",\"0\",1/ADR$22)","v":"0"},null,{"$f":"IF(ADT5=\"\",\"0\",1/ADT$22)","v":"0"},null,{"$f":"IF(ADV5=\"\",\"0\",1/ADV$22)","v":"0"},null,{"$f":"IF(ADX5=\"\",\"0\",1/ADX$22)","v":"0"},null,{"$f":"IF(ADZ5=\"\",\"0\",1/ADZ$22)","v":"0"},null,{"$f":"IF(AEB5=\"\",\"0\",1/AEB$22)","v":"0"},null,{"$f":"IF(AED5=\"\",\"0\",1/AED$22)","v":"0"},null,{"$f":"IF(AEF5=\"\",\"0\",1/AEF$22)","v":"0"},null,{"$f":"IF(AEH5=\"\",\"0\",1/AEH$22)","v":"0"},null,{"$f":"IF(AEJ5=\"\",\"0\",1/AEJ$22)","v":"0"},null,{"$f":"IF(AEL5=\"\",\"0\",1/AEL$22)","v":"0"},null,{"$f":"IF(AEN5=\"\",\"0\",1/AEN$22)","v":"0"},null,{"$f":"IF(AEP5=\"\",\"0\",1/AEP$22)","v":"0"},null,{"$f":"IF(AER5=\"\",\"0\",1/AER$22)","v":"0"},null,{"$f":"IF(AET5=\"\",\"0\",1/AET$22)","v":"0"},null,{"$f":"IF(AEV5=\"\",\"0\",1/AEV$22)","v":"0"},null,{"$f":"IF(AEX5=\"\",\"0\",1/AEX$22)","v":"0"},null,{"$f":"IF(AEZ5=\"\",\"0\",1/AEZ$22)","v":"0"},null,{"$f":"IF(AFB5=\"\",\"0\",1/AFB$22)","v":"0"},null,{"$f":"IF(AFD5=\"\",\"0\",1/AFD$22)","v":"0"},null,{"$f":"IF(AFF5=\"\",\"0\",1/AFF$22)","v":"0"},null,{"$f":"IF(AFH5=\"\",\"0\",1/AFH$22)","v":"0"},null,{"$f":"IF(AFJ5=\"\",\"0\",1/AFJ$22)","v":"0"},null,{"$f":"IF(AFL5=\"\",\"0\",1/AFL$22)","v":"0"},null,{"$f":"IF(AFN5=\"\",\"0\",1/AFN$22)","v":"0"},null,{"$f":"IF(AFP5=\"\",\"0\",1/AFP$22)","v":"0"},null,{"$f":"IF(AFR5=\"\",\"0\",1/AFR$22)","v":"0"},null,{"$f":"IF(AFT5=\"\",\"0\",1/AFT$22)","v":"0"},null,{"$f":"IF(AFV5=\"\",\"0\",1/AFV$22)","v":"0"},null,{"$f":"IF(AFX5=\"\",\"0\",1/AFX$22)","v":"0"},null,{"$f":"IF(AFZ5=\"\",\"0\",1/AFZ$22)","v":"0"},null,{"$f":"IF(AGB5=\"\",\"0\",1/AGB$22)","v":"0"},null,{"$f":"IF(AGD5=\"\",\"0\",1/AGD$22)","v":"0"},null,{"$f":"IF(AGF5=\"\",\"0\",1/AGF$22)","v":"0"},null,{"$f":"IF(AGH5=\"\",\"0\",1/AGH$22)","v":"0"},null,{"$f":"IF(AGJ5=\"\",\"0\",1/AGJ$22)","v":"0"},null,{"$f":"IF(AGL5=\"\",\"0\",1/AGL$22)","v":"0"},null,{"$f":"IF(AGN5=\"\",\"0\",1/AGN$22)","v":"0"},null,{"$f":"IF(AGP5=\"\",\"0\",1/AGP$22)","v":"0"},null,{"$f":"IF(AGR5=\"\",\"0\",1/AGR$22)","v":"0"},null,{"$f":"IF(AGT5=\"\",\"0\",1/AGT$22)","v":"0"},null,{"$f":"IF(AGV5=\"\",\"0\",1/AGV$22)","v":"0"},null,{"$f":"IF(AGX5=\"\",\"0\",1/AGX$22)","v":"0"},null,{"$f":"IF(AGZ5=\"\",\"0\",1/AGZ$22)","v":"0"},null,{"$f":"IF(AHB5=\"\",\"0\",1/AHB$22)","v":"0"},null,{"$f":"IF(AHD5=\"\",\"0\",1/AHD$22)","v":"0"},null,{"$f":"IF(AHF5=\"\",\"0\",1/AHF$22)","v":"0"},null,{"$f":"IF(AHH5=\"\",\"0\",1/AHH$22)","v":"0"},null,{"$f":"IF(AHJ5=\"\",\"0\",1/AHJ$22)","v":"0"},null,{"$f":"IF(AHL5=\"\",\"0\",1/AHL$22)","v":"0"},null,{"$f":"IF(AHN5=\"\",\"0\",1/AHN$22)","v":"0"},null,{"$f":"IF(AHP5=\"\",\"0\",1/AHP$22)","v":"0"},null,{"$f":"IF(AHR5=\"\",\"0\",1/AHR$22)","v":"0"},null,{"$f":"IF(AHT5=\"\",\"0\",1/AHT$22)","v":"0"},null,{"$f":"IF(AHV5=\"\",\"0\",1/AHV$22)","v":"0"},null,{"$f":"IF(AHX5=\"\",\"0\",1/AHX$22)","v":"0"},null,{"$f":"IF(AHZ5=\"\",\"0\",1/AHZ$22)","v":"0"},null,{"$f":"IF(AIB5=\"\",\"0\",1/AIB$22)","v":"0"},null,{"$f":"IF(AID5=\"\",\"0\",1/AID$22)","v":"0"},null,{"$f":"IF(AIF5=\"\",\"0\",1/AIF$22)","v":"0"},null,{"$f":"IF(AIH5=\"\",\"0\",1/AIH$22)","v":"0"},null,{"$f":"IF(AIJ5=\"\",\"0\",1/AIJ$22)","v":"0"},null,{"$f":"IF(AIL5=\"\",\"0\",1/AIL$22)","v":"0"},null,{"$f":"IF(AIN5=\"\",\"0\",1/AIN$22)","v":"0"},null,{"$f":"IF(AIP5=\"\",\"0\",1/AIP$22)","v":"0"},null,{"$f":"IF(AIR5=\"\",\"0\",1/AIR$22)","v":"0"},null,{"$f":"IF(AIT5=\"\",\"0\",1/AIT$22)","v":"0"},null,{"$f":"IF(AIV5=\"\",\"0\",1/AIV$22)","v":"0"},null,{"$f":"IF(AIX5=\"\",\"0\",1/AIX$22)","v":"0"},null,{"$f":"IF(AIZ5=\"\",\"0\",1/AIZ$22)","v":"0"},null,{"$f":"IF(AJB5=\"\",\"0\",1/AJB$22)","v":"0"},null,{"$f":"IF(AJD5=\"\",\"0\",1/AJD$22)","v":"0"},null,{"$f":"IF(AJF5=\"\",\"0\",1/AJF$22)","v":"0"},null,{"$f":"IF(AJH5=\"\",\"0\",1/AJH$22)","v":"0"},null,{"$f":"IF(AJJ5=\"\",\"0\",1/AJJ$22)","v":"0"},null,{"$f":"IF(AJL5=\"\",\"0\",1/AJL$22)","v":"0"},null,{"$f":"IF(AJN5=\"\",\"0\",1/AJN$22)","v":"0"},null,{"$f":"IF(AJP5=\"\",\"0\",1/AJP$22)","v":"0"},null,{"$f":"IF(AJR5=\"\",\"0\",1/AJR$22)","v":"0"},null,{"$f":"IF(AJT5=\"\",\"0\",1/AJT$22)","v":"0"},null,{"$f":"IF(AJV5=\"\",\"0\",1/AJV$22)","v":"0"},null,{"$f":"IF(AJX5=\"\",\"0\",1/AJX$22)","v":"0"},null,{"$f":"IF(AJZ5=\"\",\"0\",1/AJZ$22)","v":"0"},null,{"$f":"IF(AKB5=\"\",\"0\",1/AKB$22)","v":"0"},null,{"$f":"IF(AKD5=\"\",\"0\",1/AKD$22)","v":"0"},null,{"$f":"IF(AKF5=\"\",\"0\",1/AKF$22)","v":"0"},null,{"$f":"IF(AKH5=\"\",\"0\",1/AKH$22)","v":"0"},null,{"$f":"IF(AKJ5=\"\",\"0\",1/AKJ$22)","v":"0"},null,{"$f":"IF(AKL5=\"\",\"0\",1/AKL$22)","v":"0"},null,{"$f":"IF(AKN5=\"\",\"0\",1/AKN$22)","v":"0"},null,{"$f":"IF(AKP5=\"\",\"0\",1/AKP$22)","v":"0"},null,{"$f":"IF(AKR5=\"\",\"0\",1/AKR$22)","v":"0"},null,{"$f":"IF(AKT5=\"\",\"0\",1/AKT$22)","v":"0"},null,{"$f":"IF(AKV5=\"\",\"0\",1/AKV$22)","v":"0"},null,{"$f":"IF(AKX5=\"\",\"0\",1/AKX$22)","v":"0"},null,{"$f":"IF(AKZ5=\"\",\"0\",1/AKZ$22)","v":"0"},null,{"$f":"IF(ALB5=\"\",\"0\",1/ALB$22)","v":"0"},null,{"$f":"IF(ALD5=\"\",\"0\",1/ALD$22)","v":"0"},null,{"$f":"IF(ALF5=\"\",\"0\",1/ALF$22)","v":"0"},null,{"$f":"IF(ALH5=\"\",\"0\",1/ALH$22)","v":"0"},null,{"$f":"IF(ALJ5=\"\",\"0\",1/ALJ$22)","v":"0"},null,{"$f":"IF(ALL5=\"\",\"0\",1/ALL$22)","v":"0"},null,{"$f":"IF(ALN5=\"\",\"0\",1/ALN$22)","v":"0"},null,{"$f":"IF(ALP5=\"\",\"0\",1/ALP$22)","v":"0"},null,{"$f":"IF(ALR5=\"\",\"0\",1/ALR$22)","v":"0"},null,{"$f":"IF(ALT5=\"\",\"0\",1/ALT$22)","v":"0"},null,{"$f":"IF(ALV5=\"\",\"0\",1/ALV$22)","v":"0"},null,{"$f":"IF(ALX5=\"\",\"0\",1/ALX$22)","v":"0"},null,{"$f":"IF(ALZ5=\"\",\"0\",1/ALZ$22)","v":"0"},null,{"$f":"IF(AMB5=\"\",\"0\",1/AMB$22)","v":"0"},null,{"$f":"IF(AMD5=\"\",\"0\",1/AMD$22)","v":"0"},null,{"$f":"IF(AMF5=\"\",\"0\",1/AMF$22)","v":"0"},null,{"$f":"IF(AMH5=\"\",\"0\",1/AMH$22)","v":"0"},null,{"$f":"IF(AMJ5=\"\",\"0\",1/AMJ$22)","v":"0"},null,{"$f":"IF(AML5=\"\",\"0\",1/AML$22)","v":"0"},null,{"$f":"IF(AMN5=\"\",\"0\",1/AMN$22)","v":"0"},null,{"$f":"IF(AMP5=\"\",\"0\",1/AMP$22)","v":"0"},null,{"$f":"IF(AMR5=\"\",\"0\",1/AMR$22)","v":"0"},null,{"$f":"IF(AMT5=\"\",\"0\",1/AMT$22)","v":"0"},null,{"$f":"IF(AMV5=\"\",\"0\",1/AMV$22)","v":"0"},null,{"$f":"IF(AMX5=\"\",\"0\",1/AMX$22)","v":"0"},null,{"$f":"IF(AMZ5=\"\",\"0\",1/AMZ$22)","v":"0"},null,{"$f":"IF(ANB5=\"\",\"0\",1/ANB$22)","v":"0"},null,{"$f":"IF(AND5=\"\",\"0\",1/AND$22)","v":"0"},null,{"$f":"IF(ANF5=\"\",\"0\",1/ANF$22)","v":"0"},null,{"$f":"IF(ANH5=\"\",\"0\",1/ANH$22)","v":"0"},null,{"$f":"IF(ANJ5=\"\",\"0\",1/ANJ$22)","v":"0"},null,{"$f":"IF(ANL5=\"\",\"0\",1/ANL$22)","v":"0"},null,{"$f":"IF(ANN5=\"\",\"0\",1/ANN$22)","v":"0"},null,{"$f":"IF(ANP5=\"\",\"0\",1/ANP$22)","v":"0"},null,{"$f":"IF(ANR5=\"\",\"0\",1/ANR$22)","v":"0"},null,{"$f":"IF(ANT5=\"\",\"0\",1/ANT$22)","v":"0"},null,{"$f":"IF(ANV5=\"\",\"0\",1/ANV$22)","v":"0"},null,{"$f":"IF(ANX5=\"\",\"0\",1/ANX$22)","v":"0"},null,{"$f":"IF(ANZ5=\"\",\"0\",1/ANZ$22)","v":"0"},null,{"$f":"IF(AOB5=\"\",\"0\",1/AOB$22)","v":"0"},null,{"$f":"IF(AOD5=\"\",\"0\",1/AOD$22)","v":"0"},null,{"$f":"IF(AOF5=\"\",\"0\",1/AOF$22)","v":"0"},null,{"$f":"IF(AOH5=\"\",\"0\",1/AOH$22)","v":"0"},null,{"$f":"IF(AOJ5=\"\",\"0\",1/AOJ$22)","v":"0"},null,{"$f":"IF(AOL5=\"\",\"0\",1/AOL$22)","v":"0"},null,{"$f":"IF(AON5=\"\",\"0\",1/AON$22)","v":"0"},null,{"$f":"IF(AOP5=\"\",\"0\",1/AOP$22)","v":"0"},null,{"$f":"IF(AOR5=\"\",\"0\",1/AOR$22)","v":"0"},null,{"$f":"IF(AOT5=\"\",\"0\",1/AOT$22)","v":"0"},null,{"$f":"IF(AOV5=\"\",\"0\",1/AOV$22)","v":"0"},null,{"$f":"IF(AOX5=\"\",\"0\",1/AOX$22)","v":"0"},null,{"$f":"IF(AOZ5=\"\",\"0\",1/AOZ$22)","v":"0"},null,{"$f":"IF(APB5=\"\",\"0\",1/APB$22)","v":"0"},null,{"$f":"IF(APD5=\"\",\"0\",1/APD$22)","v":"0"},null,{"$f":"IF(APF5=\"\",\"0\",1/APF$22)","v":"0"},null,{"$f":"IF(APH5=\"\",\"0\",1/APH$22)","v":"0"},null,{"$f":"IF(APJ5=\"\",\"0\",1/APJ$22)","v":"0"},null,{"$f":"IF(APL5=\"\",\"0\",1/APL$22)","v":"0"},null,{"$f":"IF(APN5=\"\",\"0\",1/APN$22)","v":"0"},null,{"$f":"IF(APP5=\"\",\"0\",1/APP$22)","v":"0"},null,{"$f":"IF(APR5=\"\",\"0\",1/APR$22)","v":"0"},null,{"$f":"IF(APT5=\"\",\"0\",1/APT$22)","v":"0"},null,{"$f":"IF(APV5=\"\",\"0\",1/APV$22)","v":"0"},null,{"$f":"IF(APX5=\"\",\"0\",1/APX$22)","v":"0"},null,{"$f":"IF(APZ5=\"\",\"0\",1/APZ$22)","v":"0"},null,{"$f":"IF(AQB5=\"\",\"0\",1/AQB$22)","v":"0"},null,{"$f":"IF(AQD5=\"\",\"0\",1/AQD$22)","v":"0"},null,{"$f":"IF(AQF5=\"\",\"0\",1/AQF$22)","v":"0"},null,{"$f":"IF(AQH5=\"\",\"0\",1/AQH$22)","v":"0"},null,{"$f":"IF(AQJ5=\"\",\"0\",1/AQJ$22)","v":"0"},null,{"$f":"IF(AQL5=\"\",\"0\",1/AQL$22)","v":"0"},null,{"$f":"IF(AQN5=\"\",\"0\",1/AQN$22)","v":"0"},null,{"$f":"IF(AQP5=\"\",\"0\",1/AQP$22)","v":"0"},null,{"$f":"IF(AQR5=\"\",\"0\",1/AQR$22)","v":"0"},null,{"$f":"IF(AQT5=\"\",\"0\",1/AQT$22)","v":"0"},null,{"$f":"IF(AQV5=\"\",\"0\",1/AQV$22)","v":"0"},null,{"$f":"IF(AQX5=\"\",\"0\",1/AQX$22)","v":"0"},null,{"$f":"IF(AQZ5=\"\",\"0\",1/AQZ$22)","v":"0"},null,{"$f":"IF(ARB5=\"\",\"0\",1/ARB$22)","v":"0"},null,{"$f":"IF(ARD5=\"\",\"0\",1/ARD$22)","v":"0"},null,{"$f":"IF(ARF5=\"\",\"0\",1/ARF$22)","v":"0"},null,{"$f":"IF(ARH5=\"\",\"0\",1/ARH$22)","v":"0"},null,{"$f":"IF(ARJ5=\"\",\"0\",1/ARJ$22)","v":"0"},null,{"$f":"IF(ARL5=\"\",\"0\",1/ARL$22)","v":"0"},null,{"$f":"IF(ARN5=\"\",\"0\",1/ARN$22)","v":"0"},null,{"$f":"IF(ARP5=\"\",\"0\",1/ARP$22)","v":"0"},null,{"$f":"IF(ARR5=\"\",\"0\",1/ARR$22)","v":"0"},null,{"$f":"IF(ART5=\"\",\"0\",1/ART$22)","v":"0"},null,{"$f":"IF(ARV5=\"\",\"0\",1/ARV$22)","v":"0"},null,{"$f":"IF(ARX5=\"\",\"0\",1/ARX$22)","v":"0"},null,{"$f":"IF(ARZ5=\"\",\"0\",1/ARZ$22)","v":"0"},null,{"$f":"IF(ASB5=\"\",\"0\",1/ASB$22)","v":"0"},null,{"$f":"IF(ASD5=\"\",\"0\",1/ASD$22)","v":"0"},null,{"$f":"IF(ASF5=\"\",\"0\",1/ASF$22)","v":"0"},null,{"$f":"IF(ASH5=\"\",\"0\",1/ASH$22)","v":"0"},null,{"$f":"IF(ASJ5=\"\",\"0\",1/ASJ$22)","v":"0"},null,{"$f":"IF(ASL5=\"\",\"0\",1/ASL$22)","v":"0"},null,{"$f":"IF(ASN5=\"\",\"0\",1/ASN$22)","v":"0"},null,{"$f":"IF(ASP5=\"\",\"0\",1/ASP$22)","v":"0"},null,{"$f":"IF(ASR5=\"\",\"0\",1/ASR$22)","v":"0"},null,{"$f":"IF(AST5=\"\",\"0\",1/AST$22)","v":"0"},null,{"$f":"IF(ASV5=\"\",\"0\",1/ASV$22)","v":"0"},null,{"$f":"IF(ASX5=\"\",\"0\",1/ASX$22)","v":"0"},null,{"$f":"IF(ASZ5=\"\",\"0\",1/ASZ$22)","v":"0"},null,{"$f":"IF(ATB5=\"\",\"0\",1/ATB$22)","v":"0"},null,{"$f":"IF(ATD5=\"\",\"0\",1/ATD$22)","v":"0"},null,{"$f":"IF(ATF5=\"\",\"0\",1/ATF$22)","v":"0"},null,{"$f":"IF(ATH5=\"\",\"0\",1/ATH$22)","v":"0"},null,{"$f":"IF(ATJ5=\"\",\"0\",1/ATJ$22)","v":"0"},null,{"$f":"IF(ATL5=\"\",\"0\",1/ATL$22)","v":"0"},null,{"$f":"IF(ATN5=\"\",\"0\",1/ATN$22)","v":"0"},null,{"$f":"IF(ATP5=\"\",\"0\",1/ATP$22)","v":"0"},null,{"$f":"IF(ATR5=\"\",\"0\",1/ATR$22)","v":"0"},null,{"$f":"IF(ATT5=\"\",\"0\",1/ATT$22)","v":"0"},null,{"$f":"IF(ATV5=\"\",\"0\",1/ATV$22)","v":"0"},null,{"$f":"IF(ATX5=\"\",\"0\",1/ATX$22)","v":"0"},null,{"$f":"IF(ATZ5=\"\",\"0\",1/ATZ$22)","v":"0"},null,{"$f":"IF(AUB5=\"\",\"0\",1/AUB$22)","v":"0"},null,{"$f":"IF(AUD5=\"\",\"0\",1/AUD$22)","v":"0"},null,{"$f":"IF(AUF5=\"\",\"0\",1/AUF$22)","v":"0"},null,{"$f":"IF(AUH5=\"\",\"0\",1/AUH$22)","v":"0"},null,{"$f":"IF(AUJ5=\"\",\"0\",1/AUJ$22)","v":"0"},null,{"$f":"IF(AUL5=\"\",\"0\",1/AUL$22)","v":"0"},null,{"$f":"IF(AUN5=\"\",\"0\",1/AUN$22)","v":"0"},null,{"$f":"IF(AUP5=\"\",\"0\",1/AUP$22)","v":"0"},null,{"$f":"IF(AUR5=\"\",\"0\",1/AUR$22)","v":"0"},null,{"$f":"IF(AUT5=\"\",\"0\",1/AUT$22)","v":"0"},null,{"$f":"IF(AUV5=\"\",\"0\",1/AUV$22)","v":"0"},null,{"$f":"IF(AUX5=\"\",\"0\",1/AUX$22)","v":"0"},null,{"$f":"IF(AUZ5=\"\",\"0\",1/AUZ$22)","v":"0"},null,{"$f":"IF(AVB5=\"\",\"0\",1/AVB$22)","v":"0"},null,{"$f":"IF(AVD5=\"\",\"0\",1/AVD$22)","v":"0"},null,{"$f":"IF(AVF5=\"\",\"0\",1/AVF$22)","v":"0"},null,{"$f":"IF(AVH5=\"\",\"0\",1/AVH$22)","v":"0"},null,{"$f":"IF(AVJ5=\"\",\"0\",1/AVJ$22)","v":"0"},null,{"$f":"IF(AVL5=\"\",\"0\",1/AVL$22)","v":"0"},null,{"$f":"IF(AVN5=\"\",\"0\",1/AVN$22)","v":"0"},null,{"$f":"IF(AVP5=\"\",\"0\",1/AVP$22)","v":"0"},null,{"$f":"IF(AVR5=\"\",\"0\",1/AVR$22)","v":"0"},null,{"$f":"IF(AVT5=\"\",\"0\",1/AVT$22)","v":"0"},null,{"$f":"IF(AVV5=\"\",\"0\",1/AVV$22)","v":"0"},null,{"$f":"IF(AVX5=\"\",\"0\",1/AVX$22)","v":"0"},null,{"$f":"IF(AVZ5=\"\",\"0\",1/AVZ$22)","v":"0"},null,{"$f":"IF(AWB5=\"\",\"0\",1/AWB$22)","v":"0"},null,{"$f":"IF(AWD5=\"\",\"0\",1/AWD$22)","v":"0"},null,{"$f":"IF(AWF5=\"\",\"0\",1/AWF$22)","v":"0"},null,{"$f":"IF(AWH5=\"\",\"0\",1/AWH$22)","v":"0"},null,{"$f":"IF(AWJ5=\"\",\"0\",1/AWJ$22)","v":"0"},null,{"$f":"IF(AWL5=\"\",\"0\",1/AWL$22)","v":"0"},null,{"$f":"IF(AWN5=\"\",\"0\",1/AWN$22)","v":"0"},null,{"$f":"IF(AWP5=\"\",\"0\",1/AWP$22)","v":"0"},null,{"$f":"IF(AWR5=\"\",\"0\",1/AWR$22)","v":"0"},null,{"$f":"IF(AWT5=\"\",\"0\",1/AWT$22)","v":"0"},null,{"$f":"IF(AWV5=\"\",\"0\",1/AWV$22)","v":"0"},null,{"$f":"IF(AWX5=\"\",\"0\",1/AWX$22)","v":"0"},null,{"$f":"IF(AWZ5=\"\",\"0\",1/AWZ$22)","v":"0"},null,{"$f":"IF(AXB5=\"\",\"0\",1/AXB$22)","v":"0"},null,{"$f":"IF(AXD5=\"\",\"0\",1/AXD$22)","v":"0"},null,{"$f":"IF(AXF5=\"\",\"0\",1/AXF$22)","v":"0"},null,{"$f":"IF(AXH5=\"\",\"0\",1/AXH$22)","v":"0"},null,{"$f":"IF(AXJ5=\"\",\"0\",1/AXJ$22)","v":"0"},null,{"$f":"IF(AXL5=\"\",\"0\",1/AXL$22)","v":"0"},null,{"$f":"IF(AXN5=\"\",\"0\",1/AXN$22)","v":"0"},null,{"$f":"IF(AXP5=\"\",\"0\",1/AXP$22)","v":"0"},null,{"$f":"IF(AXR5=\"\",\"0\",1/AXR$22)","v":"0"},null,{"$f":"IF(AXT5=\"\",\"0\",1/AXT$22)","v":"0"},null,{"$f":"IF(AXV5=\"\",\"0\",1/AXV$22)","v":"0"},null,{"$f":"IF(AXX5=\"\",\"0\",1/AXX$22)","v":"0"},null,{"$f":"IF(AXZ5=\"\",\"0\",1/AXZ$22)","v":"0"},null,{"$f":"IF(AYB5=\"\",\"0\",1/AYB$22)","v":"0"},null,{"$f":"IF(AYD5=\"\",\"0\",1/AYD$22)","v":"0"},null,{"$f":"IF(AYF5=\"\",\"0\",1/AYF$22)","v":"0"},null,{"$f":"IF(AYH5=\"\",\"0\",1/AYH$22)","v":"0"},null,{"$f":"IF(AYJ5=\"\",\"0\",1/AYJ$22)","v":"0"},null,{"$f":"IF(AYL5=\"\",\"0\",1/AYL$22)","v":"0"},null,{"$f":"IF(AYN5=\"\",\"0\",1/AYN$22)","v":"0"},null,{"$f":"IF(AYP5=\"\",\"0\",1/AYP$22)","v":"0"},null,{"$f":"IF(AYR5=\"\",\"0\",1/AYR$22)","v":"0"},null,{"$f":"IF(AYT5=\"\",\"0\",1/AYT$22)","v":"0"},null,{"$f":"IF(AYV5=\"\",\"0\",1/AYV$22)","v":"0"},null,{"$f":"IF(AYX5=\"\",\"0\",1/AYX$22)","v":"0"},null,{"$f":"IF(AYZ5=\"\",\"0\",1/AYZ$22)","v":"0"},null,{"$f":"IF(AZB5=\"\",\"0\",1/AZB$22)","v":"0"},null,{"$f":"IF(AZD5=\"\",\"0\",1/AZD$22)","v":"0"},null,{"$f":"IF(AZF5=\"\",\"0\",1/AZF$22)","v":"0"},null,{"$f":"IF(AZH5=\"\",\"0\",1/AZH$22)","v":"0"},null,{"$f":"IF(AZJ5=\"\",\"0\",1/AZJ$22)","v":"0"},null,{"$f":"IF(AZL5=\"\",\"0\",1/AZL$22)","v":"0"},null,{"$f":"IF(AZN5=\"\",\"0\",1/AZN$22)","v":"0"},null,{"$f":"IF(AZP5=\"\",\"0\",1/AZP$22)","v":"0"},null,{"$f":"IF(AZR5=\"\",\"0\",1/AZR$22)","v":"0"},null,{"$f":"IF(AZT5=\"\",\"0\",1/AZT$22)","v":"0"},null,{"$f":"IF(AZV5=\"\",\"0\",1/AZV$22)","v":"0"},null,{"$f":"IF(AZX5=\"\",\"0\",1/AZX$22)","v":"0"},null,{"$f":"IF(AZZ5=\"\",\"0\",1/AZZ$22)","v":"0"},null,{"$f":"IF(BAB5=\"\",\"0\",1/BAB$22)","v":"0"},null,{"$f":"IF(BAD5=\"\",\"0\",1/BAD$22)","v":"0"},null,{"$f":"IF(BAF5=\"\",\"0\",1/BAF$22)","v":"0"},null,{"$f":"IF(BAH5=\"\",\"0\",1/BAH$22)","v":"0"},null,{"$f":"IF(BAJ5=\"\",\"0\",1/BAJ$22)","v":"0"},null,{"$f":"IF(BAL5=\"\",\"0\",1/BAL$22)","v":"0"},null,{"$f":"IF(BAN5=\"\",\"0\",1/BAN$22)","v":"0"},null,{"$f":"IF(BAP5=\"\",\"0\",1/BAP$22)","v":"0"},null,{"$f":"IF(BAR5=\"\",\"0\",1/BAR$22)","v":"0"},null,{"$f":"IF(BAT5=\"\",\"0\",1/BAT$22)","v":"0"},null,{"$f":"IF(BAV5=\"\",\"0\",1/BAV$22)","v":"0"},null,{"$f":"IF(BAX5=\"\",\"0\",1/BAX$22)","v":"0"},null,{"$f":"IF(BAZ5=\"\",\"0\",1/BAZ$22)","v":"0"},null,{"$f":"IF(BBB5=\"\",\"0\",1/BBB$22)","v":"0"},null,{"$f":"IF(BBD5=\"\",\"0\",1/BBD$22)","v":"0"},null,{"$f":"IF(BBF5=\"\",\"0\",1/BBF$22)","v":"0"},null,{"$f":"IF(BBH5=\"\",\"0\",1/BBH$22)","v":"0"},null,{"$f":"IF(BBJ5=\"\",\"0\",1/BBJ$22)","v":"0"},null,{"$f":"IF(BBL5=\"\",\"0\",1/BBL$22)","v":"0"},null,{"$f":"IF(BBN5=\"\",\"0\",1/BBN$22)","v":"0"},null,{"$f":"IF(BBP5=\"\",\"0\",1/BBP$22)","v":"0"},null,{"$f":"IF(BBR5=\"\",\"0\",1/BBR$22)","v":"0"},null,{"$f":"IF(BBT5=\"\",\"0\",1/BBT$22)","v":"0"},null,{"$f":"IF(BBV5=\"\",\"0\",1/BBV$22)","v":"0"},null,{"$f":"IF(BBX5=\"\",\"0\",1/BBX$22)","v":"0"},null,{"$f":"IF(BBZ5=\"\",\"0\",1/BBZ$22)","v":"0"},null,{"$f":"IF(BCB5=\"\",\"0\",1/BCB$22)","v":"0"},null,{"$f":"IF(BCD5=\"\",\"0\",1/BCD$22)","v":"0"},null,{"$f":"IF(BCF5=\"\",\"0\",1/BCF$22)","v":"0"},null,{"$f":"IF(BCH5=\"\",\"0\",1/BCH$22)","v":"0"},null,{"$f":"IF(BCJ5=\"\",\"0\",1/BCJ$22)","v":"0"},null,{"$f":"IF(BCL5=\"\",\"0\",1/BCL$22)","v":"0"},null,{"$f":"IF(BCN5=\"\",\"0\",1/BCN$22)","v":"0"},null,{"$f":"IF(BCP5=\"\",\"0\",1/BCP$22)","v":"0"},null,{"$f":"IF(BCR5=\"\",\"0\",1/BCR$22)","v":"0"},null,{"$f":"IF(BCT5=\"\",\"0\",1/BCT$22)","v":"0"},null,{"$f":"IF(BCV5=\"\",\"0\",1/BCV$22)","v":"0"},null,{"$f":"IF(BCX5=\"\",\"0\",1/BCX$22)","v":"0"},null,{"$f":"IF(BCZ5=\"\",\"0\",1/BCZ$22)","v":"0"},null,{"$f":"IF(BDB5=\"\",\"0\",1/BDB$22)","v":"0"},null,{"$f":"IF(BDD5=\"\",\"0\",1/BDD$22)","v":"0"},null,{"$f":"IF(BDF5=\"\",\"0\",1/BDF$22)","v":"0"},null,{"$f":"IF(BDH5=\"\",\"0\",1/BDH$22)","v":"0"},null,{"$f":"IF(BDJ5=\"\",\"0\",1/BDJ$22)","v":"0"},null,{"$f":"IF(BDL5=\"\",\"0\",1/BDL$22)","v":"0"},null,{"$f":"IF(BDN5=\"\",\"0\",1/BDN$22)","v":"0"},null,{"$f":"IF(BDP5=\"\",\"0\",1/BDP$22)","v":"0"},null,{"$f":"IF(BDR5=\"\",\"0\",1/BDR$22)","v":"0"},null,{"$f":"IF(BDT5=\"\",\"0\",1/BDT$22)","v":"0"},null,{"$f":"IF(BDV5=\"\",\"0\",1/BDV$22)","v":"0"},null,{"$f":"IF(BDX5=\"\",\"0\",1/BDX$22)","v":"0"},null,{"$f":"IF(BDZ5=\"\",\"0\",1/BDZ$22)","v":"0"},null,{"$f":"IF(BEB5=\"\",\"0\",1/BEB$22)","v":"0"},null,{"$f":"IF(BED5=\"\",\"0\",1/BED$22)","v":"0"},null,{"$f":"IF(BEF5=\"\",\"0\",1/BEF$22)","v":"0"},null,{"$f":"IF(BEH5=\"\",\"0\",1/BEH$22)","v":"0"},null,{"$f":"IF(BEJ5=\"\",\"0\",1/BEJ$22)","v":"0"},null,{"$f":"IF(BEL5=\"\",\"0\",1/BEL$22)","v":"0"},null,{"$f":"IF(BEN5=\"\",\"0\",1/BEN$22)","v":"0"},null,{"$f":"IF(BEP5=\"\",\"0\",1/BEP$22)","v":"0"},null,{"$f":"IF(BER5=\"\",\"0\",1/BER$22)","v":"0"},null,{"$f":"IF(BET5=\"\",\"0\",1/BET$22)","v":"0"},null,{"$f":"IF(BEV5=\"\",\"0\",1/BEV$22)","v":"0"},null,{"$f":"IF(BEX5=\"\",\"0\",1/BEX$22)","v":"0"},null,{"$f":"IF(BEZ5=\"\",\"0\",1/BEZ$22)","v":"0"},null,{"$f":"IF(BFB5=\"\",\"0\",1/BFB$22)","v":"0"},null,{"$f":"IF(BFD5=\"\",\"0\",1/BFD$22)","v":"0"},null,{"$f":"IF(BFF5=\"\",\"0\",1/BFF$22)","v":"0"},null,{"$f":"IF(BFH5=\"\",\"0\",1/BFH$22)","v":"0"},null,{"$f":"IF(BFJ5=\"\",\"0\",1/BFJ$22)","v":"0"},null,{"$f":"IF(BFL5=\"\",\"0\",1/BFL$22)","v":"0"},null,{"$f":"IF(BFN5=\"\",\"0\",1/BFN$22)","v":"0"},null,{"$f":"IF(BFP5=\"\",\"0\",1/BFP$22)","v":"0"},null,{"$f":"IF(BFR5=\"\",\"0\",1/BFR$22)","v":"0"},null,{"$f":"IF(BFT5=\"\",\"0\",1/BFT$22)","v":"0"},null,{"$f":"IF(BFV5=\"\",\"0\",1/BFV$22)","v":"0"},null,{"$f":"IF(BFX5=\"\",\"0\",1/BFX$22)","v":"0"},null,{"$f":"IF(BFZ5=\"\",\"0\",1/BFZ$22)","v":"0"},null,{"$f":"IF(BGB5=\"\",\"0\",1/BGB$22)","v":"0"},null,{"$f":"IF(BGD5=\"\",\"0\",1/BGD$22)","v":"0"},null,{"$f":"IF(BGF5=\"\",\"0\",1/BGF$22)","v":"0"},null,{"$f":"IF(BGH5=\"\",\"0\",1/BGH$22)","v":"0"},null,{"$f":"IF(BGJ5=\"\",\"0\",1/BGJ$22)","v":"0"},null,{"$f":"IF(BGL5=\"\",\"0\",1/BGL$22)","v":"0"},null,{"$f":"IF(BGN5=\"\",\"0\",1/BGN$22)","v":"0"},null,{"$f":"IF(BGP5=\"\",\"0\",1/BGP$22)","v":"0"},null,{"$f":"IF(BGR5=\"\",\"0\",1/BGR$22)","v":"0"},null,{"$f":"IF(BGT5=\"\",\"0\",1/BGT$22)","v":"0"},null,{"$f":"IF(BGV5=\"\",\"0\",1/BGV$22)","v":"0"},null,{"$f":"IF(BGX5=\"\",\"0\",1/BGX$22)","v":"0"},null,{"$f":"IF(BGZ5=\"\",\"0\",1/BGZ$22)","v":"0"},null,{"$f":"IF(BHB5=\"\",\"0\",1/BHB$22)","v":"0"},null,{"$f":"IF(BHD5=\"\",\"0\",1/BHD$22)","v":"0"},null,{"$f":"IF(BHF5=\"\",\"0\",1/BHF$22)","v":"0"},null,{"$f":"IF(BHH5=\"\",\"0\",1/BHH$22)","v":"0"},null,{"$f":"IF(BHJ5=\"\",\"0\",1/BHJ$22)","v":"0"},null,{"$f":"IF(BHL5=\"\",\"0\",1/BHL$22)","v":"0"},null,{"$f":"IF(BHN5=\"\",\"0\",1/BHN$22)","v":"0"},null,{"$f":"IF(BHP5=\"\",\"0\",1/BHP$22)","v":"0"},null,{"$f":"IF(BHR5=\"\",\"0\",1/BHR$22)","v":"0"},null,{"$f":"IF(BHT5=\"\",\"0\",1/BHT$22)","v":"0"},null,{"$f":"IF(BHV5=\"\",\"0\",1/BHV$22)","v":"0"},null,{"$f":"IF(BHX5=\"\",\"0\",1/BHX$22)","v":"0"},null,{"$f":"IF(BHZ5=\"\",\"0\",1/BHZ$22)","v":"0"},null,{"$f":"IF(BIB5=\"\",\"0\",1/BIB$22)","v":"0"},null,{"$f":"IF(BID5=\"\",\"0\",1/BID$22)","v":"0"},null,{"$f":"IF(BIF5=\"\",\"0\",1/BIF$22)","v":"0"},null,{"$f":"IF(BIH5=\"\",\"0\",1/BIH$22)","v":"0"},null,{"$f":"IF(BIJ5=\"\",\"0\",1/BIJ$22)","v":"0"},null,{"$f":"IF(BIL5=\"\",\"0\",1/BIL$22)","v":"0"},null,{"$f":"IF(BIN5=\"\",\"0\",1/BIN$22)","v":"0"},null,{"$f":"IF(BIP5=\"\",\"0\",1/BIP$22)","v":"0"},null,{"$f":"IF(BIR5=\"\",\"0\",1/BIR$22)","v":"0"},null,{"$f":"IF(BIT5=\"\",\"0\",1/BIT$22)","v":"0"},null,{"$f":"IF(BIV5=\"\",\"0\",1/BIV$22)","v":"0"},null,{"$f":"IF(BIX5=\"\",\"0\",1/BIX$22)","v":"0"},null,{"$f":"IF(BIZ5=\"\",\"0\",1/BIZ$22)","v":"0"},null,{"$f":"IF(BJB5=\"\",\"0\",1/BJB$22)","v":"0"},null,{"$f":"IF(BJD5=\"\",\"0\",1/BJD$22)","v":"0"},null,{"$f":"IF(BJF5=\"\",\"0\",1/BJF$22)","v":"0"},null,{"$f":"IF(BJH5=\"\",\"0\",1/BJH$22)","v":"0"},null,{"$f":"IF(BJJ5=\"\",\"0\",1/BJJ$22)","v":"0"},null,{"$f":"IF(BJL5=\"\",\"0\",1/BJL$22)","v":"0"},null,{"$f":"IF(BJN5=\"\",\"0\",1/BJN$22)","v":"0"},null,{"$f":"IF(BJP5=\"\",\"0\",1/BJP$22)","v":"0"},null,{"$f":"IF(BJR5=\"\",\"0\",1/BJR$22)","v":"0"},null,{"$f":"IF(BJT5=\"\",\"0\",1/BJT$22)","v":"0"},null,{"$f":"IF(BJV5=\"\",\"0\",1/BJV$22)","v":"0"},null,{"$f":"IF(BJX5=\"\",\"0\",1/BJX$22)","v":"0"},null,{"$f":"IF(BJZ5=\"\",\"0\",1/BJZ$22)","v":"0"},null,{"$f":"IF(BKB5=\"\",\"0\",1/BKB$22)","v":"0"},null,{"$f":"IF(BKD5=\"\",\"0\",1/BKD$22)","v":"0"},null,{"$f":"IF(BKF5=\"\",\"0\",1/BKF$22)","v":"0"},null,{"$f":"IF(BKH5=\"\",\"0\",1/BKH$22)","v":"0"},null,{"$f":"IF(BKJ5=\"\",\"0\",1/BKJ$22)","v":"0"},null,{"$f":"IF(BKL5=\"\",\"0\",1/BKL$22)","v":"0"},null,{"$f":"IF(BKN5=\"\",\"0\",1/BKN$22)","v":"0"},null,{"$f":"IF(BKP5=\"\",\"0\",1/BKP$22)","v":"0"},null,{"$f":"IF(BKR5=\"\",\"0\",1/BKR$22)","v":"0"},null,{"$f":"IF(BKT5=\"\",\"0\",1/BKT$22)","v":"0"},null,{"$f":"IF(BKV5=\"\",\"0\",1/BKV$22)","v":"0"},null,{"$f":"IF(BKX5=\"\",\"0\",1/BKX$22)","v":"0"},null,{"$f":"IF(BKZ5=\"\",\"0\",1/BKZ$22)","v":"0"},null,{"$f":"IF(BLB5=\"\",\"0\",1/BLB$22)","v":"0"},null,{"$f":"IF(BLD5=\"\",\"0\",1/BLD$22)","v":"0"},null,{"$f":"IF(BLF5=\"\",\"0\",1/BLF$22)","v":"0"},null,{"$f":"IF(BLH5=\"\",\"0\",1/BLH$22)","v":"0"},null,{"$f":"IF(BLJ5=\"\",\"0\",1/BLJ$22)","v":"0"},null,{"$f":"IF(BLL5=\"\",\"0\",1/BLL$22)","v":"0"},null,{"$f":"IF(BLN5=\"\",\"0\",1/BLN$22)","v":"0"},null,{"$f":"IF(BLP5=\"\",\"0\",1/BLP$22)","v":"0"},null,{"$f":"IF(BLR5=\"\",\"0\",1/BLR$22)","v":"0"},null,{"$f":"IF(BLT5=\"\",\"0\",1/BLT$22)","v":"0"},null,{"$f":"IF(BLV5=\"\",\"0\",1/BLV$22)","v":"0"},null,{"$f":"IF(BLX5=\"\",\"0\",1/BLX$22)","v":"0"},null,{"$f":"IF(BLZ5=\"\",\"0\",1/BLZ$22)","v":"0"},null,{"$f":"IF(BMB5=\"\",\"0\",1/BMB$22)","v":"0"},null,{"$f":"IF(BMD5=\"\",\"0\",1/BMD$22)","v":"0"},null,{"$f":"IF(BMF5=\"\",\"0\",1/BMF$22)","v":"0"},null,{"$f":"IF(BMH5=\"\",\"0\",1/BMH$22)","v":"0"},null,{"$f":"IF(BMJ5=\"\",\"0\",1/BMJ$22)","v":"0"},null,{"$f":"IF(BML5=\"\",\"0\",1/BML$22)","v":"0"},null,{"$f":"IF(BMN5=\"\",\"0\",1/BMN$22)","v":"0"},null,{"$f":"IF(BMP5=\"\",\"0\",1/BMP$22)","v":"0"},null,{"$f":"IF(BMR5=\"\",\"0\",1/BMR$22)","v":"0"},null,{"$f":"IF(BMT5=\"\",\"0\",1/BMT$22)","v":"0"},null,{"$f":"IF(BMV5=\"\",\"0\",1/BMV$22)","v":"0"},null,{"$f":"IF(BMX5=\"\",\"0\",1/BMX$22)","v":"0"},null,{"$f":"IF(BMZ5=\"\",\"0\",1/BMZ$22)","v":"0"},null,{"$f":"IF(BNB5=\"\",\"0\",1/BNB$22)","v":"0"},null,{"$f":"IF(BND5=\"\",\"0\",1/BND$22)","v":"0"},null,{"$f":"IF(BNF5=\"\",\"0\",1/BNF$22)","v":"0"},null,{"$f":"IF(BNH5=\"\",\"0\",1/BNH$22)","v":"0"},null,{"$f":"IF(BNJ5=\"\",\"0\",1/BNJ$22)","v":"0"},null,{"$f":"IF(BNL5=\"\",\"0\",1/BNL$22)","v":"0"},null,{"$f":"IF(BNN5=\"\",\"0\",1/BNN$22)","v":"0"},null,{"$f":"IF(BNP5=\"\",\"0\",1/BNP$22)","v":"0"},null,{"$f":"IF(BNR5=\"\",\"0\",1/BNR$22)","v":"0"},null,{"$f":"IF(BNT5=\"\",\"0\",1/BNT$22)","v":"0"},null,{"$f":"IF(BNV5=\"\",\"0\",1/BNV$22)","v":"0"},null,{"$f":"IF(BNX5=\"\",\"0\",1/BNX$22)","v":"0"},null,{"$f":"IF(BNZ5=\"\",\"0\",1/BNZ$22)","v":"0"},null,{"$f":"IF(BOB5=\"\",\"0\",1/BOB$22)","v":"0"},null,{"$f":"IF(BOD5=\"\",\"0\",1/BOD$22)","v":"0"},null,{"$f":"IF(BOF5=\"\",\"0\",1/BOF$22)","v":"0"},null,{"$f":"IF(BOH5=\"\",\"0\",1/BOH$22)","v":"0"},null,{"$f":"IF(BOJ5=\"\",\"0\",1/BOJ$22)","v":"0"},null,{"$f":"IF(BOL5=\"\",\"0\",1/BOL$22)","v":"0"},null,{"$f":"IF(BON5=\"\",\"0\",1/BON$22)","v":"0"},null,{"$f":"IF(BOP5=\"\",\"0\",1/BOP$22)","v":"0"},null,{"$f":"IF(BOR5=\"\",\"0\",1/BOR$22)","v":"0"},null,{"$f":"IF(BOT5=\"\",\"0\",1/BOT$22)","v":"0"},null,{"$f":"IF(BOV5=\"\",\"0\",1/BOV$22)","v":"0"},null,{"$f":"IF(BOX5=\"\",\"0\",1/BOX$22)","v":"0"},null,{"$f":"IF(BOZ5=\"\",\"0\",1/BOZ$22)","v":"0"},null,{"$f":"IF(BPB5=\"\",\"0\",1/BPB$22)","v":"0"},null,{"$f":"IF(BPD5=\"\",\"0\",1/BPD$22)","v":"0"},null,{"$f":"IF(BPF5=\"\",\"0\",1/BPF$22)","v":"0"},null,{"$f":"IF(BPH5=\"\",\"0\",1/BPH$22)","v":"0"},null,{"$f":"IF(BPJ5=\"\",\"0\",1/BPJ$22)","v":"0"},null,{"$f":"IF(BPL5=\"\",\"0\",1/BPL$22)","v":"0"},null,{"$f":"IF(BPN5=\"\",\"0\",1/BPN$22)","v":"0"},null,{"$f":"IF(BPP5=\"\",\"0\",1/BPP$22)","v":"0"},null,{"$f":"IF(BPR5=\"\",\"0\",1/BPR$22)","v":"0"},null,{"$f":"IF(BPT5=\"\",\"0\",1/BPT$22)","v":"0"},null,{"$f":"IF(BPV5=\"\",\"0\",1/BPV$22)","v":"0"},null,{"$f":"IF(BPX5=\"\",\"0\",1/BPX$22)","v":"0"},null,{"$f":"IF(BPZ5=\"\",\"0\",1/BPZ$22)","v":"0"},null,{"$f":"IF(BQB5=\"\",\"0\",1/BQB$22)","v":"0"},null,{"$f":"IF(BQD5=\"\",\"0\",1/BQD$22)","v":"0"},null,{"$f":"IF(BQF5=\"\",\"0\",1/BQF$22)","v":"0"},null,{"$f":"IF(BQH5=\"\",\"0\",1/BQH$22)","v":"0"},null,{"$f":"IF(BQJ5=\"\",\"0\",1/BQJ$22)","v":"0"},null,{"$f":"IF(BQL5=\"\",\"0\",1/BQL$22)","v":"0"},null,{"$f":"IF(BQN5=\"\",\"0\",1/BQN$22)","v":"0"},null,{"$f":"IF(BQP5=\"\",\"0\",1/BQP$22)","v":"0"},null,{"$f":"IF(BQR5=\"\",\"0\",1/BQR$22)","v":"0"},null,{"$f":"IF(BQT5=\"\",\"0\",1/BQT$22)","v":"0"},null,{"$f":"IF(BQV5=\"\",\"0\",1/BQV$22)","v":"0"},null,{"$f":"IF(BQX5=\"\",\"0\",1/BQX$22)","v":"0"},null,{"$f":"IF(BQZ5=\"\",\"0\",1/BQZ$22)","v":"0"},null,{"$f":"IF(BRB5=\"\",\"0\",1/BRB$22)","v":"0"},null,{"$f":"IF(BRD5=\"\",\"0\",1/BRD$22)","v":"0"},null,{"$f":"IF(BRF5=\"\",\"0\",1/BRF$22)","v":"0"},null,{"$f":"IF(BRH5=\"\",\"0\",1/BRH$22)","v":"0"},null,{"$f":"IF(BRJ5=\"\",\"0\",1/BRJ$22)","v":"0"},null,{"$f":"IF(BRL5=\"\",\"0\",1/BRL$22)","v":"0"},null,{"$f":"IF(BRN5=\"\",\"0\",1/BRN$22)","v":"0"},null,{"$f":"IF(BRP5=\"\",\"0\",1/BRP$22)","v":"0"},null,{"$f":"IF(BRR5=\"\",\"0\",1/BRR$22)","v":"0"},null,{"$f":"IF(BRT5=\"\",\"0\",1/BRT$22)","v":"0"},null,{"$f":"IF(BRV5=\"\",\"0\",1/BRV$22)","v":"0"},null,{"$f":"IF(BRX5=\"\",\"0\",1/BRX$22)","v":"0"},null,{"$f":"IF(BRZ5=\"\",\"0\",1/BRZ$22)","v":"0"},null,{"$f":"IF(BSB5=\"\",\"0\",1/BSB$22)","v":"0"},null,{"$f":"IF(BSD5=\"\",\"0\",1/BSD$22)","v":"0"},null,{"$f":"IF(BSF5=\"\",\"0\",1/BSF$22)","v":"0"},null,{"$f":"IF(BSH5=\"\",\"0\",1/BSH$22)","v":"0"},null,{"$f":"IF(BSJ5=\"\",\"0\",1/BSJ$22)","v":"0"},null,{"$f":"IF(BSL5=\"\",\"0\",1/BSL$22)","v":"0"},null,{"$f":"IF(BSN5=\"\",\"0\",1/BSN$22)","v":"0"},null,{"$f":"IF(BSP5=\"\",\"0\",1/BSP$22)","v":"0"},null,{"$f":"IF(BSR5=\"\",\"0\",1/BSR$22)","v":"0"},null,{"$f":"IF(BST5=\"\",\"0\",1/BST$22)","v":"0"},null,{"$f":"IF(BSV5=\"\",\"0\",1/BSV$22)","v":"0"},null,{"$f":"IF(BSX5=\"\",\"0\",1/BSX$22)","v":"0"},null,{"$f":"IF(BSZ5=\"\",\"0\",1/BSZ$22)","v":"0"},null,{"$f":"IF(BTB5=\"\",\"0\",1/BTB$22)","v":"0"},null,{"$f":"IF(BTD5=\"\",\"0\",1/BTD$22)","v":"0"},null,{"$f":"IF(BTF5=\"\",\"0\",1/BTF$22)","v":"0"},null,{"$f":"IF(BTH5=\"\",\"0\",1/BTH$22)","v":"0"},null,{"$f":"IF(BTJ5=\"\",\"0\",1/BTJ$22)","v":"0"},null,{"$f":"IF(BTL5=\"\",\"0\",1/BTL$22)","v":"0"},null,{"$f":"IF(BTN5=\"\",\"0\",1/BTN$22)","v":"0"},null,{"$f":"IF(BTP5=\"\",\"0\",1/BTP$22)","v":"0"},null,{"$f":"IF(BTR5=\"\",\"0\",1/BTR$22)","v":"0"},null,{"$f":"IF(BTT5=\"\",\"0\",1/BTT$22)","v":"0"},null,{"$f":"IF(BTV5=\"\",\"0\",1/BTV$22)","v":"0"},null,{"$f":"IF(BTX5=\"\",\"0\",1/BTX$22)","v":"0"},null,{"$f":"IF(BTZ5=\"\",\"0\",1/BTZ$22)","v":"0"},null,{"$f":"IF(BUB5=\"\",\"0\",1/BUB$22)","v":"0"},null,{"$f":"IF(BUD5=\"\",\"0\",1/BUD$22)","v":"0"},null,{"$f":"IF(BUF5=\"\",\"0\",1/BUF$22)","v":"0"},null,{"$f":"IF(BUH5=\"\",\"0\",1/BUH$22)","v":"0"},null,{"$f":"IF(BUJ5=\"\",\"0\",1/BUJ$22)","v":"0"},null,{"$f":"IF(BUL5=\"\",\"0\",1/BUL$22)","v":"0"},null,{"$f":"IF(BUN5=\"\",\"0\",1/BUN$22)","v":"0"},null,{"$f":"IF(BUP5=\"\",\"0\",1/BUP$22)","v":"0"},null,{"$f":"IF(BUR5=\"\",\"0\",1/BUR$22)","v":"0"},null,{"$f":"IF(BUT5=\"\",\"0\",1/BUT$22)","v":"0"},null,{"$f":"IF(BUV5=\"\",\"0\",1/BUV$22)","v":"0"},null,{"$f":"IF(BUX5=\"\",\"0\",1/BUX$22)","v":"0"},null,{"$f":"IF(BUZ5=\"\",\"0\",1/BUZ$22)","v":"0"},null,{"$f":"IF(BVB5=\"\",\"0\",1/BVB$22)","v":"0"},null,{"$f":"IF(BVD5=\"\",\"0\",1/BVD$22)","v":"0"},null,{"$f":"IF(BVF5=\"\",\"0\",1/BVF$22)","v":"0"},null,{"$f":"IF(BVH5=\"\",\"0\",1/BVH$22)","v":"0"},null,{"$f":"IF(BVJ5=\"\",\"0\",1/BVJ$22)","v":"0"},null,{"$f":"IF(BVL5=\"\",\"0\",1/BVL$22)","v":"0"},null,{"$f":"IF(BVN5=\"\",\"0\",1/BVN$22)","v":"0"},null,{"$f":"IF(BVP5=\"\",\"0\",1/BVP$22)","v":"0"},null,{"$f":"IF(BVR5=\"\",\"0\",1/BVR$22)","v":"0"},null,{"$f":"IF(BVT5=\"\",\"0\",1/BVT$22)","v":"0"},null,{"$f":"IF(BVV5=\"\",\"0\",1/BVV$22)","v":"0"},null,{"$f":"IF(BVX5=\"\",\"0\",1/BVX$22)","v":"0"},null,{"$f":"IF(BVZ5=\"\",\"0\",1/BVZ$22)","v":"0"},null,{"$f":"IF(BWB5=\"\",\"0\",1/BWB$22)","v":"0"},null,{"$f":"IF(BWD5=\"\",\"0\",1/BWD$22)","v":"0"},null,{"$f":"IF(BWF5=\"\",\"0\",1/BWF$22)","v":"0"},null,{"$f":"IF(BWH5=\"\",\"0\",1/BWH$22)","v":"0"},null,{"$f":"IF(BWJ5=\"\",\"0\",1/BWJ$22)","v":"0"},null,{"$f":"IF(BWL5=\"\",\"0\",1/BWL$22)","v":"0"},null,{"$f":"IF(BWN5=\"\",\"0\",1/BWN$22)","v":"0"},null,{"$f":"IF(BWP5=\"\",\"0\",1/BWP$22)","v":"0"},null,{"$f":"IF(BWR5=\"\",\"0\",1/BWR$22)","v":"0"},null,{"$f":"IF(BWT5=\"\",\"0\",1/BWT$22)","v":"0"},null,{"$f":"IF(BWV5=\"\",\"0\",1/BWV$22)","v":"0"}]
["実務（２）",{"$f":"年数合計!B14","v":{"$error":"#VALUE!"}},{"$f":"年数合計!C14","v":{"$error":"#VALUE!"}},{"$f":"COUNTIF(F7:BWV7,\"○\")","v":0},"月",{"$f":"IFERROR(IF(AND(F$3>=$B$7,F$3<=$C$7),\"○\",\"\"),\"\")","v":""},null,"",null,"",null,"",null,"",null,"",null,"",null,"",null,"",null,"",null,"",null,"",null,"",null,"",null,"",null,"",null,"",null,"",null,"",null,"",null,"",null,"",null,"",null,"",null,"",null,"",null,"",null,"",null,"",null,"",null,"",null,"",null,{"$f":"IFERROR(IF(AND(BR$3>=$B$7,BR$3<=$C$7),\"○\",\"\"),\"\")","v":""},null,"",null,"",null,"",null,"",null,"",null,"",null,"",null,"",null,"",null,"",null,"",null,"",null,"",null,"",null,"",null,"",null,"",null,"",null,"",null,"",null,"",null,"",null,"",null,"",null,"",null,"",null,"",null,"",null,"",null,"",null,"",null,{"$f":"IFERROR(IF(AND(ED$3>=$B$7,ED$3<=$C$7),\"○\",\"\"),\"\")","v":""},null,"",null,"",null,"",null,"",null,"",null,"",null,"",null,"",null,"",null,"",null,"",null,"",null,"",null,"",null,"",null,"",null,"",null,"",null,"",null,"",null,"",null,"",null,"",null,"",null,"",null,"",null,"",null,"",null,"",null,"",null,"",null,{"$f":"IFERROR(IF(AND(GP$3>=$B$7,GP$3<=$C$7),\"○\",\"\"),\"\")","v":""},null,"",null,"",null,"",null,"",null,"",null,"",null,"",null,"",null,"",null,"",null,"",null,"",null,"",null,"",null,"",null,"",null,"",null,"",null,"",null,"",null,"",null,"",null,"",null,"",null,"",null,"",null,"",null,"",null,"",null,"",null,"",null,{"$f":"IFERROR(IF(AND(JB$3>=$B$7,JB$3<=$C$7),\"○\",\"\"),\"\")","v":""},null,"",null,"",null,"",null,"",null,"",null,"",null,"",null,"",null,"",null,"",null,"",null,"",null,"",null,"",null,"",null,"",null,"",null,"",null,"",null,"",null,"",null,"",null,"",null,"",null,"",null,"",null,"",null,"",null,"",null,"",null,"",null,{"$f":"IFERROR(IF(AND(LN$3>=$B$7,LN$3<=$C$7),\"○\",\"\"),\"\")","v":""},null,"",null,"",null,"",null,"",null,"",null,"",null,"",null,"",null,"",null,"",null,"",null,"",null,"",null,"",null,"",null,"",null,"",null,"",null,"",null,"",null,"",null,"",null,"",null,"",null,"",null,"",null,"",null,"",null,"",null,"",null,"",null,{"$f":"IFERROR(IF(AND(NZ$3>=$B$7,NZ$3<=$C$7),\"○\",\"\"),\"\")","v":""},null,"",null,"",null,"",null,"",null,"",null,"",null,"",null,"",null,"",null,"",null,"",null,"",null,"",null,"",null,"",null,"",null,"",null,"",null,"",null,"",null,"",null,"",null,"",null,"",null,"",null,"",null,"",null,"",null,"",null,"",null,"",null,{"$f":"IFERROR(IF(AND(QL$3>=$B$7,QL$3<=$C$7),\"○\",\"\"),\"\")","v":""},null,"",null,"",null,"",null,"",null,"",null,"",null,"",null,"",null,"",null,"",null,"",null,"",null,"",null,"",null,"",null,"",null,"",null,"",null,"",null,"",null,"",null,"",null,"",null,"",null,"",null,"",null,"",null,"",null,"",null,"",null,"",null,{"$f":"IFERROR(IF(AND(SX$3>=$B$7,SX$3<=$C$7),\"○\",\"\"),\"\")","v":""},null,"",null,"",null,"",null,"",null,"",null,"",null,"",null,"",null,"",null,"",null,"",null,"",null,"",null,"",null,"",null,"",null,"",null,"",null,"",null,"",null,"",null,"",null,"",null,"",null,"",null,"",null,"",null,"",null,"",null,"",null,"",null,{"$f":"IFERROR(IF(AND(VJ$3>=$B$7,VJ$3<=$C$7),\"○\",\"\"),\"\")","v":""},null,"",null,"",null,"",null,"",null,"",null,"",null,"",null,"",null,"",null,"",null,"",null,"",null,"",null,"",null,"",null,"",null,"",null,"",null,"",null,"",null,"",null,"",null,"",null,"",null,"",null,"",null,"",null,"",null,"",null,"",null,"",null,{"$f":"IFERROR(IF(AND(XV$3>=$B$7,XV$3<=$C$7),\"○\",\"\"),\"\")","v":""},null,"",null,"",null,"",null,"",null,"",null,"",null,"",null,"",null,"",null,"",null,"",null,"",null,"",null,"",null,"",null,"",null,"",null,"",null,"",null,"",null,"",null,"",null,"",null,"",null,"",null,"",null,"",null,"",null,"",null,"",null,"",null,{"$f":"IFERROR(IF(AND(AAH$3>=$B$7,AAH$3<=$C$7),\"○\",\"\"),\"\")","v":""},null,"",null,"",null,"",null,"",null,"",null,"",null,"",null,"",null,"",null,"",null,"",null,"",null,"",null,"",null,"",null,"",null,"",null,"",null,"",null,"",null,"",null,"",null,"",null,"",null,"",null,"",null,"",null,"",null,"",null,"",null,"",null,{"$f":"IFERROR(IF(AND(ACT$3>=$B$7,ACT$3<=$C$7),\"○\",\"\"),\"\")","v":""},null,"",null,"",null,"",null,"",null,"",null,"",null,"",null,"",null,"",null,"",null,"",null,"",null,"",null,"",null,"",null,"",null,"",null,"",null,"",null,"",null,"",null,"",null,"",null,"",null,"",null,"",null,"",null,"",null,"",null,"",null,"",null,{"$f":"IFERROR(IF(AND(AFF$3>=$B$7,AFF$3<=$C$7),\"○\",\"\"),\"\")","v":""},null,"",null,"",null,"",null,"",null,"",null,"",null,"",null,"",null,"",null,"",null,"",null,"",null,"",null,"",null,"",null,"",null,"",null,"",null,"",null,"",null,"",null,"",null,"",null,"",null,"",null,"",null,"",null,"",null,"",null,"",null,"",null,{"$f":"IFERROR(IF(AND(AHR$3>=$B$7,AHR$3<=$C$7),\"○\",\"\"),\"\")","v":""},null,"",null,"",null,"",null,"",null,"",null,"",null,"",null,"",null,"",null,"",null,"",null,"",null,"",null,"",null,"",null,"",null,"",null,"",null,"",null,"",null,"",null,"",null,"",null,"",null,"",null,"",null,"",null,"",null,"",null,"",null,"",null,{"$f":"IFERROR(IF(AND(AKD$3>=$B$7,AKD$3<=$C$7),\"○\",\"\"),\"\")","v":""},null,"",null,"",null,"",null,"",null,"",null,"",null,"",null,"",null,"",null,"",null,"",null,"",null,"",null,"",null,"",null,"",null,"",null,"",null,"",null,"",null,"",null,"",null,"",null,"",null,"",null,"",null,"",null,"",null,"",null,"",null,"",null,{"$f":"IFERROR(IF(AND(AMP$3>=$B$7,AMP$3<=$C$7),\"○\",\"\"),\"\")","v":""},null,"",null,"",null,"",null,"",null,"",null,"",null,"",null,"",null,"",null,"",null,"",null,"",null,"",null,"",null,"",null,"",null,"",null,"",null,"",null,"",null,"",null,"",null,"",null,"",null,"",null,"",null,"",null,"",null,"",null,"",null,"",null,{"$f":"IFERROR(IF(AND(APB$3>=$B$7,APB$3<=$C$7),\"○\",\"\"),\"\")","v":""},null,"",null,"",null,"",null,"",null,"",null,"",null,"",null,"",null,"",null,"",null,"",null,"",null,"",null,"",null,"",null,"",null,"",null,"",null,"",null,"",null,"",null,"",null,"",null,"",null,"",null,"",null,"",null,"",null,"",null,"",null,"",null,{"$f":"IFERROR(IF(AND(ARN$3>=$B$7,ARN$3<=$C$7),\"○\",\"\"),\"\")","v":""},null,"",null,"",null,"",null,"",null,"",null,"",null,"",null,"",null,"",null,"",null,"",null,{"$f":"IFERROR(IF(AND(ASL$3>=$B$7,ASL$3<=$C$7),\"○\",\"\"),\"\")","v":""},null,"",null,"",null,"",null,"",null,"",null,"",null,"",null,"",null,"",null,"",null,"",null,"",null,"",null,"",null,"",null,"",null,"",null,"",null,"",null,"",null,"",null,"",null,"",null,"",null,"",null,"",null,"",null,"",null,"",null,"",null,"",null,{"$f":"IFERROR(IF(AND(AUX$3>=$B$7,AUX$3<=$C$7),\"○\",\"\"),\"\")","v":""},null,"",null,"",null,"",null,"",null,"",null,"",null,"",null,"",null,"",null,"",null,"",null,"",null,"",null,"",null,"",null,"",null,"",null,"",null,"",null,"",null,"",null,"",null,"",null,"",null,"",null,"",null,"",null,"",null,"",null,"",null,"",null,{"$f":"IFERROR(IF(AND(AXJ$3>=$B$7,AXJ$3<=$C$7),\"○\",\"\"),\"\")","v":""},null,"",null,"",null,"",null,"",null,"",null,"",null,"",null,"",null,"",null,"",null,"",null,"",null,"",null,"",null,"",null,"",null,"",null,"",null,"",null,"",null,"",null,"",null,"",null,"",null,"",null,"",null,"",null,"",null,"",null,"",null,"",null,{"$f":"IFERROR(IF(AND(AZV$3>=$B$7,AZV$3<=$C$7),\"○\",\"\"),\"\")","v":""},null,"",null,"",null,"",null,"",null,"",null,"",null,"",null,"",null,"",null,"",null,"",null,"",null,"",null,"",null,"",null,"",null,"",null,"",null,"",null,"",null,"",null,"",null,"",null,"",null,"",null,"",null,"",null,"",null,"",null,"",null,"",null,{"$f":"IFERROR(IF(AND(BCH$3>=$B$7,BCH$3<=$C$7),\"○\",\"\"),\"\")","v":""},null,"",null,"",null,"",null,"",null,"",null,"",null,"",null,"",null,"",null,"",null,"",null,"",null,"",null,"",null,"",null,"",null,"",null,"",null,"",null,"",null,"",null,"",null,"",null,"",null,"",null,"",null,"",null,"",null,"",null,"",null,"",null,{"$f":"IFERROR(IF(AND(BET$3>=$B$7,BET$3<=$C$7),\"○\",\"\"),\"\")","v":""},null,"",null,"",null,"",null,"",null,"",null,"",null,"",null,"",null,"",null,"",null,"",null,"",null,"",null,"",null,"",null,"",null,"",null,"",null,"",null,"",null,"",null,"",null,"",null,"",null,"",null,"",null,"",null,"",null,"",null,"",null,"",null,{"$f":"IFERROR(IF(AND(BHF$3>=$B$7,BHF$3<=$C$7),\"○\",\"\"),\"\")","v":""},null,"",null,"",null,"",null,"",null,"",null,"",null,"",null,"",null,"",null,"",null,"",null,"",null,"",null,"",null,"",null,"",null,"",null,"",null,"",null,"",null,"",null,"",null,"",null,"",null,"",null,"",null,"",null,"",null,"",null,"",null,"",null,{"$f":"IFERROR(IF(AND(BJR$3>=$B$7,BJR$3<=$C$7),\"○\",\"\"),\"\")","v":""},null,"",null,"",null,"",null,"",null,"",null,"",null,"",null,"",null,"",null,"",null,"",null,"",null,"",null,"",null,"",null,"",null,"",null,"",null,"",null,"",null,"",null,"",null,"",null,"",null,"",null,"",null,"",null,"",null,"",null,"",null,"",null,{"$f":"IFERROR(IF(AND(BMD$3>=$B$7,BMD$3<=$C$7),\"○\",\"\"),\"\")","v":""},null,"",null,"",null,"",null,"",null,"",null,"",null,"",null,"",null,"",null,"",null,"",null,"",null,"",null,"",null,"",null,"",null,"",null,"",null,"",null,"",null,"",null,"",null,"",null,"",null,"",null,"",null,"",null,"",null,"",null,"",null,"",null,{"$f":"IFERROR(IF(AND(BOP$3>=$B$7,BOP$3<=$C$7),\"○\",\"\"),\"\")","v":""},null,"",null,"",null,"",null,"",null,"",null,"",null,"",null,"",null,"",null,"",null,"",null,{"$f":"IFERROR(IF(AND(BPN$3>=$B$7,BPN$3<=$C$7),\"○\",\"\"),\"\")","v":""},null,"",null,"",null,"",null,"",null,"",null,"",null,"",null,"",null,"",null,"",null,"",null,"",null,"",null,"",null,"",null,"",null,"",null,"",null,"",null,"",null,"",null,"",null,"",null,"",null,"",null,"",null,"",null,"",null,"",null,"",null,"",null,{"$f":"IFERROR(IF(AND(BRZ$3>=$B$7,BRZ$3<=$C$7),\"○\",\"\"),\"\")","v":""},null,"",null,"",null,"",null,"",null,"",null,"",null,"",null,"",null,"",null,"",null,"",null,"",null,"",null,"",null,"",null,{"$f":"IFERROR(IF(AND(BTF$3>=$B$7,BTF$3<=$C$7),\"○\",\"\"),\"\")","v":""},null,"",null,"",null,"",null,"",null,"",null,"",null,"",null,"",null,"",null,"",null,"",null,{"$f":"IFERROR(IF(AND(BUD$3>=$B$7,BUD$3<=$C$7),\"○\",\"\"),\"\")","v":""},null,{"$f":"IFERROR(IF(AND(BUF$3>=$B$7,BUF$3<=$C$7),\"○\",\"\"),\"\")","v":""},null,{"$f":"IFERROR(IF(AND(BUH$3>=$B$7,BUH$3<=$C$7),\"○\",\"\"),\"\")","v":""},null,{"$f":"IFERROR(IF(AND(BUJ$3>=$B$7,BUJ$3<=$C$7),\"○\",\"\"),\"\")","v":""},null,{"$f":"IFERROR(IF(AND(BUL$3>=$B$7,BUL$3<=$C$7),\"○\",\"\"),\"\")","v":""},null,{"$f":"IFERROR(IF(AND(BUN$3>=$B$7,BUN$3<=$C$7),\"○\",\"\"),\"\")","v":""},null,{"$f":"IFERROR(IF(AND(BUP$3>=$B$7,BUP$3<=$C$7),\"○\",\"\"),\"\")","v":""},null,{"$f":"IFERROR(IF(AND(BUR$3>=$B$7,BUR$3<=$C$7),\"○\",\"\"),\"\")","v":""},null,{"$f":"IFERROR(IF(AND(BUT$3>=$B$7,BUT$3<=$C$7),\"○\",\"\"),\"\")","v":""},null,{"$f":"IFERROR(IF(AND(BUV$3>=$B$7,BUV$3<=$C$7),\"○\",\"\"),\"\")","v":""},null,{"$f":"IFERROR(IF(AND(BUX$3>=$B$7,BUX$3<=$C$7),\"○\",\"\"),\"\")","v":""},null,{"$f":"IFERROR(IF(AND(BUZ$3>=$B$7,BUZ$3<=$C$7),\"○\",\"\"),\"\")","v":""},null,{"$f":"IFERROR(IF(AND(BVB$3>=$B$7,BVB$3<=$C$7),\"○\",\"\"),\"\")","v":""},null,{"$f":"IFERROR(IF(AND(BVD$3>=$B$7,BVD$3<=$C$7),\"○\",\"\"),\"\")","v":""},null,{"$f":"IFERROR(IF(AND(BVF$3>=$B$7,BVF$3<=$C$7),\"○\",\"\"),\"\")","v":""},null,{"$f":"IFERROR(IF(AND(BVH$3>=$B$7,BVH$3<=$C$7),\"○\",\"\"),\"\")","v":""},null,{"$f":"IFERROR(IF(AND(BVJ$3>=$B$7,BVJ$3<=$C$7),\"○\",\"\"),\"\")","v":""},null,{"$f":"IFERROR(IF(AND(BVL$3>=$B$7,BVL$3<=$C$7),\"○\",\"\"),\"\")","v":""},null,{"$f":"IFERROR(IF(AND(BVN$3>=$B$7,BVN$3<=$C$7),\"○\",\"\"),\"\")","v":""},null,{"$f":"IFERROR(IF(AND(BVP$3>=$B$7,BVP$3<=$C$7),\"○\",\"\"),\"\")","v":""},null,{"$f":"IFERROR(IF(AND(BVR$3>=$B$7,BVR$3<=$C$7),\"○\",\"\"),\"\")","v":""},null,{"$f":"IFERROR(IF(AND(BVT$3>=$B$7,BVT$3<=$C$7),\"○\",\"\"),\"\")","v":""},null,{"$f":"IFERROR(IF(AND(BVV$3>=$B$7,BVV$3<=$C$7),\"○\",\"\"),\"\")","v":""},null,{"$f":"IFERROR(IF(AND(BVX$3>=$B$7,BVX$3<=$C$7),\"○\",\"\"),\"\")","v":""},null,"",null,"",null,"",null,"",null,"",null,"",null,"",null,"",null,"",null,"",null,"",null,"",null,{"$f":"SUM(F8:BWW8)","v":{"v":0,"d":"0.00"}},"月",{"$f":"BWX7/D7","v":{"$error":"#DIV/0!"}},{"v":0,"d":"0.00"},{"$f":"QUOTIENT(BXA7,12)","v":0},{"$f":"MOD(BXA7,12)","v":{"v":0,"d":"0.00"}}]
[{"$nulls":6},{"$f":"IF(F7=\"\",\"0\",1/F$22)","v":"0"},null,{"$f":"IF(H7=\"\",\"0\",1/H$22)","v":"0"},null,{"$f":"IF(J7=\"\",\"0\",1/J$22)","v":"0"},null,{"$f":"IF(L7=\"\",\"0\",1/L$22)","v":"0"},null,{"$f":"IF(N7=\"\",\"0\",1/N$22)","v":"0"},null,{"$f":"IF(P7=\"\",\"0\",1/P$22)","v":"0"},null,{"$f":"IF(R7=\"\",\"0\",1/R$22)","v":"0"},null,{"$f":"IF(T7=\"\",\"0\",1/T$22)","v":"0"},null,{"$f":"IF(V7=\"\",\"0\",1/V$22)","v":"0"},null,{"$f":"IF(X7=\"\",\"0\",1/X$22)","v":"0"},null,{"$f":"IF(Z7=\"\",\"0\",1/Z$22)","v":"0"},null,{"$f":"IF(AB7=\"\",\"0\",1/AB$22)","v":"0"},null,{"$f":"IF(AD7=\"\",\"0\",1/AD$22)","v":"0"},null,{"$f":"IF(AF7=\"\",\"0\",1/AF$22)","v":"0"},null,{"$f":"IF(AH7=\"\",\"0\",1/AH$22)","v":"0"},null,{"$f":"IF(AJ7=\"\",\"0\",1/AJ$22)","v":"0"},null,{"$f":"IF(AL7=\"\",\"0\",1/AL$22)","v":"0"},null,{"$f":"IF(AN7=\"\",\"0\",1/AN$22)","v":"0"},null,{"$f":"IF(AP7=\"\",\"0\",1/AP$22)","v":"0"},null,{"$f":"IF(AR7=\"\",\"0\",1/AR$22)","v":"0"},null,{"$f":"IF(AT7=\"\",\"0\",1/AT$22)","v":"0"},null,{"$f":"IF(AV7=\"\",\"0\",1/AV$22)","v":"0"},null,{"$f":"IF(AX7=\"\",\"0\",1/AX$22)","v":"0"},null,{"$f":"IF(AZ7=\"\",\"0\",1/AZ$22)","v":"0"},null,{"$f":"IF(BB7=\"\",\"0\",1/BB$22)","v":"0"},null,{"$f":"IF(BD7=\"\",\"0\",1/BD$22)","v":"0"},null,{"$f":"IF(BF7=\"\",\"0\",1/BF$22)","v":"0"},null,{"$f":"IF(BH7=\"\",\"0\",1/BH$22)","v":"0"},null,{"$f":"IF(BJ7=\"\",\"0\",1/BJ$22)","v":"0"},null,{"$f":"IF(BL7=\"\",\"0\",1/BL$22)","v":"0"},null,{"$f":"IF(BN7=\"\",\"0\",1/BN$22)","v":"0"},null,{"$f":"IF(BP7=\"\",\"0\",1/BP$22)","v":"0"},null,{"$f":"IF(BR7=\"\",\"0\",1/BR$22)","v":"0"},null,{"$f":"IF(BT7=\"\",\"0\",1/BT$22)","v":"0"},null,{"$f":"IF(BV7=\"\",\"0\",1/BV$22)","v":"0"},null,{"$f":"IF(BX7=\"\",\"0\",1/BX$22)","v":"0"},null,{"$f":"IF(BZ7=\"\",\"0\",1/BZ$22)","v":"0"},null,{"$f":"IF(CB7=\"\",\"0\",1/CB$22)","v":"0"},null,{"$f":"IF(CD7=\"\",\"0\",1/CD$22)","v":"0"},null,{"$f":"IF(CF7=\"\",\"0\",1/CF$22)","v":"0"},null,{"$f":"IF(CH7=\"\",\"0\",1/CH$22)","v":"0"},null,{"$f":"IF(CJ7=\"\",\"0\",1/CJ$22)","v":"0"},null,{"$f":"IF(CL7=\"\",\"0\",1/CL$22)","v":"0"},null,{"$f":"IF(CN7=\"\",\"0\",1/CN$22)","v":"0"},null,{"$f":"IF(CP7=\"\",\"0\",1/CP$22)","v":"0"},null,{"$f":"IF(CR7=\"\",\"0\",1/CR$22)","v":"0"},null,{"$f":"IF(CT7=\"\",\"0\",1/CT$22)","v":"0"},null,{"$f":"IF(CV7=\"\",\"0\",1/CV$22)","v":"0"},null,{"$f":"IF(CX7=\"\",\"0\",1/CX$22)","v":"0"},null,{"$f":"IF(CZ7=\"\",\"0\",1/CZ$22)","v":"0"},null,{"$f":"IF(DB7=\"\",\"0\",1/DB$22)","v":"0"},null,{"$f":"IF(DD7=\"\",\"0\",1/DD$22)","v":"0"},null,{"$f":"IF(DF7=\"\",\"0\",1/DF$22)","v":"0"},null,{"$f":"IF(DH7=\"\",\"0\",1/DH$22)","v":"0"},null,{"$f":"IF(DJ7=\"\",\"0\",1/DJ$22)","v":"0"},null,{"$f":"IF(DL7=\"\",\"0\",1/DL$22)","v":"0"},null,{"$f":"IF(DN7=\"\",\"0\",1/DN$22)","v":"0"},null,{"$f":"IF(DP7=\"\",\"0\",1/DP$22)","v":"0"},null,{"$f":"IF(DR7=\"\",\"0\",1/DR$22)","v":"0"},null,{"$f":"IF(DT7=\"\",\"0\",1/DT$22)","v":"0"},null,{"$f":"IF(DV7=\"\",\"0\",1/DV$22)","v":"0"},null,{"$f":"IF(DX7=\"\",\"0\",1/DX$22)","v":"0"},null,{"$f":"IF(DZ7=\"\",\"0\",1/DZ$22)","v":"0"},null,{"$f":"IF(EB7=\"\",\"0\",1/EB$22)","v":"0"},null,{"$f":"IF(ED7=\"\",\"0\",1/ED$22)","v":"0"},null,{"$f":"IF(EF7=\"\",\"0\",1/EF$22)","v":"0"},null,{"$f":"IF(EH7=\"\",\"0\",1/EH$22)","v":"0"},null,{"$f":"IF(EJ7=\"\",\"0\",1/EJ$22)","v":"0"},null,{"$f":"IF(EL7=\"\",\"0\",1/EL$22)","v":"0"},null,{"$f":"IF(EN7=\"\",\"0\",1/EN$22)","v":"0"},null,{"$f":"IF(EP7=\"\",\"0\",1/EP$22)","v":"0"},null,{"$f":"IF(ER7=\"\",\"0\",1/ER$22)","v":"0"},null,{"$f":"IF(ET7=\"\",\"0\",1/ET$22)","v":"0"},null,{"$f":"IF(EV7=\"\",\"0\",1/EV$22)","v":"0"},null,{"$f":"IF(EX7=\"\",\"0\",1/EX$22)","v":"0"},null,{"$f":"IF(EZ7=\"\",\"0\",1/EZ$22)","v":"0"},null,{"$f":"IF(FB7=\"\",\"0\",1/FB$22)","v":"0"},null,{"$f":"IF(FD7=\"\",\"0\",1/FD$22)","v":"0"},null,{"$f":"IF(FF7=\"\",\"0\",1/FF$22)","v":"0"},null,{"$f":"IF(FH7=\"\",\"0\",1/FH$22)","v":"0"},null,{"$f":"IF(FJ7=\"\",\"0\",1/FJ$22)","v":"0"},null,{"$f":"IF(FL7=\"\",\"0\",1/FL$22)","v":"0"},null,{"$f":"IF(FN7=\"\",\"0\",1/FN$22)","v":"0"},null,{"$f":"IF(FP7=\"\",\"0\",1/FP$22)","v":"0"},null,{"$f":"IF(FR7=\"\",\"0\",1/FR$22)","v":"0"},null,{"$f":"IF(FT7=\"\",\"0\",1/FT$22)","v":"0"},null,{"$f":"IF(FV7=\"\",\"0\",1/FV$22)","v":"0"},null,{"$f":"IF(FX7=\"\",\"0\",1/FX$22)","v":"0"},null,{"$f":"IF(FZ7=\"\",\"0\",1/FZ$22)","v":"0"},null,{"$f":"IF(GB7=\"\",\"0\",1/GB$22)","v":"0"},null,{"$f":"IF(GD7=\"\",\"0\",1/GD$22)","v":"0"},null,{"$f":"IF(GF7=\"\",\"0\",1/GF$22)","v":"0"},null,{"$f":"IF(GH7=\"\",\"0\",1/GH$22)","v":"0"},null,{"$f":"IF(GJ7=\"\",\"0\",1/GJ$22)","v":"0"},null,{"$f":"IF(GL7=\"\",\"0\",1/GL$22)","v":"0"},null,{"$f":"IF(GN7=\"\",\"0\",1/GN$22)","v":"0"},null,{"$f":"IF(GP7=\"\",\"0\",1/GP$22)","v":"0"},null,{"$f":"IF(GR7=\"\",\"0\",1/GR$22)","v":"0"},null,{"$f":"IF(GT7=\"\",\"0\",1/GT$22)","v":"0"},null,{"$f":"IF(GV7=\"\",\"0\",1/GV$22)","v":"0"},null,{"$f":"IF(GX7=\"\",\"0\",1/GX$22)","v":"0"},null,{"$f":"IF(GZ7=\"\",\"0\",1/GZ$22)","v":"0"},null,{"$f":"IF(HB7=\"\",\"0\",1/HB$22)","v":"0"},null,{"$f":"IF(HD7=\"\",\"0\",1/HD$22)","v":"0"},null,{"$f":"IF(HF7=\"\",\"0\",1/HF$22)","v":"0"},null,{"$f":"IF(HH7=\"\",\"0\",1/HH$22)","v":"0"},null,{"$f":"IF(HJ7=\"\",\"0\",1/HJ$22)","v":"0"},null,{"$f":"IF(HL7=\"\",\"0\",1/HL$22)","v":"0"},null,{"$f":"IF(HN7=\"\",\"0\",1/HN$22)","v":"0"},null,{"$f":"IF(HP7=\"\",\"0\",1/HP$22)","v":"0"},null,{"$f":"IF(HR7=\"\",\"0\",1/HR$22)","v":"0"},null,{"$f":"IF(HT7=\"\",\"0\",1/HT$22)","v":"0"},null,{"$f":"IF(HV7=\"\",\"0\",1/HV$22)","v":"0"},null,{"$f":"IF(HX7=\"\",\"0\",1/HX$22)","v":"0"},null,{"$f":"IF(HZ7=\"\",\"0\",1/HZ$22)","v":"0"},null,{"$f":"IF(IB7=\"\",\"0\",1/IB$22)","v":"0"},null,{"$f":"IF(ID7=\"\",\"0\",1/ID$22)","v":"0"},null,{"$f":"IF(IF7=\"\",\"0\",1/IF$22)","v":"0"},null,{"$f":"IF(IH7=\"\",\"0\",1/IH$22)","v":"0"},null,{"$f":"IF(IJ7=\"\",\"0\",1/IJ$22)","v":"0"},null,{"$f":"IF(IL7=\"\",\"0\",1/IL$22)","v":"0"},null,{"$f":"IF(IN7=\"\",\"0\",1/IN$22)","v":"0"},null,{"$f":"IF(IP7=\"\",\"0\",1/IP$22)","v":"0"},null,{"$f":"IF(IR7=\"\",\"0\",1/IR$22)","v":"0"},null,{"$f":"IF(IT7=\"\",\"0\",1/IT$22)","v":"0"},null,{"$f":"IF(IV7=\"\",\"0\",1/IV$22)","v":"0"},null,{"$f":"IF(IX7=\"\",\"0\",1/IX$22)","v":"0"},null,{"$f":"IF(IZ7=\"\",\"0\",1/IZ$22)","v":"0"},null,{"$f":"IF(JB7=\"\",\"0\",1/JB$22)","v":"0"},null,{"$f":"IF(JD7=\"\",\"0\",1/JD$22)","v":"0"},null,{"$f":"IF(JF7=\"\",\"0\",1/JF$22)","v":"0"},null,{"$f":"IF(JH7=\"\",\"0\",1/JH$22)","v":"0"},null,{"$f":"IF(JJ7=\"\",\"0\",1/JJ$22)","v":"0"},null,{"$f":"IF(JL7=\"\",\"0\",1/JL$22)","v":"0"},null,{"$f":"IF(JN7=\"\",\"0\",1/JN$22)","v":"0"},null,{"$f":"IF(JP7=\"\",\"0\",1/JP$22)","v":"0"},null,{"$f":"IF(JR7=\"\",\"0\",1/JR$22)","v":"0"},null,{"$f":"IF(JT7=\"\",\"0\",1/JT$22)","v":"0"},null,{"$f":"IF(JV7=\"\",\"0\",1/JV$22)","v":"0"},null,{"$f":"IF(JX7=\"\",\"0\",1/JX$22)","v":"0"},null,{"$f":"IF(JZ7=\"\",\"0\",1/JZ$22)","v":"0"},null,{"$f":"IF(KB7=\"\",\"0\",1/KB$22)","v":"0"},null,{"$f":"IF(KD7=\"\",\"0\",1/KD$22)","v":"0"},null,{"$f":"IF(KF7=\"\",\"0\",1/KF$22)","v":"0"},null,{"$f":"IF(KH7=\"\",\"0\",1/KH$22)","v":"0"},null,{"$f":"IF(KJ7=\"\",\"0\",1/KJ$22)","v":"0"},null,{"$f":"IF(KL7=\"\",\"0\",1/KL$22)","v":"0"},null,{"$f":"IF(KN7=\"\",\"0\",1/KN$22)","v":"0"},null,{"$f":"IF(KP7=\"\",\"0\",1/KP$22)","v":"0"},null,{"$f":"IF(KR7=\"\",\"0\",1/KR$22)","v":"0"},null,{"$f":"IF(KT7=\"\",\"0\",1/KT$22)","v":"0"},null,{"$f":"IF(KV7=\"\",\"0\",1/KV$22)","v":"0"},null,{"$f":"IF(KX7=\"\",\"0\",1/KX$22)","v":"0"},null,{"$f":"IF(KZ7=\"\",\"0\",1/KZ$22)","v":"0"},null,{"$f":"IF(LB7=\"\",\"0\",1/LB$22)","v":"0"},null,{"$f":"IF(LD7=\"\",\"0\",1/LD$22)","v":"0"},null,{"$f":"IF(LF7=\"\",\"0\",1/LF$22)","v":"0"},null,{"$f":"IF(LH7=\"\",\"0\",1/LH$22)","v":"0"},null,{"$f":"IF(LJ7=\"\",\"0\",1/LJ$22)","v":"0"},null,{"$f":"IF(LL7=\"\",\"0\",1/LL$22)","v":"0"},null,{"$f":"IF(LN7=\"\",\"0\",1/LN$22)","v":"0"},null,{"$f":"IF(LP7=\"\",\"0\",1/LP$22)","v":"0"},null,{"$f":"IF(LR7=\"\",\"0\",1/LR$22)","v":"0"},null,{"$f":"IF(LT7=\"\",\"0\",1/LT$22)","v":"0"},null,{"$f":"IF(LV7=\"\",\"0\",1/LV$22)","v":"0"},null,{"$f":"IF(LX7=\"\",\"0\",1/LX$22)","v":"0"},null,{"$f":"IF(LZ7=\"\",\"0\",1/LZ$22)","v":"0"},null,{"$f":"IF(MB7=\"\",\"0\",1/MB$22)","v":"0"},null,{"$f":"IF(MD7=\"\",\"0\",1/MD$22)","v":"0"},null,{"$f":"IF(MF7=\"\",\"0\",1/MF$22)","v":"0"},null,{"$f":"IF(MH7=\"\",\"0\",1/MH$22)","v":"0"},null,{"$f":"IF(MJ7=\"\",\"0\",1/MJ$22)","v":"0"},null,{"$f":"IF(ML7=\"\",\"0\",1/ML$22)","v":"0"},null,{"$f":"IF(MN7=\"\",\"0\",1/MN$22)","v":"0"},null,{"$f":"IF(MP7=\"\",\"0\",1/MP$22)","v":"0"},null,{"$f":"IF(MR7=\"\",\"0\",1/MR$22)","v":"0"},null,{"$f":"IF(MT7=\"\",\"0\",1/MT$22)","v":"0"},null,{"$f":"IF(MV7=\"\",\"0\",1/MV$22)","v":"0"},null,{"$f":"IF(MX7=\"\",\"0\",1/MX$22)","v":"0"},null,{"$f":"IF(MZ7=\"\",\"0\",1/MZ$22)","v":"0"},null,{"$f":"IF(NB7=\"\",\"0\",1/NB$22)","v":"0"},null,{"$f":"IF(ND7=\"\",\"0\",1/ND$22)","v":"0"},null,{"$f":"IF(NF7=\"\",\"0\",1/NF$22)","v":"0"},null,{"$f":"IF(NH7=\"\",\"0\",1/NH$22)","v":"0"},null,{"$f":"IF(NJ7=\"\",\"0\",1/NJ$22)","v":"0"},null,{"$f":"IF(NL7=\"\",\"0\",1/NL$22)","v":"0"},null,{"$f":"IF(NN7=\"\",\"0\",1/NN$22)","v":"0"},null,{"$f":"IF(NP7=\"\",\"0\",1/NP$22)","v":"0"},null,{"$f":"IF(NR7=\"\",\"0\",1/NR$22)","v":"0"},null,{"$f":"IF(NT7=\"\",\"0\",1/NT$22)","v":"0"},null,{"$f":"IF(NV7=\"\",\"0\",1/NV$22)","v":"0"},null,{"$f":"IF(NX7=\"\",\"0\",1/NX$22)","v":"0"},null,{"$f":"IF(NZ7=\"\",\"0\",1/NZ$22)","v":"0"},null,{"$f":"IF(OB7=\"\",\"0\",1/OB$22)","v":"0"},null,{"$f":"IF(OD7=\"\",\"0\",1/OD$22)","v":"0"},null,{"$f":"IF(OF7=\"\",\"0\",1/OF$22)","v":"0"},null,{"$f":"IF(OH7=\"\",\"0\",1/OH$22)","v":"0"},null,{"$f":"IF(OJ7=\"\",\"0\",1/OJ$22)","v":"0"},null,{"$f":"IF(OL7=\"\",\"0\",1/OL$22)","v":"0"},null,{"$f":"IF(ON7=\"\",\"0\",1/ON$22)","v":"0"},null,{"$f":"IF(OP7=\"\",\"0\",1/OP$22)","v":"0"},null,{"$f":"IF(OR7=\"\",\"0\",1/OR$22)","v":"0"},null,{"$f":"IF(OT7=\"\",\"0\",1/OT$22)","v":"0"},null,{"$f":"IF(OV7=\"\",\"0\",1/OV$22)","v":"0"},null,{"$f":"IF(OX7=\"\",\"0\",1/OX$22)","v":"0"},null,{"$f":"IF(OZ7=\"\",\"0\",1/OZ$22)","v":"0"},null,{"$f":"IF(PB7=\"\",\"0\",1/PB$22)","v":"0"},null,{"$f":"IF(PD7=\"\",\"0\",1/PD$22)","v":"0"},null,{"$f":"IF(PF7=\"\",\"0\",1/PF$22)","v":"0"},null,{"$f":"IF(PH7=\"\",\"0\",1/PH$22)","v":"0"},null,{"$f":"IF(PJ7=\"\",\"0\",1/PJ$22)","v":"0"},null,{"$f":"IF(PL7=\"\",\"0\",1/PL$22)","v":"0"},null,{"$f":"IF(PN7=\"\",\"0\",1/PN$22)","v":"0"},null,{"$f":"IF(PP7=\"\",\"0\",1/PP$22)","v":"0"},null,{"$f":"IF(PR7=\"\",\"0\",1/PR$22)","v":"0"},null,{"$f":"IF(PT7=\"\",\"0\",1/PT$22)","v":"0"},null,{"$f":"IF(PV7=\"\",\"0\",1/PV$22)","v":"0"},null,{"$f":"IF(PX7=\"\",\"0\",1/PX$22)","v":"0"},null,{"$f":"IF(PZ7=\"\",\"0\",1/PZ$22)","v":"0"},null,{"$f":"IF(QB7=\"\",\"0\",1/QB$22)","v":"0"},null,{"$f":"IF(QD7=\"\",\"0\",1/QD$22)","v":"0"},null,{"$f":"IF(QF7=\"\",\"0\",1/QF$22)","v":"0"},null,{"$f":"IF(QH7=\"\",\"0\",1/QH$22)","v":"0"},null,{"$f":"IF(QJ7=\"\",\"0\",1/QJ$22)","v":"0"},null,{"$f":"IF(QL7=\"\",\"0\",1/QL$22)","v":"0"},null,{"$f":"IF(QN7=\"\",\"0\",1/QN$22)","v":"0"},null,{"$f":"IF(QP7=\"\",\"0\",1/QP$22)","v":"0"},null,{"$f":"IF(QR7=\"\",\"0\",1/QR$22)","v":"0"},null,{"$f":"IF(QT7=\"\",\"0\",1/QT$22)","v":"0"},null,{"$f":"IF(QV7=\"\",\"0\",1/QV$22)","v":"0"},null,{"$f":"IF(QX7=\"\",\"0\",1/QX$22)","v":"0"},null,{"$f":"IF(QZ7=\"\",\"0\",1/QZ$22)","v":"0"},null,{"$f":"IF(RB7=\"\",\"0\",1/RB$22)","v":"0"},null,{"$f":"IF(RD7=\"\",\"0\",1/RD$22)","v":"0"},null,{"$f":"IF(RF7=\"\",\"0\",1/RF$22)","v":"0"},null,{"$f":"IF(RH7=\"\",\"0\",1/RH$22)","v":"0"},null,{"$f":"IF(RJ7=\"\",\"0\",1/RJ$22)","v":"0"},null,{"$f":"IF(RL7=\"\",\"0\",1/RL$22)","v":"0"},null,{"$f":"IF(RN7=\"\",\"0\",1/RN$22)","v":"0"},null,{"$f":"IF(RP7=\"\",\"0\",1/RP$22)","v":"0"},null,{"$f":"IF(RR7=\"\",\"0\",1/RR$22)","v":"0"},null,{"$f":"IF(RT7=\"\",\"0\",1/RT$22)","v":"0"},null,{"$f":"IF(RV7=\"\",\"0\",1/RV$22)","v":"0"},null,{"$f":"IF(RX7=\"\",\"0\",1/RX$22)","v":"0"},null,{"$f":"IF(RZ7=\"\",\"0\",1/RZ$22)","v":"0"},null,{"$f":"IF(SB7=\"\",\"0\",1/SB$22)","v":"0"},null,{"$f":"IF(SD7=\"\",\"0\",1/SD$22)","v":"0"},null,{"$f":"IF(SF7=\"\",\"0\",1/SF$22)","v":"0"},null,{"$f":"IF(SH7=\"\",\"0\",1/SH$22)","v":"0"},null,{"$f":"IF(SJ7=\"\",\"0\",1/SJ$22)","v":"0"},null,{"$f":"IF(SL7=\"\",\"0\",1/SL$22)","v":"0"},null,{"$f":"IF(SN7=\"\",\"0\",1/SN$22)","v":"0"},null,{"$f":"IF(SP7=\"\",\"0\",1/SP$22)","v":"0"},null,{"$f":"IF(SR7=\"\",\"0\",1/SR$22)","v":"0"},null,{"$f":"IF(ST7=\"\",\"0\",1/ST$22)","v":"0"},null,{"$f":"IF(SV7=\"\",\"0\",1/SV$22)","v":"0"},null,{"$f":"IF(SX7=\"\",\"0\",1/SX$22)","v":"0"},null,{"$f":"IF(SZ7=\"\",\"0\",1/SZ$22)","v":"0"},null,{"$f":"IF(TB7=\"\",\"0\",1/TB$22)","v":"0"},null,{"$f":"IF(TD7=\"\",\"0\",1/TD$22)","v":"0"},null,{"$f":"IF(TF7=\"\",\"0\",1/TF$22)","v":"0"},null,{"$f":"IF(TH7=\"\",\"0\",1/TH$22)","v":"0"},null,{"$f":"IF(TJ7=\"\",\"0\",1/TJ$22)","v":"0"},null,{"$f":"IF(TL7=\"\",\"0\",1/TL$22)","v":"0"},null,{"$f":"IF(TN7=\"\",\"0\",1/TN$22)","v":"0"},null,{"$f":"IF(TP7=\"\",\"0\",1/TP$22)","v":"0"},null,{"$f":"IF(TR7=\"\",\"0\",1/TR$22)","v":"0"},null,{"$f":"IF(TT7=\"\",\"0\",1/TT$22)","v":"0"},null,{"$f":"IF(TV7=\"\",\"0\",1/TV$22)","v":"0"},null,{"$f":"IF(TX7=\"\",\"0\",1/TX$22)","v":"0"},null,{"$f":"IF(TZ7=\"\",\"0\",1/TZ$22)","v":"0"},null,{"$f":"IF(UB7=\"\",\"0\",1/UB$22)","v":"0"},null,{"$f":"IF(UD7=\"\",\"0\",1/UD$22)","v":"0"},null,{"$f":"IF(UF7=\"\",\"0\",1/UF$22)","v":"0"},null,{"$f":"IF(UH7=\"\",\"0\",1/UH$22)","v":"0"},null,{"$f":"IF(UJ7=\"\",\"0\",1/UJ$22)","v":"0"},null,{"$f":"IF(UL7=\"\",\"0\",1/UL$22)","v":"0"},null,{"$f":"IF(UN7=\"\",\"0\",1/UN$22)","v":"0"},null,{"$f":"IF(UP7=\"\",\"0\",1/UP$22)","v":"0"},null,{"$f":"IF(UR7=\"\",\"0\",1/UR$22)","v":"0"},null,{"$f":"IF(UT7=\"\",\"0\",1/UT$22)","v":"0"},null,{"$f":"IF(UV7=\"\",\"0\",1/UV$22)","v":"0"},null,{"$f":"IF(UX7=\"\",\"0\",1/UX$22)","v":"0"},null,{"$f":"IF(UZ7=\"\",\"0\",1/UZ$22)","v":"0"},null,{"$f":"IF(VB7=\"\",\"0\",1/VB$22)","v":"0"},null,{"$f":"IF(VD7=\"\",\"0\",1/VD$22)","v":"0"},null,{"$f":"IF(VF7=\"\",\"0\",1/VF$22)","v":"0"},null,{"$f":"IF(VH7=\"\",\"0\",1/VH$22)","v":"0"},null,{"$f":"IF(VJ7=\"\",\"0\",1/VJ$22)","v":"0"},null,{"$f":"IF(VL7=\"\",\"0\",1/VL$22)","v":"0"},null,{"$f":"IF(VN7=\"\",\"0\",1/VN$22)","v":"0"},null,{"$f":"IF(VP7=\"\",\"0\",1/VP$22)","v":"0"},null,{"$f":"IF(VR7=\"\",\"0\",1/VR$22)","v":"0"},null,{"$f":"IF(VT7=\"\",\"0\",1/VT$22)","v":"0"},null,{"$f":"IF(VV7=\"\",\"0\",1/VV$22)","v":"0"},null,{"$f":"IF(VX7=\"\",\"0\",1/VX$22)","v":"0"},null,{"$f":"IF(VZ7=\"\",\"0\",1/VZ$22)","v":"0"},null,{"$f":"IF(WB7=\"\",\"0\",1/WB$22)","v":"0"},null,{"$f":"IF(WD7=\"\",\"0\",1/WD$22)","v":"0"},null,{"$f":"IF(WF7=\"\",\"0\",1/WF$22)","v":"0"},null,{"$f":"IF(WH7=\"\",\"0\",1/WH$22)","v":"0"},null,{"$f":"IF(WJ7=\"\",\"0\",1/WJ$22)","v":"0"},null,{"$f":"IF(WL7=\"\",\"0\",1/WL$22)","v":"0"},null,{"$f":"IF(WN7=\"\",\"0\",1/WN$22)","v":"0"},null,{"$f":"IF(WP7=\"\",\"0\",1/WP$22)","v":"0"},null,{"$f":"IF(WR7=\"\",\"0\",1/WR$22)","v":"0"},null,{"$f":"IF(WT7=\"\",\"0\",1/WT$22)","v":"0"},null,{"$f":"IF(WV7=\"\",\"0\",1/WV$22)","v":"0"},null,{"$f":"IF(WX7=\"\",\"0\",1/WX$22)","v":"0"},null,{"$f":"IF(WZ7=\"\",\"0\",1/WZ$22)","v":"0"},null,{"$f":"IF(XB7=\"\",\"0\",1/XB$22)","v":"0"},null,{"$f":"IF(XD7=\"\",\"0\",1/XD$22)","v":"0"},null,{"$f":"IF(XF7=\"\",\"0\",1/XF$22)","v":"0"},null,{"$f":"IF(XH7=\"\",\"0\",1/XH$22)","v":"0"},null,{"$f":"IF(XJ7=\"\",\"0\",1/XJ$22)","v":"0"},null,{"$f":"IF(XL7=\"\",\"0\",1/XL$22)","v":"0"},null,{"$f":"IF(XN7=\"\",\"0\",1/XN$22)","v":"0"},null,{"$f":"IF(XP7=\"\",\"0\",1/XP$22)","v":"0"},null,{"$f":"IF(XR7=\"\",\"0\",1/XR$22)","v":"0"},null,{"$f":"IF(XT7=\"\",\"0\",1/XT$22)","v":"0"},null,{"$f":"IF(XV7=\"\",\"0\",1/XV$22)","v":"0"},null,{"$f":"IF(XX7=\"\",\"0\",1/XX$22)","v":"0"},null,{"$f":"IF(XZ7=\"\",\"0\",1/XZ$22)","v":"0"},null,{"$f":"IF(YB7=\"\",\"0\",1/YB$22)","v":"0"},null,{"$f":"IF(YD7=\"\",\"0\",1/YD$22)","v":"0"},null,{"$f":"IF(YF7=\"\",\"0\",1/YF$22)","v":"0"},null,{"$f":"IF(YH7=\"\",\"0\",1/YH$22)","v":"0"},null,{"$f":"IF(YJ7=\"\",\"0\",1/YJ$22)","v":"0"},null,{"$f":"IF(YL7=\"\",\"0\",1/YL$22)","v":"0"},null,{"$f":"IF(YN7=\"\",\"0\",1/YN$22)","v":"0"},null,{"$f":"IF(YP7=\"\",\"0\",1/YP$22)","v":"0"},null,{"$f":"IF(YR7=\"\",\"0\",1/YR$22)","v":"0"},null,{"$f":"IF(YT7=\"\",\"0\",1/YT$22)","v":"0"},null,{"$f":"IF(YV7=\"\",\"0\",1/YV$22)","v":"0"},null,{"$f":"IF(YX7=\"\",\"0\",1/YX$22)","v":"0"},null,{"$f":"IF(YZ7=\"\",\"0\",1/YZ$22)","v":"0"},null,{"$f":"IF(ZB7=\"\",\"0\",1/ZB$22)","v":"0"},null,{"$f":"IF(ZD7=\"\",\"0\",1/ZD$22)","v":"0"},null,{"$f":"IF(ZF7=\"\",\"0\",1/ZF$22)","v":"0"},null,{"$f":"IF(ZH7=\"\",\"0\",1/ZH$22)","v":"0"},null,{"$f":"IF(ZJ7=\"\",\"0\",1/ZJ$22)","v":"0"},null,{"$f":"IF(ZL7=\"\",\"0\",1/ZL$22)","v":"0"},null,{"$f":"IF(ZN7=\"\",\"0\",1/ZN$22)","v":"0"},null,{"$f":"IF(ZP7=\"\",\"0\",1/ZP$22)","v":"0"},null,{"$f":"IF(ZR7=\"\",\"0\",1/ZR$22)","v":"0"},null,{"$f":"IF(ZT7=\"\",\"0\",1/ZT$22)","v":"0"},null,{"$f":"IF(ZV7=\"\",\"0\",1/ZV$22)","v":"0"},null,{"$f":"IF(ZX7=\"\",\"0\",1/ZX$22)","v":"0"},null,{"$f":"IF(ZZ7=\"\",\"0\",1/ZZ$22)","v":"0"},null,{"$f":"IF(AAB7=\"\",\"0\",1/AAB$22)","v":"0"},null,{"$f":"IF(AAD7=\"\",\"0\",1/AAD$22)","v":"0"},null,{"$f":"IF(AAF7=\"\",\"0\",1/AAF$22)","v":"0"},null,{"$f":"IF(AAH7=\"\",\"0\",1/AAH$22)","v":"0"},null,{"$f":"IF(AAJ7=\"\",\"0\",1/AAJ$22)","v":"0"},null,{"$f":"IF(AAL7=\"\",\"0\",1/AAL$22)","v":"0"},null,{"$f":"IF(AAN7=\"\",\"0\",1/AAN$22)","v":"0"},null,{"$f":"IF(AAP7=\"\",\"0\",1/AAP$22)","v":"0"},null,{"$f":"IF(AAR7=\"\",\"0\",1/AAR$22)","v":"0"},null,{"$f":"IF(AAT7=\"\",\"0\",1/AAT$22)","v":"0"},null,{"$f":"IF(AAV7=\"\",\"0\",1/AAV$22)","v":"0"},null,{"$f":"IF(AAX7=\"\",\"0\",1/AAX$22)","v":"0"},null,{"$f":"IF(AAZ7=\"\",\"0\",1/AAZ$22)","v":"0"},null,{"$f":"IF(ABB7=\"\",\"0\",1/ABB$22)","v":"0"},null,{"$f":"IF(ABD7=\"\",\"0\",1/ABD$22)","v":"0"},null,{"$f":"IF(ABF7=\"\",\"0\",1/ABF$22)","v":"0"},null,{"$f":"IF(ABH7=\"\",\"0\",1/ABH$22)","v":"0"},null,{"$f":"IF(ABJ7=\"\",\"0\",1/ABJ$22)","v":"0"},null,{"$f":"IF(ABL7=\"\",\"0\",1/ABL$22)","v":"0"},null,{"$f":"IF(ABN7=\"\",\"0\",1/ABN$22)","v":"0"},null,{"$f":"IF(ABP7=\"\",\"0\",1/ABP$22)","v":"0"},null,{"$f":"IF(ABR7=\"\",\"0\",1/ABR$22)","v":"0"},null,{"$f":"IF(ABT7=\"\",\"0\",1/ABT$22)","v":"0"},null,{"$f":"IF(ABV7=\"\",\"0\",1/ABV$22)","v":"0"},null,{"$f":"IF(ABX7=\"\",\"0\",1/ABX$22)","v":"0"},null,{"$f":"IF(ABZ7=\"\",\"0\",1/ABZ$22)","v":"0"},null,{"$f":"IF(ACB7=\"\",\"0\",1/ACB$22)","v":"0"},null,{"$f":"IF(ACD7=\"\",\"0\",1/ACD$22)","v":"0"},null,{"$f":"IF(ACF7=\"\",\"0\",1/ACF$22)","v":"0"},null,{"$f":"IF(ACH7=\"\",\"0\",1/ACH$22)","v":"0"},null,{"$f":"IF(ACJ7=\"\",\"0\",1/ACJ$22)","v":"0"},null,{"$f":"IF(ACL7=\"\",\"0\",1/ACL$22)","v":"0"},null,{"$f":"IF(ACN7=\"\",\"0\",1/ACN$22)","v":"0"},null,{"$f":"IF(ACP7=\"\",\"0\",1/ACP$22)","v":"0"},null,{"$f":"IF(ACR7=\"\",\"0\",1/ACR$22)","v":"0"},null,{"$f":"IF(ACT7=\"\",\"0\",1/ACT$22)","v":"0"},null,{"$f":"IF(ACV7=\"\",\"0\",1/ACV$22)","v":"0"},null,{"$f":"IF(ACX7=\"\",\"0\",1/ACX$22)","v":"0"},null,{"$f":"IF(ACZ7=\"\",\"0\",1/ACZ$22)","v":"0"},null,{"$f":"IF(ADB7=\"\",\"0\",1/ADB$22)","v":"0"},null,{"$f":"IF(ADD7=\"\",\"0\",1/ADD$22)","v":"0"},null,{"$f":"IF(ADF7=\"\",\"0\",1/ADF$22)","v":"0"},null,{"$f":"IF(ADH7=\"\",\"0\",1/ADH$22)","v":"0"},null,{"$f":"IF(ADJ7=\"\",\"0\",1/ADJ$22)","v":"0"},null,{"$f":"IF(ADL7=\"\",\"0\",1/ADL$22)","v":"0"},null,{"$f":"IF(ADN7=\"\",\"0\",1/ADN$22)","v":"0"},null,{"$f":"IF(ADP7=\"\",\"0\",1/ADP$22)","v":"0"},null,{"$f":"IF(ADR7=\"\",\"0\",1/ADR$22)","v":"0"},null,{"$f":"IF(ADT7=\"\",\"0\",1/ADT$22)","v":"0"},null,{"$f":"IF(ADV7=\"\",\"0\",1/ADV$22)","v":"0"},null,{"$f":"IF(ADX7=\"\",\"0\",1/ADX$22)","v":"0"},null,{"$f":"IF(ADZ7=\"\",\"0\",1/ADZ$22)","v":"0"},null,{"$f":"IF(AEB7=\"\",\"0\",1/AEB$22)","v":"0"},null,{"$f":"IF(AED7=\"\",\"0\",1/AED$22)","v":"0"},null,{"$f":"IF(AEF7=\"\",\"0\",1/AEF$22)","v":"0"},null,{"$f":"IF(AEH7=\"\",\"0\",1/AEH$22)","v":"0"},null,{"$f":"IF(AEJ7=\"\",\"0\",1/AEJ$22)","v":"0"},null,{"$f":"IF(AEL7=\"\",\"0\",1/AEL$22)","v":"0"},null,{"$f":"IF(AEN7=\"\",\"0\",1/AEN$22)","v":"0"},null,{"$f":"IF(AEP7=\"\",\"0\",1/AEP$22)","v":"0"},null,{"$f":"IF(AER7=\"\",\"0\",1/AER$22)","v":"0"},null,{"$f":"IF(AET7=\"\",\"0\",1/AET$22)","v":"0"},null,{"$f":"IF(AEV7=\"\",\"0\",1/AEV$22)","v":"0"},null,{"$f":"IF(AEX7=\"\",\"0\",1/AEX$22)","v":"0"},null,{"$f":"IF(AEZ7=\"\",\"0\",1/AEZ$22)","v":"0"},null,{"$f":"IF(AFB7=\"\",\"0\",1/AFB$22)","v":"0"},null,{"$f":"IF(AFD7=\"\",\"0\",1/AFD$22)","v":"0"},null,{"$f":"IF(AFF7=\"\",\"0\",1/AFF$22)","v":"0"},null,{"$f":"IF(AFH7=\"\",\"0\",1/AFH$22)","v":"0"},null,{"$f":"IF(AFJ7=\"\",\"0\",1/AFJ$22)","v":"0"},null,{"$f":"IF(AFL7=\"\",\"0\",1/AFL$22)","v":"0"},null,{"$f":"IF(AFN7=\"\",\"0\",1/AFN$22)","v":"0"},null,{"$f":"IF(AFP7=\"\",\"0\",1/AFP$22)","v":"0"},null,{"$f":"IF(AFR7=\"\",\"0\",1/AFR$22)","v":"0"},null,{"$f":"IF(AFT7=\"\",\"0\",1/AFT$22)","v":"0"},null,{"$f":"IF(AFV7=\"\",\"0\",1/AFV$22)","v":"0"},null,{"$f":"IF(AFX7=\"\",\"0\",1/AFX$22)","v":"0"},null,{"$f":"IF(AFZ7=\"\",\"0\",1/AFZ$22)","v":"0"},null,{"$f":"IF(AGB7=\"\",\"0\",1/AGB$22)","v":"0"},null,{"$f":"IF(AGD7=\"\",\"0\",1/AGD$22)","v":"0"},null,{"$f":"IF(AGF7=\"\",\"0\",1/AGF$22)","v":"0"},null,{"$f":"IF(AGH7=\"\",\"0\",1/AGH$22)","v":"0"},null,{"$f":"IF(AGJ7=\"\",\"0\",1/AGJ$22)","v":"0"},null,{"$f":"IF(AGL7=\"\",\"0\",1/AGL$22)","v":"0"},null,{"$f":"IF(AGN7=\"\",\"0\",1/AGN$22)","v":"0"},null,{"$f":"IF(AGP7=\"\",\"0\",1/AGP$22)","v":"0"},null,{"$f":"IF(AGR7=\"\",\"0\",1/AGR$22)","v":"0"},null,{"$f":"IF(AGT7=\"\",\"0\",1/AGT$22)","v":"0"},null,{"$f":"IF(AGV7=\"\",\"0\",1/AGV$22)","v":"0"},null,{"$f":"IF(AGX7=\"\",\"0\",1/AGX$22)","v":"0"},null,{"$f":"IF(AGZ7=\"\",\"0\",1/AGZ$22)","v":"0"},null,{"$f":"IF(AHB7=\"\",\"0\",1/AHB$22)","v":"0"},null,{"$f":"IF(AHD7=\"\",\"0\",1/AHD$22)","v":"0"},null,{"$f":"IF(AHF7=\"\",\"0\",1/AHF$22)","v":"0"},null,{"$f":"IF(AHH7=\"\",\"0\",1/AHH$22)","v":"0"},null,{"$f":"IF(AHJ7=\"\",\"0\",1/AHJ$22)","v":"0"},null,{"$f":"IF(AHL7=\"\",\"0\",1/AHL$22)","v":"0"},null,{"$f":"IF(AHN7=\"\",\"0\",1/AHN$22)","v":"0"},null,{"$f":"IF(AHP7=\"\",\"0\",1/AHP$22)","v":"0"},null,{"$f":"IF(AHR7=\"\",\"0\",1/AHR$22)","v":"0"},null,{"$f":"IF(AHT7=\"\",\"0\",1/AHT$22)","v":"0"},null,{"$f":"IF(AHV7=\"\",\"0\",1/AHV$22)","v":"0"},null,{"$f":"IF(AHX7=\"\",\"0\",1/AHX$22)","v":"0"},null,{"$f":"IF(AHZ7=\"\",\"0\",1/AHZ$22)","v":"0"},null,{"$f":"IF(AIB7=\"\",\"0\",1/AIB$22)","v":"0"},null,{"$f":"IF(AID7=\"\",\"0\",1/AID$22)","v":"0"},null,{"$f":"IF(AIF7=\"\",\"0\",1/AIF$22)","v":"0"},null,{"$f":"IF(AIH7=\"\",\"0\",1/AIH$22)","v":"0"},null,{"$f":"IF(AIJ7=\"\",\"0\",1/AIJ$22)","v":"0"},null,{"$f":"IF(AIL7=\"\",\"0\",1/AIL$22)","v":"0"},null,{"$f":"IF(AIN7=\"\",\"0\",1/AIN$22)","v":"0"},null,{"$f":"IF(AIP7=\"\",\"0\",1/AIP$22)","v":"0"},null,{"$f":"IF(AIR7=\"\",\"0\",1/AIR$22)","v":"0"},null,{"$f":"IF(AIT7=\"\",\"0\",1/AIT$22)","v":"0"},null,{"$f":"IF(AIV7=\"\",\"0\",1/AIV$22)","v":"0"},null,{"$f":"IF(AIX7=\"\",\"0\",1/AIX$22)","v":"0"},null,{"$f":"IF(AIZ7=\"\",\"0\",1/AIZ$22)","v":"0"},null,{"$f":"IF(AJB7=\"\",\"0\",1/AJB$22)","v":"0"},null,{"$f":"IF(AJD7=\"\",\"0\",1/AJD$22)","v":"0"},null,{"$f":"IF(AJF7=\"\",\"0\",1/AJF$22)","v":"0"},null,{"$f":"IF(AJH7=\"\",\"0\",1/AJH$22)","v":"0"},null,{"$f":"IF(AJJ7=\"\",\"0\",1/AJJ$22)","v":"0"},null,{"$f":"IF(AJL7=\"\",\"0\",1/AJL$22)","v":"0"},null,{"$f":"IF(AJN7=\"\",\"0\",1/AJN$22)","v":"0"},null,{"$f":"IF(AJP7=\"\",\"0\",1/AJP$22)","v":"0"},null,{"$f":"IF(AJR7=\"\",\"0\",1/AJR$22)","v":"0"},null,{"$f":"IF(AJT7=\"\",\"0\",1/AJT$22)","v":"0"},null,{"$f":"IF(AJV7=\"\",\"0\",1/AJV$22)","v":"0"},null,{"$f":"IF(AJX7=\"\",\"0\",1/AJX$22)","v":"0"},null,{"$f":"IF(AJZ7=\"\",\"0\",1/AJZ$22)","v":"0"},null,{"$f":"IF(AKB7=\"\",\"0\",1/AKB$22)","v":"0"},null,{"$f":"IF(AKD7=\"\",\"0\",1/AKD$22)","v":"0"},null,{"$f":"IF(AKF7=\"\",\"0\",1/AKF$22)","v":"0"},null,{"$f":"IF(AKH7=\"\",\"0\",1/AKH$22)","v":"0"},null,{"$f":"IF(AKJ7=\"\",\"0\",1/AKJ$22)","v":"0"},null,{"$f":"IF(AKL7=\"\",\"0\",1/AKL$22)","v":"0"},null,{"$f":"IF(AKN7=\"\",\"0\",1/AKN$22)","v":"0"},null,{"$f":"IF(AKP7=\"\",\"0\",1/AKP$22)","v":"0"},null,{"$f":"IF(AKR7=\"\",\"0\",1/AKR$22)","v":"0"},null,{"$f":"IF(AKT7=\"\",\"0\",1/AKT$22)","v":"0"},null,{"$f":"IF(AKV7=\"\",\"0\",1/AKV$22)","v":"0"},null,{"$f":"IF(AKX7=\"\",\"0\",1/AKX$22)","v":"0"},null,{"$f":"IF(AKZ7=\"\",\"0\",1/AKZ$22)","v":"0"},null,{"$f":"IF(ALB7=\"\",\"0\",1/ALB$22)","v":"0"},null,{"$f":"IF(ALD7=\"\",\"0\",1/ALD$22)","v":"0"},null,{"$f":"IF(ALF7=\"\",\"0\",1/ALF$22)","v":"0"},null,{"$f":"IF(ALH7=\"\",\"0\",1/ALH$22)","v":"0"},null,{"$f":"IF(ALJ7=\"\",\"0\",1/ALJ$22)","v":"0"},null,{"$f":"IF(ALL7=\"\",\"0\",1/ALL$22)","v":"0"},null,{"$f":"IF(ALN7=\"\",\"0\",1/ALN$22)","v":"0"},null,{"$f":"IF(ALP7=\"\",\"0\",1/ALP$22)","v":"0"},null,{"$f":"IF(ALR7=\"\",\"0\",1/ALR$22)","v":"0"},null,{"$f":"IF(ALT7=\"\",\"0\",1/ALT$22)","v":"0"},null,{"$f":"IF(ALV7=\"\",\"0\",1/ALV$22)","v":"0"},null,{"$f":"IF(ALX7=\"\",\"0\",1/ALX$22)","v":"0"},null,{"$f":"IF(ALZ7=\"\",\"0\",1/ALZ$22)","v":"0"},null,{"$f":"IF(AMB7=\"\",\"0\",1/AMB$22)","v":"0"},null,{"$f":"IF(AMD7=\"\",\"0\",1/AMD$22)","v":"0"},null,{"$f":"IF(AMF7=\"\",\"0\",1/AMF$22)","v":"0"},null,{"$f":"IF(AMH7=\"\",\"0\",1/AMH$22)","v":"0"},null,{"$f":"IF(AMJ7=\"\",\"0\",1/AMJ$22)","v":"0"},null,{"$f":"IF(AML7=\"\",\"0\",1/AML$22)","v":"0"},null,{"$f":"IF(AMN7=\"\",\"0\",1/AMN$22)","v":"0"},null,{"$f":"IF(AMP7=\"\",\"0\",1/AMP$22)","v":"0"},null,{"$f":"IF(AMR7=\"\",\"0\",1/AMR$22)","v":"0"},null,{"$f":"IF(AMT7=\"\",\"0\",1/AMT$22)","v":"0"},null,{"$f":"IF(AMV7=\"\",\"0\",1/AMV$22)","v":"0"},null,{"$f":"IF(AMX7=\"\",\"0\",1/AMX$22)","v":"0"},null,{"$f":"IF(AMZ7=\"\",\"0\",1/AMZ$22)","v":"0"},null,{"$f":"IF(ANB7=\"\",\"0\",1/ANB$22)","v":"0"},null,{"$f":"IF(AND7=\"\",\"0\",1/AND$22)","v":"0"},null,{"$f":"IF(ANF7=\"\",\"0\",1/ANF$22)","v":"0"},null,{"$f":"IF(ANH7=\"\",\"0\",1/ANH$22)","v":"0"},null,{"$f":"IF(ANJ7=\"\",\"0\",1/ANJ$22)","v":"0"},null,{"$f":"IF(ANL7=\"\",\"0\",1/ANL$22)","v":"0"},null,{"$f":"IF(ANN7=\"\",\"0\",1/ANN$22)","v":"0"},null,{"$f":"IF(ANP7=\"\",\"0\",1/ANP$22)","v":"0"},null,{"$f":"IF(ANR7=\"\",\"0\",1/ANR$22)","v":"0"},null,{"$f":"IF(ANT7=\"\",\"0\",1/ANT$22)","v":"0"},null,{"$f":"IF(ANV7=\"\",\"0\",1/ANV$22)","v":"0"},null,{"$f":"IF(ANX7=\"\",\"0\",1/ANX$22)","v":"0"},null,{"$f":"IF(ANZ7=\"\",\"0\",1/ANZ$22)","v":"0"},null,{"$f":"IF(AOB7=\"\",\"0\",1/AOB$22)","v":"0"},null,{"$f":"IF(AOD7=\"\",\"0\",1/AOD$22)","v":"0"},null,{"$f":"IF(AOF7=\"\",\"0\",1/AOF$22)","v":"0"},null,{"$f":"IF(AOH7=\"\",\"0\",1/AOH$22)","v":"0"},null,{"$f":"IF(AOJ7=\"\",\"0\",1/AOJ$22)","v":"0"},null,{"$f":"IF(AOL7=\"\",\"0\",1/AOL$22)","v":"0"},null,{"$f":"IF(AON7=\"\",\"0\",1/AON$22)","v":"0"},null,{"$f":"IF(AOP7=\"\",\"0\",1/AOP$22)","v":"0"},null,{"$f":"IF(AOR7=\"\",\"0\",1/AOR$22)","v":"0"},null,{"$f":"IF(AOT7=\"\",\"0\",1/AOT$22)","v":"0"},null,{"$f":"IF(AOV7=\"\",\"0\",1/AOV$22)","v":"0"},null,{"$f":"IF(AOX7=\"\",\"0\",1/AOX$22)","v":"0"},null,{"$f":"IF(AOZ7=\"\",\"0\",1/AOZ$22)","v":"0"},null,{"$f":"IF(APB7=\"\",\"0\",1/APB$22)","v":"0"},null,{"$f":"IF(APD7=\"\",\"0\",1/APD$22)","v":"0"},null,{"$f":"IF(APF7=\"\",\"0\",1/APF$22)","v":"0"},null,{"$f":"IF(APH7=\"\",\"0\",1/APH$22)","v":"0"},null,{"$f":"IF(APJ7=\"\",\"0\",1/APJ$22)","v":"0"},null,{"$f":"IF(APL7=\"\",\"0\",1/APL$22)","v":"0"},null,{"$f":"IF(APN7=\"\",\"0\",1/APN$22)","v":"0"},null,{"$f":"IF(APP7=\"\",\"0\",1/APP$22)","v":"0"},null,{"$f":"IF(APR7=\"\",\"0\",1/APR$22)","v":"0"},null,{"$f":"IF(APT7=\"\",\"0\",1/APT$22)","v":"0"},null,{"$f":"IF(APV7=\"\",\"0\",1/APV$22)","v":"0"},null,{"$f":"IF(APX7=\"\",\"0\",1/APX$22)","v":"0"},null,{"$f":"IF(APZ7=\"\",\"0\",1/APZ$22)","v":"0"},null,{"$f":"IF(AQB7=\"\",\"0\",1/AQB$22)","v":"0"},null,{"$f":"IF(AQD7=\"\",\"0\",1/AQD$22)","v":"0"},null,{"$f":"IF(AQF7=\"\",\"0\",1/AQF$22)","v":"0"},null,{"$f":"IF(AQH7=\"\",\"0\",1/AQH$22)","v":"0"},null,{"$f":"IF(AQJ7=\"\",\"0\",1/AQJ$22)","v":"0"},null,{"$f":"IF(AQL7=\"\",\"0\",1/AQL$22)","v":"0"},null,{"$f":"IF(AQN7=\"\",\"0\",1/AQN$22)","v":"0"},null,{"$f":"IF(AQP7=\"\",\"0\",1/AQP$22)","v":"0"},null,{"$f":"IF(AQR7=\"\",\"0\",1/AQR$22)","v":"0"},null,{"$f":"IF(AQT7=\"\",\"0\",1/AQT$22)","v":"0"},null,{"$f":"IF(AQV7=\"\",\"0\",1/AQV$22)","v":"0"},null,{"$f":"IF(AQX7=\"\",\"0\",1/AQX$22)","v":"0"},null,{"$f":"IF(AQZ7=\"\",\"0\",1/AQZ$22)","v":"0"},null,{"$f":"IF(ARB7=\"\",\"0\",1/ARB$22)","v":"0"},null,{"$f":"IF(ARD7=\"\",\"0\",1/ARD$22)","v":"0"},null,{"$f":"IF(ARF7=\"\",\"0\",1/ARF$22)","v":"0"},null,{"$f":"IF(ARH7=\"\",\"0\",1/ARH$22)","v":"0"},null,{"$f":"IF(ARJ7=\"\",\"0\",1/ARJ$22)","v":"0"},null,{"$f":"IF(ARL7=\"\",\"0\",1/ARL$22)","v":"0"},null,{"$f":"IF(ARN7=\"\",\"0\",1/ARN$22)","v":"0"},null,{"$f":"IF(ARP7=\"\",\"0\",1/ARP$22)","v":"0"},null,{"$f":"IF(ARR7=\"\",\"0\",1/ARR$22)","v":"0"},null,{"$f":"IF(ART7=\"\",\"0\",1/ART$22)","v":"0"},null,{"$f":"IF(ARV7=\"\",\"0\",1/ARV$22)","v":"0"},null,{"$f":"IF(ARX7=\"\",\"0\",1/ARX$22)","v":"0"},null,{"$f":"IF(ARZ7=\"\",\"0\",1/ARZ$22)","v":"0"},null,{"$f":"IF(ASB7=\"\",\"0\",1/ASB$22)","v":"0"},null,{"$f":"IF(ASD7=\"\",\"0\",1/ASD$22)","v":"0"},null,{"$f":"IF(ASF7=\"\",\"0\",1/ASF$22)","v":"0"},null,{"$f":"IF(ASH7=\"\",\"0\",1/ASH$22)","v":"0"},null,{"$f":"IF(ASJ7=\"\",\"0\",1/ASJ$22)","v":"0"},null,{"$f":"IF(ASL7=\"\",\"0\",1/ASL$22)","v":"0"},null,{"$f":"IF(ASN7=\"\",\"0\",1/ASN$22)","v":"0"},null,{"$f":"IF(ASP7=\"\",\"0\",1/ASP$22)","v":"0"},null,{"$f":"IF(ASR7=\"\",\"0\",1/ASR$22)","v":"0"},null,{"$f":"IF(AST7=\"\",\"0\",1/AST$22)","v":"0"},null,{"$f":"IF(ASV7=\"\",\"0\",1/ASV$22)","v":"0"},null,{"$f":"IF(ASX7=\"\",\"0\",1/ASX$22)","v":"0"},null,{"$f":"IF(ASZ7=\"\",\"0\",1/ASZ$22)","v":"0"},null,{"$f":"IF(ATB7=\"\",\"0\",1/ATB$22)","v":"0"},null,{"$f":"IF(ATD7=\"\",\"0\",1/ATD$22)","v":"0"},null,{"$f":"IF(ATF7=\"\",\"0\",1/ATF$22)","v":"0"},null,{"$f":"IF(ATH7=\"\",\"0\",1/ATH$22)","v":"0"},null,{"$f":"IF(ATJ7=\"\",\"0\",1/ATJ$22)","v":"0"},null,{"$f":"IF(ATL7=\"\",\"0\",1/ATL$22)","v":"0"},null,{"$f":"IF(ATN7=\"\",\"0\",1/ATN$22)","v":"0"},null,{"$f":"IF(ATP7=\"\",\"0\",1/ATP$22)","v":"0"},null,{"$f":"IF(ATR7=\"\",\"0\",1/ATR$22)","v":"0"},null,{"$f":"IF(ATT7=\"\",\"0\",1/ATT$22)","v":"0"},null,{"$f":"IF(ATV7=\"\",\"0\",1/ATV$22)","v":"0"},null,{"$f":"IF(ATX7=\"\",\"0\",1/ATX$22)","v":"0"},null,{"$f":"IF(ATZ7=\"\",\"0\",1/ATZ$22)","v":"0"},null,{"$f":"IF(AUB7=\"\",\"0\",1/AUB$22)","v":"0"},null,{"$f":"IF(AUD7=\"\",\"0\",1/AUD$22)","v":"0"},null,{"$f":"IF(AUF7=\"\",\"0\",1/AUF$22)","v":"0"},null,{"$f":"IF(AUH7=\"\",\"0\",1/AUH$22)","v":"0"},null,{"$f":"IF(AUJ7=\"\",\"0\",1/AUJ$22)","v":"0"},null,{"$f":"IF(AUL7=\"\",\"0\",1/AUL$22)","v":"0"},null,{"$f":"IF(AUN7=\"\",\"0\",1/AUN$22)","v":"0"},null,{"$f":"IF(AUP7=\"\",\"0\",1/AUP$22)","v":"0"},null,{"$f":"IF(AUR7=\"\",\"0\",1/AUR$22)","v":"0"},null,{"$f":"IF(AUT7=\"\",\"0\",1/AUT$22)","v":"0"},null,{"$f":"IF(AUV7=\"\",\"0\",1/AUV$22)","v":"0"},null,{"$f":"IF(AUX7=\"\",\"0\",1/AUX$22)","v":"0"},null,{"$f":"IF(AUZ7=\"\",\"0\",1/AUZ$22)","v":"0"},null,{"$f":"IF(AVB7=\"\",\"0\",1/AVB$22)","v":"0"},null,{"$f":"IF(AVD7=\"\",\"0\",1/AVD$22)","v":"0"},null,{"$f":"IF(AVF7=\"\",\"0\",1/AVF$22)","v":"0"},null,{"$f":"IF(AVH7=\"\",\"0\",1/AVH$22)","v":"0"},null,{"$f":"IF(AVJ7=\"\",\"0\",1/AVJ$22)","v":"0"},null,{"$f":"IF(AVL7=\"\",\"0\",1/AVL$22)","v":"0"},null,{"$f":"IF(AVN7=\"\",\"0\",1/AVN$22)","v":"0"},null,{"$f":"IF(AVP7=\"\",\"0\",1/AVP$22)","v":"0"},null,{"$f":"IF(AVR7=\"\",\"0\",1/AVR$22)","v":"0"},null,{"$f":"IF(AVT7=\"\",\"0\",1/AVT$22)","v":"0"},null,{"$f":"IF(AVV7=\"\",\"0\",1/AVV$22)","v":"0"},null,{"$f":"IF(AVX7=\"\",\"0\",1/AVX$22)","v":"0"},null,{"$f":"IF(AVZ7=\"\",\"0\",1/AVZ$22)","v":"0"},null,{"$f":"IF(AWB7=\"\",\"0\",1/AWB$22)","v":"0"},null,{"$f":"IF(AWD7=\"\",\"0\",1/AWD$22)","v":"0"},null,{"$f":"IF(AWF7=\"\",\"0\",1/AWF$22)","v":"0"},null,{"$f":"IF(AWH7=\"\",\"0\",1/AWH$22)","v":"0"},null,{"$f":"IF(AWJ7=\"\",\"0\",1/AWJ$22)","v":"0"},null,{"$f":"IF(AWL7=\"\",\"0\",1/AWL$22)","v":"0"},null,{"$f":"IF(AWN7=\"\",\"0\",1/AWN$22)","v":"0"},null,{"$f":"IF(AWP7=\"\",\"0\",1/AWP$22)","v":"0"},null,{"$f":"IF(AWR7=\"\",\"0\",1/AWR$22)","v":"0"},null,{"$f":"IF(AWT7=\"\",\"0\",1/AWT$22)","v":"0"},null,{"$f":"IF(AWV7=\"\",\"0\",1/AWV$22)","v":"0"},null,{"$f":"IF(AWX7=\"\",\"0\",1/AWX$22)","v":"0"},null,{"$f":"IF(AWZ7=\"\",\"0\",1/AWZ$22)","v":"0"},null,{"$f":"IF(AXB7=\"\",\"0\",1/AXB$22)","v":"0"},null,{"$f":"IF(AXD7=\"\",\"0\",1/AXD$22)","v":"0"},null,{"$f":"IF(AXF7=\"\",\"0\",1/AXF$22)","v":"0"},null,{"$f":"IF(AXH7=\"\",\"0\",1/AXH$22)","v":"0"},null,{"$f":"IF(AXJ7=\"\",\"0\",1/AXJ$22)","v":"0"},null,{"$f":"IF(AXL7=\"\",\"0\",1/AXL$22)","v":"0"},null,{"$f":"IF(AXN7=\"\",\"0\",1/AXN$22)","v":"0"},null,{"$f":"IF(AXP7=\"\",\"0\",1/AXP$22)","v":"0"},null,{"$f":"IF(AXR7=\"\",\"0\",1/AXR$22)","v":"0"},null,{"$f":"IF(AXT7=\"\",\"0\",1/AXT$22)","v":"0"},null,{"$f":"IF(AXV7=\"\",\"0\",1/AXV$22)","v":"0"},null,{"$f":"IF(AXX7=\"\",\"0\",1/AXX$22)","v":"0"},null,{"$f":"IF(AXZ7=\"\",\"0\",1/AXZ$22)","v":"0"},null,{"$f":"IF(AYB7=\"\",\"0\",1/AYB$22)","v":"0"},null,{"$f":"IF(AYD7=\"\",\"0\",1/AYD$22)","v":"0"},null,{"$f":"IF(AYF7=\"\",\"0\",1/AYF$22)","v":"0"},null,{"$f":"IF(AYH7=\"\",\"0\",1/AYH$22)","v":"0"},null,{"$f":"IF(AYJ7=\"\",\"0\",1/AYJ$22)","v":"0"},null,{"$f":"IF(AYL7=\"\",\"0\",1/AYL$22)","v":"0"},null,{"$f":"IF(AYN7=\"\",\"0\",1/AYN$22)","v":"0"},null,{"$f":"IF(AYP7=\"\",\"0\",1/AYP$22)","v":"0"},null,{"$f":"IF(AYR7=\"\",\"0\",1/AYR$22)","v":"0"},null,{"$f":"IF(AYT7=\"\",\"0\",1/AYT$22)","v":"0"},null,{"$f":"IF(AYV7=\"\",\"0\",1/AYV$22)","v":"0"},null,{"$f":"IF(AYX7=\"\",\"0\",1/AYX$22)","v":"0"},null,{"$f":"IF(AYZ7=\"\",\"0\",1/AYZ$22)","v":"0"},null,{"$f":"IF(AZB7=\"\",\"0\",1/AZB$22)","v":"0"},null,{"$f":"IF(AZD7=\"\",\"0\",1/AZD$22)","v":"0"},null,{"$f":"IF(AZF7=\"\",\"0\",1/AZF$22)","v":"0"},null,{"$f":"IF(AZH7=\"\",\"0\",1/AZH$22)","v":"0"},null,{"$f":"IF(AZJ7=\"\",\"0\",1/AZJ$22)","v":"0"},null,{"$f":"IF(AZL7=\"\",\"0\",1/AZL$22)","v":"0"},null,{"$f":"IF(AZN7=\"\",\"0\",1/AZN$22)","v":"0"},null,{"$f":"IF(AZP7=\"\",\"0\",1/AZP$22)","v":"0"},null,{"$f":"IF(AZR7=\"\",\"0\",1/AZR$22)","v":"0"},null,{"$f":"IF(AZT7=\"\",\"0\",1/AZT$22)","v":"0"},null,{"$f":"IF(AZV7=\"\",\"0\",1/AZV$22)","v":"0"},null,{"$f":"IF(AZX7=\"\",\"0\",1/AZX$22)","v":"0"},null,{"$f":"IF(AZZ7=\"\",\"0\",1/AZZ$22)","v":"0"},null,{"$f":"IF(BAB7=\"\",\"0\",1/BAB$22)","v":"0"},null,{"$f":"IF(BAD7=\"\",\"0\",1/BAD$22)","v":"0"},null,{"$f":"IF(BAF7=\"\",\"0\",1/BAF$22)","v":"0"},null,{"$f":"IF(BAH7=\"\",\"0\",1/BAH$22)","v":"0"},null,{"$f":"IF(BAJ7=\"\",\"0\",1/BAJ$22)","v":"0"},null,{"$f":"IF(BAL7=\"\",\"0\",1/BAL$22)","v":"0"},null,{"$f":"IF(BAN7=\"\",\"0\",1/BAN$22)","v":"0"},null,{"$f":"IF(BAP7=\"\",\"0\",1/BAP$22)","v":"0"},null,{"$f":"IF(BAR7=\"\",\"0\",1/BAR$22)","v":"0"},null,{"$f":"IF(BAT7=\"\",\"0\",1/BAT$22)","v":"0"},null,{"$f":"IF(BAV7=\"\",\"0\",1/BAV$22)","v":"0"},null,{"$f":"IF(BAX7=\"\",\"0\",1/BAX$22)","v":"0"},null,{"$f":"IF(BAZ7=\"\",\"0\",1/BAZ$22)","v":"0"},null,{"$f":"IF(BBB7=\"\",\"0\",1/BBB$22)","v":"0"},null,{"$f":"IF(BBD7=\"\",\"0\",1/BBD$22)","v":"0"},null,{"$f":"IF(BBF7=\"\",\"0\",1/BBF$22)","v":"0"},null,{"$f":"IF(BBH7=\"\",\"0\",1/BBH$22)","v":"0"},null,{"$f":"IF(BBJ7=\"\",\"0\",1/BBJ$22)","v":"0"},null,{"$f":"IF(BBL7=\"\",\"0\",1/BBL$22)","v":"0"},null,{"$f":"IF(BBN7=\"\",\"0\",1/BBN$22)","v":"0"},null,{"$f":"IF(BBP7=\"\",\"0\",1/BBP$22)","v":"0"},null,{"$f":"IF(BBR7=\"\",\"0\",1/BBR$22)","v":"0"},null,{"$f":"IF(BBT7=\"\",\"0\",1/BBT$22)","v":"0"},null,{"$f":"IF(BBV7=\"\",\"0\",1/BBV$22)","v":"0"},null,{"$f":"IF(BBX7=\"\",\"0\",1/BBX$22)","v":"0"},null,{"$f":"IF(BBZ7=\"\",\"0\",1/BBZ$22)","v":"0"},null,{"$f":"IF(BCB7=\"\",\"0\",1/BCB$22)","v":"0"},null,{"$f":"IF(BCD7=\"\",\"0\",1/BCD$22)","v":"0"},null,{"$f":"IF(BCF7=\"\",\"0\",1/BCF$22)","v":"0"},null,{"$f":"IF(BCH7=\"\",\"0\",1/BCH$22)","v":"0"},null,{"$f":"IF(BCJ7=\"\",\"0\",1/BCJ$22)","v":"0"},null,{"$f":"IF(BCL7=\"\",\"0\",1/BCL$22)","v":"0"},null,{"$f":"IF(BCN7=\"\",\"0\",1/BCN$22)","v":"0"},null,{"$f":"IF(BCP7=\"\",\"0\",1/BCP$22)","v":"0"},null,{"$f":"IF(BCR7=\"\",\"0\",1/BCR$22)","v":"0"},null,{"$f":"IF(BCT7=\"\",\"0\",1/BCT$22)","v":"0"},null,{"$f":"IF(BCV7=\"\",\"0\",1/BCV$22)","v":"0"},null,{"$f":"IF(BCX7=\"\",\"0\",1/BCX$22)","v":"0"},null,{"$f":"IF(BCZ7=\"\",\"0\",1/BCZ$22)","v":"0"},null,{"$f":"IF(BDB7=\"\",\"0\",1/BDB$22)","v":"0"},null,{"$f":"IF(BDD7=\"\",\"0\",1/BDD$22)","v":"0"},null,{"$f":"IF(BDF7=\"\",\"0\",1/BDF$22)","v":"0"},null,{"$f":"IF(BDH7=\"\",\"0\",1/BDH$22)","v":"0"},null,{"$f":"IF(BDJ7=\"\",\"0\",1/BDJ$22)","v":"0"},null,{"$f":"IF(BDL7=\"\",\"0\",1/BDL$22)","v":"0"},null,{"$f":"IF(BDN7=\"\",\"0\",1/BDN$22)","v":"0"},null,{"$f":"IF(BDP7=\"\",\"0\",1/BDP$22)","v":"0"},null,{"$f":"IF(BDR7=\"\",\"0\",1/BDR$22)","v":"0"},null,{"$f":"IF(BDT7=\"\",\"0\",1/BDT$22)","v":"0"},null,{"$f":"IF(BDV7=\"\",\"0\",1/BDV$22)","v":"0"},null,{"$f":"IF(BDX7=\"\",\"0\",1/BDX$22)","v":"0"},null,{"$f":"IF(BDZ7=\"\",\"0\",1/BDZ$22)","v":"0"},null,{"$f":"IF(BEB7=\"\",\"0\",1/BEB$22)","v":"0"},null,{"$f":"IF(BED7=\"\",\"0\",1/BED$22)","v":"0"},null,{"$f":"IF(BEF7=\"\",\"0\",1/BEF$22)","v":"0"},null,{"$f":"IF(BEH7=\"\",\"0\",1/BEH$22)","v":"0"},null,{"$f":"IF(BEJ7=\"\",\"0\",1/BEJ$22)","v":"0"},null,{"$f":"IF(BEL7=\"\",\"0\",1/BEL$22)","v":"0"},null,{"$f":"IF(BEN7=\"\",\"0\",1/BEN$22)","v":"0"},null,{"$f":"IF(BEP7=\"\",\"0\",1/BEP$22)","v":"0"},null,{"$f":"IF(BER7=\"\",\"0\",1/BER$22)","v":"0"},null,{"$f":"IF(BET7=\"\",\"0\",1/BET$22)","v":"0"},null,{"$f":"IF(BEV7=\"\",\"0\",1/BEV$22)","v":"0"},null,{"$f":"IF(BEX7=\"\",\"0\",1/BEX$22)","v":"0"},null,{"$f":"IF(BEZ7=\"\",\"0\",1/BEZ$22)","v":"0"},null,{"$f":"IF(BFB7=\"\",\"0\",1/BFB$22)","v":"0"},null,{"$f":"IF(BFD7=\"\",\"0\",1/BFD$22)","v":"0"},null,{"$f":"IF(BFF7=\"\",\"0\",1/BFF$22)","v":"0"},null,{"$f":"IF(BFH7=\"\",\"0\",1/BFH$22)","v":"0"},null,{"$f":"IF(BFJ7=\"\",\"0\",1/BFJ$22)","v":"0"},null,{"$f":"IF(BFL7=\"\",\"0\",1/BFL$22)","v":"0"},null,{"$f":"IF(BFN7=\"\",\"0\",1/BFN$22)","v":"0"},null,{"$f":"IF(BFP7=\"\",\"0\",1/BFP$22)","v":"0"},null,{"$f":"IF(BFR7=\"\",\"0\",1/BFR$22)","v":"0"},null,{"$f":"IF(BFT7=\"\",\"0\",1/BFT$22)","v":"0"},null,{"$f":"IF(BFV7=\"\",\"0\",1/BFV$22)","v":"0"},null,{"$f":"IF(BFX7=\"\",\"0\",1/BFX$22)","v":"0"},null,{"$f":"IF(BFZ7=\"\",\"0\",1/BFZ$22)","v":"0"},null,{"$f":"IF(BGB7=\"\",\"0\",1/BGB$22)","v":"0"},null,{"$f":"IF(BGD7=\"\",\"0\",1/BGD$22)","v":"0"},null,{"$f":"IF(BGF7=\"\",\"0\",1/BGF$22)","v":"0"},null,{"$f":"IF(BGH7=\"\",\"0\",1/BGH$22)","v":"0"},null,{"$f":"IF(BGJ7=\"\",\"0\",1/BGJ$22)","v":"0"},null,{"$f":"IF(BGL7=\"\",\"0\",1/BGL$22)","v":"0"},null,{"$f":"IF(BGN7=\"\",\"0\",1/BGN$22)","v":"0"},null,{"$f":"IF(BGP7=\"\",\"0\",1/BGP$22)","v":"0"},null,{"$f":"IF(BGR7=\"\",\"0\",1/BGR$22)","v":"0"},null,{"$f":"IF(BGT7=\"\",\"0\",1/BGT$22)","v":"0"},null,{"$f":"IF(BGV7=\"\",\"0\",1/BGV$22)","v":"0"},null,{"$f":"IF(BGX7=\"\",\"0\",1/BGX$22)","v":"0"},null,{"$f":"IF(BGZ7=\"\",\"0\",1/BGZ$22)","v":"0"},null,{"$f":"IF(BHB7=\"\",\"0\",1/BHB$22)","v":"0"},null,{"$f":"IF(BHD7=\"\",\"0\",1/BHD$22)","v":"0"},null,{"$f":"IF(BHF7=\"\",\"0\",1/BHF$22)","v":"0"},null,{"$f":"IF(BHH7=\"\",\"0\",1/BHH$22)","v":"0"},null,{"$f":"IF(BHJ7=\"\",\"0\",1/BHJ$22)","v":"0"},null,{"$f":"IF(BHL7=\"\",\"0\",1/BHL$22)","v":"0"},null,{"$f":"IF(BHN7=\"\",\"0\",1/BHN$22)","v":"0"},null,{"$f":"IF(BHP7=\"\",\"0\",1/BHP$22)","v":"0"},null,{"$f":"IF(BHR7=\"\",\"0\",1/BHR$22)","v":"0"},null,{"$f":"IF(BHT7=\"\",\"0\",1/BHT$22)","v":"0"},null,{"$f":"IF(BHV7=\"\",\"0\",1/BHV$22)","v":"0"},null,{"$f":"IF(BHX7=\"\",\"0\",1/BHX$22)","v":"0"},null,{"$f":"IF(BHZ7=\"\",\"0\",1/BHZ$22)","v":"0"},null,{"$f":"IF(BIB7=\"\",\"0\",1/BIB$22)","v":"0"},null,{"$f":"IF(BID7=\"\",\"0\",1/BID$22)","v":"0"},null,{"$f":"IF(BIF7=\"\",\"0\",1/BIF$22)","v":"0"},null,{"$f":"IF(BIH7=\"\",\"0\",1/BIH$22)","v":"0"},null,{"$f":"IF(BIJ7=\"\",\"0\",1/BIJ$22)","v":"0"},null,{"$f":"IF(BIL7=\"\",\"0\",1/BIL$22)","v":"0"},null,{"$f":"IF(BIN7=\"\",\"0\",1/BIN$22)","v":"0"},null,{"$f":"IF(BIP7=\"\",\"0\",1/BIP$22)","v":"0"},null,{"$f":"IF(BIR7=\"\",\"0\",1/BIR$22)","v":"0"},null,{"$f":"IF(BIT7=\"\",\"0\",1/BIT$22)","v":"0"},null,{"$f":"IF(BIV7=\"\",\"0\",1/BIV$22)","v":"0"},null,{"$f":"IF(BIX7=\"\",\"0\",1/BIX$22)","v":"0"},null,{"$f":"IF(BIZ7=\"\",\"0\",1/BIZ$22)","v":"0"},null,{"$f":"IF(BJB7=\"\",\"0\",1/BJB$22)","v":"0"},null,{"$f":"IF(BJD7=\"\",\"0\",1/BJD$22)","v":"0"},null,{"$f":"IF(BJF7=\"\",\"0\",1/BJF$22)","v":"0"},null,{"$f":"IF(BJH7=\"\",\"0\",1/BJH$22)","v":"0"},null,{"$f":"IF(BJJ7=\"\",\"0\",1/BJJ$22)","v":"0"},null,{"$f":"IF(BJL7=\"\",\"0\",1/BJL$22)","v":"0"},null,{"$f":"IF(BJN7=\"\",\"0\",1/BJN$22)","v":"0"},null,{"$f":"IF(BJP7=\"\",\"0\",1/BJP$22)","v":"0"},null,{"$f":"IF(BJR7=\"\",\"0\",1/BJR$22)","v":"0"},null,{"$f":"IF(BJT7=\"\",\"0\",1/BJT$22)","v":"0"},null,{"$f":"IF(BJV7=\"\",\"0\",1/BJV$22)","v":"0"},null,{"$f":"IF(BJX7=\"\",\"0\",1/BJX$22)","v":"0"},null,{"$f":"IF(BJZ7=\"\",\"0\",1/BJZ$22)","v":"0"},null,{"$f":"IF(BKB7=\"\",\"0\",1/BKB$22)","v":"0"},null,{"$f":"IF(BKD7=\"\",\"0\",1/BKD$22)","v":"0"},null,{"$f":"IF(BKF7=\"\",\"0\",1/BKF$22)","v":"0"},null,{"$f":"IF(BKH7=\"\",\"0\",1/BKH$22)","v":"0"},null,{"$f":"IF(BKJ7=\"\",\"0\",1/BKJ$22)","v":"0"},null,{"$f":"IF(BKL7=\"\",\"0\",1/BKL$22)","v":"0"},null,{"$f":"IF(BKN7=\"\",\"0\",1/BKN$22)","v":"0"},null,{"$f":"IF(BKP7=\"\",\"0\",1/BKP$22)","v":"0"},null,{"$f":"IF(BKR7=\"\",\"0\",1/BKR$22)","v":"0"},null,{"$f":"IF(BKT7=\"\",\"0\",1/BKT$22)","v":"0"},null,{"$f":"IF(BKV7=\"\",\"0\",1/BKV$22)","v":"0"},null,{"$f":"IF(BKX7=\"\",\"0\",1/BKX$22)","v":"0"},null,{"$f":"IF(BKZ7=\"\",\"0\",1/BKZ$22)","v":"0"},null,{"$f":"IF(BLB7=\"\",\"0\",1/BLB$22)","v":"0"},null,{"$f":"IF(BLD7=\"\",\"0\",1/BLD$22)","v":"0"},null,{"$f":"IF(BLF7=\"\",\"0\",1/BLF$22)","v":"0"},null,{"$f":"IF(BLH7=\"\",\"0\",1/BLH$22)","v":"0"},null,{"$f":"IF(BLJ7=\"\",\"0\",1/BLJ$22)","v":"0"},null,{"$f":"IF(BLL7=\"\",\"0\",1/BLL$22)","v":"0"},null,{"$f":"IF(BLN7=\"\",\"0\",1/BLN$22)","v":"0"},null,{"$f":"IF(BLP7=\"\",\"0\",1/BLP$22)","v":"0"},null,{"$f":"IF(BLR7=\"\",\"0\",1/BLR$22)","v":"0"},null,{"$f":"IF(BLT7=\"\",\"0\",1/BLT$22)","v":"0"},null,{"$f":"IF(BLV7=\"\",\"0\",1/BLV$22)","v":"0"},null,{"$f":"IF(BLX7=\"\",\"0\",1/BLX$22)","v":"0"},null,{"$f":"IF(BLZ7=\"\",\"0\",1/BLZ$22)","v":"0"},null,{"$f":"IF(BMB7=\"\",\"0\",1/BMB$22)","v":"0"},null,{"$f":"IF(BMD7=\"\",\"0\",1/BMD$22)","v":"0"},null,{"$f":"IF(BMF7=\"\",\"0\",1/BMF$22)","v":"0"},null,{"$f":"IF(BMH7=\"\",\"0\",1/BMH$22)","v":"0"},null,{"$f":"IF(BMJ7=\"\",\"0\",1/BMJ$22)","v":"0"},null,{"$f":"IF(BML7=\"\",\"0\",1/BML$22)","v":"0"},null,{"$f":"IF(BMN7=\"\",\"0\",1/BMN$22)","v":"0"},null,{"$f":"IF(BMP7=\"\",\"0\",1/BMP$22)","v":"0"},null,{"$f":"IF(BMR7=\"\",\"0\",1/BMR$22)","v":"0"},null,{"$f":"IF(BMT7=\"\",\"0\",1/BMT$22)","v":"0"},null,{"$f":"IF(BMV7=\"\",\"0\",1/BMV$22)","v":"0"},null,{"$f":"IF(BMX7=\"\",\"0\",1/BMX$22)","v":"0"},null,{"$f":"IF(BMZ7=\"\",\"0\",1/BMZ$22)","v":"0"},null,{"$f":"IF(BNB7=\"\",\"0\",1/BNB$22)","v":"0"},null,{"$f":"IF(BND7=\"\",\"0\",1/BND$22)","v":"0"},null,{"$f":"IF(BNF7=\"\",\"0\",1/BNF$22)","v":"0"},null,{"$f":"IF(BNH7=\"\",\"0\",1/BNH$22)","v":"0"},null,{"$f":"IF(BNJ7=\"\",\"0\",1/BNJ$22)","v":"0"},null,{"$f":"IF(BNL7=\"\",\"0\",1/BNL$22)","v":"0"},null,{"$f":"IF(BNN7=\"\",\"0\",1/BNN$22)","v":"0"},null,{"$f":"IF(BNP7=\"\",\"0\",1/BNP$22)","v":"0"},null,{"$f":"IF(BNR7=\"\",\"0\",1/BNR$22)","v":"0"},null,{"$f":"IF(BNT7=\"\",\"0\",1/BNT$22)","v":"0"},null,{"$f":"IF(BNV7=\"\",\"0\",1/BNV$22)","v":"0"},null,{"$f":"IF(BNX7=\"\",\"0\",1/BNX$22)","v":"0"},null,{"$f":"IF(BNZ7=\"\",\"0\",1/BNZ$22)","v":"0"},null,{"$f":"IF(BOB7=\"\",\"0\",1/BOB$22)","v":"0"},null,{"$f":"IF(BOD7=\"\",\"0\",1/BOD$22)","v":"0"},null,{"$f":"IF(BOF7=\"\",\"0\",1/BOF$22)","v":"0"},null,{"$f":"IF(BOH7=\"\",\"0\",1/BOH$22)","v":"0"},null,{"$f":"IF(BOJ7=\"\",\"0\",1/BOJ$22)","v":"0"},null,{"$f":"IF(BOL7=\"\",\"0\",1/BOL$22)","v":"0"},null,{"$f":"IF(BON7=\"\",\"0\",1/BON$22)","v":"0"},null,{"$f":"IF(BOP7=\"\",\"0\",1/BOP$22)","v":"0"},null,{"$f":"IF(BOR7=\"\",\"0\",1/BOR$22)","v":"0"},null,{"$f":"IF(BOT7=\"\",\"0\",1/BOT$22)","v":"0"},null,{"$f":"IF(BOV7=\"\",\"0\",1/BOV$22)","v":"0"},null,{"$f":"IF(BOX7=\"\",\"0\",1/BOX$22)","v":"0"},null,{"$f":"IF(BOZ7=\"\",\"0\",1/BOZ$22)","v":"0"},null,{"$f":"IF(BPB7=\"\",\"0\",1/BPB$22)","v":"0"},null,{"$f":"IF(BPD7=\"\",\"0\",1/BPD$22)","v":"0"},null,{"$f":"IF(BPF7=\"\",\"0\",1/BPF$22)","v":"0"},null,{"$f":"IF(BPH7=\"\",\"0\",1/BPH$22)","v":"0"},null,{"$f":"IF(BPJ7=\"\",\"0\",1/BPJ$22)","v":"0"},null,{"$f":"IF(BPL7=\"\",\"0\",1/BPL$22)","v":"0"},null,{"$f":"IF(BPN7=\"\",\"0\",1/BPN$22)","v":"0"},null,{"$f":"IF(BPP7=\"\",\"0\",1/BPP$22)","v":"0"},null,{"$f":"IF(BPR7=\"\",\"0\",1/BPR$22)","v":"0"},null,{"$f":"IF(BPT7=\"\",\"0\",1/BPT$22)","v":"0"},null,{"$f":"IF(BPV7=\"\",\"0\",1/BPV$22)","v":"0"},null,{"$f":"IF(BPX7=\"\",\"0\",1/BPX$22)","v":"0"},null,{"$f":"IF(BPZ7=\"\",\"0\",1/BPZ$22)","v":"0"},null,{"$f":"IF(BQB7=\"\",\"0\",1/BQB$22)","v":"0"},null,{"$f":"IF(BQD7=\"\",\"0\",1/BQD$22)","v":"0"},null,{"$f":"IF(BQF7=\"\",\"0\",1/BQF$22)","v":"0"},null,{"$f":"IF(BQH7=\"\",\"0\",1/BQH$22)","v":"0"},null,{"$f":"IF(BQJ7=\"\",\"0\",1/BQJ$22)","v":"0"},null,{"$f":"IF(BQL7=\"\",\"0\",1/BQL$22)","v":"0"},null,{"$f":"IF(BQN7=\"\",\"0\",1/BQN$22)","v":"0"},null,{"$f":"IF(BQP7=\"\",\"0\",1/BQP$22)","v":"0"},null,{"$f":"IF(BQR7=\"\",\"0\",1/BQR$22)","v":"0"},null,{"$f":"IF(BQT7=\"\",\"0\",1/BQT$22)","v":"0"},null,{"$f":"IF(BQV7=\"\",\"0\",1/BQV$22)","v":"0"},null,{"$f":"IF(BQX7=\"\",\"0\",1/BQX$22)","v":"0"},null,{"$f":"IF(BQZ7=\"\",\"0\",1/BQZ$22)","v":"0"},null,{"$f":"IF(BRB7=\"\",\"0\",1/BRB$22)","v":"0"},null,{"$f":"IF(BRD7=\"\",\"0\",1/BRD$22)","v":"0"},null,{"$f":"IF(BRF7=\"\",\"0\",1/BRF$22)","v":"0"},null,{"$f":"IF(BRH7=\"\",\"0\",1/BRH$22)","v":"0"},null,{"$f":"IF(BRJ7=\"\",\"0\",1/BRJ$22)","v":"0"},null,{"$f":"IF(BRL7=\"\",\"0\",1/BRL$22)","v":"0"},null,{"$f":"IF(BRN7=\"\",\"0\",1/BRN$22)","v":"0"},null,{"$f":"IF(BRP7=\"\",\"0\",1/BRP$22)","v":"0"},null,{"$f":"IF(BRR7=\"\",\"0\",1/BRR$22)","v":"0"},null,{"$f":"IF(BRT7=\"\",\"0\",1/BRT$22)","v":"0"},null,{"$f":"IF(BRV7=\"\",\"0\",1/BRV$22)","v":"0"},null,{"$f":"IF(BRX7=\"\",\"0\",1/BRX$22)","v":"0"},null,{"$f":"IF(BRZ7=\"\",\"0\",1/BRZ$22)","v":"0"},null,{"$f":"IF(BSB7=\"\",\"0\",1/BSB$22)","v":"0"},null,{"$f":"IF(BSD7=\"\",\"0\",1/BSD$22)","v":"0"},null,{"$f":"IF(BSF7=\"\",\"0\",1/BSF$22)","v":"0"},null,{"$f":"IF(BSH7=\"\",\"0\",1/BSH$22)","v":"0"},null,{"$f":"IF(BSJ7=\"\",\"0\",1/BSJ$22)","v":"0"},null,{"$f":"IF(BSL7=\"\",\"0\",1/BSL$22)","v":"0"},null,{"$f":"IF(BSN7=\"\",\"0\",1/BSN$22)","v":"0"},null,{"$f":"IF(BSP7=\"\",\"0\",1/BSP$22)","v":"0"},null,{"$f":"IF(BSR7=\"\",\"0\",1/BSR$22)","v":"0"},null,{"$f":"IF(BST7=\"\",\"0\",1/BST$22)","v":"0"},null,{"$f":"IF(BSV7=\"\",\"0\",1/BSV$22)","v":"0"},null,{"$f":"IF(BSX7=\"\",\"0\",1/BSX$22)","v":"0"},null,{"$f":"IF(BSZ7=\"\",\"0\",1/BSZ$22)","v":"0"},null,{"$f":"IF(BTB7=\"\",\"0\",1/BTB$22)","v":"0"},null,{"$f":"IF(BTD7=\"\",\"0\",1/BTD$22)","v":"0"},null,{"$f":"IF(BTF7=\"\",\"0\",1/BTF$22)","v":"0"},null,{"$f":"IF(BTH7=\"\",\"0\",1/BTH$22)","v":"0"},null,{"$f":"IF(BTJ7=\"\",\"0\",1/BTJ$22)","v":"0"},null,{"$f":"IF(BTL7=\"\",\"0\",1/BTL$22)","v":"0"},null,{"$f":"IF(BTN7=\"\",\"0\",1/BTN$22)","v":"0"},null,{"$f":"IF(BTP7=\"\",\"0\",1/BTP$22)","v":"0"},null,{"$f":"IF(BTR7=\"\",\"0\",1/BTR$22)","v":"0"},null,{"$f":"IF(BTT7=\"\",\"0\",1/BTT$22)","v":"0"},null,{"$f":"IF(BTV7=\"\",\"0\",1/BTV$22)","v":"0"},null,{"$f":"IF(BTX7=\"\",\"0\",1/BTX$22)","v":"0"},null,{"$f":"IF(BTZ7=\"\",\"0\",1/BTZ$22)","v":"0"},null,{"$f":"IF(BUB7=\"\",\"0\",1/BUB$22)","v":"0"},null,{"$f":"IF(BUD7=\"\",\"0\",1/BUD$22)","v":"0"},null,{"$f":"IF(BUF7=\"\",\"0\",1/BUF$22)","v":"0"},null,{"$f":"IF(BUH7=\"\",\"0\",1/BUH$22)","v":"0"},null,{"$f":"IF(BUJ7=\"\",\"0\",1/BUJ$22)","v":"0"},null,{"$f":"IF(BUL7=\"\",\"0\",1/BUL$22)","v":"0"},null,{"$f":"IF(BUN7=\"\",\"0\",1/BUN$22)","v":"0"},null,{"$f":"IF(BUP7=\"\",\"0\",1/BUP$22)","v":"0"},null,{"$f":"IF(BUR7=\"\",\"0\",1/BUR$22)","v":"0"},null,{"$f":"IF(BUT7=\"\",\"0\",1/BUT$22)","v":"0"},null,{"$f":"IF(BUV7=\"\",\"0\",1/BUV$22)","v":"0"},null,{"$f":"IF(BUX7=\"\",\"0\",1/BUX$22)","v":"0"},null,{"$f":"IF(BUZ7=\"\",\"0\",1/BUZ$22)","v":"0"},null,{"$f":"IF(BVB7=\"\",\"0\",1/BVB$22)","v":"0"},null,{"$f":"IF(BVD7=\"\",\"0\",1/BVD$22)","v":"0"},null,{"$f":"IF(BVF7=\"\",\"0\",1/BVF$22)","v":"0"},null,{"$f":"IF(BVH7=\"\",\"0\",1/BVH$22)","v":"0"},null,{"$f":"IF(BVJ7=\"\",\"0\",1/BVJ$22)","v":"0"},null,{"$f":"IF(BVL7=\"\",\"0\",1/BVL$22)","v":"0"},null,{"$f":"IF(BVN7=\"\",\"0\",1/BVN$22)","v":"0"},null,{"$f":"IF(BVP7=\"\",\"0\",1/BVP$22)","v":"0"},null,{"$f":"IF(BVR7=\"\",\"0\",1/BVR$22)","v":"0"},null,{"$f":"IF(BVT7=\"\",\"0\",1/BVT$22)","v":"0"},null,{"$f":"IF(BVV7=\"\",\"0\",1/BVV$22)","v":"0"},null,{"$f":"IF(BVX7=\"\",\"0\",1/BVX$22)","v":"0"},null,{"$f":"IF(BVZ7=\"\",\"0\",1/BVZ$22)","v":"0"},null,{"$f":"IF(BWB7=\"\",\"0\",1/BWB$22)","v":"0"},null,{"$f":"IF(BWD7=\"\",\"0\",1/BWD$22)","v":"0"},null,{"$f":"IF(BWF7=\"\",\"0\",1/BWF$22)","v":"0"},null,{"$f":"IF(BWH7=\"\",\"0\",1/BWH$22)","v":"0"},null,{"$f":"IF(BWJ7=\"\",\"0\",1/BWJ$22)","v":"0"},null,{"$f":"IF(BWL7=\"\",\"0\",1/BWL$22)","v":"0"},null,{"$f":"IF(BWN7=\"\",\"0\",1/BWN$22)","v":"0"},null,{"$f":"IF(BWP7=\"\",\"0\",1/BWP$22)","v":"0"},null,{"$f":"IF(BWR7=\"\",\"0\",1/BWR$22)","v":"0"},null,{"$f":"IF(BWT7=\"\",\"0\",1/BWT$22)","v":"0"},null,{"$f":"IF(BWV7=\"\",\"0\",1/BWV$22)","v":"0"}]
["実務（３）",{"$f":"年数合計!B15","v":{"$error":"#VALUE!"}},{"$f":"年数合計!C15","v":{"$error":"#VALUE!"}},{"$f":"COUNTIF(F9:BWV9,\"○\")","v":0},"月",{"$f":"IFERROR(IF(AND(F$3>=$B$9,F$3<=$C$9),\"○\",\"\"),\"\")","v":""},null,"",null,"",null,"",null,"",null,"",null,"",null,"",null,"",null,"",null,"",null,"",null,"",null,"",null,"",null,"",null,"",null,"",null,"",null,"",null,"",null,"",null,"",null,"",null,"",null,"",null,"",null,"",null,"",null,"",null,"",null,"",null,{"$f":"IFERROR(IF(AND(BR$3>=$B$9,BR$3<=$C$9),\"○\",\"\"),\"\")","v":""},null,"",null,"",null,"",null,"",null,"",null,"",null,"",null,"",null,"",null,"",null,"",null,"",null,"",null,"",null,"",null,"",null,"",null,"",null,"",null,"",null,"",null,"",null,"",null,"",null,"",null,"",null,"",null,"",null,"",null,"",null,"",null,{"$f":"IFERROR(IF(AND(ED$3>=$B$9,ED$3<=$C$9),\"○\",\"\"),\"\")","v":""},null,"",null,"",null,"",null,"",null,"",null,"",null,"",null,"",null,"",null,"",null,"",null,"",null,"",null,"",null,"",null,"",null,"",null,"",null,"",null,"",null,"",null,"",null,"",null,"",null,"",null,"",null,"",null,"",null,"",null,"",null,"",null,{"$f":"IFERROR(IF(AND(GP$3>=$B$9,GP$3<=$C$9),\"○\",\"\"),\"\")","v":""},null,"",null,"",null,"",null,"",null,"",null,"",null,"",null,"",null,"",null,"",null,"",null,"",null,"",null,"",null,"",null,"",null,"",null,"",null,"",null,"",null,"",null,"",null,"",null,"",null,"",null,"",null,"",null,"",null,"",null,"",null,"",null,{"$f":"IFERROR(IF(AND(JB$3>=$B$9,JB$3<=$C$9),\"○\",\"\"),\"\")","v":""},null,"",null,"",null,"",null,"",null,"",null,"",null,"",null,"",null,"",null,"",null,"",null,"",null,"",null,"",null,"",null,"",null,"",null,"",null,"",null,"",null,"",null,"",null,"",null,"",null,"",null,"",null,"",null,"",null,"",null,"",null,"",null,{"$f":"IFERROR(IF(AND(LN$3>=$B$9,LN$3<=$C$9),\"○\",\"\"),\"\")","v":""},null,"",null,"",null,"",null,"",null,"",null,"",null,"",null,"",null,"",null,"",null,"",null,"",null,"",null,"",null,"",null,"",null,"",null,"",null,"",null,"",null,"",null,"",null,"",null,"",null,"",null,"",null,"",null,"",null,"",null,"",null,"",null,{"$f":"IFERROR(IF(AND(NZ$3>=$B$9,NZ$3<=$C$9),\"○\",\"\"),\"\")","v":""},null,"",null,"",null,"",null,"",null,"",null,"",null,"",null,"",null,"",null,"",null,"",null,"",null,"",null,"",null,"",null,"",null,"",null,"",null,"",null,"",null,"",null,"",null,"",null,"",null,"",null,"",null,"",null,"",null,"",null,"",null,"",null,{"$f":"IFERROR(IF(AND(QL$3>=$B$9,QL$3<=$C$9),\"○\",\"\"),\"\")","v":""},null,"",null,"",null,"",null,"",null,"",null,"",null,"",null,"",null,"",null,"",null,"",null,"",null,"",null,"",null,"",null,"",null,"",null,"",null,"",null,"",null,"",null,"",null,"",null,"",null,"",null,"",null,"",null,"",null,"",null,"",null,"",null,{"$f":"IFERROR(IF(AND(SX$3>=$B$9,SX$3<=$C$9),\"○\",\"\"),\"\")","v":""},null,"",null,"",null,"",null,"",null,"",null,"",null,"",null,"",null,"",null,"",null,"",null,"",null,"",null,"",null,"",null,"",null,"",null,"",null,"",null,"",null,"",null,"",null,"",null,"",null,"",null,"",null,"",null,"",null,"",null,"",null,"",null,{"$f":"IFERROR(IF(AND(VJ$3>=$B$9,VJ$3<=$C$9),\"○\",\"\"),\"\")","v":""},null,"",null,"",null,"",null,"",null,"",null,"",null,"",null,"",null,"",null,"",null,"",null,"",null,"",null,"",null,"",null,"",null,"",null,"",null,"",null,"",null,"",null,"",null,"",null,"",null,"",null,"",null,"",null,"",null,"",null,"",null,"",null,{"$f":"IFERROR(IF(AND(XV$3>=$B$9,XV$3<=$C$9),\"○\",\"\"),\"\")","v":""},null,"",null,"",null,"",null,"",null,"",null,"",null,"",null,"",null,"",null,"",null,"",null,"",null,"",null,"",null,"",null,"",null,"",null,"",null,"",null,"",null,"",null,"",null,"",null,"",null,"",null,"",null,"",null,"",null,"",null,"",null,"",null,{"$f":"IFERROR(IF(AND(AAH$3>=$B$9,AAH$3<=$C$9),\"○\",\"\"),\"\")","v":""},null,"",null,"",null,"",null,"",null,"",null,"",null,"",null,"",null,"",null,"",null,"",null,"",null,"",null,"",null,"",null,"",null,"",null,"",null,"",null,"",null,"",null,"",null,"",null,"",null,"",null,"",null,"",null,"",null,"",null,"",null,"",null,{"$f":"IFERROR(IF(AND(ACT$3>=$B$9,ACT$3<=$C$9),\"○\",\"\"),\"\")","v":""},null,"",null,"",null,"",null,"",null,"",null,"",null,"",null,"",null,"",null,"",null,"",null,"",null,"",null,"",null,"",null,"",null,"",null,"",null,"",null,"",null,"",null,"",null,"",null,"",null,"",null,"",null,"",null,"",null,"",null,"",null,"",null,{"$f":"IFERROR(IF(AND(AFF$3>=$B$9,AFF$3<=$C$9),\"○\",\"\"),\"\")","v":""},null,"",null,"",null,"",null,"",null,"",null,"",null,"",null,"",null,"",null,"",null,"",null,"",null,"",null,"",null,"",null,"",null,"",null,"",null,"",null,"",null,"",null,"",null,"",null,"",null,"",null,"",null,"",null,"",null,"",null,"",null,"",null,{"$f":"IFERROR(IF(AND(AHR$3>=$B$9,AHR$3<=$C$9),\"○\",\"\"),\"\")","v":""},null,"",null,"",null,"",null,"",null,"",null,"",null,"",null,"",null,"",null,"",null,"",null,"",null,"",null,"",null,"",null,"",null,"",null,"",null,"",null,"",null,"",null,"",null,"",null,"",null,"",null,"",null,"",null,"",null,"",null,"",null,"",null,{"$f":"IFERROR(IF(AND(AKD$3>=$B$9,AKD$3<=$C$9),\"○\",\"\"),\"\")","v":""},null,"",null,"",null,"",null,"",null,"",null,"",null,"",null,"",null,"",null,"",null,"",null,"",null,"",null,"",null,"",null,"",null,"",null,"",null,"",null,"",null,"",null,"",null,"",null,"",null,"",null,"",null,"",null,"",null,"",null,"",null,"",null,{"$f":"IFERROR(IF(AND(AMP$3>=$B$9,AMP$3<=$C$9),\"○\",\"\"),\"\")","v":""},null,"",null,"",null,"",null,"",null,"",null,"",null,"",null,"",null,"",null,"",null,"",null,"",null,"",null,"",null,"",null,"",null,"",null,"",null,"",null,"",null,"",null,"",null,"",null,"",null,"",null,"",null,"",null,"",null,"",null,"",null,"",null,{"$f":"IFERROR(IF(AND(APB$3>=$B$9,APB$3<=$C$9),\"○\",\"\"),\"\")","v":""},null,"",null,"",null,"",null,"",null,"",null,"",null,"",null,"",null,"",null,"",null,"",null,"",null,"",null,"",null,"",null,"",null,"",null,"",null,"",null,"",null,"",null,"",null,"",null,"",null,"",null,"",null,"",null,"",null,"",null,"",null,"",null,{"$f":"IFERROR(IF(AND(ARN$3>=$B$9,ARN$3<=$C$9),\"○\",\"\"),\"\")","v":""},null,"",null,"",null,"",null,"",null,"",null,"",null,"",null,"",null,"",null,"",null,"",null,{"$f":"IFERROR(IF(AND(ASL$3>=$B$9,ASL$3<=$C$9),\"○\",\"\"),\"\")","v":""},null,"",null,"",null,"",null,"",null,"",null,"",null,"",null,"",null,"",null,"",null,"",null,"",null,"",null,"",null,"",null,"",null,"",null,"",null,"",null,"",null,"",null,"",null,"",null,"",null,"",null,"",null,"",null,"",null,"",null,"",null,"",null,{"$f":"IFERROR(IF(AND(AUX$3>=$B$9,AUX$3<=$C$9),\"○\",\"\"),\"\")","v":""},null,"",null,"",null,"",null,"",null,"",null,"",null,"",null,"",null,"",null,"",null,"",null,"",null,"",null,"",null,"",null,"",null,"",null,"",null,"",null,"",null,"",null,"",null,"",null,"",null,"",null,"",null,"",null,"",null,"",null,"",null,"",null,{"$f":"IFERROR(IF(AND(AXJ$3>=$B$9,AXJ$3<=$C$9),\"○\",\"\"),\"\")","v":""},null,"",null,"",null,"",null,"",null,"",null,"",null,"",null,"",null,"",null,"",null,"",null,"",null,"",null,"",null,"",null,"",null,"",null,"",null,"",null,"",null,"",null,"",null,"",null,"",null,"",null,"",null,"",null,"",null,"",null,"",null,"",null,{"$f":"IFERROR(IF(AND(AZV$3>=$B$9,AZV$3<=$C$9),\"○\",\"\"),\"\")","v":""},null,"",null,"",null,"",null,"",null,"",null,"",null,"",null,"",null,"",null,"",null,"",null,"",null,"",null,"",null,"",null,"",null,"",null,"",null,"",null,"",null,"",null,"",null,"",null,"",null,"",null,"",null,"",null,"",null,"",null,"",null,"",null,{"$f":"IFERROR(IF(AND(BCH$3>=$B$9,BCH$3<=$C$9),\"○\",\"\"),\"\")","v":""},null,"",null,"",null,"",null,"",null,"",null,"",null,"",null,"",null,"",null,"",null,"",null,"",null,"",null,"",null,"",null,"",null,"",null,"",null,"",null,"",null,"",null,"",null,"",null,"",null,"",null,"",null,"",null,"",null,"",null,"",null,"",null,{"$f":"IFERROR(IF(AND(BET$3>=$B$9,BET$3<=$C$9),\"○\",\"\"),\"\")","v":""},null,"",null,"",null,"",null,"",null,"",null,"",null,"",null,"",null,"",null,"",null,"",null,"",null,"",null,"",null,"",null,"",null,"",null,"",null,"",null,"",null,"",null,"",null,"",null,"",null,"",null,"",null,"",null,"",null,"",null,"",null,"",null,{"$f":"IFERROR(IF(AND(BHF$3>=$B$9,BHF$3<=$C$9),\"○\",\"\"),\"\")","v":""},null,"",null,"",null,"",null,"",null,"",null,"",null,"",null,"",null,"",null,"",null,"",null,"",null,"",null,"",null,"",null,"",null,"",null,"",null,"",null,"",null,"",null,"",null,"",null,"",null,"",null,"",null,"",null,"",null,"",null,"",null,"",null,{"$f":"IFERROR(IF(AND(BJR$3>=$B$9,BJR$3<=$C$9),\"○\",\"\"),\"\")","v":""},null,"",null,"",null,"",null,"",null,"",null,"",null,"",null,"",null,"",null,"",null,"",null,"",null,"",null,"",null,"",null,"",null,"",null,"",null,"",null,"",null,"",null,"",null,"",null,"",null,"",null,"",null,"",null,"",null,"",null,"",null,"",null,{"$f":"IFERROR(IF(AND(BMD$3>=$B$9,BMD$3<=$C$9),\"○\",\"\"),\"\")","v":""},null,"",null,"",null,"",null,"",null,"",null,"",null,"",null,"",null,"",null,"",null,"",null,"",null,"",null,"",null,"",null,"",null,"",null,"",null,"",null,"",null,"",null,"",null,"",null,"",null,"",null,"",null,"",null,"",null,"",null,"",null,"",null,{"$f":"IFERROR(IF(AND(BOP$3>=$B$9,BOP$3<=$C$9),\"○\",\"\"),\"\")","v":""},null,"",null,"",null,"",null,"",null,"",null,"",null,"",null,"",null,"",null,"",null,"",null,{"$f":"IFERROR(IF(AND(BPN$3>=$B$9,BPN$3<=$C$9),\"○\",\"\"),\"\")","v":""},null,"",null,"",null,"",null,"",null,"",null,"",null,"",null,"",null,"",null,"",null,"",null,"",null,"",null,"",null,"",null,"",null,"",null,"",null,"",null,"",null,"",null,"",null,"",null,"",null,"",null,"",null,"",null,"",null,"",null,"",null,"",null,{"$f":"IFERROR(IF(AND(BRZ$3>=$B$9,BRZ$3<=$C$9),\"○\",\"\"),\"\")","v":""},null,"",null,"",null,"",null,"",null,"",null,"",null,"",null,"",null,"",null,"",null,"",null,"",null,"",null,"",null,"",null,{"$f":"IFERROR(IF(AND(BTF$3>=$B$9,BTF$3<=$C$9),\"○\",\"\"),\"\")","v":""},null,"",null,"",null,"",null,"",null,"",null,"",null,"",null,"",null,"",null,"",null,"",null,{"$f":"IFERROR(IF(AND(BUD$3>=$B$9,BUD$3<=$C$9),\"○\",\"\"),\"\")","v":""},null,{"$f":"IFERROR(IF(AND(BUF$3>=$B$9,BUF$3<=$C$9),\"○\",\"\"),\"\")","v":""},null,{"$f":"IFERROR(IF(AND(BUH$3>=$B$9,BUH$3<=$C$9),\"○\",\"\"),\"\")","v":""},null,{"$f":"IFERROR(IF(AND(BUJ$3>=$B$9,BUJ$3<=$C$9),\"○\",\"\"),\"\")","v":""},null,{"$f":"IFERROR(IF(AND(BUL$3>=$B$9,BUL$3<=$C$9),\"○\",\"\"),\"\")","v":""},null,{"$f":"IFERROR(IF(AND(BUN$3>=$B$9,BUN$3<=$C$9),\"○\",\"\"),\"\")","v":""},null,{"$f":"IFERROR(IF(AND(BUP$3>=$B$9,BUP$3<=$C$9),\"○\",\"\"),\"\")","v":""},null,{"$f":"IFERROR(IF(AND(BUR$3>=$B$9,BUR$3<=$C$9),\"○\",\"\"),\"\")","v":""},null,{"$f":"IFERROR(IF(AND(BUT$3>=$B$9,BUT$3<=$C$9),\"○\",\"\"),\"\")","v":""},null,{"$f":"IFERROR(IF(AND(BUV$3>=$B$9,BUV$3<=$C$9),\"○\",\"\"),\"\")","v":""},null,{"$f":"IFERROR(IF(AND(BUX$3>=$B$9,BUX$3<=$C$9),\"○\",\"\"),\"\")","v":""},null,{"$f":"IFERROR(IF(AND(BUZ$3>=$B$9,BUZ$3<=$C$9),\"○\",\"\"),\"\")","v":""},null,{"$f":"IFERROR(IF(AND(BVB$3>=$B$9,BVB$3<=$C$9),\"○\",\"\"),\"\")","v":""},null,{"$f":"IFERROR(IF(AND(BVD$3>=$B$9,BVD$3<=$C$9),\"○\",\"\"),\"\")","v":""},null,{"$f":"IFERROR(IF(AND(BVF$3>=$B$9,BVF$3<=$C$9),\"○\",\"\"),\"\")","v":""},null,{"$f":"IFERROR(IF(AND(BVH$3>=$B$9,BVH$3<=$C$9),\"○\",\"\"),\"\")","v":""},null,{"$f":"IFERROR(IF(AND(BVJ$3>=$B$9,BVJ$3<=$C$9),\"○\",\"\"),\"\")","v":""},null,{"$f":"IFERROR(IF(AND(BVL$3>=$B$9,BVL$3<=$C$9),\"○\",\"\"),\"\")","v":""},null,{"$f":"IFERROR(IF(AND(BVN$3>=$B$9,BVN$3<=$C$9),\"○\",\"\"),\"\")","v":""},null,{"$f":"IFERROR(IF(AND(BVP$3>=$B$9,BVP$3<=$C$9),\"○\",\"\"),\"\")","v":""},null,{"$f":"IFERROR(IF(AND(BVR$3>=$B$9,BVR$3<=$C$9),\"○\",\"\"),\"\")","v":""},null,{"$f":"IFERROR(IF(AND(BVT$3>=$B$9,BVT$3<=$C$9),\"○\",\"\"),\"\")","v":""},null,{"$f":"IFERROR(IF(AND(BVV$3>=$B$9,BVV$3<=$C$9),\"○\",\"\"),\"\")","v":""},null,{"$f":"IFERROR(IF(AND(BVX$3>=$B$9,BVX$3<=$C$9),\"○\",\"\"),\"\")","v":""},null,{"$f":"IFERROR(IF(AND(BVZ$3>=$B$9,BVZ$3<=$C$9),\"○\",\"\"),\"\")","v":""},null,{"$f":"IFERROR(IF(AND(BWB$3>=$B$9,BWB$3<=$C$9),\"○\",\"\"),\"\")","v":""},null,{"$f":"IFERROR(IF(AND(BWD$3>=$B$9,BWD$3<=$C$9),\"○\",\"\"),\"\")","v":""},null,{"$f":"IFERROR(IF(AND(BWF$3>=$B$9,BWF$3<=$C$9),\"○\",\"\"),\"\")","v":""},null,{"$f":"IFERROR(IF(AND(BWH$3>=$B$9,BWH$3<=$C$9),\"○\",\"\"),\"\")","v":""},null,{"$f":"IFERROR(IF(AND(BWJ$3>=$B$9,BWJ$3<=$C$9),\"○\",\"\"),\"\")","v":""},null,{"$f":"IFERROR(IF(AND(BWL$3>=$B$9,BWL$3<=$C$9),\"○\",\"\"),\"\")","v":""},null,{"$f":"IFERROR(IF(AND(BWN$3>=$B$9,BWN$3<=$C$9),\"○\",\"\"),\"\")","v":""},null,{"$f":"IFERROR(IF(AND(BWP$3>=$B$9,BWP$3<=$C$9),\"○\",\"\"),\"\")","v":""},null,{"$f":"IFERROR(IF(AND(BWR$3>=$B$9,BWR$3<=$C$9),\"○\",\"\"),\"\")","v":""},null,{"$f":"IFERROR(IF(AND(BWT$3>=$B$9,BWT$3<=$C$9),\"○\",\"\"),\"\")","v":""},null,{"$f":"IFERROR(IF(AND(BWV$3>=$B$9,BWV$3<=$C$9),\"○\",\"\"),\"\")","v":""},null,{"$f":"SUM(F10:BWW10)","v":{"v":0,"d":"0.00"}},"月",{"$f":"BWX9/D9","v":{"$error":"#DIV/0!"}},{"v":0,"d":"0.00"},{"$f":"QUOTIENT(BXA9,12)","v":0},{"$f":"MOD(BXA9,12)","v":{"v":0,"d":"0.00"}}]
[{"$nulls":6},{"$f":"IF(F9=\"\",\"0\",1/F$22)","v":"0"},null,{"$f":"IF(H9=\"\",\"0\",1/H$22)","v":"0"},null,{"$f":"IF(J9=\"\",\"0\",1/J$22)","v":"0"},null,{"$f":"IF(L9=\"\",\"0\",1/L$22)","v":"0"},null,{"$f":"IF(N9=\"\",\"0\",1/N$22)","v":"0"},null,{"$f":"IF(P9=\"\",\"0\",1/P$22)","v":"0"},null,{"$f":"IF(R9=\"\",\"0\",1/R$22)","v":"0"},null,{"$f":"IF(T9=\"\",\"0\",1/T$22)","v":"0"},null,{"$f":"IF(V9=\"\",\"0\",1/V$22)","v":"0"},null,{"$f":"IF(X9=\"\",\"0\",1/X$22)","v":"0"},null,{"$f":"IF(Z9=\"\",\"0\",1/Z$22)","v":"0"},null,{"$f":"IF(AB9=\"\",\"0\",1/AB$22)","v":"0"},null,{"$f":"IF(AD9=\"\",\"0\",1/AD$22)","v":"0"},null,{"$f":"IF(AF9=\"\",\"0\",1/AF$22)","v":"0"},null,{"$f":"IF(AH9=\"\",\"0\",1/AH$22)","v":"0"},null,{"$f":"IF(AJ9=\"\",\"0\",1/AJ$22)","v":"0"},null,{"$f":"IF(AL9=\"\",\"0\",1/AL$22)","v":"0"},null,{"$f":"IF(AN9=\"\",\"0\",1/AN$22)","v":"0"},null,{"$f":"IF(AP9=\"\",\"0\",1/AP$22)","v":"0"},null,{"$f":"IF(AR9=\"\",\"0\",1/AR$22)","v":"0"},null,{"$f":"IF(AT9=\"\",\"0\",1/AT$22)","v":"0"},null,{"$f":"IF(AV9=\"\",\"0\",1/AV$22)","v":"0"},null,{"$f":"IF(AX9=\"\",\"0\",1/AX$22)","v":"0"},null,{"$f":"IF(AZ9=\"\",\"0\",1/AZ$22)","v":"0"},null,{"$f":"IF(BB9=\"\",\"0\",1/BB$22)","v":"0"},null,{"$f":"IF(BD9=\"\",\"0\",1/BD$22)","v":"0"},null,{"$f":"IF(BF9=\"\",\"0\",1/BF$22)","v":"0"},null,{"$f":"IF(BH9=\"\",\"0\",1/BH$22)","v":"0"},null,{"$f":"IF(BJ9=\"\",\"0\",1/BJ$22)","v":"0"},null,{"$f":"IF(BL9=\"\",\"0\",1/BL$22)","v":"0"},null,{"$f":"IF(BN9=\"\",\"0\",1/BN$22)","v":"0"},null,{"$f":"IF(BP9=\"\",\"0\",1/BP$22)","v":"0"},null,{"$f":"IF(BR9=\"\",\"0\",1/BR$22)","v":"0"},null,{"$f":"IF(BT9=\"\",\"0\",1/BT$22)","v":"0"},null,{"$f":"IF(BV9=\"\",\"0\",1/BV$22)","v":"0"},null,{"$f":"IF(BX9=\"\",\"0\",1/BX$22)","v":"0"},null,{"$f":"IF(BZ9=\"\",\"0\",1/BZ$22)","v":"0"},null,{"$f":"IF(CB9=\"\",\"0\",1/CB$22)","v":"0"},null,{"$f":"IF(CD9=\"\",\"0\",1/CD$22)","v":"0"},null,{"$f":"IF(CF9=\"\",\"0\",1/CF$22)","v":"0"},null,{"$f":"IF(CH9=\"\",\"0\",1/CH$22)","v":"0"},null,{"$f":"IF(CJ9=\"\",\"0\",1/CJ$22)","v":"0"},null,{"$f":"IF(CL9=\"\",\"0\",1/CL$22)","v":"0"},null,{"$f":"IF(CN9=\"\",\"0\",1/CN$22)","v":"0"},null,{"$f":"IF(CP9=\"\",\"0\",1/CP$22)","v":"0"},null,{"$f":"IF(CR9=\"\",\"0\",1/CR$22)","v":"0"},null,{"$f":"IF(CT9=\"\",\"0\",1/CT$22)","v":"0"},null,{"$f":"IF(CV9=\"\",\"0\",1/CV$22)","v":"0"},null,{"$f":"IF(CX9=\"\",\"0\",1/CX$22)","v":"0"},null,{"$f":"IF(CZ9=\"\",\"0\",1/CZ$22)","v":"0"},null,{"$f":"IF(DB9=\"\",\"0\",1/DB$22)","v":"0"},null,{"$f":"IF(DD9=\"\",\"0\",1/DD$22)","v":"0"},null,{"$f":"IF(DF9=\"\",\"0\",1/DF$22)","v":"0"},null,{"$f":"IF(DH9=\"\",\"0\",1/DH$22)","v":"0"},null,{"$f":"IF(DJ9=\"\",\"0\",1/DJ$22)","v":"0"},null,{"$f":"IF(DL9=\"\",\"0\",1/DL$22)","v":"0"},null,{"$f":"IF(DN9=\"\",\"0\",1/DN$22)","v":"0"},null,{"$f":"IF(DP9=\"\",\"0\",1/DP$22)","v":"0"},null,{"$f":"IF(DR9=\"\",\"0\",1/DR$22)","v":"0"},null,{"$f":"IF(DT9=\"\",\"0\",1/DT$22)","v":"0"},null,{"$f":"IF(DV9=\"\",\"0\",1/DV$22)","v":"0"},null,{"$f":"IF(DX9=\"\",\"0\",1/DX$22)","v":"0"},null,{"$f":"IF(DZ9=\"\",\"0\",1/DZ$22)","v":"0"},null,{"$f":"IF(EB9=\"\",\"0\",1/EB$22)","v":"0"},null,{"$f":"IF(ED9=\"\",\"0\",1/ED$22)","v":"0"},null,{"$f":"IF(EF9=\"\",\"0\",1/EF$22)","v":"0"},null,{"$f":"IF(EH9=\"\",\"0\",1/EH$22)","v":"0"},null,{"$f":"IF(EJ9=\"\",\"0\",1/EJ$22)","v":"0"},null,{"$f":"IF(EL9=\"\",\"0\",1/EL$22)","v":"0"},null,{"$f":"IF(EN9=\"\",\"0\",1/EN$22)","v":"0"},null,{"$f":"IF(EP9=\"\",\"0\",1/EP$22)","v":"0"},null,{"$f":"IF(ER9=\"\",\"0\",1/ER$22)","v":"0"},null,{"$f":"IF(ET9=\"\",\"0\",1/ET$22)","v":"0"},null,{"$f":"IF(EV9=\"\",\"0\",1/EV$22)","v":"0"},null,{"$f":"IF(EX9=\"\",\"0\",1/EX$22)","v":"0"},null,{"$f":"IF(EZ9=\"\",\"0\",1/EZ$22)","v":"0"},null,{"$f":"IF(FB9=\"\",\"0\",1/FB$22)","v":"0"},null,{"$f":"IF(FD9=\"\",\"0\",1/FD$22)","v":"0"},null,{"$f":"IF(FF9=\"\",\"0\",1/FF$22)","v":"0"},null,{"$f":"IF(FH9=\"\",\"0\",1/FH$22)","v":"0"},null,{"$f":"IF(FJ9=\"\",\"0\",1/FJ$22)","v":"0"},null,{"$f":"IF(FL9=\"\",\"0\",1/FL$22)","v":"0"},null,{"$f":"IF(FN9=\"\",\"0\",1/FN$22)","v":"0"},null,{"$f":"IF(FP9=\"\",\"0\",1/FP$22)","v":"0"},null,{"$f":"IF(FR9=\"\",\"0\",1/FR$22)","v":"0"},null,{"$f":"IF(FT9=\"\",\"0\",1/FT$22)","v":"0"},null,{"$f":"IF(FV9=\"\",\"0\",1/FV$22)","v":"0"},null,{"$f":"IF(FX9=\"\",\"0\",1/FX$22)","v":"0"},null,{"$f":"IF(FZ9=\"\",\"0\",1/FZ$22)","v":"0"},null,{"$f":"IF(GB9=\"\",\"0\",1/GB$22)","v":"0"},null,{"$f":"IF(GD9=\"\",\"0\",1/GD$22)","v":"0"},null,{"$f":"IF(GF9=\"\",\"0\",1/GF$22)","v":"0"},null,{"$f":"IF(GH9=\"\",\"0\",1/GH$22)","v":"0"},null,{"$f":"IF(GJ9=\"\",\"0\",1/GJ$22)","v":"0"},null,{"$f":"IF(GL9=\"\",\"0\",1/GL$22)","v":"0"},null,{"$f":"IF(GN9=\"\",\"0\",1/GN$22)","v":"0"},null,{"$f":"IF(GP9=\"\",\"0\",1/GP$22)","v":"0"},null,{"$f":"IF(GR9=\"\",\"0\",1/GR$22)","v":"0"},null,{"$f":"IF(GT9=\"\",\"0\",1/GT$22)","v":"0"},null,{"$f":"IF(GV9=\"\",\"0\",1/GV$22)","v":"0"},null,{"$f":"IF(GX9=\"\",\"0\",1/GX$22)","v":"0"},null,{"$f":"IF(GZ9=\"\",\"0\",1/GZ$22)","v":"0"},null,{"$f":"IF(HB9=\"\",\"0\",1/HB$22)","v":"0"},null,{"$f":"IF(HD9=\"\",\"0\",1/HD$22)","v":"0"},null,{"$f":"IF(HF9=\"\",\"0\",1/HF$22)","v":"0"},null,{"$f":"IF(HH9=\"\",\"0\",1/HH$22)","v":"0"},null,{"$f":"IF(HJ9=\"\",\"0\",1/HJ$22)","v":"0"},null,{"$f":"IF(HL9=\"\",\"0\",1/HL$22)","v":"0"},null,{"$f":"IF(HN9=\"\",\"0\",1/HN$22)","v":"0"},null,{"$f":"IF(HP9=\"\",\"0\",1/HP$22)","v":"0"},null,{"$f":"IF(HR9=\"\",\"0\",1/HR$22)","v":"0"},null,{"$f":"IF(HT9=\"\",\"0\",1/HT$22)","v":"0"},null,{"$f":"IF(HV9=\"\",\"0\",1/HV$22)","v":"0"},null,{"$f":"IF(HX9=\"\",\"0\",1/HX$22)","v":"0"},null,{"$f":"IF(HZ9=\"\",\"0\",1/HZ$22)","v":"0"},null,{"$f":"IF(IB9=\"\",\"0\",1/IB$22)","v":"0"},null,{"$f":"IF(ID9=\"\",\"0\",1/ID$22)","v":"0"},null,{"$f":"IF(IF9=\"\",\"0\",1/IF$22)","v":"0"},null,{"$f":"IF(IH9=\"\",\"0\",1/IH$22)","v":"0"},null,{"$f":"IF(IJ9=\"\",\"0\",1/IJ$22)","v":"0"},null,{"$f":"IF(IL9=\"\",\"0\",1/IL$22)","v":"0"},null,{"$f":"IF(IN9=\"\",\"0\",1/IN$22)","v":"0"},null,{"$f":"IF(IP9=\"\",\"0\",1/IP$22)","v":"0"},null,{"$f":"IF(IR9=\"\",\"0\",1/IR$22)","v":"0"},null,{"$f":"IF(IT9=\"\",\"0\",1/IT$22)","v":"0"},null,{"$f":"IF(IV9=\"\",\"0\",1/IV$22)","v":"0"},null,{"$f":"IF(IX9=\"\",\"0\",1/IX$22)","v":"0"},null,{"$f":"IF(IZ9=\"\",\"0\",1/IZ$22)","v":"0"},null,{"$f":"IF(JB9=\"\",\"0\",1/JB$22)","v":"0"},null,{"$f":"IF(JD9=\"\",\"0\",1/JD$22)","v":"0"},null,{"$f":"IF(JF9=\"\",\"0\",1/JF$22)","v":"0"},null,{"$f":"IF(JH9=\"\",\"0\",1/JH$22)","v":"0"},null,{"$f":"IF(JJ9=\"\",\"0\",1/JJ$22)","v":"0"},null,{"$f":"IF(JL9=\"\",\"0\",1/JL$22)","v":"0"},null,{"$f":"IF(JN9=\"\",\"0\",1/JN$22)","v":"0"},null,{"$f":"IF(JP9=\"\",\"0\",1/JP$22)","v":"0"},null,{"$f":"IF(JR9=\"\",\"0\",1/JR$22)","v":"0"},null,{"$f":"IF(JT9=\"\",\"0\",1/JT$22)","v":"0"},null,{"$f":"IF(JV9=\"\",\"0\",1/JV$22)","v":"0"},null,{"$f":"IF(JX9=\"\",\"0\",1/JX$22)","v":"0"},null,{"$f":"IF(JZ9=\"\",\"0\",1/JZ$22)","v":"0"},null,{"$f":"IF(KB9=\"\",\"0\",1/KB$22)","v":"0"},null,{"$f":"IF(KD9=\"\",\"0\",1/KD$22)","v":"0"},null,{"$f":"IF(KF9=\"\",\"0\",1/KF$22)","v":"0"},null,{"$f":"IF(KH9=\"\",\"0\",1/KH$22)","v":"0"},null,{"$f":"IF(KJ9=\"\",\"0\",1/KJ$22)","v":"0"},null,{"$f":"IF(KL9=\"\",\"0\",1/KL$22)","v":"0"},null,{"$f":"IF(KN9=\"\",\"0\",1/KN$22)","v":"0"},null,{"$f":"IF(KP9=\"\",\"0\",1/KP$22)","v":"0"},null,{"$f":"IF(KR9=\"\",\"0\",1/KR$22)","v":"0"},null,{"$f":"IF(KT9=\"\",\"0\",1/KT$22)","v":"0"},null,{"$f":"IF(KV9=\"\",\"0\",1/KV$22)","v":"0"},null,{"$f":"IF(KX9=\"\",\"0\",1/KX$22)","v":"0"},null,{"$f":"IF(KZ9=\"\",\"0\",1/KZ$22)","v":"0"},null,{"$f":"IF(LB9=\"\",\"0\",1/LB$22)","v":"0"},null,{"$f":"IF(LD9=\"\",\"0\",1/LD$22)","v":"0"},null,{"$f":"IF(LF9=\"\",\"0\",1/LF$22)","v":"0"},null,{"$f":"IF(LH9=\"\",\"0\",1/LH$22)","v":"0"},null,{"$f":"IF(LJ9=\"\",\"0\",1/LJ$22)","v":"0"},null,{"$f":"IF(LL9=\"\",\"0\",1/LL$22)","v":"0"},null,{"$f":"IF(LN9=\"\",\"0\",1/LN$22)","v":"0"},null,{"$f":"IF(LP9=\"\",\"0\",1/LP$22)","v":"0"},null,{"$f":"IF(LR9=\"\",\"0\",1/LR$22)","v":"0"},null,{"$f":"IF(LT9=\"\",\"0\",1/LT$22)","v":"0"},null,{"$f":"IF(LV9=\"\",\"0\",1/LV$22)","v":"0"},null,{"$f":"IF(LX9=\"\",\"0\",1/LX$22)","v":"0"},null,{"$f":"IF(LZ9=\"\",\"0\",1/LZ$22)","v":"0"},null,{"$f":"IF(MB9=\"\",\"0\",1/MB$22)","v":"0"},null,{"$f":"IF(MD9=\"\",\"0\",1/MD$22)","v":"0"},null,{"$f":"IF(MF9=\"\",\"0\",1/MF$22)","v":"0"},null,{"$f":"IF(MH9=\"\",\"0\",1/MH$22)","v":"0"},null,{"$f":"IF(MJ9=\"\",\"0\",1/MJ$22)","v":"0"},null,{"$f":"IF(ML9=\"\",\"0\",1/ML$22)","v":"0"},null,{"$f":"IF(MN9=\"\",\"0\",1/MN$22)","v":"0"},null,{"$f":"IF(MP9=\"\",\"0\",1/MP$22)","v":"0"},null,{"$f":"IF(MR9=\"\",\"0\",1/MR$22)","v":"0"},null,{"$f":"IF(MT9=\"\",\"0\",1/MT$22)","v":"0"},null,{"$f":"IF(MV9=\"\",\"0\",1/MV$22)","v":"0"},null,{"$f":"IF(MX9=\"\",\"0\",1/MX$22)","v":"0"},null,{"$f":"IF(MZ9=\"\",\"0\",1/MZ$22)","v":"0"},null,{"$f":"IF(NB9=\"\",\"0\",1/NB$22)","v":"0"},null,{"$f":"IF(ND9=\"\",\"0\",1/ND$22)","v":"0"},null,{"$f":"IF(NF9=\"\",\"0\",1/NF$22)","v":"0"},null,{"$f":"IF(NH9=\"\",\"0\",1/NH$22)","v":"0"},null,{"$f":"IF(NJ9=\"\",\"0\",1/NJ$22)","v":"0"},null,{"$f":"IF(NL9=\"\",\"0\",1/NL$22)","v":"0"},null,{"$f":"IF(NN9=\"\",\"0\",1/NN$22)","v":"0"},null,{"$f":"IF(NP9=\"\",\"0\",1/NP$22)","v":"0"},null,{"$f":"IF(NR9=\"\",\"0\",1/NR$22)","v":"0"},null,{"$f":"IF(NT9=\"\",\"0\",1/NT$22)","v":"0"},null,{"$f":"IF(NV9=\"\",\"0\",1/NV$22)","v":"0"},null,{"$f":"IF(NX9=\"\",\"0\",1/NX$22)","v":"0"},null,{"$f":"IF(NZ9=\"\",\"0\",1/NZ$22)","v":"0"},null,{"$f":"IF(OB9=\"\",\"0\",1/OB$22)","v":"0"},null,{"$f":"IF(OD9=\"\",\"0\",1/OD$22)","v":"0"},null,{"$f":"IF(OF9=\"\",\"0\",1/OF$22)","v":"0"},null,{"$f":"IF(OH9=\"\",\"0\",1/OH$22)","v":"0"},null,{"$f":"IF(OJ9=\"\",\"0\",1/OJ$22)","v":"0"},null,{"$f":"IF(OL9=\"\",\"0\",1/OL$22)","v":"0"},null,{"$f":"IF(ON9=\"\",\"0\",1/ON$22)","v":"0"},null,{"$f":"IF(OP9=\"\",\"0\",1/OP$22)","v":"0"},null,{"$f":"IF(OR9=\"\",\"0\",1/OR$22)","v":"0"},null,{"$f":"IF(OT9=\"\",\"0\",1/OT$22)","v":"0"},null,{"$f":"IF(OV9=\"\",\"0\",1/OV$22)","v":"0"},null,{"$f":"IF(OX9=\"\",\"0\",1/OX$22)","v":"0"},null,{"$f":"IF(OZ9=\"\",\"0\",1/OZ$22)","v":"0"},null,{"$f":"IF(PB9=\"\",\"0\",1/PB$22)","v":"0"},null,{"$f":"IF(PD9=\"\",\"0\",1/PD$22)","v":"0"},null,{"$f":"IF(PF9=\"\",\"0\",1/PF$22)","v":"0"},null,{"$f":"IF(PH9=\"\",\"0\",1/PH$22)","v":"0"},null,{"$f":"IF(PJ9=\"\",\"0\",1/PJ$22)","v":"0"},null,{"$f":"IF(PL9=\"\",\"0\",1/PL$22)","v":"0"},null,{"$f":"IF(PN9=\"\",\"0\",1/PN$22)","v":"0"},null,{"$f":"IF(PP9=\"\",\"0\",1/PP$22)","v":"0"},null,{"$f":"IF(PR9=\"\",\"0\",1/PR$22)","v":"0"},null,{"$f":"IF(PT9=\"\",\"0\",1/PT$22)","v":"0"},null,{"$f":"IF(PV9=\"\",\"0\",1/PV$22)","v":"0"},null,{"$f":"IF(PX9=\"\",\"0\",1/PX$22)","v":"0"},null,{"$f":"IF(PZ9=\"\",\"0\",1/PZ$22)","v":"0"},null,{"$f":"IF(QB9=\"\",\"0\",1/QB$22)","v":"0"},null,{"$f":"IF(QD9=\"\",\"0\",1/QD$22)","v":"0"},null,{"$f":"IF(QF9=\"\",\"0\",1/QF$22)","v":"0"},null,{"$f":"IF(QH9=\"\",\"0\",1/QH$22)","v":"0"},null,{"$f":"IF(QJ9=\"\",\"0\",1/QJ$22)","v":"0"},null,{"$f":"IF(QL9=\"\",\"0\",1/QL$22)","v":"0"},null,{"$f":"IF(QN9=\"\",\"0\",1/QN$22)","v":"0"},null,{"$f":"IF(QP9=\"\",\"0\",1/QP$22)","v":"0"},null,{"$f":"IF(QR9=\"\",\"0\",1/QR$22)","v":"0"},null,{"$f":"IF(QT9=\"\",\"0\",1/QT$22)","v":"0"},null,{"$f":"IF(QV9=\"\",\"0\",1/QV$22)","v":"0"},null,{"$f":"IF(QX9=\"\",\"0\",1/QX$22)","v":"0"},null,{"$f":"IF(QZ9=\"\",\"0\",1/QZ$22)","v":"0"},null,{"$f":"IF(RB9=\"\",\"0\",1/RB$22)","v":"0"},null,{"$f":"IF(RD9=\"\",\"0\",1/RD$22)","v":"0"},null,{"$f":"IF(RF9=\"\",\"0\",1/RF$22)","v":"0"},null,{"$f":"IF(RH9=\"\",\"0\",1/RH$22)","v":"0"},null,{"$f":"IF(RJ9=\"\",\"0\",1/RJ$22)","v":"0"},null,{"$f":"IF(RL9=\"\",\"0\",1/RL$22)","v":"0"},null,{"$f":"IF(RN9=\"\",\"0\",1/RN$22)","v":"0"},null,{"$f":"IF(RP9=\"\",\"0\",1/RP$22)","v":"0"},null,{"$f":"IF(RR9=\"\",\"0\",1/RR$22)","v":"0"},null,{"$f":"IF(RT9=\"\",\"0\",1/RT$22)","v":"0"},null,{"$f":"IF(RV9=\"\",\"0\",1/RV$22)","v":"0"},null,{"$f":"IF(RX9=\"\",\"0\",1/RX$22)","v":"0"},null,{"$f":"IF(RZ9=\"\",\"0\",1/RZ$22)","v":"0"},null,{"$f":"IF(SB9=\"\",\"0\",1/SB$22)","v":"0"},null,{"$f":"IF(SD9=\"\",\"0\",1/SD$22)","v":"0"},null,{"$f":"IF(SF9=\"\",\"0\",1/SF$22)","v":"0"},null,{"$f":"IF(SH9=\"\",\"0\",1/SH$22)","v":"0"},null,{"$f":"IF(SJ9=\"\",\"0\",1/SJ$22)","v":"0"},null,{"$f":"IF(SL9=\"\",\"0\",1/SL$22)","v":"0"},null,{"$f":"IF(SN9=\"\",\"0\",1/SN$22)","v":"0"},null,{"$f":"IF(SP9=\"\",\"0\",1/SP$22)","v":"0"},null,{"$f":"IF(SR9=\"\",\"0\",1/SR$22)","v":"0"},null,{"$f":"IF(ST9=\"\",\"0\",1/ST$22)","v":"0"},null,{"$f":"IF(SV9=\"\",\"0\",1/SV$22)","v":"0"},null,{"$f":"IF(SX9=\"\",\"0\",1/SX$22)","v":"0"},null,{"$f":"IF(SZ9=\"\",\"0\",1/SZ$22)","v":"0"},null,{"$f":"IF(TB9=\"\",\"0\",1/TB$22)","v":"0"},null,{"$f":"IF(TD9=\"\",\"0\",1/TD$22)","v":"0"},null,{"$f":"IF(TF9=\"\",\"0\",1/TF$22)","v":"0"},null,{"$f":"IF(TH9=\"\",\"0\",1/TH$22)","v":"0"},null,{"$f":"IF(TJ9=\"\",\"0\",1/TJ$22)","v":"0"},null,{"$f":"IF(TL9=\"\",\"0\",1/TL$22)","v":"0"},null,{"$f":"IF(TN9=\"\",\"0\",1/TN$22)","v":"0"},null,{"$f":"IF(TP9=\"\",\"0\",1/TP$22)","v":"0"},null,{"$f":"IF(TR9=\"\",\"0\",1/TR$22)","v":"0"},null,{"$f":"IF(TT9=\"\",\"0\",1/TT$22)","v":"0"},null,{"$f":"IF(TV9=\"\",\"0\",1/TV$22)","v":"0"},null,{"$f":"IF(TX9=\"\",\"0\",1/TX$22)","v":"0"},null,{"$f":"IF(TZ9=\"\",\"0\",1/TZ$22)","v":"0"},null,{"$f":"IF(UB9=\"\",\"0\",1/UB$22)","v":"0"},null,{"$f":"IF(UD9=\"\",\"0\",1/UD$22)","v":"0"},null,{"$f":"IF(UF9=\"\",\"0\",1/UF$22)","v":"0"},null,{"$f":"IF(UH9=\"\",\"0\",1/UH$22)","v":"0"},null,{"$f":"IF(UJ9=\"\",\"0\",1/UJ$22)","v":"0"},null,{"$f":"IF(UL9=\"\",\"0\",1/UL$22)","v":"0"},null,{"$f":"IF(UN9=\"\",\"0\",1/UN$22)","v":"0"},null,{"$f":"IF(UP9=\"\",\"0\",1/UP$22)","v":"0"},null,{"$f":"IF(UR9=\"\",\"0\",1/UR$22)","v":"0"},null,{"$f":"IF(UT9=\"\",\"0\",1/UT$22)","v":"0"},null,{"$f":"IF(UV9=\"\",\"0\",1/UV$22)","v":"0"},null,{"$f":"IF(UX9=\"\",\"0\",1/UX$22)","v":"0"},null,{"$f":"IF(UZ9=\"\",\"0\",1/UZ$22)","v":"0"},null,{"$f":"IF(VB9=\"\",\"0\",1/VB$22)","v":"0"},null,{"$f":"IF(VD9=\"\",\"0\",1/VD$22)","v":"0"},null,{"$f":"IF(VF9=\"\",\"0\",1/VF$22)","v":"0"},null,{"$f":"IF(VH9=\"\",\"0\",1/VH$22)","v":"0"},null,{"$f":"IF(VJ9=\"\",\"0\",1/VJ$22)","v":"0"},null,{"$f":"IF(VL9=\"\",\"0\",1/VL$22)","v":"0"},null,{"$f":"IF(VN9=\"\",\"0\",1/VN$22)","v":"0"},null,{"$f":"IF(VP9=\"\",\"0\",1/VP$22)","v":"0"},null,{"$f":"IF(VR9=\"\",\"0\",1/VR$22)","v":"0"},null,{"$f":"IF(VT9=\"\",\"0\",1/VT$22)","v":"0"},null,{"$f":"IF(VV9=\"\",\"0\",1/VV$22)","v":"0"},null,{"$f":"IF(VX9=\"\",\"0\",1/VX$22)","v":"0"},null,{"$f":"IF(VZ9=\"\",\"0\",1/VZ$22)","v":"0"},null,{"$f":"IF(WB9=\"\",\"0\",1/WB$22)","v":"0"},null,{"$f":"IF(WD9=\"\",\"0\",1/WD$22)","v":"0"},null,{"$f":"IF(WF9=\"\",\"0\",1/WF$22)","v":"0"},null,{"$f":"IF(WH9=\"\",\"0\",1/WH$22)","v":"0"},null,{"$f":"IF(WJ9=\"\",\"0\",1/WJ$22)","v":"0"},null,{"$f":"IF(WL9=\"\",\"0\",1/WL$22)","v":"0"},null,{"$f":"IF(WN9=\"\",\"0\",1/WN$22)","v":"0"},null,{"$f":"IF(WP9=\"\",\"0\",1/WP$22)","v":"0"},null,{"$f":"IF(WR9=\"\",\"0\",1/WR$22)","v":"0"},null,{"$f":"IF(WT9=\"\",\"0\",1/WT$22)","v":"0"},null,{"$f":"IF(WV9=\"\",\"0\",1/WV$22)","v":"0"},null,{"$f":"IF(WX9=\"\",\"0\",1/WX$22)","v":"0"},null,{"$f":"IF(WZ9=\"\",\"0\",1/WZ$22)","v":"0"},null,{"$f":"IF(XB9=\"\",\"0\",1/XB$22)","v":"0"},null,{"$f":"IF(XD9=\"\",\"0\",1/XD$22)","v":"0"},null,{"$f":"IF(XF9=\"\",\"0\",1/XF$22)","v":"0"},null,{"$f":"IF(XH9=\"\",\"0\",1/XH$22)","v":"0"},null,{"$f":"IF(XJ9=\"\",\"0\",1/XJ$22)","v":"0"},null,{"$f":"IF(XL9=\"\",\"0\",1/XL$22)","v":"0"},null,{"$f":"IF(XN9=\"\",\"0\",1/XN$22)","v":"0"},null,{"$f":"IF(XP9=\"\",\"0\",1/XP$22)","v":"0"},null,{"$f":"IF(XR9=\"\",\"0\",1/XR$22)","v":"0"},null,{"$f":"IF(XT9=\"\",\"0\",1/XT$22)","v":"0"},null,{"$f":"IF(XV9=\"\",\"0\",1/XV$22)","v":"0"},null,{"$f":"IF(XX9=\"\",\"0\",1/XX$22)","v":"0"},null,{"$f":"IF(XZ9=\"\",\"0\",1/XZ$22)","v":"0"},null,{"$f":"IF(YB9=\"\",\"0\",1/YB$22)","v":"0"},null,{"$f":"IF(YD9=\"\",\"0\",1/YD$22)","v":"0"},null,{"$f":"IF(YF9=\"\",\"0\",1/YF$22)","v":"0"},null,{"$f":"IF(YH9=\"\",\"0\",1/YH$22)","v":"0"},null,{"$f":"IF(YJ9=\"\",\"0\",1/YJ$22)","v":"0"},null,{"$f":"IF(YL9=\"\",\"0\",1/YL$22)","v":"0"},null,{"$f":"IF(YN9=\"\",\"0\",1/YN$22)","v":"0"},null,{"$f":"IF(YP9=\"\",\"0\",1/YP$22)","v":"0"},null,{"$f":"IF(YR9=\"\",\"0\",1/YR$22)","v":"0"},null,{"$f":"IF(YT9=\"\",\"0\",1/YT$22)","v":"0"},null,{"$f":"IF(YV9=\"\",\"0\",1/YV$22)","v":"0"},null,{"$f":"IF(YX9=\"\",\"0\",1/YX$22)","v":"0"},null,{"$f":"IF(YZ9=\"\",\"0\",1/YZ$22)","v":"0"},null,{"$f":"IF(ZB9=\"\",\"0\",1/ZB$22)","v":"0"},null,{"$f":"IF(ZD9=\"\",\"0\",1/ZD$22)","v":"0"},null,{"$f":"IF(ZF9=\"\",\"0\",1/ZF$22)","v":"0"},null,{"$f":"IF(ZH9=\"\",\"0\",1/ZH$22)","v":"0"},null,{"$f":"IF(ZJ9=\"\",\"0\",1/ZJ$22)","v":"0"},null,{"$f":"IF(ZL9=\"\",\"0\",1/ZL$22)","v":"0"},null,{"$f":"IF(ZN9=\"\",\"0\",1/ZN$22)","v":"0"},null,{"$f":"IF(ZP9=\"\",\"0\",1/ZP$22)","v":"0"},null,{"$f":"IF(ZR9=\"\",\"0\",1/ZR$22)","v":"0"},null,{"$f":"IF(ZT9=\"\",\"0\",1/ZT$22)","v":"0"},null,{"$f":"IF(ZV9=\"\",\"0\",1/ZV$22)","v":"0"},null,{"$f":"IF(ZX9=\"\",\"0\",1/ZX$22)","v":"0"},null,{"$f":"IF(ZZ9=\"\",\"0\",1/ZZ$22)","v":"0"},null,{"$f":"IF(AAB9=\"\",\"0\",1/AAB$22)","v":"0"},null,{"$f":"IF(AAD9=\"\",\"0\",1/AAD$22)","v":"0"},null,{"$f":"IF(AAF9=\"\",\"0\",1/AAF$22)","v":"0"},null,{"$f":"IF(AAH9=\"\",\"0\",1/AAH$22)","v":"0"},null,{"$f":"IF(AAJ9=\"\",\"0\",1/AAJ$22)","v":"0"},null,{"$f":"IF(AAL9=\"\",\"0\",1/AAL$22)","v":"0"},null,{"$f":"IF(AAN9=\"\",\"0\",1/AAN$22)","v":"0"},null,{"$f":"IF(AAP9=\"\",\"0\",1/AAP$22)","v":"0"},null,{"$f":"IF(AAR9=\"\",\"0\",1/AAR$22)","v":"0"},null,{"$f":"IF(AAT9=\"\",\"0\",1/AAT$22)","v":"0"},null,{"$f":"IF(AAV9=\"\",\"0\",1/AAV$22)","v":"0"},null,{"$f":"IF(AAX9=\"\",\"0\",1/AAX$22)","v":"0"},null,{"$f":"IF(AAZ9=\"\",\"0\",1/AAZ$22)","v":"0"},null,{"$f":"IF(ABB9=\"\",\"0\",1/ABB$22)","v":"0"},null,{"$f":"IF(ABD9=\"\",\"0\",1/ABD$22)","v":"0"},null,{"$f":"IF(ABF9=\"\",\"0\",1/ABF$22)","v":"0"},null,{"$f":"IF(ABH9=\"\",\"0\",1/ABH$22)","v":"0"},null,{"$f":"IF(ABJ9=\"\",\"0\",1/ABJ$22)","v":"0"},null,{"$f":"IF(ABL9=\"\",\"0\",1/ABL$22)","v":"0"},null,{"$f":"IF(ABN9=\"\",\"0\",1/ABN$22)","v":"0"},null,{"$f":"IF(ABP9=\"\",\"0\",1/ABP$22)","v":"0"},null,{"$f":"IF(ABR9=\"\",\"0\",1/ABR$22)","v":"0"},null,{"$f":"IF(ABT9=\"\",\"0\",1/ABT$22)","v":"0"},null,{"$f":"IF(ABV9=\"\",\"0\",1/ABV$22)","v":"0"},null,{"$f":"IF(ABX9=\"\",\"0\",1/ABX$22)","v":"0"},null,{"$f":"IF(ABZ9=\"\",\"0\",1/ABZ$22)","v":"0"},null,{"$f":"IF(ACB9=\"\",\"0\",1/ACB$22)","v":"0"},null,{"$f":"IF(ACD9=\"\",\"0\",1/ACD$22)","v":"0"},null,{"$f":"IF(ACF9=\"\",\"0\",1/ACF$22)","v":"0"},null,{"$f":"IF(ACH9=\"\",\"0\",1/ACH$22)","v":"0"},null,{"$f":"IF(ACJ9=\"\",\"0\",1/ACJ$22)","v":"0"},null,{"$f":"IF(ACL9=\"\",\"0\",1/ACL$22)","v":"0"},null,{"$f":"IF(ACN9=\"\",\"0\",1/ACN$22)","v":"0"},null,{"$f":"IF(ACP9=\"\",\"0\",1/ACP$22)","v":"0"},null,{"$f":"IF(ACR9=\"\",\"0\",1/ACR$22)","v":"0"},null,{"$f":"IF(ACT9=\"\",\"0\",1/ACT$22)","v":"0"},null,{"$f":"IF(ACV9=\"\",\"0\",1/ACV$22)","v":"0"},null,{"$f":"IF(ACX9=\"\",\"0\",1/ACX$22)","v":"0"},null,{"$f":"IF(ACZ9=\"\",\"0\",1/ACZ$22)","v":"0"},null,{"$f":"IF(ADB9=\"\",\"0\",1/ADB$22)","v":"0"},null,{"$f":"IF(ADD9=\"\",\"0\",1/ADD$22)","v":"0"},null,{"$f":"IF(ADF9=\"\",\"0\",1/ADF$22)","v":"0"},null,{"$f":"IF(ADH9=\"\",\"0\",1/ADH$22)","v":"0"},null,{"$f":"IF(ADJ9=\"\",\"0\",1/ADJ$22)","v":"0"},null,{"$f":"IF(ADL9=\"\",\"0\",1/ADL$22)","v":"0"},null,{"$f":"IF(ADN9=\"\",\"0\",1/ADN$22)","v":"0"},null,{"$f":"IF(ADP9=\"\",\"0\",1/ADP$22)","v":"0"},null,{"$f":"IF(ADR9=\"\",\"0\",1/ADR$22)","v":"0"},null,{"$f":"IF(ADT9=\"\",\"0\",1/ADT$22)","v":"0"},null,{"$f":"IF(ADV9=\"\",\"0\",1/ADV$22)","v":"0"},null,{"$f":"IF(ADX9=\"\",\"0\",1/ADX$22)","v":"0"},null,{"$f":"IF(ADZ9=\"\",\"0\",1/ADZ$22)","v":"0"},null,{"$f":"IF(AEB9=\"\",\"0\",1/AEB$22)","v":"0"},null,{"$f":"IF(AED9=\"\",\"0\",1/AED$22)","v":"0"},null,{"$f":"IF(AEF9=\"\",\"0\",1/AEF$22)","v":"0"},null,{"$f":"IF(AEH9=\"\",\"0\",1/AEH$22)","v":"0"},null,{"$f":"IF(AEJ9=\"\",\"0\",1/AEJ$22)","v":"0"},null,{"$f":"IF(AEL9=\"\",\"0\",1/AEL$22)","v":"0"},null,{"$f":"IF(AEN9=\"\",\"0\",1/AEN$22)","v":"0"},null,{"$f":"IF(AEP9=\"\",\"0\",1/AEP$22)","v":"0"},null,{"$f":"IF(AER9=\"\",\"0\",1/AER$22)","v":"0"},null,{"$f":"IF(AET9=\"\",\"0\",1/AET$22)","v":"0"},null,{"$f":"IF(AEV9=\"\",\"0\",1/AEV$22)","v":"0"},null,{"$f":"IF(AEX9=\"\",\"0\",1/AEX$22)","v":"0"},null,{"$f":"IF(AEZ9=\"\",\"0\",1/AEZ$22)","v":"0"},null,{"$f":"IF(AFB9=\"\",\"0\",1/AFB$22)","v":"0"},null,{"$f":"IF(AFD9=\"\",\"0\",1/AFD$22)","v":"0"},null,{"$f":"IF(AFF9=\"\",\"0\",1/AFF$22)","v":"0"},null,{"$f":"IF(AFH9=\"\",\"0\",1/AFH$22)","v":"0"},null,{"$f":"IF(AFJ9=\"\",\"0\",1/AFJ$22)","v":"0"},null,{"$f":"IF(AFL9=\"\",\"0\",1/AFL$22)","v":"0"},null,{"$f":"IF(AFN9=\"\",\"0\",1/AFN$22)","v":"0"},null,{"$f":"IF(AFP9=\"\",\"0\",1/AFP$22)","v":"0"},null,{"$f":"IF(AFR9=\"\",\"0\",1/AFR$22)","v":"0"},null,{"$f":"IF(AFT9=\"\",\"0\",1/AFT$22)","v":"0"},null,{"$f":"IF(AFV9=\"\",\"0\",1/AFV$22)","v":"0"},null,{"$f":"IF(AFX9=\"\",\"0\",1/AFX$22)","v":"0"},null,{"$f":"IF(AFZ9=\"\",\"0\",1/AFZ$22)","v":"0"},null,{"$f":"IF(AGB9=\"\",\"0\",1/AGB$22)","v":"0"},null,{"$f":"IF(AGD9=\"\",\"0\",1/AGD$22)","v":"0"},null,{"$f":"IF(AGF9=\"\",\"0\",1/AGF$22)","v":"0"},null,{"$f":"IF(AGH9=\"\",\"0\",1/AGH$22)","v":"0"},null,{"$f":"IF(AGJ9=\"\",\"0\",1/AGJ$22)","v":"0"},null,{"$f":"IF(AGL9=\"\",\"0\",1/AGL$22)","v":"0"},null,{"$f":"IF(AGN9=\"\",\"0\",1/AGN$22)","v":"0"},null,{"$f":"IF(AGP9=\"\",\"0\",1/AGP$22)","v":"0"},null,{"$f":"IF(AGR9=\"\",\"0\",1/AGR$22)","v":"0"},null,{"$f":"IF(AGT9=\"\",\"0\",1/AGT$22)","v":"0"},null,{"$f":"IF(AGV9=\"\",\"0\",1/AGV$22)","v":"0"},null,{"$f":"IF(AGX9=\"\",\"0\",1/AGX$22)","v":"0"},null,{"$f":"IF(AGZ9=\"\",\"0\",1/AGZ$22)","v":"0"},null,{"$f":"IF(AHB9=\"\",\"0\",1/AHB$22)","v":"0"},null,{"$f":"IF(AHD9=\"\",\"0\",1/AHD$22)","v":"0"},null,{"$f":"IF(AHF9=\"\",\"0\",1/AHF$22)","v":"0"},null,{"$f":"IF(AHH9=\"\",\"0\",1/AHH$22)","v":"0"},null,{"$f":"IF(AHJ9=\"\",\"0\",1/AHJ$22)","v":"0"},null,{"$f":"IF(AHL9=\"\",\"0\",1/AHL$22)","v":"0"},null,{"$f":"IF(AHN9=\"\",\"0\",1/AHN$22)","v":"0"},null,{"$f":"IF(AHP9=\"\",\"0\",1/AHP$22)","v":"0"},null,{"$f":"IF(AHR9=\"\",\"0\",1/AHR$22)","v":"0"},null,{"$f":"IF(AHT9=\"\",\"0\",1/AHT$22)","v":"0"},null,{"$f":"IF(AHV9=\"\",\"0\",1/AHV$22)","v":"0"},null,{"$f":"IF(AHX9=\"\",\"0\",1/AHX$22)","v":"0"},null,{"$f":"IF(AHZ9=\"\",\"0\",1/AHZ$22)","v":"0"},null,{"$f":"IF(AIB9=\"\",\"0\",1/AIB$22)","v":"0"},null,{"$f":"IF(AID9=\"\",\"0\",1/AID$22)","v":"0"},null,{"$f":"IF(AIF9=\"\",\"0\",1/AIF$22)","v":"0"},null,{"$f":"IF(AIH9=\"\",\"0\",1/AIH$22)","v":"0"},null,{"$f":"IF(AIJ9=\"\",\"0\",1/AIJ$22)","v":"0"},null,{"$f":"IF(AIL9=\"\",\"0\",1/AIL$22)","v":"0"},null,{"$f":"IF(AIN9=\"\",\"0\",1/AIN$22)","v":"0"},null,{"$f":"IF(AIP9=\"\",\"0\",1/AIP$22)","v":"0"},null,{"$f":"IF(AIR9=\"\",\"0\",1/AIR$22)","v":"0"},null,{"$f":"IF(AIT9=\"\",\"0\",1/AIT$22)","v":"0"},null,{"$f":"IF(AIV9=\"\",\"0\",1/AIV$22)","v":"0"},null,{"$f":"IF(AIX9=\"\",\"0\",1/AIX$22)","v":"0"},null,{"$f":"IF(AIZ9=\"\",\"0\",1/AIZ$22)","v":"0"},null,{"$f":"IF(AJB9=\"\",\"0\",1/AJB$22)","v":"0"},null,{"$f":"IF(AJD9=\"\",\"0\",1/AJD$22)","v":"0"},null,{"$f":"IF(AJF9=\"\",\"0\",1/AJF$22)","v":"0"},null,{"$f":"IF(AJH9=\"\",\"0\",1/AJH$22)","v":"0"},null,{"$f":"IF(AJJ9=\"\",\"0\",1/AJJ$22)","v":"0"},null,{"$f":"IF(AJL9=\"\",\"0\",1/AJL$22)","v":"0"},null,{"$f":"IF(AJN9=\"\",\"0\",1/AJN$22)","v":"0"},null,{"$f":"IF(AJP9=\"\",\"0\",1/AJP$22)","v":"0"},null,{"$f":"IF(AJR9=\"\",\"0\",1/AJR$22)","v":"0"},null,{"$f":"IF(AJT9=\"\",\"0\",1/AJT$22)","v":"0"},null,{"$f":"IF(AJV9=\"\",\"0\",1/AJV$22)","v":"0"},null,{"$f":"IF(AJX9=\"\",\"0\",1/AJX$22)","v":"0"},null,{"$f":"IF(AJZ9=\"\",\"0\",1/AJZ$22)","v":"0"},null,{"$f":"IF(AKB9=\"\",\"0\",1/AKB$22)","v":"0"},null,{"$f":"IF(AKD9=\"\",\"0\",1/AKD$22)","v":"0"},null,{"$f":"IF(AKF9=\"\",\"0\",1/AKF$22)","v":"0"},null,{"$f":"IF(AKH9=\"\",\"0\",1/AKH$22)","v":"0"},null,{"$f":"IF(AKJ9=\"\",\"0\",1/AKJ$22)","v":"0"},null,{"$f":"IF(AKL9=\"\",\"0\",1/AKL$22)","v":"0"},null,{"$f":"IF(AKN9=\"\",\"0\",1/AKN$22)","v":"0"},null,{"$f":"IF(AKP9=\"\",\"0\",1/AKP$22)","v":"0"},null,{"$f":"IF(AKR9=\"\",\"0\",1/AKR$22)","v":"0"},null,{"$f":"IF(AKT9=\"\",\"0\",1/AKT$22)","v":"0"},null,{"$f":"IF(AKV9=\"\",\"0\",1/AKV$22)","v":"0"},null,{"$f":"IF(AKX9=\"\",\"0\",1/AKX$22)","v":"0"},null,{"$f":"IF(AKZ9=\"\",\"0\",1/AKZ$22)","v":"0"},null,{"$f":"IF(ALB9=\"\",\"0\",1/ALB$22)","v":"0"},null,{"$f":"IF(ALD9=\"\",\"0\",1/ALD$22)","v":"0"},null,{"$f":"IF(ALF9=\"\",\"0\",1/ALF$22)","v":"0"},null,{"$f":"IF(ALH9=\"\",\"0\",1/ALH$22)","v":"0"},null,{"$f":"IF(ALJ9=\"\",\"0\",1/ALJ$22)","v":"0"},null,{"$f":"IF(ALL9=\"\",\"0\",1/ALL$22)","v":"0"},null,{"$f":"IF(ALN9=\"\",\"0\",1/ALN$22)","v":"0"},null,{"$f":"IF(ALP9=\"\",\"0\",1/ALP$22)","v":"0"},null,{"$f":"IF(ALR9=\"\",\"0\",1/ALR$22)","v":"0"},null,{"$f":"IF(ALT9=\"\",\"0\",1/ALT$22)","v":"0"},null,{"$f":"IF(ALV9=\"\",\"0\",1/ALV$22)","v":"0"},null,{"$f":"IF(ALX9=\"\",\"0\",1/ALX$22)","v":"0"},null,{"$f":"IF(ALZ9=\"\",\"0\",1/ALZ$22)","v":"0"},null,{"$f":"IF(AMB9=\"\",\"0\",1/AMB$22)","v":"0"},null,{"$f":"IF(AMD9=\"\",\"0\",1/AMD$22)","v":"0"},null,{"$f":"IF(AMF9=\"\",\"0\",1/AMF$22)","v":"0"},null,{"$f":"IF(AMH9=\"\",\"0\",1/AMH$22)","v":"0"},null,{"$f":"IF(AMJ9=\"\",\"0\",1/AMJ$22)","v":"0"},null,{"$f":"IF(AML9=\"\",\"0\",1/AML$22)","v":"0"},null,{"$f":"IF(AMN9=\"\",\"0\",1/AMN$22)","v":"0"},null,{"$f":"IF(AMP9=\"\",\"0\",1/AMP$22)","v":"0"},null,{"$f":"IF(AMR9=\"\",\"0\",1/AMR$22)","v":"0"},null,{"$f":"IF(AMT9=\"\",\"0\",1/AMT$22)","v":"0"},null,{"$f":"IF(AMV9=\"\",\"0\",1/AMV$22)","v":"0"},null,{"$f":"IF(AMX9=\"\",\"0\",1/AMX$22)","v":"0"},null,{"$f":"IF(AMZ9=\"\",\"0\",1/AMZ$22)","v":"0"},null,{"$f":"IF(ANB9=\"\",\"0\",1/ANB$22)","v":"0"},null,{"$f":"IF(AND9=\"\",\"0\",1/AND$22)","v":"0"},null,{"$f":"IF(ANF9=\"\",\"0\",1/ANF$22)","v":"0"},null,{"$f":"IF(ANH9=\"\",\"0\",1/ANH$22)","v":"0"},null,{"$f":"IF(ANJ9=\"\",\"0\",1/ANJ$22)","v":"0"},null,{"$f":"IF(ANL9=\"\",\"0\",1/ANL$22)","v":"0"},null,{"$f":"IF(ANN9=\"\",\"0\",1/ANN$22)","v":"0"},null,{"$f":"IF(ANP9=\"\",\"0\",1/ANP$22)","v":"0"},null,{"$f":"IF(ANR9=\"\",\"0\",1/ANR$22)","v":"0"},null,{"$f":"IF(ANT9=\"\",\"0\",1/ANT$22)","v":"0"},null,{"$f":"IF(ANV9=\"\",\"0\",1/ANV$22)","v":"0"},null,{"$f":"IF(ANX9=\"\",\"0\",1/ANX$22)","v":"0"},null,{"$f":"IF(ANZ9=\"\",\"0\",1/ANZ$22)","v":"0"},null,{"$f":"IF(AOB9=\"\",\"0\",1/AOB$22)","v":"0"},null,{"$f":"IF(AOD9=\"\",\"0\",1/AOD$22)","v":"0"},null,{"$f":"IF(AOF9=\"\",\"0\",1/AOF$22)","v":"0"},null,{"$f":"IF(AOH9=\"\",\"0\",1/AOH$22)","v":"0"},null,{"$f":"IF(AOJ9=\"\",\"0\",1/AOJ$22)","v":"0"},null,{"$f":"IF(AOL9=\"\",\"0\",1/AOL$22)","v":"0"},null,{"$f":"IF(AON9=\"\",\"0\",1/AON$22)","v":"0"},null,{"$f":"IF(AOP9=\"\",\"0\",1/AOP$22)","v":"0"},null,{"$f":"IF(AOR9=\"\",\"0\",1/AOR$22)","v":"0"},null,{"$f":"IF(AOT9=\"\",\"0\",1/AOT$22)","v":"0"},null,{"$f":"IF(AOV9=\"\",\"0\",1/AOV$22)","v":"0"},null,{"$f":"IF(AOX9=\"\",\"0\",1/AOX$22)","v":"0"},null,{"$f":"IF(AOZ9=\"\",\"0\",1/AOZ$22)","v":"0"},null,{"$f":"IF(APB9=\"\",\"0\",1/APB$22)","v":"0"},null,{"$f":"IF(APD9=\"\",\"0\",1/APD$22)","v":"0"},null,{"$f":"IF(APF9=\"\",\"0\",1/APF$22)","v":"0"},null,{"$f":"IF(APH9=\"\",\"0\",1/APH$22)","v":"0"},null,{"$f":"IF(APJ9=\"\",\"0\",1/APJ$22)","v":"0"},null,{"$f":"IF(APL9=\"\",\"0\",1/APL$22)","v":"0"},null,{"$f":"IF(APN9=\"\",\"0\",1/APN$22)","v":"0"},null,{"$f":"IF(APP9=\"\",\"0\",1/APP$22)","v":"0"},null,{"$f":"IF(APR9=\"\",\"0\",1/APR$22)","v":"0"},null,{"$f":"IF(APT9=\"\",\"0\",1/APT$22)","v":"0"},null,{"$f":"IF(APV9=\"\",\"0\",1/APV$22)","v":"0"},null,{"$f":"IF(APX9=\"\",\"0\",1/APX$22)","v":"0"},null,{"$f":"IF(APZ9=\"\",\"0\",1/APZ$22)","v":"0"},null,{"$f":"IF(AQB9=\"\",\"0\",1/AQB$22)","v":"0"},null,{"$f":"IF(AQD9=\"\",\"0\",1/AQD$22)","v":"0"},null,{"$f":"IF(AQF9=\"\",\"0\",1/AQF$22)","v":"0"},null,{"$f":"IF(AQH9=\"\",\"0\",1/AQH$22)","v":"0"},null,{"$f":"IF(AQJ9=\"\",\"0\",1/AQJ$22)","v":"0"},null,{"$f":"IF(AQL9=\"\",\"0\",1/AQL$22)","v":"0"},null,{"$f":"IF(AQN9=\"\",\"0\",1/AQN$22)","v":"0"},null,{"$f":"IF(AQP9=\"\",\"0\",1/AQP$22)","v":"0"},null,{"$f":"IF(AQR9=\"\",\"0\",1/AQR$22)","v":"0"},null,{"$f":"IF(AQT9=\"\",\"0\",1/AQT$22)","v":"0"},null,{"$f":"IF(AQV9=\"\",\"0\",1/AQV$22)","v":"0"},null,{"$f":"IF(AQX9=\"\",\"0\",1/AQX$22)","v":"0"},null,{"$f":"IF(AQZ9=\"\",\"0\",1/AQZ$22)","v":"0"},null,{"$f":"IF(ARB9=\"\",\"0\",1/ARB$22)","v":"0"},null,{"$f":"IF(ARD9=\"\",\"0\",1/ARD$22)","v":"0"},null,{"$f":"IF(ARF9=\"\",\"0\",1/ARF$22)","v":"0"},null,{"$f":"IF(ARH9=\"\",\"0\",1/ARH$22)","v":"0"},null,{"$f":"IF(ARJ9=\"\",\"0\",1/ARJ$22)","v":"0"},null,{"$f":"IF(ARL9=\"\",\"0\",1/ARL$22)","v":"0"},null,{"$f":"IF(ARN9=\"\",\"0\",1/ARN$22)","v":"0"},null,{"$f":"IF(ARP9=\"\",\"0\",1/ARP$22)","v":"0"},null,{"$f":"IF(ARR9=\"\",\"0\",1/ARR$22)","v":"0"},null,{"$f":"IF(ART9=\"\",\"0\",1/ART$22)","v":"0"},null,{"$f":"IF(ARV9=\"\",\"0\",1/ARV$22)","v":"0"},null,{"$f":"IF(ARX9=\"\",\"0\",1/ARX$22)","v":"0"},null,{"$f":"IF(ARZ9=\"\",\"0\",1/ARZ$22)","v":"0"},null,{"$f":"IF(ASB9=\"\",\"0\",1/ASB$22)","v":"0"},null,{"$f":"IF(ASD9=\"\",\"0\",1/ASD$22)","v":"0"},null,{"$f":"IF(ASF9=\"\",\"0\",1/ASF$22)","v":"0"},null,{"$f":"IF(ASH9=\"\",\"0\",1/ASH$22)","v":"0"},null,{"$f":"IF(ASJ9=\"\",\"0\",1/ASJ$22)","v":"0"},null,{"$f":"IF(ASL9=\"\",\"0\",1/ASL$22)","v":"0"},null,{"$f":"IF(ASN9=\"\",\"0\",1/ASN$22)","v":"0"},null,{"$f":"IF(ASP9=\"\",\"0\",1/ASP$22)","v":"0"},null,{"$f":"IF(ASR9=\"\",\"0\",1/ASR$22)","v":"0"},null,{"$f":"IF(AST9=\"\",\"0\",1/AST$22)","v":"0"},null,{"$f":"IF(ASV9=\"\",\"0\",1/ASV$22)","v":"0"},null,{"$f":"IF(ASX9=\"\",\"0\",1/ASX$22)","v":"0"},null,{"$f":"IF(ASZ9=\"\",\"0\",1/ASZ$22)","v":"0"},null,{"$f":"IF(ATB9=\"\",\"0\",1/ATB$22)","v":"0"},null,{"$f":"IF(ATD9=\"\",\"0\",1/ATD$22)","v":"0"},null,{"$f":"IF(ATF9=\"\",\"0\",1/ATF$22)","v":"0"},null,{"$f":"IF(ATH9=\"\",\"0\",1/ATH$22)","v":"0"},null,{"$f":"IF(ATJ9=\"\",\"0\",1/ATJ$22)","v":"0"},null,{"$f":"IF(ATL9=\"\",\"0\",1/ATL$22)","v":"0"},null,{"$f":"IF(ATN9=\"\",\"0\",1/ATN$22)","v":"0"},null,{"$f":"IF(ATP9=\"\",\"0\",1/ATP$22)","v":"0"},null,{"$f":"IF(ATR9=\"\",\"0\",1/ATR$22)","v":"0"},null,{"$f":"IF(ATT9=\"\",\"0\",1/ATT$22)","v":"0"},null,{"$f":"IF(ATV9=\"\",\"0\",1/ATV$22)","v":"0"},null,{"$f":"IF(ATX9=\"\",\"0\",1/ATX$22)","v":"0"},null,{"$f":"IF(ATZ9=\"\",\"0\",1/ATZ$22)","v":"0"},null,{"$f":"IF(AUB9=\"\",\"0\",1/AUB$22)","v":"0"},null,{"$f":"IF(AUD9=\"\",\"0\",1/AUD$22)","v":"0"},null,{"$f":"IF(AUF9=\"\",\"0\",1/AUF$22)","v":"0"},null,{"$f":"IF(AUH9=\"\",\"0\",1/AUH$22)","v":"0"},null,{"$f":"IF(AUJ9=\"\",\"0\",1/AUJ$22)","v":"0"},null,{"$f":"IF(AUL9=\"\",\"0\",1/AUL$22)","v":"0"},null,{"$f":"IF(AUN9=\"\",\"0\",1/AUN$22)","v":"0"},null,{"$f":"IF(AUP9=\"\",\"0\",1/AUP$22)","v":"0"},null,{"$f":"IF(AUR9=\"\",\"0\",1/AUR$22)","v":"0"},null,{"$f":"IF(AUT9=\"\",\"0\",1/AUT$22)","v":"0"},null,{"$f":"IF(AUV9=\"\",\"0\",1/AUV$22)","v":"0"},null,{"$f":"IF(AUX9=\"\",\"0\",1/AUX$22)","v":"0"},null,{"$f":"IF(AUZ9=\"\",\"0\",1/AUZ$22)","v":"0"},null,{"$f":"IF(AVB9=\"\",\"0\",1/AVB$22)","v":"0"},null,{"$f":"IF(AVD9=\"\",\"0\",1/AVD$22)","v":"0"},null,{"$f":"IF(AVF9=\"\",\"0\",1/AVF$22)","v":"0"},null,{"$f":"IF(AVH9=\"\",\"0\",1/AVH$22)","v":"0"},null,{"$f":"IF(AVJ9=\"\",\"0\",1/AVJ$22)","v":"0"},null,{"$f":"IF(AVL9=\"\",\"0\",1/AVL$22)","v":"0"},null,{"$f":"IF(AVN9=\"\",\"0\",1/AVN$22)","v":"0"},null,{"$f":"IF(AVP9=\"\",\"0\",1/AVP$22)","v":"0"},null,{"$f":"IF(AVR9=\"\",\"0\",1/AVR$22)","v":"0"},null,{"$f":"IF(AVT9=\"\",\"0\",1/AVT$22)","v":"0"},null,{"$f":"IF(AVV9=\"\",\"0\",1/AVV$22)","v":"0"},null,{"$f":"IF(AVX9=\"\",\"0\",1/AVX$22)","v":"0"},null,{"$f":"IF(AVZ9=\"\",\"0\",1/AVZ$22)","v":"0"},null,{"$f":"IF(AWB9=\"\",\"0\",1/AWB$22)","v":"0"},null,{"$f":"IF(AWD9=\"\",\"0\",1/AWD$22)","v":"0"},null,{"$f":"IF(AWF9=\"\",\"0\",1/AWF$22)","v":"0"},null,{"$f":"IF(AWH9=\"\",\"0\",1/AWH$22)","v":"0"},null,{"$f":"IF(AWJ9=\"\",\"0\",1/AWJ$22)","v":"0"},null,{"$f":"IF(AWL9=\"\",\"0\",1/AWL$22)","v":"0"},null,{"$f":"IF(AWN9=\"\",\"0\",1/AWN$22)","v":"0"},null,{"$f":"IF(AWP9=\"\",\"0\",1/AWP$22)","v":"0"},null,{"$f":"IF(AWR9=\"\",\"0\",1/AWR$22)","v":"0"},null,{"$f":"IF(AWT9=\"\",\"0\",1/AWT$22)","v":"0"},null,{"$f":"IF(AWV9=\"\",\"0\",1/AWV$22)","v":"0"},null,{"$f":"IF(AWX9=\"\",\"0\",1/AWX$22)","v":"0"},null,{"$f":"IF(AWZ9=\"\",\"0\",1/AWZ$22)","v":"0"},null,{"$f":"IF(AXB9=\"\",\"0\",1/AXB$22)","v":"0"},null,{"$f":"IF(AXD9=\"\",\"0\",1/AXD$22)","v":"0"},null,{"$f":"IF(AXF9=\"\",\"0\",1/AXF$22)","v":"0"},null,{"$f":"IF(AXH9=\"\",\"0\",1/AXH$22)","v":"0"},null,{"$f":"IF(AXJ9=\"\",\"0\",1/AXJ$22)","v":"0"},null,{"$f":"IF(AXL9=\"\",\"0\",1/AXL$22)","v":"0"},null,{"$f":"IF(AXN9=\"\",\"0\",1/AXN$22)","v":"0"},null,{"$f":"IF(AXP9=\"\",\"0\",1/AXP$22)","v":"0"},null,{"$f":"IF(AXR9=\"\",\"0\",1/AXR$22)","v":"0"},null,{"$f":"IF(AXT9=\"\",\"0\",1/AXT$22)","v":"0"},null,{"$f":"IF(AXV9=\"\",\"0\",1/AXV$22)","v":"0"},null,{"$f":"IF(AXX9=\"\",\"0\",1/AXX$22)","v":"0"},null,{"$f":"IF(AXZ9=\"\",\"0\",1/AXZ$22)","v":"0"},null,{"$f":"IF(AYB9=\"\",\"0\",1/AYB$22)","v":"0"},null,{"$f":"IF(AYD9=\"\",\"0\",1/AYD$22)","v":"0"},null,{"$f":"IF(AYF9=\"\",\"0\",1/AYF$22)","v":"0"},null,{"$f":"IF(AYH9=\"\",\"0\",1/AYH$22)","v":"0"},null,{"$f":"IF(AYJ9=\"\",\"0\",1/AYJ$22)","v":"0"},null,{"$f":"IF(AYL9=\"\",\"0\",1/AYL$22)","v":"0"},null,{"$f":"IF(AYN9=\"\",\"0\",1/AYN$22)","v":"0"},null,{"$f":"IF(AYP9=\"\",\"0\",1/AYP$22)","v":"0"},null,{"$f":"IF(AYR9=\"\",\"0\",1/AYR$22)","v":"0"},null,{"$f":"IF(AYT9=\"\",\"0\",1/AYT$22)","v":"0"},null,{"$f":"IF(AYV9=\"\",\"0\",1/AYV$22)","v":"0"},null,{"$f":"IF(AYX9=\"\",\"0\",1/AYX$22)","v":"0"},null,{"$f":"IF(AYZ9=\"\",\"0\",1/AYZ$22)","v":"0"},null,{"$f":"IF(AZB9=\"\",\"0\",1/AZB$22)","v":"0"},null,{"$f":"IF(AZD9=\"\",\"0\",1/AZD$22)","v":"0"},null,{"$f":"IF(AZF9=\"\",\"0\",1/AZF$22)","v":"0"},null,{"$f":"IF(AZH9=\"\",\"0\",1/AZH$22)","v":"0"},null,{"$f":"IF(AZJ9=\"\",\"0\",1/AZJ$22)","v":"0"},null,{"$f":"IF(AZL9=\"\",\"0\",1/AZL$22)","v":"0"},null,{"$f":"IF(AZN9=\"\",\"0\",1/AZN$22)","v":"0"},null,{"$f":"IF(AZP9=\"\",\"0\",1/AZP$22)","v":"0"},null,{"$f":"IF(AZR9=\"\",\"0\",1/AZR$22)","v":"0"},null,{"$f":"IF(AZT9=\"\",\"0\",1/AZT$22)","v":"0"},null,{"$f":"IF(AZV9=\"\",\"0\",1/AZV$22)","v":"0"},null,{"$f":"IF(AZX9=\"\",\"0\",1/AZX$22)","v":"0"},null,{"$f":"IF(AZZ9=\"\",\"0\",1/AZZ$22)","v":"0"},null,{"$f":"IF(BAB9=\"\",\"0\",1/BAB$22)","v":"0"},null,{"$f":"IF(BAD9=\"\",\"0\",1/BAD$22)","v":"0"},null,{"$f":"IF(BAF9=\"\",\"0\",1/BAF$22)","v":"0"},null,{"$f":"IF(BAH9=\"\",\"0\",1/BAH$22)","v":"0"},null,{"$f":"IF(BAJ9=\"\",\"0\",1/BAJ$22)","v":"0"},null,{"$f":"IF(BAL9=\"\",\"0\",1/BAL$22)","v":"0"},null,{"$f":"IF(BAN9=\"\",\"0\",1/BAN$22)","v":"0"},null,{"$f":"IF(BAP9=\"\",\"0\",1/BAP$22)","v":"0"},null,{"$f":"IF(BAR9=\"\",\"0\",1/BAR$22)","v":"0"},null,{"$f":"IF(BAT9=\"\",\"0\",1/BAT$22)","v":"0"},null,{"$f":"IF(BAV9=\"\",\"0\",1/BAV$22)","v":"0"},null,{"$f":"IF(BAX9=\"\",\"0\",1/BAX$22)","v":"0"},null,{"$f":"IF(BAZ9=\"\",\"0\",1/BAZ$22)","v":"0"},null,{"$f":"IF(BBB9=\"\",\"0\",1/BBB$22)","v":"0"},null,{"$f":"IF(BBD9=\"\",\"0\",1/BBD$22)","v":"0"},null,{"$f":"IF(BBF9=\"\",\"0\",1/BBF$22)","v":"0"},null,{"$f":"IF(BBH9=\"\",\"0\",1/BBH$22)","v":"0"},null,{"$f":"IF(BBJ9=\"\",\"0\",1/BBJ$22)","v":"0"},null,{"$f":"IF(BBL9=\"\",\"0\",1/BBL$22)","v":"0"},null,{"$f":"IF(BBN9=\"\",\"0\",1/BBN$22)","v":"0"},null,{"$f":"IF(BBP9=\"\",\"0\",1/BBP$22)","v":"0"},null,{"$f":"IF(BBR9=\"\",\"0\",1/BBR$22)","v":"0"},null,{"$f":"IF(BBT9=\"\",\"0\",1/BBT$22)","v":"0"},null,{"$f":"IF(BBV9=\"\",\"0\",1/BBV$22)","v":"0"},null,{"$f":"IF(BBX9=\"\",\"0\",1/BBX$22)","v":"0"},null,{"$f":"IF(BBZ9=\"\",\"0\",1/BBZ$22)","v":"0"},null,{"$f":"IF(BCB9=\"\",\"0\",1/BCB$22)","v":"0"},null,{"$f":"IF(BCD9=\"\",\"0\",1/BCD$22)","v":"0"},null,{"$f":"IF(BCF9=\"\",\"0\",1/BCF$22)","v":"0"},null,{"$f":"IF(BCH9=\"\",\"0\",1/BCH$22)","v":"0"},null,{"$f":"IF(BCJ9=\"\",\"0\",1/BCJ$22)","v":"0"},null,{"$f":"IF(BCL9=\"\",\"0\",1/BCL$22)","v":"0"},null,{"$f":"IF(BCN9=\"\",\"0\",1/BCN$22)","v":"0"},null,{"$f":"IF(BCP9=\"\",\"0\",1/BCP$22)","v":"0"},null,{"$f":"IF(BCR9=\"\",\"0\",1/BCR$22)","v":"0"},null,{"$f":"IF(BCT9=\"\",\"0\",1/BCT$22)","v":"0"},null,{"$f":"IF(BCV9=\"\",\"0\",1/BCV$22)","v":"0"},null,{"$f":"IF(BCX9=\"\",\"0\",1/BCX$22)","v":"0"},null,{"$f":"IF(BCZ9=\"\",\"0\",1/BCZ$22)","v":"0"},null,{"$f":"IF(BDB9=\"\",\"0\",1/BDB$22)","v":"0"},null,{"$f":"IF(BDD9=\"\",\"0\",1/BDD$22)","v":"0"},null,{"$f":"IF(BDF9=\"\",\"0\",1/BDF$22)","v":"0"},null,{"$f":"IF(BDH9=\"\",\"0\",1/BDH$22)","v":"0"},null,{"$f":"IF(BDJ9=\"\",\"0\",1/BDJ$22)","v":"0"},null,{"$f":"IF(BDL9=\"\",\"0\",1/BDL$22)","v":"0"},null,{"$f":"IF(BDN9=\"\",\"0\",1/BDN$22)","v":"0"},null,{"$f":"IF(BDP9=\"\",\"0\",1/BDP$22)","v":"0"},null,{"$f":"IF(BDR9=\"\",\"0\",1/BDR$22)","v":"0"},null,{"$f":"IF(BDT9=\"\",\"0\",1/BDT$22)","v":"0"},null,{"$f":"IF(BDV9=\"\",\"0\",1/BDV$22)","v":"0"},null,{"$f":"IF(BDX9=\"\",\"0\",1/BDX$22)","v":"0"},null,{"$f":"IF(BDZ9=\"\",\"0\",1/BDZ$22)","v":"0"},null,{"$f":"IF(BEB9=\"\",\"0\",1/BEB$22)","v":"0"},null,{"$f":"IF(BED9=\"\",\"0\",1/BED$22)","v":"0"},null,{"$f":"IF(BEF9=\"\",\"0\",1/BEF$22)","v":"0"},null,{"$f":"IF(BEH9=\"\",\"0\",1/BEH$22)","v":"0"},null,{"$f":"IF(BEJ9=\"\",\"0\",1/BEJ$22)","v":"0"},null,{"$f":"IF(BEL9=\"\",\"0\",1/BEL$22)","v":"0"},null,{"$f":"IF(BEN9=\"\",\"0\",1/BEN$22)","v":"0"},null,{"$f":"IF(BEP9=\"\",\"0\",1/BEP$22)","v":"0"},null,{"$f":"IF(BER9=\"\",\"0\",1/BER$22)","v":"0"},null,{"$f":"IF(BET9=\"\",\"0\",1/BET$22)","v":"0"},null,{"$f":"IF(BEV9=\"\",\"0\",1/BEV$22)","v":"0"},null,{"$f":"IF(BEX9=\"\",\"0\",1/BEX$22)","v":"0"},null,{"$f":"IF(BEZ9=\"\",\"0\",1/BEZ$22)","v":"0"},null,{"$f":"IF(BFB9=\"\",\"0\",1/BFB$22)","v":"0"},null,{"$f":"IF(BFD9=\"\",\"0\",1/BFD$22)","v":"0"},null,{"$f":"IF(BFF9=\"\",\"0\",1/BFF$22)","v":"0"},null,{"$f":"IF(BFH9=\"\",\"0\",1/BFH$22)","v":"0"},null,{"$f":"IF(BFJ9=\"\",\"0\",1/BFJ$22)","v":"0"},null,{"$f":"IF(BFL9=\"\",\"0\",1/BFL$22)","v":"0"},null,{"$f":"IF(BFN9=\"\",\"0\",1/BFN$22)","v":"0"},null,{"$f":"IF(BFP9=\"\",\"0\",1/BFP$22)","v":"0"},null,{"$f":"IF(BFR9=\"\",\"0\",1/BFR$22)","v":"0"},null,{"$f":"IF(BFT9=\"\",\"0\",1/BFT$22)","v":"0"},null,{"$f":"IF(BFV9=\"\",\"0\",1/BFV$22)","v":"0"},null,{"$f":"IF(BFX9=\"\",\"0\",1/BFX$22)","v":"0"},null,{"$f":"IF(BFZ9=\"\",\"0\",1/BFZ$22)","v":"0"},null,{"$f":"IF(BGB9=\"\",\"0\",1/BGB$22)","v":"0"},null,{"$f":"IF(BGD9=\"\",\"0\",1/BGD$22)","v":"0"},null,{"$f":"IF(BGF9=\"\",\"0\",1/BGF$22)","v":"0"},null,{"$f":"IF(BGH9=\"\",\"0\",1/BGH$22)","v":"0"},null,{"$f":"IF(BGJ9=\"\",\"0\",1/BGJ$22)","v":"0"},null,{"$f":"IF(BGL9=\"\",\"0\",1/BGL$22)","v":"0"},null,{"$f":"IF(BGN9=\"\",\"0\",1/BGN$22)","v":"0"},null,{"$f":"IF(BGP9=\"\",\"0\",1/BGP$22)","v":"0"},null,{"$f":"IF(BGR9=\"\",\"0\",1/BGR$22)","v":"0"},null,{"$f":"IF(BGT9=\"\",\"0\",1/BGT$22)","v":"0"},null,{"$f":"IF(BGV9=\"\",\"0\",1/BGV$22)","v":"0"},null,{"$f":"IF(BGX9=\"\",\"0\",1/BGX$22)","v":"0"},null,{"$f":"IF(BGZ9=\"\",\"0\",1/BGZ$22)","v":"0"},null,{"$f":"IF(BHB9=\"\",\"0\",1/BHB$22)","v":"0"},null,{"$f":"IF(BHD9=\"\",\"0\",1/BHD$22)","v":"0"},null,{"$f":"IF(BHF9=\"\",\"0\",1/BHF$22)","v":"0"},null,{"$f":"IF(BHH9=\"\",\"0\",1/BHH$22)","v":"0"},null,{"$f":"IF(BHJ9=\"\",\"0\",1/BHJ$22)","v":"0"},null,{"$f":"IF(BHL9=\"\",\"0\",1/BHL$22)","v":"0"},null,{"$f":"IF(BHN9=\"\",\"0\",1/BHN$22)","v":"0"},null,{"$f":"IF(BHP9=\"\",\"0\",1/BHP$22)","v":"0"},null,{"$f":"IF(BHR9=\"\",\"0\",1/BHR$22)","v":"0"},null,{"$f":"IF(BHT9=\"\",\"0\",1/BHT$22)","v":"0"},null,{"$f":"IF(BHV9=\"\",\"0\",1/BHV$22)","v":"0"},null,{"$f":"IF(BHX9=\"\",\"0\",1/BHX$22)","v":"0"},null,{"$f":"IF(BHZ9=\"\",\"0\",1/BHZ$22)","v":"0"},null,{"$f":"IF(BIB9=\"\",\"0\",1/BIB$22)","v":"0"},null,{"$f":"IF(BID9=\"\",\"0\",1/BID$22)","v":"0"},null,{"$f":"IF(BIF9=\"\",\"0\",1/BIF$22)","v":"0"},null,{"$f":"IF(BIH9=\"\",\"0\",1/BIH$22)","v":"0"},null,{"$f":"IF(BIJ9=\"\",\"0\",1/BIJ$22)","v":"0"},null,{"$f":"IF(BIL9=\"\",\"0\",1/BIL$22)","v":"0"},null,{"$f":"IF(BIN9=\"\",\"0\",1/BIN$22)","v":"0"},null,{"$f":"IF(BIP9=\"\",\"0\",1/BIP$22)","v":"0"},null,{"$f":"IF(BIR9=\"\",\"0\",1/BIR$22)","v":"0"},null,{"$f":"IF(BIT9=\"\",\"0\",1/BIT$22)","v":"0"},null,{"$f":"IF(BIV9=\"\",\"0\",1/BIV$22)","v":"0"},null,{"$f":"IF(BIX9=\"\",\"0\",1/BIX$22)","v":"0"},null,{"$f":"IF(BIZ9=\"\",\"0\",1/BIZ$22)","v":"0"},null,{"$f":"IF(BJB9=\"\",\"0\",1/BJB$22)","v":"0"},null,{"$f":"IF(BJD9=\"\",\"0\",1/BJD$22)","v":"0"},null,{"$f":"IF(BJF9=\"\",\"0\",1/BJF$22)","v":"0"},null,{"$f":"IF(BJH9=\"\",\"0\",1/BJH$22)","v":"0"},null,{"$f":"IF(BJJ9=\"\",\"0\",1/BJJ$22)","v":"0"},null,{"$f":"IF(BJL9=\"\",\"0\",1/BJL$22)","v":"0"},null,{"$f":"IF(BJN9=\"\",\"0\",1/BJN$22)","v":"0"},null,{"$f":"IF(BJP9=\"\",\"0\",1/BJP$22)","v":"0"},null,{"$f":"IF(BJR9=\"\",\"0\",1/BJR$22)","v":"0"},null,{"$f":"IF(BJT9=\"\",\"0\",1/BJT$22)","v":"0"},null,{"$f":"IF(BJV9=\"\",\"0\",1/BJV$22)","v":"0"},null,{"$f":"IF(BJX9=\"\",\"0\",1/BJX$22)","v":"0"},null,{"$f":"IF(BJZ9=\"\",\"0\",1/BJZ$22)","v":"0"},null,{"$f":"IF(BKB9=\"\",\"0\",1/BKB$22)","v":"0"},null,{"$f":"IF(BKD9=\"\",\"0\",1/BKD$22)","v":"0"},null,{"$f":"IF(BKF9=\"\",\"0\",1/BKF$22)","v":"0"},null,{"$f":"IF(BKH9=\"\",\"0\",1/BKH$22)","v":"0"},null,{"$f":"IF(BKJ9=\"\",\"0\",1/BKJ$22)","v":"0"},null,{"$f":"IF(BKL9=\"\",\"0\",1/BKL$22)","v":"0"},null,{"$f":"IF(BKN9=\"\",\"0\",1/BKN$22)","v":"0"},null,{"$f":"IF(BKP9=\"\",\"0\",1/BKP$22)","v":"0"},null,{"$f":"IF(BKR9=\"\",\"0\",1/BKR$22)","v":"0"},null,{"$f":"IF(BKT9=\"\",\"0\",1/BKT$22)","v":"0"},null,{"$f":"IF(BKV9=\"\",\"0\",1/BKV$22)","v":"0"},null,{"$f":"IF(BKX9=\"\",\"0\",1/BKX$22)","v":"0"},null,{"$f":"IF(BKZ9=\"\",\"0\",1/BKZ$22)","v":"0"},null,{"$f":"IF(BLB9=\"\",\"0\",1/BLB$22)","v":"0"},null,{"$f":"IF(BLD9=\"\",\"0\",1/BLD$22)","v":"0"},null,{"$f":"IF(BLF9=\"\",\"0\",1/BLF$22)","v":"0"},null,{"$f":"IF(BLH9=\"\",\"0\",1/BLH$22)","v":"0"},null,{"$f":"IF(BLJ9=\"\",\"0\",1/BLJ$22)","v":"0"},null,{"$f":"IF(BLL9=\"\",\"0\",1/BLL$22)","v":"0"},null,{"$f":"IF(BLN9=\"\",\"0\",1/BLN$22)","v":"0"},null,{"$f":"IF(BLP9=\"\",\"0\",1/BLP$22)","v":"0"},null,{"$f":"IF(BLR9=\"\",\"0\",1/BLR$22)","v":"0"},null,{"$f":"IF(BLT9=\"\",\"0\",1/BLT$22)","v":"0"},null,{"$f":"IF(BLV9=\"\",\"0\",1/BLV$22)","v":"0"},null,{"$f":"IF(BLX9=\"\",\"0\",1/BLX$22)","v":"0"},null,{"$f":"IF(BLZ9=\"\",\"0\",1/BLZ$22)","v":"0"},null,{"$f":"IF(BMB9=\"\",\"0\",1/BMB$22)","v":"0"},null,{"$f":"IF(BMD9=\"\",\"0\",1/BMD$22)","v":"0"},null,{"$f":"IF(BMF9=\"\",\"0\",1/BMF$22)","v":"0"},null,{"$f":"IF(BMH9=\"\",\"0\",1/BMH$22)","v":"0"},null,{"$f":"IF(BMJ9=\"\",\"0\",1/BMJ$22)","v":"0"},null,{"$f":"IF(BML9=\"\",\"0\",1/BML$22)","v":"0"},null,{"$f":"IF(BMN9=\"\",\"0\",1/BMN$22)","v":"0"},null,{"$f":"IF(BMP9=\"\",\"0\",1/BMP$22)","v":"0"},null,{"$f":"IF(BMR9=\"\",\"0\",1/BMR$22)","v":"0"},null,{"$f":"IF(BMT9=\"\",\"0\",1/BMT$22)","v":"0"},null,{"$f":"IF(BMV9=\"\",\"0\",1/BMV$22)","v":"0"},null,{"$f":"IF(BMX9=\"\",\"0\",1/BMX$22)","v":"0"},null,{"$f":"IF(BMZ9=\"\",\"0\",1/BMZ$22)","v":"0"},null,{"$f":"IF(BNB9=\"\",\"0\",1/BNB$22)","v":"0"},null,{"$f":"IF(BND9=\"\",\"0\",1/BND$22)","v":"0"},null,{"$f":"IF(BNF9=\"\",\"0\",1/BNF$22)","v":"0"},null,{"$f":"IF(BNH9=\"\",\"0\",1/BNH$22)","v":"0"},null,{"$f":"IF(BNJ9=\"\",\"0\",1/BNJ$22)","v":"0"},null,{"$f":"IF(BNL9=\"\",\"0\",1/BNL$22)","v":"0"},null,{"$f":"IF(BNN9=\"\",\"0\",1/BNN$22)","v":"0"},null,{"$f":"IF(BNP9=\"\",\"0\",1/BNP$22)","v":"0"},null,{"$f":"IF(BNR9=\"\",\"0\",1/BNR$22)","v":"0"},null,{"$f":"IF(BNT9=\"\",\"0\",1/BNT$22)","v":"0"},null,{"$f":"IF(BNV9=\"\",\"0\",1/BNV$22)","v":"0"},null,{"$f":"IF(BNX9=\"\",\"0\",1/BNX$22)","v":"0"},null,{"$f":"IF(BNZ9=\"\",\"0\",1/BNZ$22)","v":"0"},null,{"$f":"IF(BOB9=\"\",\"0\",1/BOB$22)","v":"0"},null,{"$f":"IF(BOD9=\"\",\"0\",1/BOD$22)","v":"0"},null,{"$f":"IF(BOF9=\"\",\"0\",1/BOF$22)","v":"0"},null,{"$f":"IF(BOH9=\"\",\"0\",1/BOH$22)","v":"0"},null,{"$f":"IF(BOJ9=\"\",\"0\",1/BOJ$22)","v":"0"},null,{"$f":"IF(BOL9=\"\",\"0\",1/BOL$22)","v":"0"},null,{"$f":"IF(BON9=\"\",\"0\",1/BON$22)","v":"0"},null,{"$f":"IF(BOP9=\"\",\"0\",1/BOP$22)","v":"0"},null,{"$f":"IF(BOR9=\"\",\"0\",1/BOR$22)","v":"0"},null,{"$f":"IF(BOT9=\"\",\"0\",1/BOT$22)","v":"0"},null,{"$f":"IF(BOV9=\"\",\"0\",1/BOV$22)","v":"0"},null,{"$f":"IF(BOX9=\"\",\"0\",1/BOX$22)","v":"0"},null,{"$f":"IF(BOZ9=\"\",\"0\",1/BOZ$22)","v":"0"},null,{"$f":"IF(BPB9=\"\",\"0\",1/BPB$22)","v":"0"},null,{"$f":"IF(BPD9=\"\",\"0\",1/BPD$22)","v":"0"},null,{"$f":"IF(BPF9=\"\",\"0\",1/BPF$22)","v":"0"},null,{"$f":"IF(BPH9=\"\",\"0\",1/BPH$22)","v":"0"},null,{"$f":"IF(BPJ9=\"\",\"0\",1/BPJ$22)","v":"0"},null,{"$f":"IF(BPL9=\"\",\"0\",1/BPL$22)","v":"0"},null,{"$f":"IF(BPN9=\"\",\"0\",1/BPN$22)","v":"0"},null,{"$f":"IF(BPP9=\"\",\"0\",1/BPP$22)","v":"0"},null,{"$f":"IF(BPR9=\"\",\"0\",1/BPR$22)","v":"0"},null,{"$f":"IF(BPT9=\"\",\"0\",1/BPT$22)","v":"0"},null,{"$f":"IF(BPV9=\"\",\"0\",1/BPV$22)","v":"0"},null,{"$f":"IF(BPX9=\"\",\"0\",1/BPX$22)","v":"0"},null,{"$f":"IF(BPZ9=\"\",\"0\",1/BPZ$22)","v":"0"},null,{"$f":"IF(BQB9=\"\",\"0\",1/BQB$22)","v":"0"},null,{"$f":"IF(BQD9=\"\",\"0\",1/BQD$22)","v":"0"},null,{"$f":"IF(BQF9=\"\",\"0\",1/BQF$22)","v":"0"},null,{"$f":"IF(BQH9=\"\",\"0\",1/BQH$22)","v":"0"},null,{"$f":"IF(BQJ9=\"\",\"0\",1/BQJ$22)","v":"0"},null,{"$f":"IF(BQL9=\"\",\"0\",1/BQL$22)","v":"0"},null,{"$f":"IF(BQN9=\"\",\"0\",1/BQN$22)","v":"0"},null,{"$f":"IF(BQP9=\"\",\"0\",1/BQP$22)","v":"0"},null,{"$f":"IF(BQR9=\"\",\"0\",1/BQR$22)","v":"0"},null,{"$f":"IF(BQT9=\"\",\"0\",1/BQT$22)","v":"0"},null,{"$f":"IF(BQV9=\"\",\"0\",1/BQV$22)","v":"0"},null,{"$f":"IF(BQX9=\"\",\"0\",1/BQX$22)","v":"0"},null,{"$f":"IF(BQZ9=\"\",\"0\",1/BQZ$22)","v":"0"},null,{"$f":"IF(BRB9=\"\",\"0\",1/BRB$22)","v":"0"},null,{"$f":"IF(BRD9=\"\",\"0\",1/BRD$22)","v":"0"},null,{"$f":"IF(BRF9=\"\",\"0\",1/BRF$22)","v":"0"},null,{"$f":"IF(BRH9=\"\",\"0\",1/BRH$22)","v":"0"},null,{"$f":"IF(BRJ9=\"\",\"0\",1/BRJ$22)","v":"0"},null,{"$f":"IF(BRL9=\"\",\"0\",1/BRL$22)","v":"0"},null,{"$f":"IF(BRN9=\"\",\"0\",1/BRN$22)","v":"0"},null,{"$f":"IF(BRP9=\"\",\"0\",1/BRP$22)","v":"0"},null,{"$f":"IF(BRR9=\"\",\"0\",1/BRR$22)","v":"0"},null,{"$f":"IF(BRT9=\"\",\"0\",1/BRT$22)","v":"0"},null,{"$f":"IF(BRV9=\"\",\"0\",1/BRV$22)","v":"0"},null,{"$f":"IF(BRX9=\"\",\"0\",1/BRX$22)","v":"0"},null,{"$f":"IF(BRZ9=\"\",\"0\",1/BRZ$22)","v":"0"},null,{"$f":"IF(BSB9=\"\",\"0\",1/BSB$22)","v":"0"},null,{"$f":"IF(BSD9=\"\",\"0\",1/BSD$22)","v":"0"},null,{"$f":"IF(BSF9=\"\",\"0\",1/BSF$22)","v":"0"},null,{"$f":"IF(BSH9=\"\",\"0\",1/BSH$22)","v":"0"},null,{"$f":"IF(BSJ9=\"\",\"0\",1/BSJ$22)","v":"0"},null,{"$f":"IF(BSL9=\"\",\"0\",1/BSL$22)","v":"0"},null,{"$f":"IF(BSN9=\"\",\"0\",1/BSN$22)","v":"0"},null,{"$f":"IF(BSP9=\"\",\"0\",1/BSP$22)","v":"0"},null,{"$f":"IF(BSR9=\"\",\"0\",1/BSR$22)","v":"0"},null,{"$f":"IF(BST9=\"\",\"0\",1/BST$22)","v":"0"},null,{"$f":"IF(BSV9=\"\",\"0\",1/BSV$22)","v":"0"},null,{"$f":"IF(BSX9=\"\",\"0\",1/BSX$22)","v":"0"},null,{"$f":"IF(BSZ9=\"\",\"0\",1/BSZ$22)","v":"0"},null,{"$f":"IF(BTB9=\"\",\"0\",1/BTB$22)","v":"0"},null,{"$f":"IF(BTD9=\"\",\"0\",1/BTD$22)","v":"0"},null,{"$f":"IF(BTF9=\"\",\"0\",1/BTF$22)","v":"0"},null,{"$f":"IF(BTH9=\"\",\"0\",1/BTH$22)","v":"0"},null,{"$f":"IF(BTJ9=\"\",\"0\",1/BTJ$22)","v":"0"},null,{"$f":"IF(BTL9=\"\",\"0\",1/BTL$22)","v":"0"},null,{"$f":"IF(BTN9=\"\",\"0\",1/BTN$22)","v":"0"},null,{"$f":"IF(BTP9=\"\",\"0\",1/BTP$22)","v":"0"},null,{"$f":"IF(BTR9=\"\",\"0\",1/BTR$22)","v":"0"},null,{"$f":"IF(BTT9=\"\",\"0\",1/BTT$22)","v":"0"},null,{"$f":"IF(BTV9=\"\",\"0\",1/BTV$22)","v":"0"},null,{"$f":"IF(BTX9=\"\",\"0\",1/BTX$22)","v":"0"},null,{"$f":"IF(BTZ9=\"\",\"0\",1/BTZ$22)","v":"0"},null,{"$f":"IF(BUB9=\"\",\"0\",1/BUB$22)","v":"0"},null,{"$f":"IF(BUD9=\"\",\"0\",1/BUD$22)","v":"0"},null,{"$f":"IF(BUF9=\"\",\"0\",1/BUF$22)","v":"0"},null,{"$f":"IF(BUH9=\"\",\"0\",1/BUH$22)","v":"0"},null,{"$f":"IF(BUJ9=\"\",\"0\",1/BUJ$22)","v":"0"},null,{"$f":"IF(BUL9=\"\",\"0\",1/BUL$22)","v":"0"},null,{"$f":"IF(BUN9=\"\",\"0\",1/BUN$22)","v":"0"},null,{"$f":"IF(BUP9=\"\",\"0\",1/BUP$22)","v":"0"},null,{"$f":"IF(BUR9=\"\",\"0\",1/BUR$22)","v":"0"},null,{"$f":"IF(BUT9=\"\",\"0\",1/BUT$22)","v":"0"},null,{"$f":"IF(BUV9=\"\",\"0\",1/BUV$22)","v":"0"},null,{"$f":"IF(BUX9=\"\",\"0\",1/BUX$22)","v":"0"},null,{"$f":"IF(BUZ9=\"\",\"0\",1/BUZ$22)","v":"0"},null,{"$f":"IF(BVB9=\"\",\"0\",1/BVB$22)","v":"0"},null,{"$f":"IF(BVD9=\"\",\"0\",1/BVD$22)","v":"0"},null,{"$f":"IF(BVF9=\"\",\"0\",1/BVF$22)","v":"0"},null,{"$f":"IF(BVH9=\"\",\"0\",1/BVH$22)","v":"0"},null,{"$f":"IF(BVJ9=\"\",\"0\",1/BVJ$22)","v":"0"},null,{"$f":"IF(BVL9=\"\",\"0\",1/BVL$22)","v":"0"},null,{"$f":"IF(BVN9=\"\",\"0\",1/BVN$22)","v":"0"},null,{"$f":"IF(BVP9=\"\",\"0\",1/BVP$22)","v":"0"},null,{"$f":"IF(BVR9=\"\",\"0\",1/BVR$22)","v":"0"},null,{"$f":"IF(BVT9=\"\",\"0\",1/BVT$22)","v":"0"},null,{"$f":"IF(BVV9=\"\",\"0\",1/BVV$22)","v":"0"},null,{"$f":"IF(BVX9=\"\",\"0\",1/BVX$22)","v":"0"},null,{"$f":"IF(BVZ9=\"\",\"0\",1/BVZ$22)","v":"0"},null,{"$f":"IF(BWB9=\"\",\"0\",1/BWB$22)","v":"0"},null,{"$f":"IF(BWD9=\"\",\"0\",1/BWD$22)","v":"0"},null,{"$f":"IF(BWF9=\"\",\"0\",1/BWF$22)","v":"0"},null,{"$f":"IF(BWH9=\"\",\"0\",1/BWH$22)","v":"0"},null,{"$f":"IF(BWJ9=\"\",\"0\",1/BWJ$22)","v":"0"},null,{"$f":"IF(BWL9=\"\",\"0\",1/BWL$22)","v":"0"},null,{"$f":"IF(BWN9=\"\",\"0\",1/BWN$22)","v":"0"},null,{"$f":"IF(BWP9=\"\",\"0\",1/BWP$22)","v":"0"},null,{"$f":"IF(BWR9=\"\",\"0\",1/BWR$22)","v":"0"},null,{"$f":"IF(BWT9=\"\",\"0\",1/BWT$22)","v":"0"},null,{"$f":"IF(BWV9=\"\",\"0\",1/BWV$22)","v":"0"}]
["実務（４）",{"$f":"年数合計!B16","v":{"$error":"#VALUE!"}},{"$f":"年数合計!C16","v":{"$error":"#VALUE!"}},{"$f":"COUNTIF(F11:BWV11,\"○\")","v":0},"月",{"$f":"IFERROR(IF(AND(F$3>=$B$11,F$3<=$C$11),\"○\",\"\"),\"\")","v":""},null,"",null,"",null,"",null,"",null,"",null,"",null,"",null,"",null,"",null,"",null,"",null,"",null,"",null,"",null,"",null,"",null,"",null,"",null,"",null,"",null,"",null,"",null,"",null,"",null,"",null,"",null,"",null,"",null,"",null,"",null,"",null,{"$f":"IFERROR(IF(AND(BR$3>=$B$11,BR$3<=$C$11),\"○\",\"\"),\"\")","v":""},null,"",null,"",null,"",null,"",null,"",null,"",null,"",null,"",null,"",null,"",null,"",null,"",null,"",null,"",null,"",null,"",null,"",null,"",null,"",null,"",null,"",null,"",null,"",null,"",null,"",null,"",null,"",null,"",null,"",null,"",null,"",null,{"$f":"IFERROR(IF(AND(ED$3>=$B$11,ED$3<=$C$11),\"○\",\"\"),\"\")","v":""},null,"",null,"",null,"",null,"",null,"",null,"",null,"",null,"",null,"",null,"",null,"",null,"",null,"",null,"",null,"",null,"",null,"",null,"",null,"",null,"",null,"",null,"",null,"",null,"",null,"",null,"",null,"",null,"",null,"",null,"",null,"",null,{"$f":"IFERROR(IF(AND(GP$3>=$B$11,GP$3<=$C$11),\"○\",\"\"),\"\")","v":""},null,"",null,"",null,"",null,"",null,"",null,"",null,"",null,"",null,"",null,"",null,"",null,"",null,"",null,"",null,"",null,"",null,"",null,"",null,"",null,"",null,"",null,"",null,"",null,"",null,"",null,"",null,"",null,"",null,"",null,"",null,"",null,{"$f":"IFERROR(IF(AND(JB$3>=$B$11,JB$3<=$C$11),\"○\",\"\"),\"\")","v":""},null,"",null,"",null,"",null,"",null,"",null,"",null,"",null,"",null,"",null,"",null,"",null,"",null,"",null,"",null,"",null,"",null,"",null,"",null,"",null,"",null,"",null,"",null,"",null,"",null,"",null,"",null,"",null,"",null,"",null,"",null,"",null,{"$f":"IFERROR(IF(AND(LN$3>=$B$11,LN$3<=$C$11),\"○\",\"\"),\"\")","v":""},null,"",null,"",null,"",null,"",null,"",null,"",null,"",null,"",null,"",null,"",null,"",null,"",null,"",null,"",null,"",null,"",null,"",null,"",null,"",null,"",null,"",null,"",null,"",null,"",null,"",null,"",null,"",null,"",null,"",null,"",null,"",null,{"$f":"IFERROR(IF(AND(NZ$3>=$B$11,NZ$3<=$C$11),\"○\",\"\"),\"\")","v":""},null,"",null,"",null,"",null,"",null,"",null,"",null,"",null,"",null,"",null,"",null,"",null,"",null,"",null,"",null,"",null,"",null,"",null,"",null,"",null,"",null,"",null,"",null,"",null,"",null,"",null,"",null,"",null,"",null,"",null,"",null,"",null,{"$f":"IFERROR(IF(AND(QL$3>=$B$11,QL$3<=$C$11),\"○\",\"\"),\"\")","v":""},null,"",null,"",null,"",null,"",null,"",null,"",null,"",null,"",null,"",null,"",null,"",null,"",null,"",null,"",null,"",null,"",null,"",null,"",null,"",null,"",null,"",null,"",null,"",null,"",null,"",null,"",null,"",null,"",null,"",null,"",null,"",null,{"$f":"IFERROR(IF(AND(SX$3>=$B$11,SX$3<=$C$11),\"○\",\"\"),\"\")","v":""},null,"",null,"",null,"",null,"",null,"",null,"",null,"",null,"",null,"",null,"",null,"",null,"",null,"",null,"",null,"",null,"",null,"",null,"",null,"",null,"",null,"",null,"",null,"",null,"",null,"",null,"",null,"",null,"",null,"",null,"",null,"",null,{"$f":"IFERROR(IF(AND(VJ$3>=$B$11,VJ$3<=$C$11),\"○\",\"\"),\"\")","v":""},null,"",null,"",null,"",null,"",null,"",null,"",null,"",null,"",null,"",null,"",null,"",null,"",null,"",null,"",null,"",null,"",null,"",null,"",null,"",null,"",null,"",null,"",null,"",null,"",null,"",null,"",null,"",null,"",null,"",null,"",null,"",null,{"$f":"IFERROR(IF(AND(XV$3>=$B$11,XV$3<=$C$11),\"○\",\"\"),\"\")","v":""},null,"",null,"",null,"",null,"",null,"",null,"",null,"",null,"",null,"",null,"",null,"",null,"",null,"",null,"",null,"",null,"",null,"",null,"",null,"",null,"",null,"",null,"",null,"",null,"",null,"",null,"",null,"",null,"",null,"",null,"",null,"",null,{"$f":"IFERROR(IF(AND(AAH$3>=$B$11,AAH$3<=$C$11),\"○\",\"\"),\"\")","v":""},null,"",null,"",null,"",null,"",null,"",null,"",null,"",null,"",null,"",null,"",null,"",null,"",null,"",null,"",null,"",null,"",null,"",null,"",null,"",null,"",null,"",null,"",null,"",null,"",null,"",null,"",null,"",null,"",null,"",null,"",null,"",null,{"$f":"IFERROR(IF(AND(ACT$3>=$B$11,ACT$3<=$C$11),\"○\",\"\"),\"\")","v":""},null,"",null,"",null,"",null,"",null,"",null,"",null,"",null,"",null,"",null,"",null,"",null,"",null,"",null,"",null,"",null,"",null,"",null,"",null,"",null,"",null,"",null,"",null,"",null,"",null,"",null,"",null,"",null,"",null,"",null,"",null,"",null,{"$f":"IFERROR(IF(AND(AFF$3>=$B$11,AFF$3<=$C$11),\"○\",\"\"),\"\")","v":""},null,"",null,"",null,"",null,"",null,"",null,"",null,"",null,"",null,"",null,"",null,"",null,"",null,"",null,"",null,"",null,"",null,"",null,"",null,"",null,"",null,"",null,"",null,"",null,"",null,"",null,"",null,"",null,"",null,"",null,"",null,"",null,{"$f":"IFERROR(IF(AND(AHR$3>=$B$11,AHR$3<=$C$11),\"○\",\"\"),\"\")","v":""},null,"",null,"",null,"",null,"",null,"",null,"",null,"",null,"",null,"",null,"",null,"",null,"",null,"",null,"",null,"",null,"",null,"",null,"",null,"",null,"",null,"",null,"",null,"",null,"",null,"",null,"",null,"",null,"",null,"",null,"",null,"",null,{"$f":"IFERROR(IF(AND(AKD$3>=$B$11,AKD$3<=$C$11),\"○\",\"\"),\"\")","v":""},null,"",null,"",null,"",null,"",null,"",null,"",null,"",null,"",null,"",null,"",null,"",null,"",null,"",null,"",null,"",null,"",null,"",null,"",null,"",null,"",null,"",null,"",null,"",null,"",null,"",null,"",null,"",null,"",null,"",null,"",null,"",null,{"$f":"IFERROR(IF(AND(AMP$3>=$B$11,AMP$3<=$C$11),\"○\",\"\"),\"\")","v":""},null,"",null,"",null,"",null,"",null,"",null,"",null,"",null,"",null,"",null,"",null,"",null,"",null,"",null,"",null,"",null,"",null,"",null,"",null,"",null,"",null,"",null,"",null,"",null,"",null,"",null,"",null,"",null,"",null,"",null,"",null,"",null,{"$f":"IFERROR(IF(AND(APB$3>=$B$11,APB$3<=$C$11),\"○\",\"\"),\"\")","v":""},null,"",null,"",null,"",null,"",null,"",null,"",null,"",null,"",null,"",null,"",null,"",null,"",null,"",null,"",null,"",null,"",null,"",null,"",null,"",null,"",null,"",null,"",null,"",null,"",null,"",null,"",null,"",null,"",null,"",null,"",null,"",null,{"$f":"IFERROR(IF(AND(ARN$3>=$B$11,ARN$3<=$C$11),\"○\",\"\"),\"\")","v":""},null,"",null,"",null,"",null,"",null,"",null,"",null,"",null,"",null,"",null,"",null,"",null,{"$f":"IFERROR(IF(AND(ASL$3>=$B$11,ASL$3<=$C$11),\"○\",\"\"),\"\")","v":""},null,"",null,"",null,"",null,"",null,"",null,"",null,"",null,"",null,"",null,"",null,"",null,"",null,"",null,"",null,"",null,"",null,"",null,"",null,"",null,"",null,"",null,"",null,"",null,"",null,"",null,"",null,"",null,"",null,"",null,"",null,"",null,{"$f":"IFERROR(IF(AND(AUX$3>=$B$11,AUX$3<=$C$11),\"○\",\"\"),\"\")","v":""},null,"",null,"",null,"",null,"",null,"",null,"",null,"",null,"",null,"",null,"",null,"",null,"",null,"",null,"",null,"",null,"",null,"",null,"",null,"",null,"",null,"",null,"",null,"",null,"",null,"",null,"",null,"",null,"",null,"",null,"",null,"",null,{"$f":"IFERROR(IF(AND(AXJ$3>=$B$11,AXJ$3<=$C$11),\"○\",\"\"),\"\")","v":""},null,"",null,"",null,"",null,"",null,"",null,"",null,"",null,"",null,"",null,"",null,"",null,"",null,"",null,"",null,"",null,"",null,"",null,"",null,"",null,"",null,"",null,"",null,"",null,"",null,"",null,"",null,"",null,"",null,"",null,"",null,"",null,{"$f":"IFERROR(IF(AND(AZV$3>=$B$11,AZV$3<=$C$11),\"○\",\"\"),\"\")","v":""},null,"",null,"",null,"",null,"",null,"",null,"",null,"",null,"",null,"",null,"",null,"",null,"",null,"",null,"",null,"",null,"",null,"",null,"",null,"",null,"",null,"",null,"",null,"",null,"",null,"",null,"",null,"",null,"",null,"",null,"",null,"",null,{"$f":"IFERROR(IF(AND(BCH$3>=$B$11,BCH$3<=$C$11),\"○\",\"\"),\"\")","v":""},null,"",null,"",null,"",null,"",null,"",null,"",null,"",null,"",null,"",null,"",null,"",null,"",null,"",null,"",null,"",null,"",null,"",null,"",null,"",null,"",null,"",null,"",null,"",null,"",null,"",null,"",null,"",null,"",null,"",null,"",null,"",null,{"$f":"IFERROR(IF(AND(BET$3>=$B$11,BET$3<=$C$11),\"○\",\"\"),\"\")","v":""},null,"",null,"",null,"",null,"",null,"",null,"",null,"",null,"",null,"",null,"",null,"",null,"",null,"",null,"",null,"",null,"",null,"",null,"",null,"",null,"",null,"",null,"",null,"",null,"",null,"",null,"",null,"",null,"",null,"",null,"",null,"",null,{"$f":"IFERROR(IF(AND(BHF$3>=$B$11,BHF$3<=$C$11),\"○\",\"\"),\"\")","v":""},null,"",null,"",null,"",null,"",null,"",null,"",null,"",null,"",null,"",null,"",null,"",null,"",null,"",null,"",null,"",null,"",null,"",null,"",null,"",null,"",null,"",null,"",null,"",null,"",null,"",null,"",null,"",null,"",null,"",null,"",null,"",null,{"$f":"IFERROR(IF(AND(BJR$3>=$B$11,BJR$3<=$C$11),\"○\",\"\"),\"\")","v":""},null,"",null,"",null,"",null,"",null,"",null,"",null,"",null,"",null,"",null,"",null,"",null,"",null,"",null,"",null,"",null,"",null,"",null,"",null,"",null,"",null,"",null,"",null,"",null,"",null,"",null,"",null,"",null,"",null,"",null,"",null,"",null,{"$f":"IFERROR(IF(AND(BMD$3>=$B$11,BMD$3<=$C$11),\"○\",\"\"),\"\")","v":""},null,"",null,"",null,"",null,"",null,"",null,"",null,"",null,"",null,"",null,"",null,"",null,"",null,"",null,"",null,"",null,"",null,"",null,"",null,"",null,"",null,"",null,"",null,"",null,"",null,"",null,"",null,"",null,"",null,"",null,"",null,"",null,{"$f":"IFERROR(IF(AND(BOP$3>=$B$11,BOP$3<=$C$11),\"○\",\"\"),\"\")","v":""},null,"",null,"",null,"",null,"",null,"",null,"",null,"",null,"",null,"",null,"",null,"",null,{"$f":"IFERROR(IF(AND(BPN$3>=$B$11,BPN$3<=$C$11),\"○\",\"\"),\"\")","v":""},null,"",null,"",null,"",null,"",null,"",null,"",null,"",null,"",null,"",null,"",null,"",null,"",null,"",null,"",null,"",null,"",null,"",null,"",null,"",null,"",null,"",null,"",null,"",null,"",null,"",null,"",null,"",null,"",null,"",null,"",null,"",null,{"$f":"IFERROR(IF(AND(BRZ$3>=$B$11,BRZ$3<=$C$11),\"○\",\"\"),\"\")","v":""},null,"",null,"",null,"",null,"",null,"",null,"",null,"",null,"",null,"",null,"",null,"",null,"",null,"",null,"",null,"",null,{"$f":"IFERROR(IF(AND(BTF$3>=$B$11,BTF$3<=$C$11),\"○\",\"\"),\"\")","v":""},null,"",null,"",null,"",null,"",null,"",null,"",null,"",null,"",null,"",null,"",null,"",null,{"$f":"IFERROR(IF(AND(BUD$3>=$B$11,BUD$3<=$C$11),\"○\",\"\"),\"\")","v":""},null,{"$f":"IFERROR(IF(AND(BUF$3>=$B$11,BUF$3<=$C$11),\"○\",\"\"),\"\")","v":""},null,{"$f":"IFERROR(IF(AND(BUH$3>=$B$11,BUH$3<=$C$11),\"○\",\"\"),\"\")","v":""},null,{"$f":"IFERROR(IF(AND(BUJ$3>=$B$11,BUJ$3<=$C$11),\"○\",\"\"),\"\")","v":""},null,{"$f":"IFERROR(IF(AND(BUL$3>=$B$11,BUL$3<=$C$11),\"○\",\"\"),\"\")","v":""},null,{"$f":"IFERROR(IF(AND(BUN$3>=$B$11,BUN$3<=$C$11),\"○\",\"\"),\"\")","v":""},null,{"$f":"IFERROR(IF(AND(BUP$3>=$B$11,BUP$3<=$C$11),\"○\",\"\"),\"\")","v":""},null,{"$f":"IFERROR(IF(AND(BUR$3>=$B$11,BUR$3<=$C$11),\"○\",\"\"),\"\")","v":""},null,{"$f":"IFERROR(IF(AND(BUT$3>=$B$11,BUT$3<=$C$11),\"○\",\"\"),\"\")","v":""},null,{"$f":"IFERROR(IF(AND(BUV$3>=$B$11,BUV$3<=$C$11),\"○\",\"\"),\"\")","v":""},null,{"$f":"IFERROR(IF(AND(BUX$3>=$B$11,BUX$3<=$C$11),\"○\",\"\"),\"\")","v":""},null,{"$f":"IFERROR(IF(AND(BUZ$3>=$B$11,BUZ$3<=$C$11),\"○\",\"\"),\"\")","v":""},null,{"$f":"IFERROR(IF(AND(BVB$3>=$B$11,BVB$3<=$C$11),\"○\",\"\"),\"\")","v":""},null,{"$f":"IFERROR(IF(AND(BVD$3>=$B$11,BVD$3<=$C$11),\"○\",\"\"),\"\")","v":""},null,{"$f":"IFERROR(IF(AND(BVF$3>=$B$11,BVF$3<=$C$11),\"○\",\"\"),\"\")","v":""},null,{"$f":"IFERROR(IF(AND(BVH$3>=$B$11,BVH$3<=$C$11),\"○\",\"\"),\"\")","v":""},null,{"$f":"IFERROR(IF(AND(BVJ$3>=$B$11,BVJ$3<=$C$11),\"○\",\"\"),\"\")","v":""},null,{"$f":"IFERROR(IF(AND(BVL$3>=$B$11,BVL$3<=$C$11),\"○\",\"\"),\"\")","v":""},null,{"$f":"IFERROR(IF(AND(BVN$3>=$B$11,BVN$3<=$C$11),\"○\",\"\"),\"\")","v":""},null,{"$f":"IFERROR(IF(AND(BVP$3>=$B$11,BVP$3<=$C$11),\"○\",\"\"),\"\")","v":""},null,{"$f":"IFERROR(IF(AND(BVR$3>=$B$11,BVR$3<=$C$11),\"○\",\"\"),\"\")","v":""},null,{"$f":"IFERROR(IF(AND(BVT$3>=$B$11,BVT$3<=$C$11),\"○\",\"\"),\"\")","v":""},null,{"$f":"IFERROR(IF(AND(BVV$3>=$B$11,BVV$3<=$C$11),\"○\",\"\"),\"\")","v":""},null,{"$f":"IFERROR(IF(AND(BVX$3>=$B$11,BVX$3<=$C$11),\"○\",\"\"),\"\")","v":""},null,{"$f":"IFERROR(IF(AND(BVZ$3>=$B$11,BVZ$3<=$C$11),\"○\",\"\"),\"\")","v":""},null,{"$f":"IFERROR(IF(AND(BWB$3>=$B$11,BWB$3<=$C$11),\"○\",\"\"),\"\")","v":""},null,{"$f":"IFERROR(IF(AND(BWD$3>=$B$11,BWD$3<=$C$11),\"○\",\"\"),\"\")","v":""},null,{"$f":"IFERROR(IF(AND(BWF$3>=$B$11,BWF$3<=$C$11),\"○\",\"\"),\"\")","v":""},null,{"$f":"IFERROR(IF(AND(BWH$3>=$B$11,BWH$3<=$C$11),\"○\",\"\"),\"\")","v":""},null,{"$f":"IFERROR(IF(AND(BWJ$3>=$B$11,BWJ$3<=$C$11),\"○\",\"\"),\"\")","v":""},null,{"$f":"IFERROR(IF(AND(BWL$3>=$B$11,BWL$3<=$C$11),\"○\",\"\"),\"\")","v":""},null,{"$f":"IFERROR(IF(AND(BWN$3>=$B$11,BWN$3<=$C$11),\"○\",\"\"),\"\")","v":""},null,{"$f":"IFERROR(IF(AND(BWP$3>=$B$11,BWP$3<=$C$11),\"○\",\"\"),\"\")","v":""},null,{"$f":"IFERROR(IF(AND(BWR$3>=$B$11,BWR$3<=$C$11),\"○\",\"\"),\"\")","v":""},null,{"$f":"IFERROR(IF(AND(BWT$3>=$B$11,BWT$3<=$C$11),\"○\",\"\"),\"\")","v":""},null,{"$f":"IFERROR(IF(AND(BWV$3>=$B$11,BWV$3<=$C$11),\"○\",\"\"),\"\")","v":""},null,{"$f":"SUM(F12:BWW12)","v":{"v":0,"d":"0.00"}},"月",{"$f":"BWX11/D11","v":{"$error":"#DIV/0!"}},{"v":0,"d":"0.00"},{"$f":"QUOTIENT(BXA11,12)","v":0},{"$f":"MOD(BXA11,12)","v":{"v":0,"d":"0.00"}}]
[{"$nulls":6},{"$f":"IF(F11=\"\",\"0\",1/F$22)","v":"0"},null,{"$f":"IF(H11=\"\",\"0\",1/H$22)","v":"0"},null,{"$f":"IF(J11=\"\",\"0\",1/J$22)","v":"0"},null,{"$f":"IF(L11=\"\",\"0\",1/L$22)","v":"0"},null,{"$f":"IF(N11=\"\",\"0\",1/N$22)","v":"0"},null,{"$f":"IF(P11=\"\",\"0\",1/P$22)","v":"0"},null,{"$f":"IF(R11=\"\",\"0\",1/R$22)","v":"0"},null,{"$f":"IF(T11=\"\",\"0\",1/T$22)","v":"0"},null,{"$f":"IF(V11=\"\",\"0\",1/V$22)","v":"0"},null,{"$f":"IF(X11=\"\",\"0\",1/X$22)","v":"0"},null,{"$f":"IF(Z11=\"\",\"0\",1/Z$22)","v":"0"},null,{"$f":"IF(AB11=\"\",\"0\",1/AB$22)","v":"0"},null,{"$f":"IF(AD11=\"\",\"0\",1/AD$22)","v":"0"},null,{"$f":"IF(AF11=\"\",\"0\",1/AF$22)","v":"0"},null,{"$f":"IF(AH11=\"\",\"0\",1/AH$22)","v":"0"},null,{"$f":"IF(AJ11=\"\",\"0\",1/AJ$22)","v":"0"},null,{"$f":"IF(AL11=\"\",\"0\",1/AL$22)","v":"0"},null,{"$f":"IF(AN11=\"\",\"0\",1/AN$22)","v":"0"},null,{"$f":"IF(AP11=\"\",\"0\",1/AP$22)","v":"0"},null,{"$f":"IF(AR11=\"\",\"0\",1/AR$22)","v":"0"},null,{"$f":"IF(AT11=\"\",\"0\",1/AT$22)","v":"0"},null,{"$f":"IF(AV11=\"\",\"0\",1/AV$22)","v":"0"},null,{"$f":"IF(AX11=\"\",\"0\",1/AX$22)","v":"0"},null,{"$f":"IF(AZ11=\"\",\"0\",1/AZ$22)","v":"0"},null,{"$f":"IF(BB11=\"\",\"0\",1/BB$22)","v":"0"},null,{"$f":"IF(BD11=\"\",\"0\",1/BD$22)","v":"0"},null,{"$f":"IF(BF11=\"\",\"0\",1/BF$22)","v":"0"},null,{"$f":"IF(BH11=\"\",\"0\",1/BH$22)","v":"0"},null,{"$f":"IF(BJ11=\"\",\"0\",1/BJ$22)","v":"0"},null,{"$f":"IF(BL11=\"\",\"0\",1/BL$22)","v":"0"},null,{"$f":"IF(BN11=\"\",\"0\",1/BN$22)","v":"0"},null,{"$f":"IF(BP11=\"\",\"0\",1/BP$22)","v":"0"},null,{"$f":"IF(BR11=\"\",\"0\",1/BR$22)","v":"0"},null,{"$f":"IF(BT11=\"\",\"0\",1/BT$22)","v":"0"},null,{"$f":"IF(BV11=\"\",\"0\",1/BV$22)","v":"0"},null,{"$f":"IF(BX11=\"\",\"0\",1/BX$22)","v":"0"},null,{"$f":"IF(BZ11=\"\",\"0\",1/BZ$22)","v":"0"},null,{"$f":"IF(CB11=\"\",\"0\",1/CB$22)","v":"0"},null,{"$f":"IF(CD11=\"\",\"0\",1/CD$22)","v":"0"},null,{"$f":"IF(CF11=\"\",\"0\",1/CF$22)","v":"0"},null,{"$f":"IF(CH11=\"\",\"0\",1/CH$22)","v":"0"},null,{"$f":"IF(CJ11=\"\",\"0\",1/CJ$22)","v":"0"},null,{"$f":"IF(CL11=\"\",\"0\",1/CL$22)","v":"0"},null,{"$f":"IF(CN11=\"\",\"0\",1/CN$22)","v":"0"},null,{"$f":"IF(CP11=\"\",\"0\",1/CP$22)","v":"0"},null,{"$f":"IF(CR11=\"\",\"0\",1/CR$22)","v":"0"},null,{"$f":"IF(CT11=\"\",\"0\",1/CT$22)","v":"0"},null,{"$f":"IF(CV11=\"\",\"0\",1/CV$22)","v":"0"},null,{"$f":"IF(CX11=\"\",\"0\",1/CX$22)","v":"0"},null,{"$f":"IF(CZ11=\"\",\"0\",1/CZ$22)","v":"0"},null,{"$f":"IF(DB11=\"\",\"0\",1/DB$22)","v":"0"},null,{"$f":"IF(DD11=\"\",\"0\",1/DD$22)","v":"0"},null,{"$f":"IF(DF11=\"\",\"0\",1/DF$22)","v":"0"},null,{"$f":"IF(DH11=\"\",\"0\",1/DH$22)","v":"0"},null,{"$f":"IF(DJ11=\"\",\"0\",1/DJ$22)","v":"0"},null,{"$f":"IF(DL11=\"\",\"0\",1/DL$22)","v":"0"},null,{"$f":"IF(DN11=\"\",\"0\",1/DN$22)","v":"0"},null,{"$f":"IF(DP11=\"\",\"0\",1/DP$22)","v":"0"},null,{"$f":"IF(DR11=\"\",\"0\",1/DR$22)","v":"0"},null,{"$f":"IF(DT11=\"\",\"0\",1/DT$22)","v":"0"},null,{"$f":"IF(DV11=\"\",\"0\",1/DV$22)","v":"0"},null,{"$f":"IF(DX11=\"\",\"0\",1/DX$22)","v":"0"},null,{"$f":"IF(DZ11=\"\",\"0\",1/DZ$22)","v":"0"},null,{"$f":"IF(EB11=\"\",\"0\",1/EB$22)","v":"0"},null,{"$f":"IF(ED11=\"\",\"0\",1/ED$22)","v":"0"},null,{"$f":"IF(EF11=\"\",\"0\",1/EF$22)","v":"0"},null,{"$f":"IF(EH11=\"\",\"0\",1/EH$22)","v":"0"},null,{"$f":"IF(EJ11=\"\",\"0\",1/EJ$22)","v":"0"},null,{"$f":"IF(EL11=\"\",\"0\",1/EL$22)","v":"0"},null,{"$f":"IF(EN11=\"\",\"0\",1/EN$22)","v":"0"},null,{"$f":"IF(EP11=\"\",\"0\",1/EP$22)","v":"0"},null,{"$f":"IF(ER11=\"\",\"0\",1/ER$22)","v":"0"},null,{"$f":"IF(ET11=\"\",\"0\",1/ET$22)","v":"0"},null,{"$f":"IF(EV11=\"\",\"0\",1/EV$22)","v":"0"},null,{"$f":"IF(EX11=\"\",\"0\",1/EX$22)","v":"0"},null,{"$f":"IF(EZ11=\"\",\"0\",1/EZ$22)","v":"0"},null,{"$f":"IF(FB11=\"\",\"0\",1/FB$22)","v":"0"},null,{"$f":"IF(FD11=\"\",\"0\",1/FD$22)","v":"0"},null,{"$f":"IF(FF11=\"\",\"0\",1/FF$22)","v":"0"},null,{"$f":"IF(FH11=\"\",\"0\",1/FH$22)","v":"0"},null,{"$f":"IF(FJ11=\"\",\"0\",1/FJ$22)","v":"0"},null,{"$f":"IF(FL11=\"\",\"0\",1/FL$22)","v":"0"},null,{"$f":"IF(FN11=\"\",\"0\",1/FN$22)","v":"0"},null,{"$f":"IF(FP11=\"\",\"0\",1/FP$22)","v":"0"},null,{"$f":"IF(FR11=\"\",\"0\",1/FR$22)","v":"0"},null,{"$f":"IF(FT11=\"\",\"0\",1/FT$22)","v":"0"},null,{"$f":"IF(FV11=\"\",\"0\",1/FV$22)","v":"0"},null,{"$f":"IF(FX11=\"\",\"0\",1/FX$22)","v":"0"},null,{"$f":"IF(FZ11=\"\",\"0\",1/FZ$22)","v":"0"},null,{"$f":"IF(GB11=\"\",\"0\",1/GB$22)","v":"0"},null,{"$f":"IF(GD11=\"\",\"0\",1/GD$22)","v":"0"},null,{"$f":"IF(GF11=\"\",\"0\",1/GF$22)","v":"0"},null,{"$f":"IF(GH11=\"\",\"0\",1/GH$22)","v":"0"},null,{"$f":"IF(GJ11=\"\",\"0\",1/GJ$22)","v":"0"},null,{"$f":"IF(GL11=\"\",\"0\",1/GL$22)","v":"0"},null,{"$f":"IF(GN11=\"\",\"0\",1/GN$22)","v":"0"},null,{"$f":"IF(GP11=\"\",\"0\",1/GP$22)","v":"0"},null,{"$f":"IF(GR11=\"\",\"0\",1/GR$22)","v":"0"},null,{"$f":"IF(GT11=\"\",\"0\",1/GT$22)","v":"0"},null,{"$f":"IF(GV11=\"\",\"0\",1/GV$22)","v":"0"},null,{"$f":"IF(GX11=\"\",\"0\",1/GX$22)","v":"0"},null,{"$f":"IF(GZ11=\"\",\"0\",1/GZ$22)","v":"0"},null,{"$f":"IF(HB11=\"\",\"0\",1/HB$22)","v":"0"},null,{"$f":"IF(HD11=\"\",\"0\",1/HD$22)","v":"0"},null,{"$f":"IF(HF11=\"\",\"0\",1/HF$22)","v":"0"},null,{"$f":"IF(HH11=\"\",\"0\",1/HH$22)","v":"0"},null,{"$f":"IF(HJ11=\"\",\"0\",1/HJ$22)","v":"0"},null,{"$f":"IF(HL11=\"\",\"0\",1/HL$22)","v":"0"},null,{"$f":"IF(HN11=\"\",\"0\",1/HN$22)","v":"0"},null,{"$f":"IF(HP11=\"\",\"0\",1/HP$22)","v":"0"},null,{"$f":"IF(HR11=\"\",\"0\",1/HR$22)","v":"0"},null,{"$f":"IF(HT11=\"\",\"0\",1/HT$22)","v":"0"},null,{"$f":"IF(HV11=\"\",\"0\",1/HV$22)","v":"0"},null,{"$f":"IF(HX11=\"\",\"0\",1/HX$22)","v":"0"},null,{"$f":"IF(HZ11=\"\",\"0\",1/HZ$22)","v":"0"},null,{"$f":"IF(IB11=\"\",\"0\",1/IB$22)","v":"0"},null,{"$f":"IF(ID11=\"\",\"0\",1/ID$22)","v":"0"},null,{"$f":"IF(IF11=\"\",\"0\",1/IF$22)","v":"0"},null,{"$f":"IF(IH11=\"\",\"0\",1/IH$22)","v":"0"},null,{"$f":"IF(IJ11=\"\",\"0\",1/IJ$22)","v":"0"},null,{"$f":"IF(IL11=\"\",\"0\",1/IL$22)","v":"0"},null,{"$f":"IF(IN11=\"\",\"0\",1/IN$22)","v":"0"},null,{"$f":"IF(IP11=\"\",\"0\",1/IP$22)","v":"0"},null,{"$f":"IF(IR11=\"\",\"0\",1/IR$22)","v":"0"},null,{"$f":"IF(IT11=\"\",\"0\",1/IT$22)","v":"0"},null,{"$f":"IF(IV11=\"\",\"0\",1/IV$22)","v":"0"},null,{"$f":"IF(IX11=\"\",\"0\",1/IX$22)","v":"0"},null,{"$f":"IF(IZ11=\"\",\"0\",1/IZ$22)","v":"0"},null,{"$f":"IF(JB11=\"\",\"0\",1/JB$22)","v":"0"},null,{"$f":"IF(JD11=\"\",\"0\",1/JD$22)","v":"0"},null,{"$f":"IF(JF11=\"\",\"0\",1/JF$22)","v":"0"},null,{"$f":"IF(JH11=\"\",\"0\",1/JH$22)","v":"0"},null,{"$f":"IF(JJ11=\"\",\"0\",1/JJ$22)","v":"0"},null,{"$f":"IF(JL11=\"\",\"0\",1/JL$22)","v":"0"},null,{"$f":"IF(JN11=\"\",\"0\",1/JN$22)","v":"0"},null,{"$f":"IF(JP11=\"\",\"0\",1/JP$22)","v":"0"},null,{"$f":"IF(JR11=\"\",\"0\",1/JR$22)","v":"0"},null,{"$f":"IF(JT11=\"\",\"0\",1/JT$22)","v":"0"},null,{"$f":"IF(JV11=\"\",\"0\",1/JV$22)","v":"0"},null,{"$f":"IF(JX11=\"\",\"0\",1/JX$22)","v":"0"},null,{"$f":"IF(JZ11=\"\",\"0\",1/JZ$22)","v":"0"},null,{"$f":"IF(KB11=\"\",\"0\",1/KB$22)","v":"0"},null,{"$f":"IF(KD11=\"\",\"0\",1/KD$22)","v":"0"},null,{"$f":"IF(KF11=\"\",\"0\",1/KF$22)","v":"0"},null,{"$f":"IF(KH11=\"\",\"0\",1/KH$22)","v":"0"},null,{"$f":"IF(KJ11=\"\",\"0\",1/KJ$22)","v":"0"},null,{"$f":"IF(KL11=\"\",\"0\",1/KL$22)","v":"0"},null,{"$f":"IF(KN11=\"\",\"0\",1/KN$22)","v":"0"},null,{"$f":"IF(KP11=\"\",\"0\",1/KP$22)","v":"0"},null,{"$f":"IF(KR11=\"\",\"0\",1/KR$22)","v":"0"},null,{"$f":"IF(KT11=\"\",\"0\",1/KT$22)","v":"0"},null,{"$f":"IF(KV11=\"\",\"0\",1/KV$22)","v":"0"},null,{"$f":"IF(KX11=\"\",\"0\",1/KX$22)","v":"0"},null,{"$f":"IF(KZ11=\"\",\"0\",1/KZ$22)","v":"0"},null,{"$f":"IF(LB11=\"\",\"0\",1/LB$22)","v":"0"},null,{"$f":"IF(LD11=\"\",\"0\",1/LD$22)","v":"0"},null,{"$f":"IF(LF11=\"\",\"0\",1/LF$22)","v":"0"},null,{"$f":"IF(LH11=\"\",\"0\",1/LH$22)","v":"0"},null,{"$f":"IF(LJ11=\"\",\"0\",1/LJ$22)","v":"0"},null,{"$f":"IF(LL11=\"\",\"0\",1/LL$22)","v":"0"},null,{"$f":"IF(LN11=\"\",\"0\",1/LN$22)","v":"0"},null,{"$f":"IF(LP11=\"\",\"0\",1/LP$22)","v":"0"},null,{"$f":"IF(LR11=\"\",\"0\",1/LR$22)","v":"0"},null,{"$f":"IF(LT11=\"\",\"0\",1/LT$22)","v":"0"},null,{"$f":"IF(LV11=\"\",\"0\",1/LV$22)","v":"0"},null,{"$f":"IF(LX11=\"\",\"0\",1/LX$22)","v":"0"},null,{"$f":"IF(LZ11=\"\",\"0\",1/LZ$22)","v":"0"},null,{"$f":"IF(MB11=\"\",\"0\",1/MB$22)","v":"0"},null,{"$f":"IF(MD11=\"\",\"0\",1/MD$22)","v":"0"},null,{"$f":"IF(MF11=\"\",\"0\",1/MF$22)","v":"0"},null,{"$f":"IF(MH11=\"\",\"0\",1/MH$22)","v":"0"},null,{"$f":"IF(MJ11=\"\",\"0\",1/MJ$22)","v":"0"},null,{"$f":"IF(ML11=\"\",\"0\",1/ML$22)","v":"0"},null,{"$f":"IF(MN11=\"\",\"0\",1/MN$22)","v":"0"},null,{"$f":"IF(MP11=\"\",\"0\",1/MP$22)","v":"0"},null,{"$f":"IF(MR11=\"\",\"0\",1/MR$22)","v":"0"},null,{"$f":"IF(MT11=\"\",\"0\",1/MT$22)","v":"0"},null,{"$f":"IF(MV11=\"\",\"0\",1/MV$22)","v":"0"},null,{"$f":"IF(MX11=\"\",\"0\",1/MX$22)","v":"0"},null,{"$f":"IF(MZ11=\"\",\"0\",1/MZ$22)","v":"0"},null,{"$f":"IF(NB11=\"\",\"0\",1/NB$22)","v":"0"},null,{"$f":"IF(ND11=\"\",\"0\",1/ND$22)","v":"0"},null,{"$f":"IF(NF11=\"\",\"0\",1/NF$22)","v":"0"},null,{"$f":"IF(NH11=\"\",\"0\",1/NH$22)","v":"0"},null,{"$f":"IF(NJ11=\"\",\"0\",1/NJ$22)","v":"0"},null,{"$f":"IF(NL11=\"\",\"0\",1/NL$22)","v":"0"},null,{"$f":"IF(NN11=\"\",\"0\",1/NN$22)","v":"0"},null,{"$f":"IF(NP11=\"\",\"0\",1/NP$22)","v":"0"},null,{"$f":"IF(NR11=\"\",\"0\",1/NR$22)","v":"0"},null,{"$f":"IF(NT11=\"\",\"0\",1/NT$22)","v":"0"},null,{"$f":"IF(NV11=\"\",\"0\",1/NV$22)","v":"0"},null,{"$f":"IF(NX11=\"\",\"0\",1/NX$22)","v":"0"},null,{"$f":"IF(NZ11=\"\",\"0\",1/NZ$22)","v":"0"},null,{"$f":"IF(OB11=\"\",\"0\",1/OB$22)","v":"0"},null,{"$f":"IF(OD11=\"\",\"0\",1/OD$22)","v":"0"},null,{"$f":"IF(OF11=\"\",\"0\",1/OF$22)","v":"0"},null,{"$f":"IF(OH11=\"\",\"0\",1/OH$22)","v":"0"},null,{"$f":"IF(OJ11=\"\",\"0\",1/OJ$22)","v":"0"},null,{"$f":"IF(OL11=\"\",\"0\",1/OL$22)","v":"0"},null,{"$f":"IF(ON11=\"\",\"0\",1/ON$22)","v":"0"},null,{"$f":"IF(OP11=\"\",\"0\",1/OP$22)","v":"0"},null,{"$f":"IF(OR11=\"\",\"0\",1/OR$22)","v":"0"},null,{"$f":"IF(OT11=\"\",\"0\",1/OT$22)","v":"0"},null,{"$f":"IF(OV11=\"\",\"0\",1/OV$22)","v":"0"},null,{"$f":"IF(OX11=\"\",\"0\",1/OX$22)","v":"0"},null,{"$f":"IF(OZ11=\"\",\"0\",1/OZ$22)","v":"0"},null,{"$f":"IF(PB11=\"\",\"0\",1/PB$22)","v":"0"},null,{"$f":"IF(PD11=\"\",\"0\",1/PD$22)","v":"0"},null,{"$f":"IF(PF11=\"\",\"0\",1/PF$22)","v":"0"},null,{"$f":"IF(PH11=\"\",\"0\",1/PH$22)","v":"0"},null,{"$f":"IF(PJ11=\"\",\"0\",1/PJ$22)","v":"0"},null,{"$f":"IF(PL11=\"\",\"0\",1/PL$22)","v":"0"},null,{"$f":"IF(PN11=\"\",\"0\",1/PN$22)","v":"0"},null,{"$f":"IF(PP11=\"\",\"0\",1/PP$22)","v":"0"},null,{"$f":"IF(PR11=\"\",\"0\",1/PR$22)","v":"0"},null,{"$f":"IF(PT11=\"\",\"0\",1/PT$22)","v":"0"},null,{"$f":"IF(PV11=\"\",\"0\",1/PV$22)","v":"0"},null,{"$f":"IF(PX11=\"\",\"0\",1/PX$22)","v":"0"},null,{"$f":"IF(PZ11=\"\",\"0\",1/PZ$22)","v":"0"},null,{"$f":"IF(QB11=\"\",\"0\",1/QB$22)","v":"0"},null,{"$f":"IF(QD11=\"\",\"0\",1/QD$22)","v":"0"},null,{"$f":"IF(QF11=\"\",\"0\",1/QF$22)","v":"0"},null,{"$f":"IF(QH11=\"\",\"0\",1/QH$22)","v":"0"},null,{"$f":"IF(QJ11=\"\",\"0\",1/QJ$22)","v":"0"},null,{"$f":"IF(QL11=\"\",\"0\",1/QL$22)","v":"0"},null,{"$f":"IF(QN11=\"\",\"0\",1/QN$22)","v":"0"},null,{"$f":"IF(QP11=\"\",\"0\",1/QP$22)","v":"0"},null,{"$f":"IF(QR11=\"\",\"0\",1/QR$22)","v":"0"},null,{"$f":"IF(QT11=\"\",\"0\",1/QT$22)","v":"0"},null,{"$f":"IF(QV11=\"\",\"0\",1/QV$22)","v":"0"},null,{"$f":"IF(QX11=\"\",\"0\",1/QX$22)","v":"0"},null,{"$f":"IF(QZ11=\"\",\"0\",1/QZ$22)","v":"0"},null,{"$f":"IF(RB11=\"\",\"0\",1/RB$22)","v":"0"},null,{"$f":"IF(RD11=\"\",\"0\",1/RD$22)","v":"0"},null,{"$f":"IF(RF11=\"\",\"0\",1/RF$22)","v":"0"},null,{"$f":"IF(RH11=\"\",\"0\",1/RH$22)","v":"0"},null,{"$f":"IF(RJ11=\"\",\"0\",1/RJ$22)","v":"0"},null,{"$f":"IF(RL11=\"\",\"0\",1/RL$22)","v":"0"},null,{"$f":"IF(RN11=\"\",\"0\",1/RN$22)","v":"0"},null,{"$f":"IF(RP11=\"\",\"0\",1/RP$22)","v":"0"},null,{"$f":"IF(RR11=\"\",\"0\",1/RR$22)","v":"0"},null,{"$f":"IF(RT11=\"\",\"0\",1/RT$22)","v":"0"},null,{"$f":"IF(RV11=\"\",\"0\",1/RV$22)","v":"0"},null,{"$f":"IF(RX11=\"\",\"0\",1/RX$22)","v":"0"},null,{"$f":"IF(RZ11=\"\",\"0\",1/RZ$22)","v":"0"},null,{"$f":"IF(SB11=\"\",\"0\",1/SB$22)","v":"0"},null,{"$f":"IF(SD11=\"\",\"0\",1/SD$22)","v":"0"},null,{"$f":"IF(SF11=\"\",\"0\",1/SF$22)","v":"0"},null,{"$f":"IF(SH11=\"\",\"0\",1/SH$22)","v":"0"},null,{"$f":"IF(SJ11=\"\",\"0\",1/SJ$22)","v":"0"},null,{"$f":"IF(SL11=\"\",\"0\",1/SL$22)","v":"0"},null,{"$f":"IF(SN11=\"\",\"0\",1/SN$22)","v":"0"},null,{"$f":"IF(SP11=\"\",\"0\",1/SP$22)","v":"0"},null,{"$f":"IF(SR11=\"\",\"0\",1/SR$22)","v":"0"},null,{"$f":"IF(ST11=\"\",\"0\",1/ST$22)","v":"0"},null,{"$f":"IF(SV11=\"\",\"0\",1/SV$22)","v":"0"},null,{"$f":"IF(SX11=\"\",\"0\",1/SX$22)","v":"0"},null,{"$f":"IF(SZ11=\"\",\"0\",1/SZ$22)","v":"0"},null,{"$f":"IF(TB11=\"\",\"0\",1/TB$22)","v":"0"},null,{"$f":"IF(TD11=\"\",\"0\",1/TD$22)","v":"0"},null,{"$f":"IF(TF11=\"\",\"0\",1/TF$22)","v":"0"},null,{"$f":"IF(TH11=\"\",\"0\",1/TH$22)","v":"0"},null,{"$f":"IF(TJ11=\"\",\"0\",1/TJ$22)","v":"0"},null,{"$f":"IF(TL11=\"\",\"0\",1/TL$22)","v":"0"},null,{"$f":"IF(TN11=\"\",\"0\",1/TN$22)","v":"0"},null,{"$f":"IF(TP11=\"\",\"0\",1/TP$22)","v":"0"},null,{"$f":"IF(TR11=\"\",\"0\",1/TR$22)","v":"0"},null,{"$f":"IF(TT11=\"\",\"0\",1/TT$22)","v":"0"},null,{"$f":"IF(TV11=\"\",\"0\",1/TV$22)","v":"0"},null,{"$f":"IF(TX11=\"\",\"0\",1/TX$22)","v":"0"},null,{"$f":"IF(TZ11=\"\",\"0\",1/TZ$22)","v":"0"},null,{"$f":"IF(UB11=\"\",\"0\",1/UB$22)","v":"0"},null,{"$f":"IF(UD11=\"\",\"0\",1/UD$22)","v":"0"},null,{"$f":"IF(UF11=\"\",\"0\",1/UF$22)","v":"0"},null,{"$f":"IF(UH11=\"\",\"0\",1/UH$22)","v":"0"},null,{"$f":"IF(UJ11=\"\",\"0\",1/UJ$22)","v":"0"},null,{"$f":"IF(UL11=\"\",\"0\",1/UL$22)","v":"0"},null,{"$f":"IF(UN11=\"\",\"0\",1/UN$22)","v":"0"},null,{"$f":"IF(UP11=\"\",\"0\",1/UP$22)","v":"0"},null,{"$f":"IF(UR11=\"\",\"0\",1/UR$22)","v":"0"},null,{"$f":"IF(UT11=\"\",\"0\",1/UT$22)","v":"0"},null,{"$f":"IF(UV11=\"\",\"0\",1/UV$22)","v":"0"},null,{"$f":"IF(UX11=\"\",\"0\",1/UX$22)","v":"0"},null,{"$f":"IF(UZ11=\"\",\"0\",1/UZ$22)","v":"0"},null,{"$f":"IF(VB11=\"\",\"0\",1/VB$22)","v":"0"},null,{"$f":"IF(VD11=\"\",\"0\",1/VD$22)","v":"0"},null,{"$f":"IF(VF11=\"\",\"0\",1/VF$22)","v":"0"},null,{"$f":"IF(VH11=\"\",\"0\",1/VH$22)","v":"0"},null,{"$f":"IF(VJ11=\"\",\"0\",1/VJ$22)","v":"0"},null,{"$f":"IF(VL11=\"\",\"0\",1/VL$22)","v":"0"},null,{"$f":"IF(VN11=\"\",\"0\",1/VN$22)","v":"0"},null,{"$f":"IF(VP11=\"\",\"0\",1/VP$22)","v":"0"},null,{"$f":"IF(VR11=\"\",\"0\",1/VR$22)","v":"0"},null,{"$f":"IF(VT11=\"\",\"0\",1/VT$22)","v":"0"},null,{"$f":"IF(VV11=\"\",\"0\",1/VV$22)","v":"0"},null,{"$f":"IF(VX11=\"\",\"0\",1/VX$22)","v":"0"},null,{"$f":"IF(VZ11=\"\",\"0\",1/VZ$22)","v":"0"},null,{"$f":"IF(WB11=\"\",\"0\",1/WB$22)","v":"0"},null,{"$f":"IF(WD11=\"\",\"0\",1/WD$22)","v":"0"},null,{"$f":"IF(WF11=\"\",\"0\",1/WF$22)","v":"0"},null,{"$f":"IF(WH11=\"\",\"0\",1/WH$22)","v":"0"},null,{"$f":"IF(WJ11=\"\",\"0\",1/WJ$22)","v":"0"},null,{"$f":"IF(WL11=\"\",\"0\",1/WL$22)","v":"0"},null,{"$f":"IF(WN11=\"\",\"0\",1/WN$22)","v":"0"},null,{"$f":"IF(WP11=\"\",\"0\",1/WP$22)","v":"0"},null,{"$f":"IF(WR11=\"\",\"0\",1/WR$22)","v":"0"},null,{"$f":"IF(WT11=\"\",\"0\",1/WT$22)","v":"0"},null,{"$f":"IF(WV11=\"\",\"0\",1/WV$22)","v":"0"},null,{"$f":"IF(WX11=\"\",\"0\",1/WX$22)","v":"0"},null,{"$f":"IF(WZ11=\"\",\"0\",1/WZ$22)","v":"0"},null,{"$f":"IF(XB11=\"\",\"0\",1/XB$22)","v":"0"},null,{"$f":"IF(XD11=\"\",\"0\",1/XD$22)","v":"0"},null,{"$f":"IF(XF11=\"\",\"0\",1/XF$22)","v":"0"},null,{"$f":"IF(XH11=\"\",\"0\",1/XH$22)","v":"0"},null,{"$f":"IF(XJ11=\"\",\"0\",1/XJ$22)","v":"0"},null,{"$f":"IF(XL11=\"\",\"0\",1/XL$22)","v":"0"},null,{"$f":"IF(XN11=\"\",\"0\",1/XN$22)","v":"0"},null,{"$f":"IF(XP11=\"\",\"0\",1/XP$22)","v":"0"},null,{"$f":"IF(XR11=\"\",\"0\",1/XR$22)","v":"0"},null,{"$f":"IF(XT11=\"\",\"0\",1/XT$22)","v":"0"},null,{"$f":"IF(XV11=\"\",\"0\",1/XV$22)","v":"0"},null,{"$f":"IF(XX11=\"\",\"0\",1/XX$22)","v":"0"},null,{"$f":"IF(XZ11=\"\",\"0\",1/XZ$22)","v":"0"},null,{"$f":"IF(YB11=\"\",\"0\",1/YB$22)","v":"0"},null,{"$f":"IF(YD11=\"\",\"0\",1/YD$22)","v":"0"},null,{"$f":"IF(YF11=\"\",\"0\",1/YF$22)","v":"0"},null,{"$f":"IF(YH11=\"\",\"0\",1/YH$22)","v":"0"},null,{"$f":"IF(YJ11=\"\",\"0\",1/YJ$22)","v":"0"},null,{"$f":"IF(YL11=\"\",\"0\",1/YL$22)","v":"0"},null,{"$f":"IF(YN11=\"\",\"0\",1/YN$22)","v":"0"},null,{"$f":"IF(YP11=\"\",\"0\",1/YP$22)","v":"0"},null,{"$f":"IF(YR11=\"\",\"0\",1/YR$22)","v":"0"},null,{"$f":"IF(YT11=\"\",\"0\",1/YT$22)","v":"0"},null,{"$f":"IF(YV11=\"\",\"0\",1/YV$22)","v":"0"},null,{"$f":"IF(YX11=\"\",\"0\",1/YX$22)","v":"0"},null,{"$f":"IF(YZ11=\"\",\"0\",1/YZ$22)","v":"0"},null,{"$f":"IF(ZB11=\"\",\"0\",1/ZB$22)","v":"0"},null,{"$f":"IF(ZD11=\"\",\"0\",1/ZD$22)","v":"0"},null,{"$f":"IF(ZF11=\"\",\"0\",1/ZF$22)","v":"0"},null,{"$f":"IF(ZH11=\"\",\"0\",1/ZH$22)","v":"0"},null,{"$f":"IF(ZJ11=\"\",\"0\",1/ZJ$22)","v":"0"},null,{"$f":"IF(ZL11=\"\",\"0\",1/ZL$22)","v":"0"},null,{"$f":"IF(ZN11=\"\",\"0\",1/ZN$22)","v":"0"},null,{"$f":"IF(ZP11=\"\",\"0\",1/ZP$22)","v":"0"},null,{"$f":"IF(ZR11=\"\",\"0\",1/ZR$22)","v":"0"},null,{"$f":"IF(ZT11=\"\",\"0\",1/ZT$22)","v":"0"},null,{"$f":"IF(ZV11=\"\",\"0\",1/ZV$22)","v":"0"},null,{"$f":"IF(ZX11=\"\",\"0\",1/ZX$22)","v":"0"},null,{"$f":"IF(ZZ11=\"\",\"0\",1/ZZ$22)","v":"0"},null,{"$f":"IF(AAB11=\"\",\"0\",1/AAB$22)","v":"0"},null,{"$f":"IF(AAD11=\"\",\"0\",1/AAD$22)","v":"0"},null,{"$f":"IF(AAF11=\"\",\"0\",1/AAF$22)","v":"0"},null,{"$f":"IF(AAH11=\"\",\"0\",1/AAH$22)","v":"0"},null,{"$f":"IF(AAJ11=\"\",\"0\",1/AAJ$22)","v":"0"},null,{"$f":"IF(AAL11=\"\",\"0\",1/AAL$22)","v":"0"},null,{"$f":"IF(AAN11=\"\",\"0\",1/AAN$22)","v":"0"},null,{"$f":"IF(AAP11=\"\",\"0\",1/AAP$22)","v":"0"},null,{"$f":"IF(AAR11=\"\",\"0\",1/AAR$22)","v":"0"},null,{"$f":"IF(AAT11=\"\",\"0\",1/AAT$22)","v":"0"},null,{"$f":"IF(AAV11=\"\",\"0\",1/AAV$22)","v":"0"},null,{"$f":"IF(AAX11=\"\",\"0\",1/AAX$22)","v":"0"},null,{"$f":"IF(AAZ11=\"\",\"0\",1/AAZ$22)","v":"0"},null,{"$f":"IF(ABB11=\"\",\"0\",1/ABB$22)","v":"0"},null,{"$f":"IF(ABD11=\"\",\"0\",1/ABD$22)","v":"0"},null,{"$f":"IF(ABF11=\"\",\"0\",1/ABF$22)","v":"0"},null,{"$f":"IF(ABH11=\"\",\"0\",1/ABH$22)","v":"0"},null,{"$f":"IF(ABJ11=\"\",\"0\",1/ABJ$22)","v":"0"},null,{"$f":"IF(ABL11=\"\",\"0\",1/ABL$22)","v":"0"},null,{"$f":"IF(ABN11=\"\",\"0\",1/ABN$22)","v":"0"},null,{"$f":"IF(ABP11=\"\",\"0\",1/ABP$22)","v":"0"},null,{"$f":"IF(ABR11=\"\",\"0\",1/ABR$22)","v":"0"},null,{"$f":"IF(ABT11=\"\",\"0\",1/ABT$22)","v":"0"},null,{"$f":"IF(ABV11=\"\",\"0\",1/ABV$22)","v":"0"},null,{"$f":"IF(ABX11=\"\",\"0\",1/ABX$22)","v":"0"},null,{"$f":"IF(ABZ11=\"\",\"0\",1/ABZ$22)","v":"0"},null,{"$f":"IF(ACB11=\"\",\"0\",1/ACB$22)","v":"0"},null,{"$f":"IF(ACD11=\"\",\"0\",1/ACD$22)","v":"0"},null,{"$f":"IF(ACF11=\"\",\"0\",1/ACF$22)","v":"0"},null,{"$f":"IF(ACH11=\"\",\"0\",1/ACH$22)","v":"0"},null,{"$f":"IF(ACJ11=\"\",\"0\",1/ACJ$22)","v":"0"},null,{"$f":"IF(ACL11=\"\",\"0\",1/ACL$22)","v":"0"},null,{"$f":"IF(ACN11=\"\",\"0\",1/ACN$22)","v":"0"},null,{"$f":"IF(ACP11=\"\",\"0\",1/ACP$22)","v":"0"},null,{"$f":"IF(ACR11=\"\",\"0\",1/ACR$22)","v":"0"},null,{"$f":"IF(ACT11=\"\",\"0\",1/ACT$22)","v":"0"},null,{"$f":"IF(ACV11=\"\",\"0\",1/ACV$22)","v":"0"},null,{"$f":"IF(ACX11=\"\",\"0\",1/ACX$22)","v":"0"},null,{"$f":"IF(ACZ11=\"\",\"0\",1/ACZ$22)","v":"0"},null,{"$f":"IF(ADB11=\"\",\"0\",1/ADB$22)","v":"0"},null,{"$f":"IF(ADD11=\"\",\"0\",1/ADD$22)","v":"0"},null,{"$f":"IF(ADF11=\"\",\"0\",1/ADF$22)","v":"0"},null,{"$f":"IF(ADH11=\"\",\"0\",1/ADH$22)","v":"0"},null,{"$f":"IF(ADJ11=\"\",\"0\",1/ADJ$22)","v":"0"},null,{"$f":"IF(ADL11=\"\",\"0\",1/ADL$22)","v":"0"},null,{"$f":"IF(ADN11=\"\",\"0\",1/ADN$22)","v":"0"},null,{"$f":"IF(ADP11=\"\",\"0\",1/ADP$22)","v":"0"},null,{"$f":"IF(ADR11=\"\",\"0\",1/ADR$22)","v":"0"},null,{"$f":"IF(ADT11=\"\",\"0\",1/ADT$22)","v":"0"},null,{"$f":"IF(ADV11=\"\",\"0\",1/ADV$22)","v":"0"},null,{"$f":"IF(ADX11=\"\",\"0\",1/ADX$22)","v":"0"},null,{"$f":"IF(ADZ11=\"\",\"0\",1/ADZ$22)","v":"0"},null,{"$f":"IF(AEB11=\"\",\"0\",1/AEB$22)","v":"0"},null,{"$f":"IF(AED11=\"\",\"0\",1/AED$22)","v":"0"},null,{"$f":"IF(AEF11=\"\",\"0\",1/AEF$22)","v":"0"},null,{"$f":"IF(AEH11=\"\",\"0\",1/AEH$22)","v":"0"},null,{"$f":"IF(AEJ11=\"\",\"0\",1/AEJ$22)","v":"0"},null,{"$f":"IF(AEL11=\"\",\"0\",1/AEL$22)","v":"0"},null,{"$f":"IF(AEN11=\"\",\"0\",1/AEN$22)","v":"0"},null,{"$f":"IF(AEP11=\"\",\"0\",1/AEP$22)","v":"0"},null,{"$f":"IF(AER11=\"\",\"0\",1/AER$22)","v":"0"},null,{"$f":"IF(AET11=\"\",\"0\",1/AET$22)","v":"0"},null,{"$f":"IF(AEV11=\"\",\"0\",1/AEV$22)","v":"0"},null,{"$f":"IF(AEX11=\"\",\"0\",1/AEX$22)","v":"0"},null,{"$f":"IF(AEZ11=\"\",\"0\",1/AEZ$22)","v":"0"},null,{"$f":"IF(AFB11=\"\",\"0\",1/AFB$22)","v":"0"},null,{"$f":"IF(AFD11=\"\",\"0\",1/AFD$22)","v":"0"},null,{"$f":"IF(AFF11=\"\",\"0\",1/AFF$22)","v":"0"},null,{"$f":"IF(AFH11=\"\",\"0\",1/AFH$22)","v":"0"},null,{"$f":"IF(AFJ11=\"\",\"0\",1/AFJ$22)","v":"0"},null,{"$f":"IF(AFL11=\"\",\"0\",1/AFL$22)","v":"0"},null,{"$f":"IF(AFN11=\"\",\"0\",1/AFN$22)","v":"0"},null,{"$f":"IF(AFP11=\"\",\"0\",1/AFP$22)","v":"0"},null,{"$f":"IF(AFR11=\"\",\"0\",1/AFR$22)","v":"0"},null,{"$f":"IF(AFT11=\"\",\"0\",1/AFT$22)","v":"0"},null,{"$f":"IF(AFV11=\"\",\"0\",1/AFV$22)","v":"0"},null,{"$f":"IF(AFX11=\"\",\"0\",1/AFX$22)","v":"0"},null,{"$f":"IF(AFZ11=\"\",\"0\",1/AFZ$22)","v":"0"},null,{"$f":"IF(AGB11=\"\",\"0\",1/AGB$22)","v":"0"},null,{"$f":"IF(AGD11=\"\",\"0\",1/AGD$22)","v":"0"},null,{"$f":"IF(AGF11=\"\",\"0\",1/AGF$22)","v":"0"},null,{"$f":"IF(AGH11=\"\",\"0\",1/AGH$22)","v":"0"},null,{"$f":"IF(AGJ11=\"\",\"0\",1/AGJ$22)","v":"0"},null,{"$f":"IF(AGL11=\"\",\"0\",1/AGL$22)","v":"0"},null,{"$f":"IF(AGN11=\"\",\"0\",1/AGN$22)","v":"0"},null,{"$f":"IF(AGP11=\"\",\"0\",1/AGP$22)","v":"0"},null,{"$f":"IF(AGR11=\"\",\"0\",1/AGR$22)","v":"0"},null,{"$f":"IF(AGT11=\"\",\"0\",1/AGT$22)","v":"0"},null,{"$f":"IF(AGV11=\"\",\"0\",1/AGV$22)","v":"0"},null,{"$f":"IF(AGX11=\"\",\"0\",1/AGX$22)","v":"0"},null,{"$f":"IF(AGZ11=\"\",\"0\",1/AGZ$22)","v":"0"},null,{"$f":"IF(AHB11=\"\",\"0\",1/AHB$22)","v":"0"},null,{"$f":"IF(AHD11=\"\",\"0\",1/AHD$22)","v":"0"},null,{"$f":"IF(AHF11=\"\",\"0\",1/AHF$22)","v":"0"},null,{"$f":"IF(AHH11=\"\",\"0\",1/AHH$22)","v":"0"},null,{"$f":"IF(AHJ11=\"\",\"0\",1/AHJ$22)","v":"0"},null,{"$f":"IF(AHL11=\"\",\"0\",1/AHL$22)","v":"0"},null,{"$f":"IF(AHN11=\"\",\"0\",1/AHN$22)","v":"0"},null,{"$f":"IF(AHP11=\"\",\"0\",1/AHP$22)","v":"0"},null,{"$f":"IF(AHR11=\"\",\"0\",1/AHR$22)","v":"0"},null,{"$f":"IF(AHT11=\"\",\"0\",1/AHT$22)","v":"0"},null,{"$f":"IF(AHV11=\"\",\"0\",1/AHV$22)","v":"0"},null,{"$f":"IF(AHX11=\"\",\"0\",1/AHX$22)","v":"0"},null,{"$f":"IF(AHZ11=\"\",\"0\",1/AHZ$22)","v":"0"},null,{"$f":"IF(AIB11=\"\",\"0\",1/AIB$22)","v":"0"},null,{"$f":"IF(AID11=\"\",\"0\",1/AID$22)","v":"0"},null,{"$f":"IF(AIF11=\"\",\"0\",1/AIF$22)","v":"0"},null,{"$f":"IF(AIH11=\"\",\"0\",1/AIH$22)","v":"0"},null,{"$f":"IF(AIJ11=\"\",\"0\",1/AIJ$22)","v":"0"},null,{"$f":"IF(AIL11=\"\",\"0\",1/AIL$22)","v":"0"},null,{"$f":"IF(AIN11=\"\",\"0\",1/AIN$22)","v":"0"},null,{"$f":"IF(AIP11=\"\",\"0\",1/AIP$22)","v":"0"},null,{"$f":"IF(AIR11=\"\",\"0\",1/AIR$22)","v":"0"},null,{"$f":"IF(AIT11=\"\",\"0\",1/AIT$22)","v":"0"},null,{"$f":"IF(AIV11=\"\",\"0\",1/AIV$22)","v":"0"},null,{"$f":"IF(AIX11=\"\",\"0\",1/AIX$22)","v":"0"},null,{"$f":"IF(AIZ11=\"\",\"0\",1/AIZ$22)","v":"0"},null,{"$f":"IF(AJB11=\"\",\"0\",1/AJB$22)","v":"0"},null,{"$f":"IF(AJD11=\"\",\"0\",1/AJD$22)","v":"0"},null,{"$f":"IF(AJF11=\"\",\"0\",1/AJF$22)","v":"0"},null,{"$f":"IF(AJH11=\"\",\"0\",1/AJH$22)","v":"0"},null,{"$f":"IF(AJJ11=\"\",\"0\",1/AJJ$22)","v":"0"},null,{"$f":"IF(AJL11=\"\",\"0\",1/AJL$22)","v":"0"},null,{"$f":"IF(AJN11=\"\",\"0\",1/AJN$22)","v":"0"},null,{"$f":"IF(AJP11=\"\",\"0\",1/AJP$22)","v":"0"},null,{"$f":"IF(AJR11=\"\",\"0\",1/AJR$22)","v":"0"},null,{"$f":"IF(AJT11=\"\",\"0\",1/AJT$22)","v":"0"},null,{"$f":"IF(AJV11=\"\",\"0\",1/AJV$22)","v":"0"},null,{"$f":"IF(AJX11=\"\",\"0\",1/AJX$22)","v":"0"},null,{"$f":"IF(AJZ11=\"\",\"0\",1/AJZ$22)","v":"0"},null,{"$f":"IF(AKB11=\"\",\"0\",1/AKB$22)","v":"0"},null,{"$f":"IF(AKD11=\"\",\"0\",1/AKD$22)","v":"0"},null,{"$f":"IF(AKF11=\"\",\"0\",1/AKF$22)","v":"0"},null,{"$f":"IF(AKH11=\"\",\"0\",1/AKH$22)","v":"0"},null,{"$f":"IF(AKJ11=\"\",\"0\",1/AKJ$22)","v":"0"},null,{"$f":"IF(AKL11=\"\",\"0\",1/AKL$22)","v":"0"},null,{"$f":"IF(AKN11=\"\",\"0\",1/AKN$22)","v":"0"},null,{"$f":"IF(AKP11=\"\",\"0\",1/AKP$22)","v":"0"},null,{"$f":"IF(AKR11=\"\",\"0\",1/AKR$22)","v":"0"},null,{"$f":"IF(AKT11=\"\",\"0\",1/AKT$22)","v":"0"},null,{"$f":"IF(AKV11=\"\",\"0\",1/AKV$22)","v":"0"},null,{"$f":"IF(AKX11=\"\",\"0\",1/AKX$22)","v":"0"},null,{"$f":"IF(AKZ11=\"\",\"0\",1/AKZ$22)","v":"0"},null,{"$f":"IF(ALB11=\"\",\"0\",1/ALB$22)","v":"0"},null,{"$f":"IF(ALD11=\"\",\"0\",1/ALD$22)","v":"0"},null,{"$f":"IF(ALF11=\"\",\"0\",1/ALF$22)","v":"0"},null,{"$f":"IF(ALH11=\"\",\"0\",1/ALH$22)","v":"0"},null,{"$f":"IF(ALJ11=\"\",\"0\",1/ALJ$22)","v":"0"},null,{"$f":"IF(ALL11=\"\",\"0\",1/ALL$22)","v":"0"},null,{"$f":"IF(ALN11=\"\",\"0\",1/ALN$22)","v":"0"},null,{"$f":"IF(ALP11=\"\",\"0\",1/ALP$22)","v":"0"},null,{"$f":"IF(ALR11=\"\",\"0\",1/ALR$22)","v":"0"},null,{"$f":"IF(ALT11=\"\",\"0\",1/ALT$22)","v":"0"},null,{"$f":"IF(ALV11=\"\",\"0\",1/ALV$22)","v":"0"},null,{"$f":"IF(ALX11=\"\",\"0\",1/ALX$22)","v":"0"},null,{"$f":"IF(ALZ11=\"\",\"0\",1/ALZ$22)","v":"0"},null,{"$f":"IF(AMB11=\"\",\"0\",1/AMB$22)","v":"0"},null,{"$f":"IF(AMD11=\"\",\"0\",1/AMD$22)","v":"0"},null,{"$f":"IF(AMF11=\"\",\"0\",1/AMF$22)","v":"0"},null,{"$f":"IF(AMH11=\"\",\"0\",1/AMH$22)","v":"0"},null,{"$f":"IF(AMJ11=\"\",\"0\",1/AMJ$22)","v":"0"},null,{"$f":"IF(AML11=\"\",\"0\",1/AML$22)","v":"0"},null,{"$f":"IF(AMN11=\"\",\"0\",1/AMN$22)","v":"0"},null,{"$f":"IF(AMP11=\"\",\"0\",1/AMP$22)","v":"0"},null,{"$f":"IF(AMR11=\"\",\"0\",1/AMR$22)","v":"0"},null,{"$f":"IF(AMT11=\"\",\"0\",1/AMT$22)","v":"0"},null,{"$f":"IF(AMV11=\"\",\"0\",1/AMV$22)","v":"0"},null,{"$f":"IF(AMX11=\"\",\"0\",1/AMX$22)","v":"0"},null,{"$f":"IF(AMZ11=\"\",\"0\",1/AMZ$22)","v":"0"},null,{"$f":"IF(ANB11=\"\",\"0\",1/ANB$22)","v":"0"},null,{"$f":"IF(AND11=\"\",\"0\",1/AND$22)","v":"0"},null,{"$f":"IF(ANF11=\"\",\"0\",1/ANF$22)","v":"0"},null,{"$f":"IF(ANH11=\"\",\"0\",1/ANH$22)","v":"0"},null,{"$f":"IF(ANJ11=\"\",\"0\",1/ANJ$22)","v":"0"},null,{"$f":"IF(ANL11=\"\",\"0\",1/ANL$22)","v":"0"},null,{"$f":"IF(ANN11=\"\",\"0\",1/ANN$22)","v":"0"},null,{"$f":"IF(ANP11=\"\",\"0\",1/ANP$22)","v":"0"},null,{"$f":"IF(ANR11=\"\",\"0\",1/ANR$22)","v":"0"},null,{"$f":"IF(ANT11=\"\",\"0\",1/ANT$22)","v":"0"},null,{"$f":"IF(ANV11=\"\",\"0\",1/ANV$22)","v":"0"},null,{"$f":"IF(ANX11=\"\",\"0\",1/ANX$22)","v":"0"},null,{"$f":"IF(ANZ11=\"\",\"0\",1/ANZ$22)","v":"0"},null,{"$f":"IF(AOB11=\"\",\"0\",1/AOB$22)","v":"0"},null,{"$f":"IF(AOD11=\"\",\"0\",1/AOD$22)","v":"0"},null,{"$f":"IF(AOF11=\"\",\"0\",1/AOF$22)","v":"0"},null,{"$f":"IF(AOH11=\"\",\"0\",1/AOH$22)","v":"0"},null,{"$f":"IF(AOJ11=\"\",\"0\",1/AOJ$22)","v":"0"},null,{"$f":"IF(AOL11=\"\",\"0\",1/AOL$22)","v":"0"},null,{"$f":"IF(AON11=\"\",\"0\",1/AON$22)","v":"0"},null,{"$f":"IF(AOP11=\"\",\"0\",1/AOP$22)","v":"0"},null,{"$f":"IF(AOR11=\"\",\"0\",1/AOR$22)","v":"0"},null,{"$f":"IF(AOT11=\"\",\"0\",1/AOT$22)","v":"0"},null,{"$f":"IF(AOV11=\"\",\"0\",1/AOV$22)","v":"0"},null,{"$f":"IF(AOX11=\"\",\"0\",1/AOX$22)","v":"0"},null,{"$f":"IF(AOZ11=\"\",\"0\",1/AOZ$22)","v":"0"},null,{"$f":"IF(APB11=\"\",\"0\",1/APB$22)","v":"0"},null,{"$f":"IF(APD11=\"\",\"0\",1/APD$22)","v":"0"},null,{"$f":"IF(APF11=\"\",\"0\",1/APF$22)","v":"0"},null,{"$f":"IF(APH11=\"\",\"0\",1/APH$22)","v":"0"},null,{"$f":"IF(APJ11=\"\",\"0\",1/APJ$22)","v":"0"},null,{"$f":"IF(APL11=\"\",\"0\",1/APL$22)","v":"0"},null,{"$f":"IF(APN11=\"\",\"0\",1/APN$22)","v":"0"},null,{"$f":"IF(APP11=\"\",\"0\",1/APP$22)","v":"0"},null,{"$f":"IF(APR11=\"\",\"0\",1/APR$22)","v":"0"},null,{"$f":"IF(APT11=\"\",\"0\",1/APT$22)","v":"0"},null,{"$f":"IF(APV11=\"\",\"0\",1/APV$22)","v":"0"},null,{"$f":"IF(APX11=\"\",\"0\",1/APX$22)","v":"0"},null,{"$f":"IF(APZ11=\"\",\"0\",1/APZ$22)","v":"0"},null,{"$f":"IF(AQB11=\"\",\"0\",1/AQB$22)","v":"0"},null,{"$f":"IF(AQD11=\"\",\"0\",1/AQD$22)","v":"0"},null,{"$f":"IF(AQF11=\"\",\"0\",1/AQF$22)","v":"0"},null,{"$f":"IF(AQH11=\"\",\"0\",1/AQH$22)","v":"0"},null,{"$f":"IF(AQJ11=\"\",\"0\",1/AQJ$22)","v":"0"},null,{"$f":"IF(AQL11=\"\",\"0\",1/AQL$22)","v":"0"},null,{"$f":"IF(AQN11=\"\",\"0\",1/AQN$22)","v":"0"},null,{"$f":"IF(AQP11=\"\",\"0\",1/AQP$22)","v":"0"},null,{"$f":"IF(AQR11=\"\",\"0\",1/AQR$22)","v":"0"},null,{"$f":"IF(AQT11=\"\",\"0\",1/AQT$22)","v":"0"},null,{"$f":"IF(AQV11=\"\",\"0\",1/AQV$22)","v":"0"},null,{"$f":"IF(AQX11=\"\",\"0\",1/AQX$22)","v":"0"},null,{"$f":"IF(AQZ11=\"\",\"0\",1/AQZ$22)","v":"0"},null,{"$f":"IF(ARB11=\"\",\"0\",1/ARB$22)","v":"0"},null,{"$f":"IF(ARD11=\"\",\"0\",1/ARD$22)","v":"0"},null,{"$f":"IF(ARF11=\"\",\"0\",1/ARF$22)","v":"0"},null,{"$f":"IF(ARH11=\"\",\"0\",1/ARH$22)","v":"0"},null,{"$f":"IF(ARJ11=\"\",\"0\",1/ARJ$22)","v":"0"},null,{"$f":"IF(ARL11=\"\",\"0\",1/ARL$22)","v":"0"},null,{"$f":"IF(ARN11=\"\",\"0\",1/ARN$22)","v":"0"},null,{"$f":"IF(ARP11=\"\",\"0\",1/ARP$22)","v":"0"},null,{"$f":"IF(ARR11=\"\",\"0\",1/ARR$22)","v":"0"},null,{"$f":"IF(ART11=\"\",\"0\",1/ART$22)","v":"0"},null,{"$f":"IF(ARV11=\"\",\"0\",1/ARV$22)","v":"0"},null,{"$f":"IF(ARX11=\"\",\"0\",1/ARX$22)","v":"0"},null,{"$f":"IF(ARZ11=\"\",\"0\",1/ARZ$22)","v":"0"},null,{"$f":"IF(ASB11=\"\",\"0\",1/ASB$22)","v":"0"},null,{"$f":"IF(ASD11=\"\",\"0\",1/ASD$22)","v":"0"},null,{"$f":"IF(ASF11=\"\",\"0\",1/ASF$22)","v":"0"},null,{"$f":"IF(ASH11=\"\",\"0\",1/ASH$22)","v":"0"},null,{"$f":"IF(ASJ11=\"\",\"0\",1/ASJ$22)","v":"0"},null,{"$f":"IF(ASL11=\"\",\"0\",1/ASL$22)","v":"0"},null,{"$f":"IF(ASN11=\"\",\"0\",1/ASN$22)","v":"0"},null,{"$f":"IF(ASP11=\"\",\"0\",1/ASP$22)","v":"0"},null,{"$f":"IF(ASR11=\"\",\"0\",1/ASR$22)","v":"0"},null,{"$f":"IF(AST11=\"\",\"0\",1/AST$22)","v":"0"},null,{"$f":"IF(ASV11=\"\",\"0\",1/ASV$22)","v":"0"},null,{"$f":"IF(ASX11=\"\",\"0\",1/ASX$22)","v":"0"},null,{"$f":"IF(ASZ11=\"\",\"0\",1/ASZ$22)","v":"0"},null,{"$f":"IF(ATB11=\"\",\"0\",1/ATB$22)","v":"0"},null,{"$f":"IF(ATD11=\"\",\"0\",1/ATD$22)","v":"0"},null,{"$f":"IF(ATF11=\"\",\"0\",1/ATF$22)","v":"0"},null,{"$f":"IF(ATH11=\"\",\"0\",1/ATH$22)","v":"0"},null,{"$f":"IF(ATJ11=\"\",\"0\",1/ATJ$22)","v":"0"},null,{"$f":"IF(ATL11=\"\",\"0\",1/ATL$22)","v":"0"},null,{"$f":"IF(ATN11=\"\",\"0\",1/ATN$22)","v":"0"},null,{"$f":"IF(ATP11=\"\",\"0\",1/ATP$22)","v":"0"},null,{"$f":"IF(ATR11=\"\",\"0\",1/ATR$22)","v":"0"},null,{"$f":"IF(ATT11=\"\",\"0\",1/ATT$22)","v":"0"},null,{"$f":"IF(ATV11=\"\",\"0\",1/ATV$22)","v":"0"},null,{"$f":"IF(ATX11=\"\",\"0\",1/ATX$22)","v":"0"},null,{"$f":"IF(ATZ11=\"\",\"0\",1/ATZ$22)","v":"0"},null,{"$f":"IF(AUB11=\"\",\"0\",1/AUB$22)","v":"0"},null,{"$f":"IF(AUD11=\"\",\"0\",1/AUD$22)","v":"0"},null,{"$f":"IF(AUF11=\"\",\"0\",1/AUF$22)","v":"0"},null,{"$f":"IF(AUH11=\"\",\"0\",1/AUH$22)","v":"0"},null,{"$f":"IF(AUJ11=\"\",\"0\",1/AUJ$22)","v":"0"},null,{"$f":"IF(AUL11=\"\",\"0\",1/AUL$22)","v":"0"},null,{"$f":"IF(AUN11=\"\",\"0\",1/AUN$22)","v":"0"},null,{"$f":"IF(AUP11=\"\",\"0\",1/AUP$22)","v":"0"},null,{"$f":"IF(AUR11=\"\",\"0\",1/AUR$22)","v":"0"},null,{"$f":"IF(AUT11=\"\",\"0\",1/AUT$22)","v":"0"},null,{"$f":"IF(AUV11=\"\",\"0\",1/AUV$22)","v":"0"},null,{"$f":"IF(AUX11=\"\",\"0\",1/AUX$22)","v":"0"},null,{"$f":"IF(AUZ11=\"\",\"0\",1/AUZ$22)","v":"0"},null,{"$f":"IF(AVB11=\"\",\"0\",1/AVB$22)","v":"0"},null,{"$f":"IF(AVD11=\"\",\"0\",1/AVD$22)","v":"0"},null,{"$f":"IF(AVF11=\"\",\"0\",1/AVF$22)","v":"0"},null,{"$f":"IF(AVH11=\"\",\"0\",1/AVH$22)","v":"0"},null,{"$f":"IF(AVJ11=\"\",\"0\",1/AVJ$22)","v":"0"},null,{"$f":"IF(AVL11=\"\",\"0\",1/AVL$22)","v":"0"},null,{"$f":"IF(AVN11=\"\",\"0\",1/AVN$22)","v":"0"},null,{"$f":"IF(AVP11=\"\",\"0\",1/AVP$22)","v":"0"},null,{"$f":"IF(AVR11=\"\",\"0\",1/AVR$22)","v":"0"},null,{"$f":"IF(AVT11=\"\",\"0\",1/AVT$22)","v":"0"},null,{"$f":"IF(AVV11=\"\",\"0\",1/AVV$22)","v":"0"},null,{"$f":"IF(AVX11=\"\",\"0\",1/AVX$22)","v":"0"},null,{"$f":"IF(AVZ11=\"\",\"0\",1/AVZ$22)","v":"0"},null,{"$f":"IF(AWB11=\"\",\"0\",1/AWB$22)","v":"0"},null,{"$f":"IF(AWD11=\"\",\"0\",1/AWD$22)","v":"0"},null,{"$f":"IF(AWF11=\"\",\"0\",1/AWF$22)","v":"0"},null,{"$f":"IF(AWH11=\"\",\"0\",1/AWH$22)","v":"0"},null,{"$f":"IF(AWJ11=\"\",\"0\",1/AWJ$22)","v":"0"},null,{"$f":"IF(AWL11=\"\",\"0\",1/AWL$22)","v":"0"},null,{"$f":"IF(AWN11=\"\",\"0\",1/AWN$22)","v":"0"},null,{"$f":"IF(AWP11=\"\",\"0\",1/AWP$22)","v":"0"},null,{"$f":"IF(AWR11=\"\",\"0\",1/AWR$22)","v":"0"},null,{"$f":"IF(AWT11=\"\",\"0\",1/AWT$22)","v":"0"},null,{"$f":"IF(AWV11=\"\",\"0\",1/AWV$22)","v":"0"},null,{"$f":"IF(AWX11=\"\",\"0\",1/AWX$22)","v":"0"},null,{"$f":"IF(AWZ11=\"\",\"0\",1/AWZ$22)","v":"0"},null,{"$f":"IF(AXB11=\"\",\"0\",1/AXB$22)","v":"0"},null,{"$f":"IF(AXD11=\"\",\"0\",1/AXD$22)","v":"0"},null,{"$f":"IF(AXF11=\"\",\"0\",1/AXF$22)","v":"0"},null,{"$f":"IF(AXH11=\"\",\"0\",1/AXH$22)","v":"0"},null,{"$f":"IF(AXJ11=\"\",\"0\",1/AXJ$22)","v":"0"},null,{"$f":"IF(AXL11=\"\",\"0\",1/AXL$22)","v":"0"},null,{"$f":"IF(AXN11=\"\",\"0\",1/AXN$22)","v":"0"},null,{"$f":"IF(AXP11=\"\",\"0\",1/AXP$22)","v":"0"},null,{"$f":"IF(AXR11=\"\",\"0\",1/AXR$22)","v":"0"},null,{"$f":"IF(AXT11=\"\",\"0\",1/AXT$22)","v":"0"},null,{"$f":"IF(AXV11=\"\",\"0\",1/AXV$22)","v":"0"},null,{"$f":"IF(AXX11=\"\",\"0\",1/AXX$22)","v":"0"},null,{"$f":"IF(AXZ11=\"\",\"0\",1/AXZ$22)","v":"0"},null,{"$f":"IF(AYB11=\"\",\"0\",1/AYB$22)","v":"0"},null,{"$f":"IF(AYD11=\"\",\"0\",1/AYD$22)","v":"0"},null,{"$f":"IF(AYF11=\"\",\"0\",1/AYF$22)","v":"0"},null,{"$f":"IF(AYH11=\"\",\"0\",1/AYH$22)","v":"0"},null,{"$f":"IF(AYJ11=\"\",\"0\",1/AYJ$22)","v":"0"},null,{"$f":"IF(AYL11=\"\",\"0\",1/AYL$22)","v":"0"},null,{"$f":"IF(AYN11=\"\",\"0\",1/AYN$22)","v":"0"},null,{"$f":"IF(AYP11=\"\",\"0\",1/AYP$22)","v":"0"},null,{"$f":"IF(AYR11=\"\",\"0\",1/AYR$22)","v":"0"},null,{"$f":"IF(AYT11=\"\",\"0\",1/AYT$22)","v":"0"},null,{"$f":"IF(AYV11=\"\",\"0\",1/AYV$22)","v":"0"},null,{"$f":"IF(AYX11=\"\",\"0\",1/AYX$22)","v":"0"},null,{"$f":"IF(AYZ11=\"\",\"0\",1/AYZ$22)","v":"0"},null,{"$f":"IF(AZB11=\"\",\"0\",1/AZB$22)","v":"0"},null,{"$f":"IF(AZD11=\"\",\"0\",1/AZD$22)","v":"0"},null,{"$f":"IF(AZF11=\"\",\"0\",1/AZF$22)","v":"0"},null,{"$f":"IF(AZH11=\"\",\"0\",1/AZH$22)","v":"0"},null,{"$f":"IF(AZJ11=\"\",\"0\",1/AZJ$22)","v":"0"},null,{"$f":"IF(AZL11=\"\",\"0\",1/AZL$22)","v":"0"},null,{"$f":"IF(AZN11=\"\",\"0\",1/AZN$22)","v":"0"},null,{"$f":"IF(AZP11=\"\",\"0\",1/AZP$22)","v":"0"},null,{"$f":"IF(AZR11=\"\",\"0\",1/AZR$22)","v":"0"},null,{"$f":"IF(AZT11=\"\",\"0\",1/AZT$22)","v":"0"},null,{"$f":"IF(AZV11=\"\",\"0\",1/AZV$22)","v":"0"},null,{"$f":"IF(AZX11=\"\",\"0\",1/AZX$22)","v":"0"},null,{"$f":"IF(AZZ11=\"\",\"0\",1/AZZ$22)","v":"0"},null,{"$f":"IF(BAB11=\"\",\"0\",1/BAB$22)","v":"0"},null,{"$f":"IF(BAD11=\"\",\"0\",1/BAD$22)","v":"0"},null,{"$f":"IF(BAF11=\"\",\"0\",1/BAF$22)","v":"0"},null,{"$f":"IF(BAH11=\"\",\"0\",1/BAH$22)","v":"0"},null,{"$f":"IF(BAJ11=\"\",\"0\",1/BAJ$22)","v":"0"},null,{"$f":"IF(BAL11=\"\",\"0\",1/BAL$22)","v":"0"},null,{"$f":"IF(BAN11=\"\",\"0\",1/BAN$22)","v":"0"},null,{"$f":"IF(BAP11=\"\",\"0\",1/BAP$22)","v":"0"},null,{"$f":"IF(BAR11=\"\",\"0\",1/BAR$22)","v":"0"},null,{"$f":"IF(BAT11=\"\",\"0\",1/BAT$22)","v":"0"},null,{"$f":"IF(BAV11=\"\",\"0\",1/BAV$22)","v":"0"},null,{"$f":"IF(BAX11=\"\",\"0\",1/BAX$22)","v":"0"},null,{"$f":"IF(BAZ11=\"\",\"0\",1/BAZ$22)","v":"0"},null,{"$f":"IF(BBB11=\"\",\"0\",1/BBB$22)","v":"0"},null,{"$f":"IF(BBD11=\"\",\"0\",1/BBD$22)","v":"0"},null,{"$f":"IF(BBF11=\"\",\"0\",1/BBF$22)","v":"0"},null,{"$f":"IF(BBH11=\"\",\"0\",1/BBH$22)","v":"0"},null,{"$f":"IF(BBJ11=\"\",\"0\",1/BBJ$22)","v":"0"},null,{"$f":"IF(BBL11=\"\",\"0\",1/BBL$22)","v":"0"},null,{"$f":"IF(BBN11=\"\",\"0\",1/BBN$22)","v":"0"},null,{"$f":"IF(BBP11=\"\",\"0\",1/BBP$22)","v":"0"},null,{"$f":"IF(BBR11=\"\",\"0\",1/BBR$22)","v":"0"},null,{"$f":"IF(BBT11=\"\",\"0\",1/BBT$22)","v":"0"},null,{"$f":"IF(BBV11=\"\",\"0\",1/BBV$22)","v":"0"},null,{"$f":"IF(BBX11=\"\",\"0\",1/BBX$22)","v":"0"},null,{"$f":"IF(BBZ11=\"\",\"0\",1/BBZ$22)","v":"0"},null,{"$f":"IF(BCB11=\"\",\"0\",1/BCB$22)","v":"0"},null,{"$f":"IF(BCD11=\"\",\"0\",1/BCD$22)","v":"0"},null,{"$f":"IF(BCF11=\"\",\"0\",1/BCF$22)","v":"0"},null,{"$f":"IF(BCH11=\"\",\"0\",1/BCH$22)","v":"0"},null,{"$f":"IF(BCJ11=\"\",\"0\",1/BCJ$22)","v":"0"},null,{"$f":"IF(BCL11=\"\",\"0\",1/BCL$22)","v":"0"},null,{"$f":"IF(BCN11=\"\",\"0\",1/BCN$22)","v":"0"},null,{"$f":"IF(BCP11=\"\",\"0\",1/BCP$22)","v":"0"},null,{"$f":"IF(BCR11=\"\",\"0\",1/BCR$22)","v":"0"},null,{"$f":"IF(BCT11=\"\",\"0\",1/BCT$22)","v":"0"},null,{"$f":"IF(BCV11=\"\",\"0\",1/BCV$22)","v":"0"},null,{"$f":"IF(BCX11=\"\",\"0\",1/BCX$22)","v":"0"},null,{"$f":"IF(BCZ11=\"\",\"0\",1/BCZ$22)","v":"0"},null,{"$f":"IF(BDB11=\"\",\"0\",1/BDB$22)","v":"0"},null,{"$f":"IF(BDD11=\"\",\"0\",1/BDD$22)","v":"0"},null,{"$f":"IF(BDF11=\"\",\"0\",1/BDF$22)","v":"0"},null,{"$f":"IF(BDH11=\"\",\"0\",1/BDH$22)","v":"0"},null,{"$f":"IF(BDJ11=\"\",\"0\",1/BDJ$22)","v":"0"},null,{"$f":"IF(BDL11=\"\",\"0\",1/BDL$22)","v":"0"},null,{"$f":"IF(BDN11=\"\",\"0\",1/BDN$22)","v":"0"},null,{"$f":"IF(BDP11=\"\",\"0\",1/BDP$22)","v":"0"},null,{"$f":"IF(BDR11=\"\",\"0\",1/BDR$22)","v":"0"},null,{"$f":"IF(BDT11=\"\",\"0\",1/BDT$22)","v":"0"},null,{"$f":"IF(BDV11=\"\",\"0\",1/BDV$22)","v":"0"},null,{"$f":"IF(BDX11=\"\",\"0\",1/BDX$22)","v":"0"},null,{"$f":"IF(BDZ11=\"\",\"0\",1/BDZ$22)","v":"0"},null,{"$f":"IF(BEB11=\"\",\"0\",1/BEB$22)","v":"0"},null,{"$f":"IF(BED11=\"\",\"0\",1/BED$22)","v":"0"},null,{"$f":"IF(BEF11=\"\",\"0\",1/BEF$22)","v":"0"},null,{"$f":"IF(BEH11=\"\",\"0\",1/BEH$22)","v":"0"},null,{"$f":"IF(BEJ11=\"\",\"0\",1/BEJ$22)","v":"0"},null,{"$f":"IF(BEL11=\"\",\"0\",1/BEL$22)","v":"0"},null,{"$f":"IF(BEN11=\"\",\"0\",1/BEN$22)","v":"0"},null,{"$f":"IF(BEP11=\"\",\"0\",1/BEP$22)","v":"0"},null,{"$f":"IF(BER11=\"\",\"0\",1/BER$22)","v":"0"},null,{"$f":"IF(BET11=\"\",\"0\",1/BET$22)","v":"0"},null,{"$f":"IF(BEV11=\"\",\"0\",1/BEV$22)","v":"0"},null,{"$f":"IF(BEX11=\"\",\"0\",1/BEX$22)","v":"0"},null,{"$f":"IF(BEZ11=\"\",\"0\",1/BEZ$22)","v":"0"},null,{"$f":"IF(BFB11=\"\",\"0\",1/BFB$22)","v":"0"},null,{"$f":"IF(BFD11=\"\",\"0\",1/BFD$22)","v":"0"},null,{"$f":"IF(BFF11=\"\",\"0\",1/BFF$22)","v":"0"},null,{"$f":"IF(BFH11=\"\",\"0\",1/BFH$22)","v":"0"},null,{"$f":"IF(BFJ11=\"\",\"0\",1/BFJ$22)","v":"0"},null,{"$f":"IF(BFL11=\"\",\"0\",1/BFL$22)","v":"0"},null,{"$f":"IF(BFN11=\"\",\"0\",1/BFN$22)","v":"0"},null,{"$f":"IF(BFP11=\"\",\"0\",1/BFP$22)","v":"0"},null,{"$f":"IF(BFR11=\"\",\"0\",1/BFR$22)","v":"0"},null,{"$f":"IF(BFT11=\"\",\"0\",1/BFT$22)","v":"0"},null,{"$f":"IF(BFV11=\"\",\"0\",1/BFV$22)","v":"0"},null,{"$f":"IF(BFX11=\"\",\"0\",1/BFX$22)","v":"0"},null,{"$f":"IF(BFZ11=\"\",\"0\",1/BFZ$22)","v":"0"},null,{"$f":"IF(BGB11=\"\",\"0\",1/BGB$22)","v":"0"},null,{"$f":"IF(BGD11=\"\",\"0\",1/BGD$22)","v":"0"},null,{"$f":"IF(BGF11=\"\",\"0\",1/BGF$22)","v":"0"},null,{"$f":"IF(BGH11=\"\",\"0\",1/BGH$22)","v":"0"},null,{"$f":"IF(BGJ11=\"\",\"0\",1/BGJ$22)","v":"0"},null,{"$f":"IF(BGL11=\"\",\"0\",1/BGL$22)","v":"0"},null,{"$f":"IF(BGN11=\"\",\"0\",1/BGN$22)","v":"0"},null,{"$f":"IF(BGP11=\"\",\"0\",1/BGP$22)","v":"0"},null,{"$f":"IF(BGR11=\"\",\"0\",1/BGR$22)","v":"0"},null,{"$f":"IF(BGT11=\"\",\"0\",1/BGT$22)","v":"0"},null,{"$f":"IF(BGV11=\"\",\"0\",1/BGV$22)","v":"0"},null,{"$f":"IF(BGX11=\"\",\"0\",1/BGX$22)","v":"0"},null,{"$f":"IF(BGZ11=\"\",\"0\",1/BGZ$22)","v":"0"},null,{"$f":"IF(BHB11=\"\",\"0\",1/BHB$22)","v":"0"},null,{"$f":"IF(BHD11=\"\",\"0\",1/BHD$22)","v":"0"},null,{"$f":"IF(BHF11=\"\",\"0\",1/BHF$22)","v":"0"},null,{"$f":"IF(BHH11=\"\",\"0\",1/BHH$22)","v":"0"},null,{"$f":"IF(BHJ11=\"\",\"0\",1/BHJ$22)","v":"0"},null,{"$f":"IF(BHL11=\"\",\"0\",1/BHL$22)","v":"0"},null,{"$f":"IF(BHN11=\"\",\"0\",1/BHN$22)","v":"0"},null,{"$f":"IF(BHP11=\"\",\"0\",1/BHP$22)","v":"0"},null,{"$f":"IF(BHR11=\"\",\"0\",1/BHR$22)","v":"0"},null,{"$f":"IF(BHT11=\"\",\"0\",1/BHT$22)","v":"0"},null,{"$f":"IF(BHV11=\"\",\"0\",1/BHV$22)","v":"0"},null,{"$f":"IF(BHX11=\"\",\"0\",1/BHX$22)","v":"0"},null,{"$f":"IF(BHZ11=\"\",\"0\",1/BHZ$22)","v":"0"},null,{"$f":"IF(BIB11=\"\",\"0\",1/BIB$22)","v":"0"},null,{"$f":"IF(BID11=\"\",\"0\",1/BID$22)","v":"0"},null,{"$f":"IF(BIF11=\"\",\"0\",1/BIF$22)","v":"0"},null,{"$f":"IF(BIH11=\"\",\"0\",1/BIH$22)","v":"0"},null,{"$f":"IF(BIJ11=\"\",\"0\",1/BIJ$22)","v":"0"},null,{"$f":"IF(BIL11=\"\",\"0\",1/BIL$22)","v":"0"},null,{"$f":"IF(BIN11=\"\",\"0\",1/BIN$22)","v":"0"},null,{"$f":"IF(BIP11=\"\",\"0\",1/BIP$22)","v":"0"},null,{"$f":"IF(BIR11=\"\",\"0\",1/BIR$22)","v":"0"},null,{"$f":"IF(BIT11=\"\",\"0\",1/BIT$22)","v":"0"},null,{"$f":"IF(BIV11=\"\",\"0\",1/BIV$22)","v":"0"},null,{"$f":"IF(BIX11=\"\",\"0\",1/BIX$22)","v":"0"},null,{"$f":"IF(BIZ11=\"\",\"0\",1/BIZ$22)","v":"0"},null,{"$f":"IF(BJB11=\"\",\"0\",1/BJB$22)","v":"0"},null,{"$f":"IF(BJD11=\"\",\"0\",1/BJD$22)","v":"0"},null,{"$f":"IF(BJF11=\"\",\"0\",1/BJF$22)","v":"0"},null,{"$f":"IF(BJH11=\"\",\"0\",1/BJH$22)","v":"0"},null,{"$f":"IF(BJJ11=\"\",\"0\",1/BJJ$22)","v":"0"},null,{"$f":"IF(BJL11=\"\",\"0\",1/BJL$22)","v":"0"},null,{"$f":"IF(BJN11=\"\",\"0\",1/BJN$22)","v":"0"},null,{"$f":"IF(BJP11=\"\",\"0\",1/BJP$22)","v":"0"},null,{"$f":"IF(BJR11=\"\",\"0\",1/BJR$22)","v":"0"},null,{"$f":"IF(BJT11=\"\",\"0\",1/BJT$22)","v":"0"},null,{"$f":"IF(BJV11=\"\",\"0\",1/BJV$22)","v":"0"},null,{"$f":"IF(BJX11=\"\",\"0\",1/BJX$22)","v":"0"},null,{"$f":"IF(BJZ11=\"\",\"0\",1/BJZ$22)","v":"0"},null,{"$f":"IF(BKB11=\"\",\"0\",1/BKB$22)","v":"0"},null,{"$f":"IF(BKD11=\"\",\"0\",1/BKD$22)","v":"0"},null,{"$f":"IF(BKF11=\"\",\"0\",1/BKF$22)","v":"0"},null,{"$f":"IF(BKH11=\"\",\"0\",1/BKH$22)","v":"0"},null,{"$f":"IF(BKJ11=\"\",\"0\",1/BKJ$22)","v":"0"},null,{"$f":"IF(BKL11=\"\",\"0\",1/BKL$22)","v":"0"},null,{"$f":"IF(BKN11=\"\",\"0\",1/BKN$22)","v":"0"},null,{"$f":"IF(BKP11=\"\",\"0\",1/BKP$22)","v":"0"},null,{"$f":"IF(BKR11=\"\",\"0\",1/BKR$22)","v":"0"},null,{"$f":"IF(BKT11=\"\",\"0\",1/BKT$22)","v":"0"},null,{"$f":"IF(BKV11=\"\",\"0\",1/BKV$22)","v":"0"},null,{"$f":"IF(BKX11=\"\",\"0\",1/BKX$22)","v":"0"},null,{"$f":"IF(BKZ11=\"\",\"0\",1/BKZ$22)","v":"0"},null,{"$f":"IF(BLB11=\"\",\"0\",1/BLB$22)","v":"0"},null,{"$f":"IF(BLD11=\"\",\"0\",1/BLD$22)","v":"0"},null,{"$f":"IF(BLF11=\"\",\"0\",1/BLF$22)","v":"0"},null,{"$f":"IF(BLH11=\"\",\"0\",1/BLH$22)","v":"0"},null,{"$f":"IF(BLJ11=\"\",\"0\",1/BLJ$22)","v":"0"},null,{"$f":"IF(BLL11=\"\",\"0\",1/BLL$22)","v":"0"},null,{"$f":"IF(BLN11=\"\",\"0\",1/BLN$22)","v":"0"},null,{"$f":"IF(BLP11=\"\",\"0\",1/BLP$22)","v":"0"},null,{"$f":"IF(BLR11=\"\",\"0\",1/BLR$22)","v":"0"},null,{"$f":"IF(BLT11=\"\",\"0\",1/BLT$22)","v":"0"},null,{"$f":"IF(BLV11=\"\",\"0\",1/BLV$22)","v":"0"},null,{"$f":"IF(BLX11=\"\",\"0\",1/BLX$22)","v":"0"},null,{"$f":"IF(BLZ11=\"\",\"0\",1/BLZ$22)","v":"0"},null,{"$f":"IF(BMB11=\"\",\"0\",1/BMB$22)","v":"0"},null,{"$f":"IF(BMD11=\"\",\"0\",1/BMD$22)","v":"0"},null,{"$f":"IF(BMF11=\"\",\"0\",1/BMF$22)","v":"0"},null,{"$f":"IF(BMH11=\"\",\"0\",1/BMH$22)","v":"0"},null,{"$f":"IF(BMJ11=\"\",\"0\",1/BMJ$22)","v":"0"},null,{"$f":"IF(BML11=\"\",\"0\",1/BML$22)","v":"0"},null,{"$f":"IF(BMN11=\"\",\"0\",1/BMN$22)","v":"0"},null,{"$f":"IF(BMP11=\"\",\"0\",1/BMP$22)","v":"0"},null,{"$f":"IF(BMR11=\"\",\"0\",1/BMR$22)","v":"0"},null,{"$f":"IF(BMT11=\"\",\"0\",1/BMT$22)","v":"0"},null,{"$f":"IF(BMV11=\"\",\"0\",1/BMV$22)","v":"0"},null,{"$f":"IF(BMX11=\"\",\"0\",1/BMX$22)","v":"0"},null,{"$f":"IF(BMZ11=\"\",\"0\",1/BMZ$22)","v":"0"},null,{"$f":"IF(BNB11=\"\",\"0\",1/BNB$22)","v":"0"},null,{"$f":"IF(BND11=\"\",\"0\",1/BND$22)","v":"0"},null,{"$f":"IF(BNF11=\"\",\"0\",1/BNF$22)","v":"0"},null,{"$f":"IF(BNH11=\"\",\"0\",1/BNH$22)","v":"0"},null,{"$f":"IF(BNJ11=\"\",\"0\",1/BNJ$22)","v":"0"},null,{"$f":"IF(BNL11=\"\",\"0\",1/BNL$22)","v":"0"},null,{"$f":"IF(BNN11=\"\",\"0\",1/BNN$22)","v":"0"},null,{"$f":"IF(BNP11=\"\",\"0\",1/BNP$22)","v":"0"},null,{"$f":"IF(BNR11=\"\",\"0\",1/BNR$22)","v":"0"},null,{"$f":"IF(BNT11=\"\",\"0\",1/BNT$22)","v":"0"},null,{"$f":"IF(BNV11=\"\",\"0\",1/BNV$22)","v":"0"},null,{"$f":"IF(BNX11=\"\",\"0\",1/BNX$22)","v":"0"},null,{"$f":"IF(BNZ11=\"\",\"0\",1/BNZ$22)","v":"0"},null,{"$f":"IF(BOB11=\"\",\"0\",1/BOB$22)","v":"0"},null,{"$f":"IF(BOD11=\"\",\"0\",1/BOD$22)","v":"0"},null,{"$f":"IF(BOF11=\"\",\"0\",1/BOF$22)","v":"0"},null,{"$f":"IF(BOH11=\"\",\"0\",1/BOH$22)","v":"0"},null,{"$f":"IF(BOJ11=\"\",\"0\",1/BOJ$22)","v":"0"},null,{"$f":"IF(BOL11=\"\",\"0\",1/BOL$22)","v":"0"},null,{"$f":"IF(BON11=\"\",\"0\",1/BON$22)","v":"0"},null,{"$f":"IF(BOP11=\"\",\"0\",1/BOP$22)","v":"0"},null,{"$f":"IF(BOR11=\"\",\"0\",1/BOR$22)","v":"0"},null,{"$f":"IF(BOT11=\"\",\"0\",1/BOT$22)","v":"0"},null,{"$f":"IF(BOV11=\"\",\"0\",1/BOV$22)","v":"0"},null,{"$f":"IF(BOX11=\"\",\"0\",1/BOX$22)","v":"0"},null,{"$f":"IF(BOZ11=\"\",\"0\",1/BOZ$22)","v":"0"},null,{"$f":"IF(BPB11=\"\",\"0\",1/BPB$22)","v":"0"},null,{"$f":"IF(BPD11=\"\",\"0\",1/BPD$22)","v":"0"},null,{"$f":"IF(BPF11=\"\",\"0\",1/BPF$22)","v":"0"},null,{"$f":"IF(BPH11=\"\",\"0\",1/BPH$22)","v":"0"},null,{"$f":"IF(BPJ11=\"\",\"0\",1/BPJ$22)","v":"0"},null,{"$f":"IF(BPL11=\"\",\"0\",1/BPL$22)","v":"0"},null,{"$f":"IF(BPN11=\"\",\"0\",1/BPN$22)","v":"0"},null,{"$f":"IF(BPP11=\"\",\"0\",1/BPP$22)","v":"0"},null,{"$f":"IF(BPR11=\"\",\"0\",1/BPR$22)","v":"0"},null,{"$f":"IF(BPT11=\"\",\"0\",1/BPT$22)","v":"0"},null,{"$f":"IF(BPV11=\"\",\"0\",1/BPV$22)","v":"0"},null,{"$f":"IF(BPX11=\"\",\"0\",1/BPX$22)","v":"0"},null,{"$f":"IF(BPZ11=\"\",\"0\",1/BPZ$22)","v":"0"},null,{"$f":"IF(BQB11=\"\",\"0\",1/BQB$22)","v":"0"},null,{"$f":"IF(BQD11=\"\",\"0\",1/BQD$22)","v":"0"},null,{"$f":"IF(BQF11=\"\",\"0\",1/BQF$22)","v":"0"},null,{"$f":"IF(BQH11=\"\",\"0\",1/BQH$22)","v":"0"},null,{"$f":"IF(BQJ11=\"\",\"0\",1/BQJ$22)","v":"0"},null,{"$f":"IF(BQL11=\"\",\"0\",1/BQL$22)","v":"0"},null,{"$f":"IF(BQN11=\"\",\"0\",1/BQN$22)","v":"0"},null,{"$f":"IF(BQP11=\"\",\"0\",1/BQP$22)","v":"0"},null,{"$f":"IF(BQR11=\"\",\"0\",1/BQR$22)","v":"0"},null,{"$f":"IF(BQT11=\"\",\"0\",1/BQT$22)","v":"0"},null,{"$f":"IF(BQV11=\"\",\"0\",1/BQV$22)","v":"0"},null,{"$f":"IF(BQX11=\"\",\"0\",1/BQX$22)","v":"0"},null,{"$f":"IF(BQZ11=\"\",\"0\",1/BQZ$22)","v":"0"},null,{"$f":"IF(BRB11=\"\",\"0\",1/BRB$22)","v":"0"},null,{"$f":"IF(BRD11=\"\",\"0\",1/BRD$22)","v":"0"},null,{"$f":"IF(BRF11=\"\",\"0\",1/BRF$22)","v":"0"},null,{"$f":"IF(BRH11=\"\",\"0\",1/BRH$22)","v":"0"},null,{"$f":"IF(BRJ11=\"\",\"0\",1/BRJ$22)","v":"0"},null,{"$f":"IF(BRL11=\"\",\"0\",1/BRL$22)","v":"0"},null,{"$f":"IF(BRN11=\"\",\"0\",1/BRN$22)","v":"0"},null,{"$f":"IF(BRP11=\"\",\"0\",1/BRP$22)","v":"0"},null,{"$f":"IF(BRR11=\"\",\"0\",1/BRR$22)","v":"0"},null,{"$f":"IF(BRT11=\"\",\"0\",1/BRT$22)","v":"0"},null,{"$f":"IF(BRV11=\"\",\"0\",1/BRV$22)","v":"0"},null,{"$f":"IF(BRX11=\"\",\"0\",1/BRX$22)","v":"0"},null,{"$f":"IF(BRZ11=\"\",\"0\",1/BRZ$22)","v":"0"},null,{"$f":"IF(BSB11=\"\",\"0\",1/BSB$22)","v":"0"},null,{"$f":"IF(BSD11=\"\",\"0\",1/BSD$22)","v":"0"},null,{"$f":"IF(BSF11=\"\",\"0\",1/BSF$22)","v":"0"},null,{"$f":"IF(BSH11=\"\",\"0\",1/BSH$22)","v":"0"},null,{"$f":"IF(BSJ11=\"\",\"0\",1/BSJ$22)","v":"0"},null,{"$f":"IF(BSL11=\"\",\"0\",1/BSL$22)","v":"0"},null,{"$f":"IF(BSN11=\"\",\"0\",1/BSN$22)","v":"0"},null,{"$f":"IF(BSP11=\"\",\"0\",1/BSP$22)","v":"0"},null,{"$f":"IF(BSR11=\"\",\"0\",1/BSR$22)","v":"0"},null,{"$f":"IF(BST11=\"\",\"0\",1/BST$22)","v":"0"},null,{"$f":"IF(BSV11=\"\",\"0\",1/BSV$22)","v":"0"},null,{"$f":"IF(BSX11=\"\",\"0\",1/BSX$22)","v":"0"},null,{"$f":"IF(BSZ11=\"\",\"0\",1/BSZ$22)","v":"0"},null,{"$f":"IF(BTB11=\"\",\"0\",1/BTB$22)","v":"0"},null,{"$f":"IF(BTD11=\"\",\"0\",1/BTD$22)","v":"0"},null,{"$f":"IF(BTF11=\"\",\"0\",1/BTF$22)","v":"0"},null,{"$f":"IF(BTH11=\"\",\"0\",1/BTH$22)","v":"0"},null,{"$f":"IF(BTJ11=\"\",\"0\",1/BTJ$22)","v":"0"},null,{"$f":"IF(BTL11=\"\",\"0\",1/BTL$22)","v":"0"},null,{"$f":"IF(BTN11=\"\",\"0\",1/BTN$22)","v":"0"},null,{"$f":"IF(BTP11=\"\",\"0\",1/BTP$22)","v":"0"},null,{"$f":"IF(BTR11=\"\",\"0\",1/BTR$22)","v":"0"},null,{"$f":"IF(BTT11=\"\",\"0\",1/BTT$22)","v":"0"},null,{"$f":"IF(BTV11=\"\",\"0\",1/BTV$22)","v":"0"},null,{"$f":"IF(BTX11=\"\",\"0\",1/BTX$22)","v":"0"},null,{"$f":"IF(BTZ11=\"\",\"0\",1/BTZ$22)","v":"0"},null,{"$f":"IF(BUB11=\"\",\"0\",1/BUB$22)","v":"0"},null,{"$f":"IF(BUD11=\"\",\"0\",1/BUD$22)","v":"0"},null,{"$f":"IF(BUF11=\"\",\"0\",1/BUF$22)","v":"0"},null,{"$f":"IF(BUH11=\"\",\"0\",1/BUH$22)","v":"0"},null,{"$f":"IF(BUJ11=\"\",\"0\",1/BUJ$22)","v":"0"},null,{"$f":"IF(BUL11=\"\",\"0\",1/BUL$22)","v":"0"},null,{"$f":"IF(BUN11=\"\",\"0\",1/BUN$22)","v":"0"},null,{"$f":"IF(BUP11=\"\",\"0\",1/BUP$22)","v":"0"},null,{"$f":"IF(BUR11=\"\",\"0\",1/BUR$22)","v":"0"},null,{"$f":"IF(BUT11=\"\",\"0\",1/BUT$22)","v":"0"},null,{"$f":"IF(BUV11=\"\",\"0\",1/BUV$22)","v":"0"},null,{"$f":"IF(BUX11=\"\",\"0\",1/BUX$22)","v":"0"},null,{"$f":"IF(BUZ11=\"\",\"0\",1/BUZ$22)","v":"0"},null,{"$f":"IF(BVB11=\"\",\"0\",1/BVB$22)","v":"0"},null,{"$f":"IF(BVD11=\"\",\"0\",1/BVD$22)","v":"0"},null,{"$f":"IF(BVF11=\"\",\"0\",1/BVF$22)","v":"0"},null,{"$f":"IF(BVH11=\"\",\"0\",1/BVH$22)","v":"0"},null,{"$f":"IF(BVJ11=\"\",\"0\",1/BVJ$22)","v":"0"},null,{"$f":"IF(BVL11=\"\",\"0\",1/BVL$22)","v":"0"},null,{"$f":"IF(BVN11=\"\",\"0\",1/BVN$22)","v":"0"},null,{"$f":"IF(BVP11=\"\",\"0\",1/BVP$22)","v":"0"},null,{"$f":"IF(BVR11=\"\",\"0\",1/BVR$22)","v":"0"},null,{"$f":"IF(BVT11=\"\",\"0\",1/BVT$22)","v":"0"},null,{"$f":"IF(BVV11=\"\",\"0\",1/BVV$22)","v":"0"},null,{"$f":"IF(BVX11=\"\",\"0\",1/BVX$22)","v":"0"},null,{"$f":"IF(BVZ11=\"\",\"0\",1/BVZ$22)","v":"0"},null,{"$f":"IF(BWB11=\"\",\"0\",1/BWB$22)","v":"0"},null,{"$f":"IF(BWD11=\"\",\"0\",1/BWD$22)","v":"0"},null,{"$f":"IF(BWF11=\"\",\"0\",1/BWF$22)","v":"0"},null,{"$f":"IF(BWH11=\"\",\"0\",1/BWH$22)","v":"0"},null,{"$f":"IF(BWJ11=\"\",\"0\",1/BWJ$22)","v":"0"},null,{"$f":"IF(BWL11=\"\",\"0\",1/BWL$22)","v":"0"},null,{"$f":"IF(BWN11=\"\",\"0\",1/BWN$22)","v":"0"},null,{"$f":"IF(BWP11=\"\",\"0\",1/BWP$22)","v":"0"},null,{"$f":"IF(BWR11=\"\",\"0\",1/BWR$22)","v":"0"},null,{"$f":"IF(BWT11=\"\",\"0\",1/BWT$22)","v":"0"},null,{"$f":"IF(BWV11=\"\",\"0\",1/BWV$22)","v":"0"}]
["実務（５）",{"$f":"年数合計!B17","v":{"$error":"#VALUE!"}},{"$f":"年数合計!C17","v":{"$error":"#VALUE!"}},{"$f":"COUNTIF(F13:BWV13,\"○\")","v":0},"月",{"$f":"IFERROR(IF(AND(F$3>=$B$13,F$3<=$C$13),\"○\",\"\"),\"\")","v":""},null,"",null,"",null,"",null,"",null,"",null,"",null,"",null,"",null,"",null,"",null,"",null,"",null,"",null,"",null,"",null,"",null,"",null,"",null,"",null,"",null,"",null,"",null,"",null,"",null,"",null,"",null,"",null,"",null,"",null,"",null,"",null,{"$f":"IFERROR(IF(AND(BR$3>=$B$13,BR$3<=$C$13),\"○\",\"\"),\"\")","v":""},null,"",null,"",null,"",null,"",null,"",null,"",null,"",null,"",null,"",null,"",null,"",null,"",null,"",null,"",null,"",null,"",null,"",null,"",null,"",null,"",null,"",null,"",null,"",null,"",null,"",null,"",null,"",null,"",null,"",null,"",null,"",null,{"$f":"IFERROR(IF(AND(ED$3>=$B$13,ED$3<=$C$13),\"○\",\"\"),\"\")","v":""},null,"",null,"",null,"",null,"",null,"",null,"",null,"",null,"",null,"",null,"",null,"",null,"",null,"",null,"",null,"",null,"",null,"",null,"",null,"",null,"",null,"",null,"",null,"",null,"",null,"",null,"",null,"",null,"",null,"",null,"",null,"",null,{"$f":"IFERROR(IF(AND(GP$3>=$B$13,GP$3<=$C$13),\"○\",\"\"),\"\")","v":""},null,"",null,"",null,"",null,"",null,"",null,"",null,"",null,"",null,"",null,"",null,"",null,"",null,"",null,"",null,"",null,"",null,"",null,"",null,"",null,"",null,"",null,"",null,"",null,"",null,"",null,"",null,"",null,"",null,"",null,"",null,"",null,{"$f":"IFERROR(IF(AND(JB$3>=$B$13,JB$3<=$C$13),\"○\",\"\"),\"\")","v":""},null,"",null,"",null,"",null,"",null,"",null,"",null,"",null,"",null,"",null,"",null,"",null,"",null,"",null,"",null,"",null,"",null,"",null,"",null,"",null,"",null,"",null,"",null,"",null,"",null,"",null,"",null,"",null,"",null,"",null,"",null,"",null,{"$f":"IFERROR(IF(AND(LN$3>=$B$13,LN$3<=$C$13),\"○\",\"\"),\"\")","v":""},null,"",null,"",null,"",null,"",null,"",null,"",null,"",null,"",null,"",null,"",null,"",null,"",null,"",null,"",null,"",null,"",null,"",null,"",null,"",null,"",null,"",null,"",null,"",null,"",null,"",null,"",null,"",null,"",null,"",null,"",null,"",null,{"$f":"IFERROR(IF(AND(NZ$3>=$B$13,NZ$3<=$C$13),\"○\",\"\"),\"\")","v":""},null,"",null,"",null,"",null,"",null,"",null,"",null,"",null,"",null,"",null,"",null,"",null,"",null,"",null,"",null,"",null,"",null,"",null,"",null,"",null,"",null,"",null,"",null,"",null,"",null,"",null,"",null,"",null,"",null,"",null,"",null,"",null,{"$f":"IFERROR(IF(AND(QL$3>=$B$13,QL$3<=$C$13),\"○\",\"\"),\"\")","v":""},null,"",null,"",null,"",null,"",null,"",null,"",null,"",null,"",null,"",null,"",null,"",null,"",null,"",null,"",null,"",null,"",null,"",null,"",null,"",null,"",null,"",null,"",null,"",null,"",null,"",null,"",null,"",null,"",null,"",null,"",null,"",null,{"$f":"IFERROR(IF(AND(SX$3>=$B$13,SX$3<=$C$13),\"○\",\"\"),\"\")","v":""},null,"",null,"",null,"",null,"",null,"",null,"",null,"",null,"",null,"",null,"",null,"",null,"",null,"",null,"",null,"",null,"",null,"",null,"",null,"",null,"",null,"",null,"",null,"",null,"",null,"",null,"",null,"",null,"",null,"",null,"",null,"",null,{"$f":"IFERROR(IF(AND(VJ$3>=$B$13,VJ$3<=$C$13),\"○\",\"\"),\"\")","v":""},null,"",null,"",null,"",null,"",null,"",null,"",null,"",null,"",null,"",null,"",null,"",null,"",null,"",null,"",null,"",null,"",null,"",null,"",null,"",null,"",null,"",null,"",null,"",null,"",null,"",null,"",null,"",null,"",null,"",null,"",null,"",null,{"$f":"IFERROR(IF(AND(XV$3>=$B$13,XV$3<=$C$13),\"○\",\"\"),\"\")","v":""},null,"",null,"",null,"",null,"",null,"",null,"",null,"",null,"",null,"",null,"",null,"",null,"",null,"",null,"",null,"",null,"",null,"",null,"",null,"",null,"",null,"",null,"",null,"",null,"",null,"",null,"",null,"",null,"",null,"",null,"",null,"",null,{"$f":"IFERROR(IF(AND(AAH$3>=$B$13,AAH$3<=$C$13),\"○\",\"\"),\"\")","v":""},null,"",null,"",null,"",null,"",null,"",null,"",null,"",null,"",null,"",null,"",null,"",null,"",null,"",null,"",null,"",null,"",null,"",null,"",null,"",null,"",null,"",null,"",null,"",null,"",null,"",null,"",null,"",null,"",null,"",null,"",null,"",null,{"$f":"IFERROR(IF(AND(ACT$3>=$B$13,ACT$3<=$C$13),\"○\",\"\"),\"\")","v":""},null,"",null,"",null,"",null,"",null,"",null,"",null,"",null,"",null,"",null,"",null,"",null,"",null,"",null,"",null,"",null,"",null,"",null,"",null,"",null,"",null,"",null,"",null,"",null,"",null,"",null,"",null,"",null,"",null,"",null,"",null,"",null,{"$f":"IFERROR(IF(AND(AFF$3>=$B$13,AFF$3<=$C$13),\"○\",\"\"),\"\")","v":""},null,"",null,"",null,"",null,"",null,"",null,"",null,"",null,"",null,"",null,"",null,"",null,"",null,"",null,"",null,"",null,"",null,"",null,"",null,"",null,"",null,"",null,"",null,"",null,"",null,"",null,"",null,"",null,"",null,"",null,"",null,"",null,{"$f":"IFERROR(IF(AND(AHR$3>=$B$13,AHR$3<=$C$13),\"○\",\"\"),\"\")","v":""},null,"",null,"",null,"",null,"",null,"",null,"",null,"",null,"",null,"",null,"",null,"",null,"",null,"",null,"",null,"",null,"",null,"",null,"",null,"",null,"",null,"",null,"",null,"",null,"",null,"",null,"",null,"",null,"",null,"",null,"",null,"",null,{"$f":"IFERROR(IF(AND(AKD$3>=$B$13,AKD$3<=$C$13),\"○\",\"\"),\"\")","v":""},null,"",null,"",null,"",null,"",null,"",null,"",null,"",null,"",null,"",null,"",null,"",null,"",null,"",null,"",null,"",null,"",null,"",null,"",null,"",null,"",null,"",null,"",null,"",null,"",null,"",null,"",null,"",null,"",null,"",null,"",null,"",null,{"$f":"IFERROR(IF(AND(AMP$3>=$B$13,AMP$3<=$C$13),\"○\",\"\"),\"\")","v":""},null,"",null,"",null,"",null,"",null,"",null,"",null,"",null,"",null,"",null,"",null,"",null,"",null,"",null,"",null,"",null,"",null,"",null,"",null,"",null,"",null,"",null,"",null,"",null,"",null,"",null,"",null,"",null,"",null,"",null,"",null,"",null,{"$f":"IFERROR(IF(AND(APB$3>=$B$13,APB$3<=$C$13),\"○\",\"\"),\"\")","v":""},null,"",null,"",null,"",null,"",null,"",null,"",null,"",null,"",null,"",null,"",null,"",null,"",null,"",null,"",null,"",null,"",null,"",null,"",null,"",null,"",null,"",null,"",null,"",null,"",null,"",null,"",null,"",null,"",null,"",null,"",null,"",null,{"$f":"IFERROR(IF(AND(ARN$3>=$B$13,ARN$3<=$C$13),\"○\",\"\"),\"\")","v":""},null,"",null,"",null,"",null,"",null,"",null,"",null,"",null,"",null,"",null,"",null,"",null,{"$f":"IFERROR(IF(AND(ASL$3>=$B$13,ASL$3<=$C$13),\"○\",\"\"),\"\")","v":""},null,"",null,"",null,"",null,"",null,"",null,"",null,"",null,"",null,"",null,"",null,"",null,"",null,"",null,"",null,"",null,"",null,"",null,"",null,"",null,"",null,"",null,"",null,"",null,"",null,"",null,"",null,"",null,"",null,"",null,"",null,"",null,{"$f":"IFERROR(IF(AND(AUX$3>=$B$13,AUX$3<=$C$13),\"○\",\"\"),\"\")","v":""},null,"",null,"",null,"",null,"",null,"",null,"",null,"",null,"",null,"",null,"",null,"",null,"",null,"",null,"",null,"",null,"",null,"",null,"",null,"",null,"",null,"",null,"",null,"",null,"",null,"",null,"",null,"",null,"",null,"",null,"",null,"",null,{"$f":"IFERROR(IF(AND(AXJ$3>=$B$13,AXJ$3<=$C$13),\"○\",\"\"),\"\")","v":""},null,"",null,"",null,"",null,"",null,"",null,"",null,"",null,"",null,"",null,"",null,"",null,"",null,"",null,"",null,"",null,"",null,"",null,"",null,"",null,"",null,"",null,"",null,"",null,"",null,"",null,"",null,"",null,"",null,"",null,"",null,"",null,{"$f":"IFERROR(IF(AND(AZV$3>=$B$13,AZV$3<=$C$13),\"○\",\"\"),\"\")","v":""},null,"",null,"",null,"",null,"",null,"",null,"",null,"",null,"",null,"",null,"",null,"",null,"",null,"",null,"",null,"",null,"",null,"",null,"",null,"",null,"",null,"",null,"",null,"",null,"",null,"",null,"",null,"",null,"",null,"",null,"",null,"",null,{"$f":"IFERROR(IF(AND(BCH$3>=$B$13,BCH$3<=$C$13),\"○\",\"\"),\"\")","v":""},null,"",null,"",null,"",null,"",null,"",null,"",null,"",null,"",null,"",null,"",null,"",null,"",null,"",null,"",null,"",null,"",null,"",null,"",null,"",null,"",null,"",null,"",null,"",null,"",null,"",null,"",null,"",null,"",null,"",null,"",null,"",null,{"$f":"IFERROR(IF(AND(BET$3>=$B$13,BET$3<=$C$13),\"○\",\"\"),\"\")","v":""},null,"",null,"",null,"",null,"",null,"",null,"",null,"",null,"",null,"",null,"",null,"",null,"",null,"",null,"",null,"",null,"",null,"",null,"",null,"",null,"",null,"",null,"",null,"",null,"",null,"",null,"",null,"",null,"",null,"",null,"",null,"",null,{"$f":"IFERROR(IF(AND(BHF$3>=$B$13,BHF$3<=$C$13),\"○\",\"\"),\"\")","v":""},null,"",null,"",null,"",null,"",null,"",null,"",null,"",null,"",null,"",null,"",null,"",null,"",null,"",null,"",null,"",null,"",null,"",null,"",null,"",null,"",null,"",null,"",null,"",null,"",null,"",null,"",null,"",null,"",null,"",null,"",null,"",null,{"$f":"IFERROR(IF(AND(BJR$3>=$B$13,BJR$3<=$C$13),\"○\",\"\"),\"\")","v":""},null,"",null,"",null,"",null,"",null,"",null,"",null,"",null,"",null,"",null,"",null,"",null,"",null,"",null,"",null,"",null,"",null,"",null,"",null,"",null,"",null,"",null,"",null,"",null,"",null,"",null,"",null,"",null,"",null,"",null,"",null,"",null,{"$f":"IFERROR(IF(AND(BMD$3>=$B$13,BMD$3<=$C$13),\"○\",\"\"),\"\")","v":""},null,"",null,"",null,"",null,"",null,"",null,"",null,"",null,"",null,"",null,"",null,"",null,"",null,"",null,"",null,"",null,"",null,"",null,"",null,"",null,"",null,"",null,"",null,"",null,"",null,"",null,"",null,"",null,"",null,"",null,"",null,"",null,{"$f":"IFERROR(IF(AND(BOP$3>=$B$13,BOP$3<=$C$13),\"○\",\"\"),\"\")","v":""},null,"",null,"",null,"",null,"",null,"",null,"",null,"",null,"",null,"",null,"",null,"",null,{"$f":"IFERROR(IF(AND(BPN$3>=$B$13,BPN$3<=$C$13),\"○\",\"\"),\"\")","v":""},null,"",null,"",null,"",null,"",null,"",null,"",null,"",null,"",null,"",null,"",null,"",null,"",null,"",null,"",null,"",null,"",null,"",null,"",null,"",null,"",null,"",null,"",null,"",null,"",null,"",null,"",null,"",null,"",null,"",null,"",null,"",null,{"$f":"IFERROR(IF(AND(BRZ$3>=$B$13,BRZ$3<=$C$13),\"○\",\"\"),\"\")","v":""},null,"",null,"",null,"",null,"",null,"",null,"",null,"",null,"",null,"",null,"",null,"",null,"",null,"",null,"",null,"",null,{"$f":"IFERROR(IF(AND(BTF$3>=$B$13,BTF$3<=$C$13),\"○\",\"\"),\"\")","v":""},null,"",null,"",null,"",null,"",null,"",null,"",null,"",null,"",null,"",null,"",null,"",null,{"$f":"IFERROR(IF(AND(BUD$3>=$B$13,BUD$3<=$C$13),\"○\",\"\"),\"\")","v":""},null,{"$f":"IFERROR(IF(AND(BUF$3>=$B$13,BUF$3<=$C$13),\"○\",\"\"),\"\")","v":""},null,{"$f":"IFERROR(IF(AND(BUH$3>=$B$13,BUH$3<=$C$13),\"○\",\"\"),\"\")","v":""},null,{"$f":"IFERROR(IF(AND(BUJ$3>=$B$13,BUJ$3<=$C$13),\"○\",\"\"),\"\")","v":""},null,{"$f":"IFERROR(IF(AND(BUL$3>=$B$13,BUL$3<=$C$13),\"○\",\"\"),\"\")","v":""},null,{"$f":"IFERROR(IF(AND(BUN$3>=$B$13,BUN$3<=$C$13),\"○\",\"\"),\"\")","v":""},null,{"$f":"IFERROR(IF(AND(BUP$3>=$B$13,BUP$3<=$C$13),\"○\",\"\"),\"\")","v":""},null,{"$f":"IFERROR(IF(AND(BUR$3>=$B$13,BUR$3<=$C$13),\"○\",\"\"),\"\")","v":""},null,{"$f":"IFERROR(IF(AND(BUT$3>=$B$13,BUT$3<=$C$13),\"○\",\"\"),\"\")","v":""},null,{"$f":"IFERROR(IF(AND(BUV$3>=$B$13,BUV$3<=$C$13),\"○\",\"\"),\"\")","v":""},null,{"$f":"IFERROR(IF(AND(BUX$3>=$B$13,BUX$3<=$C$13),\"○\",\"\"),\"\")","v":""},null,{"$f":"IFERROR(IF(AND(BUZ$3>=$B$13,BUZ$3<=$C$13),\"○\",\"\"),\"\")","v":""},null,{"$f":"IFERROR(IF(AND(BVB$3>=$B$13,BVB$3<=$C$13),\"○\",\"\"),\"\")","v":""},null,{"$f":"IFERROR(IF(AND(BVD$3>=$B$13,BVD$3<=$C$13),\"○\",\"\"),\"\")","v":""},null,{"$f":"IFERROR(IF(AND(BVF$3>=$B$13,BVF$3<=$C$13),\"○\",\"\"),\"\")","v":""},null,{"$f":"IFERROR(IF(AND(BVH$3>=$B$13,BVH$3<=$C$13),\"○\",\"\"),\"\")","v":""},null,{"$f":"IFERROR(IF(AND(BVJ$3>=$B$13,BVJ$3<=$C$13),\"○\",\"\"),\"\")","v":""},null,{"$f":"IFERROR(IF(AND(BVL$3>=$B$13,BVL$3<=$C$13),\"○\",\"\"),\"\")","v":""},null,{"$f":"IFERROR(IF(AND(BVN$3>=$B$13,BVN$3<=$C$13),\"○\",\"\"),\"\")","v":""},null,{"$f":"IFERROR(IF(AND(BVP$3>=$B$13,BVP$3<=$C$13),\"○\",\"\"),\"\")","v":""},null,{"$f":"IFERROR(IF(AND(BVR$3>=$B$13,BVR$3<=$C$13),\"○\",\"\"),\"\")","v":""},null,{"$f":"IFERROR(IF(AND(BVT$3>=$B$13,BVT$3<=$C$13),\"○\",\"\"),\"\")","v":""},null,{"$f":"IFERROR(IF(AND(BVV$3>=$B$13,BVV$3<=$C$13),\"○\",\"\"),\"\")","v":""},null,{"$f":"IFERROR(IF(AND(BVX$3>=$B$13,BVX$3<=$C$13),\"○\",\"\"),\"\")","v":""},null,{"$f":"IFERROR(IF(AND(BVZ$3>=$B$13,BVZ$3<=$C$13),\"○\",\"\"),\"\")","v":""},null,{"$f":"IFERROR(IF(AND(BWB$3>=$B$13,BWB$3<=$C$13),\"○\",\"\"),\"\")","v":""},null,{"$f":"IFERROR(IF(AND(BWD$3>=$B$13,BWD$3<=$C$13),\"○\",\"\"),\"\")","v":""},null,{"$f":"IFERROR(IF(AND(BWF$3>=$B$13,BWF$3<=$C$13),\"○\",\"\"),\"\")","v":""},null,{"$f":"IFERROR(IF(AND(BWH$3>=$B$13,BWH$3<=$C$13),\"○\",\"\"),\"\")","v":""},null,{"$f":"IFERROR(IF(AND(BWJ$3>=$B$13,BWJ$3<=$C$13),\"○\",\"\"),\"\")","v":""},null,{"$f":"IFERROR(IF(AND(BWL$3>=$B$13,BWL$3<=$C$13),\"○\",\"\"),\"\")","v":""},null,{"$f":"IFERROR(IF(AND(BWN$3>=$B$13,BWN$3<=$C$13),\"○\",\"\"),\"\")","v":""},null,{"$f":"IFERROR(IF(AND(BWP$3>=$B$13,BWP$3<=$C$13),\"○\",\"\"),\"\")","v":""},null,{"$f":"IFERROR(IF(AND(BWR$3>=$B$13,BWR$3<=$C$13),\"○\",\"\"),\"\")","v":""},null,{"$f":"IFERROR(IF(AND(BWT$3>=$B$13,BWT$3<=$C$13),\"○\",\"\"),\"\")","v":""},null,{"$f":"IFERROR(IF(AND(BWV$3>=$B$13,BWV$3<=$C$13),\"○\",\"\"),\"\")","v":""},null,{"$f":"SUM(F14:BWW14)","v":{"v":0,"d":"0.00"}},"月",{"$f":"BWX13/D13","v":{"$error":"#DIV/0!"}},{"v":0,"d":"0.00"},{"$f":"QUOTIENT(BXA13,12)","v":0},{"$f":"MOD(BXA13,12)","v":{"v":0,"d":"0.00"}}]
[{"$nulls":6},{"$f":"IF(F13=\"\",\"0\",1/F$22)","v":"0"},null,{"$f":"IF(H13=\"\",\"0\",1/H$22)","v":"0"},null,{"$f":"IF(J13=\"\",\"0\",1/J$22)","v":"0"},null,{"$f":"IF(L13=\"\",\"0\",1/L$22)","v":"0"},null,{"$f":"IF(N13=\"\",\"0\",1/N$22)","v":"0"},null,{"$f":"IF(P13=\"\",\"0\",1/P$22)","v":"0"},null,{"$f":"IF(R13=\"\",\"0\",1/R$22)","v":"0"},null,{"$f":"IF(T13=\"\",\"0\",1/T$22)","v":"0"},null,{"$f":"IF(V13=\"\",\"0\",1/V$22)","v":"0"},null,{"$f":"IF(X13=\"\",\"0\",1/X$22)","v":"0"},null,{"$f":"IF(Z13=\"\",\"0\",1/Z$22)","v":"0"},null,{"$f":"IF(AB13=\"\",\"0\",1/AB$22)","v":"0"},null,{"$f":"IF(AD13=\"\",\"0\",1/AD$22)","v":"0"},null,{"$f":"IF(AF13=\"\",\"0\",1/AF$22)","v":"0"},null,{"$f":"IF(AH13=\"\",\"0\",1/AH$22)","v":"0"},null,{"$f":"IF(AJ13=\"\",\"0\",1/AJ$22)","v":"0"},null,{"$f":"IF(AL13=\"\",\"0\",1/AL$22)","v":"0"},null,{"$f":"IF(AN13=\"\",\"0\",1/AN$22)","v":"0"},null,{"$f":"IF(AP13=\"\",\"0\",1/AP$22)","v":"0"},null,{"$f":"IF(AR13=\"\",\"0\",1/AR$22)","v":"0"},null,{"$f":"IF(AT13=\"\",\"0\",1/AT$22)","v":"0"},null,{"$f":"IF(AV13=\"\",\"0\",1/AV$22)","v":"0"},null,{"$f":"IF(AX13=\"\",\"0\",1/AX$22)","v":"0"},null,{"$f":"IF(AZ13=\"\",\"0\",1/AZ$22)","v":"0"},null,{"$f":"IF(BB13=\"\",\"0\",1/BB$22)","v":"0"},null,{"$f":"IF(BD13=\"\",\"0\",1/BD$22)","v":"0"},null,{"$f":"IF(BF13=\"\",\"0\",1/BF$22)","v":"0"},null,{"$f":"IF(BH13=\"\",\"0\",1/BH$22)","v":"0"},null,{"$f":"IF(BJ13=\"\",\"0\",1/BJ$22)","v":"0"},null,{"$f":"IF(BL13=\"\",\"0\",1/BL$22)","v":"0"},null,{"$f":"IF(BN13=\"\",\"0\",1/BN$22)","v":"0"},null,{"$f":"IF(BP13=\"\",\"0\",1/BP$22)","v":"0"},null,{"$f":"IF(BR13=\"\",\"0\",1/BR$22)","v":"0"},null,{"$f":"IF(BT13=\"\",\"0\",1/BT$22)","v":"0"},null,{"$f":"IF(BV13=\"\",\"0\",1/BV$22)","v":"0"},null,{"$f":"IF(BX13=\"\",\"0\",1/BX$22)","v":"0"},null,{"$f":"IF(BZ13=\"\",\"0\",1/BZ$22)","v":"0"},null,{"$f":"IF(CB13=\"\",\"0\",1/CB$22)","v":"0"},null,{"$f":"IF(CD13=\"\",\"0\",1/CD$22)","v":"0"},null,{"$f":"IF(CF13=\"\",\"0\",1/CF$22)","v":"0"},null,{"$f":"IF(CH13=\"\",\"0\",1/CH$22)","v":"0"},null,{"$f":"IF(CJ13=\"\",\"0\",1/CJ$22)","v":"0"},null,{"$f":"IF(CL13=\"\",\"0\",1/CL$22)","v":"0"},null,{"$f":"IF(CN13=\"\",\"0\",1/CN$22)","v":"0"},null,{"$f":"IF(CP13=\"\",\"0\",1/CP$22)","v":"0"},null,{"$f":"IF(CR13=\"\",\"0\",1/CR$22)","v":"0"},null,{"$f":"IF(CT13=\"\",\"0\",1/CT$22)","v":"0"},null,{"$f":"IF(CV13=\"\",\"0\",1/CV$22)","v":"0"},null,{"$f":"IF(CX13=\"\",\"0\",1/CX$22)","v":"0"},null,{"$f":"IF(CZ13=\"\",\"0\",1/CZ$22)","v":"0"},null,{"$f":"IF(DB13=\"\",\"0\",1/DB$22)","v":"0"},null,{"$f":"IF(DD13=\"\",\"0\",1/DD$22)","v":"0"},null,{"$f":"IF(DF13=\"\",\"0\",1/DF$22)","v":"0"},null,{"$f":"IF(DH13=\"\",\"0\",1/DH$22)","v":"0"},null,{"$f":"IF(DJ13=\"\",\"0\",1/DJ$22)","v":"0"},null,{"$f":"IF(DL13=\"\",\"0\",1/DL$22)","v":"0"},null,{"$f":"IF(DN13=\"\",\"0\",1/DN$22)","v":"0"},null,{"$f":"IF(DP13=\"\",\"0\",1/DP$22)","v":"0"},null,{"$f":"IF(DR13=\"\",\"0\",1/DR$22)","v":"0"},null,{"$f":"IF(DT13=\"\",\"0\",1/DT$22)","v":"0"},null,{"$f":"IF(DV13=\"\",\"0\",1/DV$22)","v":"0"},null,{"$f":"IF(DX13=\"\",\"0\",1/DX$22)","v":"0"},null,{"$f":"IF(DZ13=\"\",\"0\",1/DZ$22)","v":"0"},null,{"$f":"IF(EB13=\"\",\"0\",1/EB$22)","v":"0"},null,{"$f":"IF(ED13=\"\",\"0\",1/ED$22)","v":"0"},null,{"$f":"IF(EF13=\"\",\"0\",1/EF$22)","v":"0"},null,{"$f":"IF(EH13=\"\",\"0\",1/EH$22)","v":"0"},null,{"$f":"IF(EJ13=\"\",\"0\",1/EJ$22)","v":"0"},null,{"$f":"IF(EL13=\"\",\"0\",1/EL$22)","v":"0"},null,{"$f":"IF(EN13=\"\",\"0\",1/EN$22)","v":"0"},null,{"$f":"IF(EP13=\"\",\"0\",1/EP$22)","v":"0"},null,{"$f":"IF(ER13=\"\",\"0\",1/ER$22)","v":"0"},null,{"$f":"IF(ET13=\"\",\"0\",1/ET$22)","v":"0"},null,{"$f":"IF(EV13=\"\",\"0\",1/EV$22)","v":"0"},null,{"$f":"IF(EX13=\"\",\"0\",1/EX$22)","v":"0"},null,{"$f":"IF(EZ13=\"\",\"0\",1/EZ$22)","v":"0"},null,{"$f":"IF(FB13=\"\",\"0\",1/FB$22)","v":"0"},null,{"$f":"IF(FD13=\"\",\"0\",1/FD$22)","v":"0"},null,{"$f":"IF(FF13=\"\",\"0\",1/FF$22)","v":"0"},null,{"$f":"IF(FH13=\"\",\"0\",1/FH$22)","v":"0"},null,{"$f":"IF(FJ13=\"\",\"0\",1/FJ$22)","v":"0"},null,{"$f":"IF(FL13=\"\",\"0\",1/FL$22)","v":"0"},null,{"$f":"IF(FN13=\"\",\"0\",1/FN$22)","v":"0"},null,{"$f":"IF(FP13=\"\",\"0\",1/FP$22)","v":"0"},null,{"$f":"IF(FR13=\"\",\"0\",1/FR$22)","v":"0"},null,{"$f":"IF(FT13=\"\",\"0\",1/FT$22)","v":"0"},null,{"$f":"IF(FV13=\"\",\"0\",1/FV$22)","v":"0"},null,{"$f":"IF(FX13=\"\",\"0\",1/FX$22)","v":"0"},null,{"$f":"IF(FZ13=\"\",\"0\",1/FZ$22)","v":"0"},null,{"$f":"IF(GB13=\"\",\"0\",1/GB$22)","v":"0"},null,{"$f":"IF(GD13=\"\",\"0\",1/GD$22)","v":"0"},null,{"$f":"IF(GF13=\"\",\"0\",1/GF$22)","v":"0"},null,{"$f":"IF(GH13=\"\",\"0\",1/GH$22)","v":"0"},null,{"$f":"IF(GJ13=\"\",\"0\",1/GJ$22)","v":"0"},null,{"$f":"IF(GL13=\"\",\"0\",1/GL$22)","v":"0"},null,{"$f":"IF(GN13=\"\",\"0\",1/GN$22)","v":"0"},null,{"$f":"IF(GP13=\"\",\"0\",1/GP$22)","v":"0"},null,{"$f":"IF(GR13=\"\",\"0\",1/GR$22)","v":"0"},null,{"$f":"IF(GT13=\"\",\"0\",1/GT$22)","v":"0"},null,{"$f":"IF(GV13=\"\",\"0\",1/GV$22)","v":"0"},null,{"$f":"IF(GX13=\"\",\"0\",1/GX$22)","v":"0"},null,{"$f":"IF(GZ13=\"\",\"0\",1/GZ$22)","v":"0"},null,{"$f":"IF(HB13=\"\",\"0\",1/HB$22)","v":"0"},null,{"$f":"IF(HD13=\"\",\"0\",1/HD$22)","v":"0"},null,{"$f":"IF(HF13=\"\",\"0\",1/HF$22)","v":"0"},null,{"$f":"IF(HH13=\"\",\"0\",1/HH$22)","v":"0"},null,{"$f":"IF(HJ13=\"\",\"0\",1/HJ$22)","v":"0"},null,{"$f":"IF(HL13=\"\",\"0\",1/HL$22)","v":"0"},null,{"$f":"IF(HN13=\"\",\"0\",1/HN$22)","v":"0"},null,{"$f":"IF(HP13=\"\",\"0\",1/HP$22)","v":"0"},null,{"$f":"IF(HR13=\"\",\"0\",1/HR$22)","v":"0"},null,{"$f":"IF(HT13=\"\",\"0\",1/HT$22)","v":"0"},null,{"$f":"IF(HV13=\"\",\"0\",1/HV$22)","v":"0"},null,{"$f":"IF(HX13=\"\",\"0\",1/HX$22)","v":"0"},null,{"$f":"IF(HZ13=\"\",\"0\",1/HZ$22)","v":"0"},null,{"$f":"IF(IB13=\"\",\"0\",1/IB$22)","v":"0"},null,{"$f":"IF(ID13=\"\",\"0\",1/ID$22)","v":"0"},null,{"$f":"IF(IF13=\"\",\"0\",1/IF$22)","v":"0"},null,{"$f":"IF(IH13=\"\",\"0\",1/IH$22)","v":"0"},null,{"$f":"IF(IJ13=\"\",\"0\",1/IJ$22)","v":"0"},null,{"$f":"IF(IL13=\"\",\"0\",1/IL$22)","v":"0"},null,{"$f":"IF(IN13=\"\",\"0\",1/IN$22)","v":"0"},null,{"$f":"IF(IP13=\"\",\"0\",1/IP$22)","v":"0"},null,{"$f":"IF(IR13=\"\",\"0\",1/IR$22)","v":"0"},null,{"$f":"IF(IT13=\"\",\"0\",1/IT$22)","v":"0"},null,{"$f":"IF(IV13=\"\",\"0\",1/IV$22)","v":"0"},null,{"$f":"IF(IX13=\"\",\"0\",1/IX$22)","v":"0"},null,{"$f":"IF(IZ13=\"\",\"0\",1/IZ$22)","v":"0"},null,{"$f":"IF(JB13=\"\",\"0\",1/JB$22)","v":"0"},null,{"$f":"IF(JD13=\"\",\"0\",1/JD$22)","v":"0"},null,{"$f":"IF(JF13=\"\",\"0\",1/JF$22)","v":"0"},null,{"$f":"IF(JH13=\"\",\"0\",1/JH$22)","v":"0"},null,{"$f":"IF(JJ13=\"\",\"0\",1/JJ$22)","v":"0"},null,{"$f":"IF(JL13=\"\",\"0\",1/JL$22)","v":"0"},null,{"$f":"IF(JN13=\"\",\"0\",1/JN$22)","v":"0"},null,{"$f":"IF(JP13=\"\",\"0\",1/JP$22)","v":"0"},null,{"$f":"IF(JR13=\"\",\"0\",1/JR$22)","v":"0"},null,{"$f":"IF(JT13=\"\",\"0\",1/JT$22)","v":"0"},null,{"$f":"IF(JV13=\"\",\"0\",1/JV$22)","v":"0"},null,{"$f":"IF(JX13=\"\",\"0\",1/JX$22)","v":"0"},null,{"$f":"IF(JZ13=\"\",\"0\",1/JZ$22)","v":"0"},null,{"$f":"IF(KB13=\"\",\"0\",1/KB$22)","v":"0"},null,{"$f":"IF(KD13=\"\",\"0\",1/KD$22)","v":"0"},null,{"$f":"IF(KF13=\"\",\"0\",1/KF$22)","v":"0"},null,{"$f":"IF(KH13=\"\",\"0\",1/KH$22)","v":"0"},null,{"$f":"IF(KJ13=\"\",\"0\",1/KJ$22)","v":"0"},null,{"$f":"IF(KL13=\"\",\"0\",1/KL$22)","v":"0"},null,{"$f":"IF(KN13=\"\",\"0\",1/KN$22)","v":"0"},null,{"$f":"IF(KP13=\"\",\"0\",1/KP$22)","v":"0"},null,{"$f":"IF(KR13=\"\",\"0\",1/KR$22)","v":"0"},null,{"$f":"IF(KT13=\"\",\"0\",1/KT$22)","v":"0"},null,{"$f":"IF(KV13=\"\",\"0\",1/KV$22)","v":"0"},null,{"$f":"IF(KX13=\"\",\"0\",1/KX$22)","v":"0"},null,{"$f":"IF(KZ13=\"\",\"0\",1/KZ$22)","v":"0"},null,{"$f":"IF(LB13=\"\",\"0\",1/LB$22)","v":"0"},null,{"$f":"IF(LD13=\"\",\"0\",1/LD$22)","v":"0"},null,{"$f":"IF(LF13=\"\",\"0\",1/LF$22)","v":"0"},null,{"$f":"IF(LH13=\"\",\"0\",1/LH$22)","v":"0"},null,{"$f":"IF(LJ13=\"\",\"0\",1/LJ$22)","v":"0"},null,{"$f":"IF(LL13=\"\",\"0\",1/LL$22)","v":"0"},null,{"$f":"IF(LN13=\"\",\"0\",1/LN$22)","v":"0"},null,{"$f":"IF(LP13=\"\",\"0\",1/LP$22)","v":"0"},null,{"$f":"IF(LR13=\"\",\"0\",1/LR$22)","v":"0"},null,{"$f":"IF(LT13=\"\",\"0\",1/LT$22)","v":"0"},null,{"$f":"IF(LV13=\"\",\"0\",1/LV$22)","v":"0"},null,{"$f":"IF(LX13=\"\",\"0\",1/LX$22)","v":"0"},null,{"$f":"IF(LZ13=\"\",\"0\",1/LZ$22)","v":"0"},null,{"$f":"IF(MB13=\"\",\"0\",1/MB$22)","v":"0"},null,{"$f":"IF(MD13=\"\",\"0\",1/MD$22)","v":"0"},null,{"$f":"IF(MF13=\"\",\"0\",1/MF$22)","v":"0"},null,{"$f":"IF(MH13=\"\",\"0\",1/MH$22)","v":"0"},null,{"$f":"IF(MJ13=\"\",\"0\",1/MJ$22)","v":"0"},null,{"$f":"IF(ML13=\"\",\"0\",1/ML$22)","v":"0"},null,{"$f":"IF(MN13=\"\",\"0\",1/MN$22)","v":"0"},null,{"$f":"IF(MP13=\"\",\"0\",1/MP$22)","v":"0"},null,{"$f":"IF(MR13=\"\",\"0\",1/MR$22)","v":"0"},null,{"$f":"IF(MT13=\"\",\"0\",1/MT$22)","v":"0"},null,{"$f":"IF(MV13=\"\",\"0\",1/MV$22)","v":"0"},null,{"$f":"IF(MX13=\"\",\"0\",1/MX$22)","v":"0"},null,{"$f":"IF(MZ13=\"\",\"0\",1/MZ$22)","v":"0"},null,{"$f":"IF(NB13=\"\",\"0\",1/NB$22)","v":"0"},null,{"$f":"IF(ND13=\"\",\"0\",1/ND$22)","v":"0"},null,{"$f":"IF(NF13=\"\",\"0\",1/NF$22)","v":"0"},null,{"$f":"IF(NH13=\"\",\"0\",1/NH$22)","v":"0"},null,{"$f":"IF(NJ13=\"\",\"0\",1/NJ$22)","v":"0"},null,{"$f":"IF(NL13=\"\",\"0\",1/NL$22)","v":"0"},null,{"$f":"IF(NN13=\"\",\"0\",1/NN$22)","v":"0"},null,{"$f":"IF(NP13=\"\",\"0\",1/NP$22)","v":"0"},null,{"$f":"IF(NR13=\"\",\"0\",1/NR$22)","v":"0"},null,{"$f":"IF(NT13=\"\",\"0\",1/NT$22)","v":"0"},null,{"$f":"IF(NV13=\"\",\"0\",1/NV$22)","v":"0"},null,{"$f":"IF(NX13=\"\",\"0\",1/NX$22)","v":"0"},null,{"$f":"IF(NZ13=\"\",\"0\",1/NZ$22)","v":"0"},null,{"$f":"IF(OB13=\"\",\"0\",1/OB$22)","v":"0"},null,{"$f":"IF(OD13=\"\",\"0\",1/OD$22)","v":"0"},null,{"$f":"IF(OF13=\"\",\"0\",1/OF$22)","v":"0"},null,{"$f":"IF(OH13=\"\",\"0\",1/OH$22)","v":"0"},null,{"$f":"IF(OJ13=\"\",\"0\",1/OJ$22)","v":"0"},null,{"$f":"IF(OL13=\"\",\"0\",1/OL$22)","v":"0"},null,{"$f":"IF(ON13=\"\",\"0\",1/ON$22)","v":"0"},null,{"$f":"IF(OP13=\"\",\"0\",1/OP$22)","v":"0"},null,{"$f":"IF(OR13=\"\",\"0\",1/OR$22)","v":"0"},null,{"$f":"IF(OT13=\"\",\"0\",1/OT$22)","v":"0"},null,{"$f":"IF(OV13=\"\",\"0\",1/OV$22)","v":"0"},null,{"$f":"IF(OX13=\"\",\"0\",1/OX$22)","v":"0"},null,{"$f":"IF(OZ13=\"\",\"0\",1/OZ$22)","v":"0"},null,{"$f":"IF(PB13=\"\",\"0\",1/PB$22)","v":"0"},null,{"$f":"IF(PD13=\"\",\"0\",1/PD$22)","v":"0"},null,{"$f":"IF(PF13=\"\",\"0\",1/PF$22)","v":"0"},null,{"$f":"IF(PH13=\"\",\"0\",1/PH$22)","v":"0"},null,{"$f":"IF(PJ13=\"\",\"0\",1/PJ$22)","v":"0"},null,{"$f":"IF(PL13=\"\",\"0\",1/PL$22)","v":"0"},null,{"$f":"IF(PN13=\"\",\"0\",1/PN$22)","v":"0"},null,{"$f":"IF(PP13=\"\",\"0\",1/PP$22)","v":"0"},null,{"$f":"IF(PR13=\"\",\"0\",1/PR$22)","v":"0"},null,{"$f":"IF(PT13=\"\",\"0\",1/PT$22)","v":"0"},null,{"$f":"IF(PV13=\"\",\"0\",1/PV$22)","v":"0"},null,{"$f":"IF(PX13=\"\",\"0\",1/PX$22)","v":"0"},null,{"$f":"IF(PZ13=\"\",\"0\",1/PZ$22)","v":"0"},null,{"$f":"IF(QB13=\"\",\"0\",1/QB$22)","v":"0"},null,{"$f":"IF(QD13=\"\",\"0\",1/QD$22)","v":"0"},null,{"$f":"IF(QF13=\"\",\"0\",1/QF$22)","v":"0"},null,{"$f":"IF(QH13=\"\",\"0\",1/QH$22)","v":"0"},null,{"$f":"IF(QJ13=\"\",\"0\",1/QJ$22)","v":"0"},null,{"$f":"IF(QL13=\"\",\"0\",1/QL$22)","v":"0"},null,{"$f":"IF(QN13=\"\",\"0\",1/QN$22)","v":"0"},null,{"$f":"IF(QP13=\"\",\"0\",1/QP$22)","v":"0"},null,{"$f":"IF(QR13=\"\",\"0\",1/QR$22)","v":"0"},null,{"$f":"IF(QT13=\"\",\"0\",1/QT$22)","v":"0"},null,{"$f":"IF(QV13=\"\",\"0\",1/QV$22)","v":"0"},null,{"$f":"IF(QX13=\"\",\"0\",1/QX$22)","v":"0"},null,{"$f":"IF(QZ13=\"\",\"0\",1/QZ$22)","v":"0"},null,{"$f":"IF(RB13=\"\",\"0\",1/RB$22)","v":"0"},null,{"$f":"IF(RD13=\"\",\"0\",1/RD$22)","v":"0"},null,{"$f":"IF(RF13=\"\",\"0\",1/RF$22)","v":"0"},null,{"$f":"IF(RH13=\"\",\"0\",1/RH$22)","v":"0"},null,{"$f":"IF(RJ13=\"\",\"0\",1/RJ$22)","v":"0"},null,{"$f":"IF(RL13=\"\",\"0\",1/RL$22)","v":"0"},null,{"$f":"IF(RN13=\"\",\"0\",1/RN$22)","v":"0"},null,{"$f":"IF(RP13=\"\",\"0\",1/RP$22)","v":"0"},null,{"$f":"IF(RR13=\"\",\"0\",1/RR$22)","v":"0"},null,{"$f":"IF(RT13=\"\",\"0\",1/RT$22)","v":"0"},null,{"$f":"IF(RV13=\"\",\"0\",1/RV$22)","v":"0"},null,{"$f":"IF(RX13=\"\",\"0\",1/RX$22)","v":"0"},null,{"$f":"IF(RZ13=\"\",\"0\",1/RZ$22)","v":"0"},null,{"$f":"IF(SB13=\"\",\"0\",1/SB$22)","v":"0"},null,{"$f":"IF(SD13=\"\",\"0\",1/SD$22)","v":"0"},null,{"$f":"IF(SF13=\"\",\"0\",1/SF$22)","v":"0"},null,{"$f":"IF(SH13=\"\",\"0\",1/SH$22)","v":"0"},null,{"$f":"IF(SJ13=\"\",\"0\",1/SJ$22)","v":"0"},null,{"$f":"IF(SL13=\"\",\"0\",1/SL$22)","v":"0"},null,{"$f":"IF(SN13=\"\",\"0\",1/SN$22)","v":"0"},null,{"$f":"IF(SP13=\"\",\"0\",1/SP$22)","v":"0"},null,{"$f":"IF(SR13=\"\",\"0\",1/SR$22)","v":"0"},null,{"$f":"IF(ST13=\"\",\"0\",1/ST$22)","v":"0"},null,{"$f":"IF(SV13=\"\",\"0\",1/SV$22)","v":"0"},null,{"$f":"IF(SX13=\"\",\"0\",1/SX$22)","v":"0"},null,{"$f":"IF(SZ13=\"\",\"0\",1/SZ$22)","v":"0"},null,{"$f":"IF(TB13=\"\",\"0\",1/TB$22)","v":"0"},null,{"$f":"IF(TD13=\"\",\"0\",1/TD$22)","v":"0"},null,{"$f":"IF(TF13=\"\",\"0\",1/TF$22)","v":"0"},null,{"$f":"IF(TH13=\"\",\"0\",1/TH$22)","v":"0"},null,{"$f":"IF(TJ13=\"\",\"0\",1/TJ$22)","v":"0"},null,{"$f":"IF(TL13=\"\",\"0\",1/TL$22)","v":"0"},null,{"$f":"IF(TN13=\"\",\"0\",1/TN$22)","v":"0"},null,{"$f":"IF(TP13=\"\",\"0\",1/TP$22)","v":"0"},null,{"$f":"IF(TR13=\"\",\"0\",1/TR$22)","v":"0"},null,{"$f":"IF(TT13=\"\",\"0\",1/TT$22)","v":"0"},null,{"$f":"IF(TV13=\"\",\"0\",1/TV$22)","v":"0"},null,{"$f":"IF(TX13=\"\",\"0\",1/TX$22)","v":"0"},null,{"$f":"IF(TZ13=\"\",\"0\",1/TZ$22)","v":"0"},null,{"$f":"IF(UB13=\"\",\"0\",1/UB$22)","v":"0"},null,{"$f":"IF(UD13=\"\",\"0\",1/UD$22)","v":"0"},null,{"$f":"IF(UF13=\"\",\"0\",1/UF$22)","v":"0"},null,{"$f":"IF(UH13=\"\",\"0\",1/UH$22)","v":"0"},null,{"$f":"IF(UJ13=\"\",\"0\",1/UJ$22)","v":"0"},null,{"$f":"IF(UL13=\"\",\"0\",1/UL$22)","v":"0"},null,{"$f":"IF(UN13=\"\",\"0\",1/UN$22)","v":"0"},null,{"$f":"IF(UP13=\"\",\"0\",1/UP$22)","v":"0"},null,{"$f":"IF(UR13=\"\",\"0\",1/UR$22)","v":"0"},null,{"$f":"IF(UT13=\"\",\"0\",1/UT$22)","v":"0"},null,{"$f":"IF(UV13=\"\",\"0\",1/UV$22)","v":"0"},null,{"$f":"IF(UX13=\"\",\"0\",1/UX$22)","v":"0"},null,{"$f":"IF(UZ13=\"\",\"0\",1/UZ$22)","v":"0"},null,{"$f":"IF(VB13=\"\",\"0\",1/VB$22)","v":"0"},null,{"$f":"IF(VD13=\"\",\"0\",1/VD$22)","v":"0"},null,{"$f":"IF(VF13=\"\",\"0\",1/VF$22)","v":"0"},null,{"$f":"IF(VH13=\"\",\"0\",1/VH$22)","v":"0"},null,{"$f":"IF(VJ13=\"\",\"0\",1/VJ$22)","v":"0"},null,{"$f":"IF(VL13=\"\",\"0\",1/VL$22)","v":"0"},null,{"$f":"IF(VN13=\"\",\"0\",1/VN$22)","v":"0"},null,{"$f":"IF(VP13=\"\",\"0\",1/VP$22)","v":"0"},null,{"$f":"IF(VR13=\"\",\"0\",1/VR$22)","v":"0"},null,{"$f":"IF(VT13=\"\",\"0\",1/VT$22)","v":"0"},null,{"$f":"IF(VV13=\"\",\"0\",1/VV$22)","v":"0"},null,{"$f":"IF(VX13=\"\",\"0\",1/VX$22)","v":"0"},null,{"$f":"IF(VZ13=\"\",\"0\",1/VZ$22)","v":"0"},null,{"$f":"IF(WB13=\"\",\"0\",1/WB$22)","v":"0"},null,{"$f":"IF(WD13=\"\",\"0\",1/WD$22)","v":"0"},null,{"$f":"IF(WF13=\"\",\"0\",1/WF$22)","v":"0"},null,{"$f":"IF(WH13=\"\",\"0\",1/WH$22)","v":"0"},null,{"$f":"IF(WJ13=\"\",\"0\",1/WJ$22)","v":"0"},null,{"$f":"IF(WL13=\"\",\"0\",1/WL$22)","v":"0"},null,{"$f":"IF(WN13=\"\",\"0\",1/WN$22)","v":"0"},null,{"$f":"IF(WP13=\"\",\"0\",1/WP$22)","v":"0"},null,{"$f":"IF(WR13=\"\",\"0\",1/WR$22)","v":"0"},null,{"$f":"IF(WT13=\"\",\"0\",1/WT$22)","v":"0"},null,{"$f":"IF(WV13=\"\",\"0\",1/WV$22)","v":"0"},null,{"$f":"IF(WX13=\"\",\"0\",1/WX$22)","v":"0"},null,{"$f":"IF(WZ13=\"\",\"0\",1/WZ$22)","v":"0"},null,{"$f":"IF(XB13=\"\",\"0\",1/XB$22)","v":"0"},null,{"$f":"IF(XD13=\"\",\"0\",1/XD$22)","v":"0"},null,{"$f":"IF(XF13=\"\",\"0\",1/XF$22)","v":"0"},null,{"$f":"IF(XH13=\"\",\"0\",1/XH$22)","v":"0"},null,{"$f":"IF(XJ13=\"\",\"0\",1/XJ$22)","v":"0"},null,{"$f":"IF(XL13=\"\",\"0\",1/XL$22)","v":"0"},null,{"$f":"IF(XN13=\"\",\"0\",1/XN$22)","v":"0"},null,{"$f":"IF(XP13=\"\",\"0\",1/XP$22)","v":"0"},null,{"$f":"IF(XR13=\"\",\"0\",1/XR$22)","v":"0"},null,{"$f":"IF(XT13=\"\",\"0\",1/XT$22)","v":"0"},null,{"$f":"IF(XV13=\"\",\"0\",1/XV$22)","v":"0"},null,{"$f":"IF(XX13=\"\",\"0\",1/XX$22)","v":"0"},null,{"$f":"IF(XZ13=\"\",\"0\",1/XZ$22)","v":"0"},null,{"$f":"IF(YB13=\"\",\"0\",1/YB$22)","v":"0"},null,{"$f":"IF(YD13=\"\",\"0\",1/YD$22)","v":"0"},null,{"$f":"IF(YF13=\"\",\"0\",1/YF$22)","v":"0"},null,{"$f":"IF(YH13=\"\",\"0\",1/YH$22)","v":"0"},null,{"$f":"IF(YJ13=\"\",\"0\",1/YJ$22)","v":"0"},null,{"$f":"IF(YL13=\"\",\"0\",1/YL$22)","v":"0"},null,{"$f":"IF(YN13=\"\",\"0\",1/YN$22)","v":"0"},null,{"$f":"IF(YP13=\"\",\"0\",1/YP$22)","v":"0"},null,{"$f":"IF(YR13=\"\",\"0\",1/YR$22)","v":"0"},null,{"$f":"IF(YT13=\"\",\"0\",1/YT$22)","v":"0"},null,{"$f":"IF(YV13=\"\",\"0\",1/YV$22)","v":"0"},null,{"$f":"IF(YX13=\"\",\"0\",1/YX$22)","v":"0"},null,{"$f":"IF(YZ13=\"\",\"0\",1/YZ$22)","v":"0"},null,{"$f":"IF(ZB13=\"\",\"0\",1/ZB$22)","v":"0"},null,{"$f":"IF(ZD13=\"\",\"0\",1/ZD$22)","v":"0"},null,{"$f":"IF(ZF13=\"\",\"0\",1/ZF$22)","v":"0"},null,{"$f":"IF(ZH13=\"\",\"0\",1/ZH$22)","v":"0"},null,{"$f":"IF(ZJ13=\"\",\"0\",1/ZJ$22)","v":"0"},null,{"$f":"IF(ZL13=\"\",\"0\",1/ZL$22)","v":"0"},null,{"$f":"IF(ZN13=\"\",\"0\",1/ZN$22)","v":"0"},null,{"$f":"IF(ZP13=\"\",\"0\",1/ZP$22)","v":"0"},null,{"$f":"IF(ZR13=\"\",\"0\",1/ZR$22)","v":"0"},null,{"$f":"IF(ZT13=\"\",\"0\",1/ZT$22)","v":"0"},null,{"$f":"IF(ZV13=\"\",\"0\",1/ZV$22)","v":"0"},null,{"$f":"IF(ZX13=\"\",\"0\",1/ZX$22)","v":"0"},null,{"$f":"IF(ZZ13=\"\",\"0\",1/ZZ$22)","v":"0"},null,{"$f":"IF(AAB13=\"\",\"0\",1/AAB$22)","v":"0"},null,{"$f":"IF(AAD13=\"\",\"0\",1/AAD$22)","v":"0"},null,{"$f":"IF(AAF13=\"\",\"0\",1/AAF$22)","v":"0"},null,{"$f":"IF(AAH13=\"\",\"0\",1/AAH$22)","v":"0"},null,{"$f":"IF(AAJ13=\"\",\"0\",1/AAJ$22)","v":"0"},null,{"$f":"IF(AAL13=\"\",\"0\",1/AAL$22)","v":"0"},null,{"$f":"IF(AAN13=\"\",\"0\",1/AAN$22)","v":"0"},null,{"$f":"IF(AAP13=\"\",\"0\",1/AAP$22)","v":"0"},null,{"$f":"IF(AAR13=\"\",\"0\",1/AAR$22)","v":"0"},null,{"$f":"IF(AAT13=\"\",\"0\",1/AAT$22)","v":"0"},null,{"$f":"IF(AAV13=\"\",\"0\",1/AAV$22)","v":"0"},null,{"$f":"IF(AAX13=\"\",\"0\",1/AAX$22)","v":"0"},null,{"$f":"IF(AAZ13=\"\",\"0\",1/AAZ$22)","v":"0"},null,{"$f":"IF(ABB13=\"\",\"0\",1/ABB$22)","v":"0"},null,{"$f":"IF(ABD13=\"\",\"0\",1/ABD$22)","v":"0"},null,{"$f":"IF(ABF13=\"\",\"0\",1/ABF$22)","v":"0"},null,{"$f":"IF(ABH13=\"\",\"0\",1/ABH$22)","v":"0"},null,{"$f":"IF(ABJ13=\"\",\"0\",1/ABJ$22)","v":"0"},null,{"$f":"IF(ABL13=\"\",\"0\",1/ABL$22)","v":"0"},null,{"$f":"IF(ABN13=\"\",\"0\",1/ABN$22)","v":"0"},null,{"$f":"IF(ABP13=\"\",\"0\",1/ABP$22)","v":"0"},null,{"$f":"IF(ABR13=\"\",\"0\",1/ABR$22)","v":"0"},null,{"$f":"IF(ABT13=\"\",\"0\",1/ABT$22)","v":"0"},null,{"$f":"IF(ABV13=\"\",\"0\",1/ABV$22)","v":"0"},null,{"$f":"IF(ABX13=\"\",\"0\",1/ABX$22)","v":"0"},null,{"$f":"IF(ABZ13=\"\",\"0\",1/ABZ$22)","v":"0"},null,{"$f":"IF(ACB13=\"\",\"0\",1/ACB$22)","v":"0"},null,{"$f":"IF(ACD13=\"\",\"0\",1/ACD$22)","v":"0"},null,{"$f":"IF(ACF13=\"\",\"0\",1/ACF$22)","v":"0"},null,{"$f":"IF(ACH13=\"\",\"0\",1/ACH$22)","v":"0"},null,{"$f":"IF(ACJ13=\"\",\"0\",1/ACJ$22)","v":"0"},null,{"$f":"IF(ACL13=\"\",\"0\",1/ACL$22)","v":"0"},null,{"$f":"IF(ACN13=\"\",\"0\",1/ACN$22)","v":"0"},null,{"$f":"IF(ACP13=\"\",\"0\",1/ACP$22)","v":"0"},null,{"$f":"IF(ACR13=\"\",\"0\",1/ACR$22)","v":"0"},null,{"$f":"IF(ACT13=\"\",\"0\",1/ACT$22)","v":"0"},null,{"$f":"IF(ACV13=\"\",\"0\",1/ACV$22)","v":"0"},null,{"$f":"IF(ACX13=\"\",\"0\",1/ACX$22)","v":"0"},null,{"$f":"IF(ACZ13=\"\",\"0\",1/ACZ$22)","v":"0"},null,{"$f":"IF(ADB13=\"\",\"0\",1/ADB$22)","v":"0"},null,{"$f":"IF(ADD13=\"\",\"0\",1/ADD$22)","v":"0"},null,{"$f":"IF(ADF13=\"\",\"0\",1/ADF$22)","v":"0"},null,{"$f":"IF(ADH13=\"\",\"0\",1/ADH$22)","v":"0"},null,{"$f":"IF(ADJ13=\"\",\"0\",1/ADJ$22)","v":"0"},null,{"$f":"IF(ADL13=\"\",\"0\",1/ADL$22)","v":"0"},null,{"$f":"IF(ADN13=\"\",\"0\",1/ADN$22)","v":"0"},null,{"$f":"IF(ADP13=\"\",\"0\",1/ADP$22)","v":"0"},null,{"$f":"IF(ADR13=\"\",\"0\",1/ADR$22)","v":"0"},null,{"$f":"IF(ADT13=\"\",\"0\",1/ADT$22)","v":"0"},null,{"$f":"IF(ADV13=\"\",\"0\",1/ADV$22)","v":"0"},null,{"$f":"IF(ADX13=\"\",\"0\",1/ADX$22)","v":"0"},null,{"$f":"IF(ADZ13=\"\",\"0\",1/ADZ$22)","v":"0"},null,{"$f":"IF(AEB13=\"\",\"0\",1/AEB$22)","v":"0"},null,{"$f":"IF(AED13=\"\",\"0\",1/AED$22)","v":"0"},null,{"$f":"IF(AEF13=\"\",\"0\",1/AEF$22)","v":"0"},null,{"$f":"IF(AEH13=\"\",\"0\",1/AEH$22)","v":"0"},null,{"$f":"IF(AEJ13=\"\",\"0\",1/AEJ$22)","v":"0"},null,{"$f":"IF(AEL13=\"\",\"0\",1/AEL$22)","v":"0"},null,{"$f":"IF(AEN13=\"\",\"0\",1/AEN$22)","v":"0"},null,{"$f":"IF(AEP13=\"\",\"0\",1/AEP$22)","v":"0"},null,{"$f":"IF(AER13=\"\",\"0\",1/AER$22)","v":"0"},null,{"$f":"IF(AET13=\"\",\"0\",1/AET$22)","v":"0"},null,{"$f":"IF(AEV13=\"\",\"0\",1/AEV$22)","v":"0"},null,{"$f":"IF(AEX13=\"\",\"0\",1/AEX$22)","v":"0"},null,{"$f":"IF(AEZ13=\"\",\"0\",1/AEZ$22)","v":"0"},null,{"$f":"IF(AFB13=\"\",\"0\",1/AFB$22)","v":"0"},null,{"$f":"IF(AFD13=\"\",\"0\",1/AFD$22)","v":"0"},null,{"$f":"IF(AFF13=\"\",\"0\",1/AFF$22)","v":"0"},null,{"$f":"IF(AFH13=\"\",\"0\",1/AFH$22)","v":"0"},null,{"$f":"IF(AFJ13=\"\",\"0\",1/AFJ$22)","v":"0"},null,{"$f":"IF(AFL13=\"\",\"0\",1/AFL$22)","v":"0"},null,{"$f":"IF(AFN13=\"\",\"0\",1/AFN$22)","v":"0"},null,{"$f":"IF(AFP13=\"\",\"0\",1/AFP$22)","v":"0"},null,{"$f":"IF(AFR13=\"\",\"0\",1/AFR$22)","v":"0"},null,{"$f":"IF(AFT13=\"\",\"0\",1/AFT$22)","v":"0"},null,{"$f":"IF(AFV13=\"\",\"0\",1/AFV$22)","v":"0"},null,{"$f":"IF(AFX13=\"\",\"0\",1/AFX$22)","v":"0"},null,{"$f":"IF(AFZ13=\"\",\"0\",1/AFZ$22)","v":"0"},null,{"$f":"IF(AGB13=\"\",\"0\",1/AGB$22)","v":"0"},null,{"$f":"IF(AGD13=\"\",\"0\",1/AGD$22)","v":"0"},null,{"$f":"IF(AGF13=\"\",\"0\",1/AGF$22)","v":"0"},null,{"$f":"IF(AGH13=\"\",\"0\",1/AGH$22)","v":"0"},null,{"$f":"IF(AGJ13=\"\",\"0\",1/AGJ$22)","v":"0"},null,{"$f":"IF(AGL13=\"\",\"0\",1/AGL$22)","v":"0"},null,{"$f":"IF(AGN13=\"\",\"0\",1/AGN$22)","v":"0"},null,{"$f":"IF(AGP13=\"\",\"0\",1/AGP$22)","v":"0"},null,{"$f":"IF(AGR13=\"\",\"0\",1/AGR$22)","v":"0"},null,{"$f":"IF(AGT13=\"\",\"0\",1/AGT$22)","v":"0"},null,{"$f":"IF(AGV13=\"\",\"0\",1/AGV$22)","v":"0"},null,{"$f":"IF(AGX13=\"\",\"0\",1/AGX$22)","v":"0"},null,{"$f":"IF(AGZ13=\"\",\"0\",1/AGZ$22)","v":"0"},null,{"$f":"IF(AHB13=\"\",\"0\",1/AHB$22)","v":"0"},null,{"$f":"IF(AHD13=\"\",\"0\",1/AHD$22)","v":"0"},null,{"$f":"IF(AHF13=\"\",\"0\",1/AHF$22)","v":"0"},null,{"$f":"IF(AHH13=\"\",\"0\",1/AHH$22)","v":"0"},null,{"$f":"IF(AHJ13=\"\",\"0\",1/AHJ$22)","v":"0"},null,{"$f":"IF(AHL13=\"\",\"0\",1/AHL$22)","v":"0"},null,{"$f":"IF(AHN13=\"\",\"0\",1/AHN$22)","v":"0"},null,{"$f":"IF(AHP13=\"\",\"0\",1/AHP$22)","v":"0"},null,{"$f":"IF(AHR13=\"\",\"0\",1/AHR$22)","v":"0"},null,{"$f":"IF(AHT13=\"\",\"0\",1/AHT$22)","v":"0"},null,{"$f":"IF(AHV13=\"\",\"0\",1/AHV$22)","v":"0"},null,{"$f":"IF(AHX13=\"\",\"0\",1/AHX$22)","v":"0"},null,{"$f":"IF(AHZ13=\"\",\"0\",1/AHZ$22)","v":"0"},null,{"$f":"IF(AIB13=\"\",\"0\",1/AIB$22)","v":"0"},null,{"$f":"IF(AID13=\"\",\"0\",1/AID$22)","v":"0"},null,{"$f":"IF(AIF13=\"\",\"0\",1/AIF$22)","v":"0"},null,{"$f":"IF(AIH13=\"\",\"0\",1/AIH$22)","v":"0"},null,{"$f":"IF(AIJ13=\"\",\"0\",1/AIJ$22)","v":"0"},null,{"$f":"IF(AIL13=\"\",\"0\",1/AIL$22)","v":"0"},null,{"$f":"IF(AIN13=\"\",\"0\",1/AIN$22)","v":"0"},null,{"$f":"IF(AIP13=\"\",\"0\",1/AIP$22)","v":"0"},null,{"$f":"IF(AIR13=\"\",\"0\",1/AIR$22)","v":"0"},null,{"$f":"IF(AIT13=\"\",\"0\",1/AIT$22)","v":"0"},null,{"$f":"IF(AIV13=\"\",\"0\",1/AIV$22)","v":"0"},null,{"$f":"IF(AIX13=\"\",\"0\",1/AIX$22)","v":"0"},null,{"$f":"IF(AIZ13=\"\",\"0\",1/AIZ$22)","v":"0"},null,{"$f":"IF(AJB13=\"\",\"0\",1/AJB$22)","v":"0"},null,{"$f":"IF(AJD13=\"\",\"0\",1/AJD$22)","v":"0"},null,{"$f":"IF(AJF13=\"\",\"0\",1/AJF$22)","v":"0"},null,{"$f":"IF(AJH13=\"\",\"0\",1/AJH$22)","v":"0"},null,{"$f":"IF(AJJ13=\"\",\"0\",1/AJJ$22)","v":"0"},null,{"$f":"IF(AJL13=\"\",\"0\",1/AJL$22)","v":"0"},null,{"$f":"IF(AJN13=\"\",\"0\",1/AJN$22)","v":"0"},null,{"$f":"IF(AJP13=\"\",\"0\",1/AJP$22)","v":"0"},null,{"$f":"IF(AJR13=\"\",\"0\",1/AJR$22)","v":"0"},null,{"$f":"IF(AJT13=\"\",\"0\",1/AJT$22)","v":"0"},null,{"$f":"IF(AJV13=\"\",\"0\",1/AJV$22)","v":"0"},null,{"$f":"IF(AJX13=\"\",\"0\",1/AJX$22)","v":"0"},null,{"$f":"IF(AJZ13=\"\",\"0\",1/AJZ$22)","v":"0"},null,{"$f":"IF(AKB13=\"\",\"0\",1/AKB$22)","v":"0"},null,{"$f":"IF(AKD13=\"\",\"0\",1/AKD$22)","v":"0"},null,{"$f":"IF(AKF13=\"\",\"0\",1/AKF$22)","v":"0"},null,{"$f":"IF(AKH13=\"\",\"0\",1/AKH$22)","v":"0"},null,{"$f":"IF(AKJ13=\"\",\"0\",1/AKJ$22)","v":"0"},null,{"$f":"IF(AKL13=\"\",\"0\",1/AKL$22)","v":"0"},null,{"$f":"IF(AKN13=\"\",\"0\",1/AKN$22)","v":"0"},null,{"$f":"IF(AKP13=\"\",\"0\",1/AKP$22)","v":"0"},null,{"$f":"IF(AKR13=\"\",\"0\",1/AKR$22)","v":"0"},null,{"$f":"IF(AKT13=\"\",\"0\",1/AKT$22)","v":"0"},null,{"$f":"IF(AKV13=\"\",\"0\",1/AKV$22)","v":"0"},null,{"$f":"IF(AKX13=\"\",\"0\",1/AKX$22)","v":"0"},null,{"$f":"IF(AKZ13=\"\",\"0\",1/AKZ$22)","v":"0"},null,{"$f":"IF(ALB13=\"\",\"0\",1/ALB$22)","v":"0"},null,{"$f":"IF(ALD13=\"\",\"0\",1/ALD$22)","v":"0"},null,{"$f":"IF(ALF13=\"\",\"0\",1/ALF$22)","v":"0"},null,{"$f":"IF(ALH13=\"\",\"0\",1/ALH$22)","v":"0"},null,{"$f":"IF(ALJ13=\"\",\"0\",1/ALJ$22)","v":"0"},null,{"$f":"IF(ALL13=\"\",\"0\",1/ALL$22)","v":"0"},null,{"$f":"IF(ALN13=\"\",\"0\",1/ALN$22)","v":"0"},null,{"$f":"IF(ALP13=\"\",\"0\",1/ALP$22)","v":"0"},null,{"$f":"IF(ALR13=\"\",\"0\",1/ALR$22)","v":"0"},null,{"$f":"IF(ALT13=\"\",\"0\",1/ALT$22)","v":"0"},null,{"$f":"IF(ALV13=\"\",\"0\",1/ALV$22)","v":"0"},null,{"$f":"IF(ALX13=\"\",\"0\",1/ALX$22)","v":"0"},null,{"$f":"IF(ALZ13=\"\",\"0\",1/ALZ$22)","v":"0"},null,{"$f":"IF(AMB13=\"\",\"0\",1/AMB$22)","v":"0"},null,{"$f":"IF(AMD13=\"\",\"0\",1/AMD$22)","v":"0"},null,{"$f":"IF(AMF13=\"\",\"0\",1/AMF$22)","v":"0"},null,{"$f":"IF(AMH13=\"\",\"0\",1/AMH$22)","v":"0"},null,{"$f":"IF(AMJ13=\"\",\"0\",1/AMJ$22)","v":"0"},null,{"$f":"IF(AML13=\"\",\"0\",1/AML$22)","v":"0"},null,{"$f":"IF(AMN13=\"\",\"0\",1/AMN$22)","v":"0"},null,{"$f":"IF(AMP13=\"\",\"0\",1/AMP$22)","v":"0"},null,{"$f":"IF(AMR13=\"\",\"0\",1/AMR$22)","v":"0"},null,{"$f":"IF(AMT13=\"\",\"0\",1/AMT$22)","v":"0"},null,{"$f":"IF(AMV13=\"\",\"0\",1/AMV$22)","v":"0"},null,{"$f":"IF(AMX13=\"\",\"0\",1/AMX$22)","v":"0"},null,{"$f":"IF(AMZ13=\"\",\"0\",1/AMZ$22)","v":"0"},null,{"$f":"IF(ANB13=\"\",\"0\",1/ANB$22)","v":"0"},null,{"$f":"IF(AND13=\"\",\"0\",1/AND$22)","v":"0"},null,{"$f":"IF(ANF13=\"\",\"0\",1/ANF$22)","v":"0"},null,{"$f":"IF(ANH13=\"\",\"0\",1/ANH$22)","v":"0"},null,{"$f":"IF(ANJ13=\"\",\"0\",1/ANJ$22)","v":"0"},null,{"$f":"IF(ANL13=\"\",\"0\",1/ANL$22)","v":"0"},null,{"$f":"IF(ANN13=\"\",\"0\",1/ANN$22)","v":"0"},null,{"$f":"IF(ANP13=\"\",\"0\",1/ANP$22)","v":"0"},null,{"$f":"IF(ANR13=\"\",\"0\",1/ANR$22)","v":"0"},null,{"$f":"IF(ANT13=\"\",\"0\",1/ANT$22)","v":"0"},null,{"$f":"IF(ANV13=\"\",\"0\",1/ANV$22)","v":"0"},null,{"$f":"IF(ANX13=\"\",\"0\",1/ANX$22)","v":"0"},null,{"$f":"IF(ANZ13=\"\",\"0\",1/ANZ$22)","v":"0"},null,{"$f":"IF(AOB13=\"\",\"0\",1/AOB$22)","v":"0"},null,{"$f":"IF(AOD13=\"\",\"0\",1/AOD$22)","v":"0"},null,{"$f":"IF(AOF13=\"\",\"0\",1/AOF$22)","v":"0"},null,{"$f":"IF(AOH13=\"\",\"0\",1/AOH$22)","v":"0"},null,{"$f":"IF(AOJ13=\"\",\"0\",1/AOJ$22)","v":"0"},null,{"$f":"IF(AOL13=\"\",\"0\",1/AOL$22)","v":"0"},null,{"$f":"IF(AON13=\"\",\"0\",1/AON$22)","v":"0"},null,{"$f":"IF(AOP13=\"\",\"0\",1/AOP$22)","v":"0"},null,{"$f":"IF(AOR13=\"\",\"0\",1/AOR$22)","v":"0"},null,{"$f":"IF(AOT13=\"\",\"0\",1/AOT$22)","v":"0"},null,{"$f":"IF(AOV13=\"\",\"0\",1/AOV$22)","v":"0"},null,{"$f":"IF(AOX13=\"\",\"0\",1/AOX$22)","v":"0"},null,{"$f":"IF(AOZ13=\"\",\"0\",1/AOZ$22)","v":"0"},null,{"$f":"IF(APB13=\"\",\"0\",1/APB$22)","v":"0"},null,{"$f":"IF(APD13=\"\",\"0\",1/APD$22)","v":"0"},null,{"$f":"IF(APF13=\"\",\"0\",1/APF$22)","v":"0"},null,{"$f":"IF(APH13=\"\",\"0\",1/APH$22)","v":"0"},null,{"$f":"IF(APJ13=\"\",\"0\",1/APJ$22)","v":"0"},null,{"$f":"IF(APL13=\"\",\"0\",1/APL$22)","v":"0"},null,{"$f":"IF(APN13=\"\",\"0\",1/APN$22)","v":"0"},null,{"$f":"IF(APP13=\"\",\"0\",1/APP$22)","v":"0"},null,{"$f":"IF(APR13=\"\",\"0\",1/APR$22)","v":"0"},null,{"$f":"IF(APT13=\"\",\"0\",1/APT$22)","v":"0"},null,{"$f":"IF(APV13=\"\",\"0\",1/APV$22)","v":"0"},null,{"$f":"IF(APX13=\"\",\"0\",1/APX$22)","v":"0"},null,{"$f":"IF(APZ13=\"\",\"0\",1/APZ$22)","v":"0"},null,{"$f":"IF(AQB13=\"\",\"0\",1/AQB$22)","v":"0"},null,{"$f":"IF(AQD13=\"\",\"0\",1/AQD$22)","v":"0"},null,{"$f":"IF(AQF13=\"\",\"0\",1/AQF$22)","v":"0"},null,{"$f":"IF(AQH13=\"\",\"0\",1/AQH$22)","v":"0"},null,{"$f":"IF(AQJ13=\"\",\"0\",1/AQJ$22)","v":"0"},null,{"$f":"IF(AQL13=\"\",\"0\",1/AQL$22)","v":"0"},null,{"$f":"IF(AQN13=\"\",\"0\",1/AQN$22)","v":"0"},null,{"$f":"IF(AQP13=\"\",\"0\",1/AQP$22)","v":"0"},null,{"$f":"IF(AQR13=\"\",\"0\",1/AQR$22)","v":"0"},null,{"$f":"IF(AQT13=\"\",\"0\",1/AQT$22)","v":"0"},null,{"$f":"IF(AQV13=\"\",\"0\",1/AQV$22)","v":"0"},null,{"$f":"IF(AQX13=\"\",\"0\",1/AQX$22)","v":"0"},null,{"$f":"IF(AQZ13=\"\",\"0\",1/AQZ$22)","v":"0"},null,{"$f":"IF(ARB13=\"\",\"0\",1/ARB$22)","v":"0"},null,{"$f":"IF(ARD13=\"\",\"0\",1/ARD$22)","v":"0"},null,{"$f":"IF(ARF13=\"\",\"0\",1/ARF$22)","v":"0"},null,{"$f":"IF(ARH13=\"\",\"0\",1/ARH$22)","v":"0"},null,{"$f":"IF(ARJ13=\"\",\"0\",1/ARJ$22)","v":"0"},null,{"$f":"IF(ARL13=\"\",\"0\",1/ARL$22)","v":"0"},null,{"$f":"IF(ARN13=\"\",\"0\",1/ARN$22)","v":"0"},null,{"$f":"IF(ARP13=\"\",\"0\",1/ARP$22)","v":"0"},null,{"$f":"IF(ARR13=\"\",\"0\",1/ARR$22)","v":"0"},null,{"$f":"IF(ART13=\"\",\"0\",1/ART$22)","v":"0"},null,{"$f":"IF(ARV13=\"\",\"0\",1/ARV$22)","v":"0"},null,{"$f":"IF(ARX13=\"\",\"0\",1/ARX$22)","v":"0"},null,{"$f":"IF(ARZ13=\"\",\"0\",1/ARZ$22)","v":"0"},null,{"$f":"IF(ASB13=\"\",\"0\",1/ASB$22)","v":"0"},null,{"$f":"IF(ASD13=\"\",\"0\",1/ASD$22)","v":"0"},null,{"$f":"IF(ASF13=\"\",\"0\",1/ASF$22)","v":"0"},null,{"$f":"IF(ASH13=\"\",\"0\",1/ASH$22)","v":"0"},null,{"$f":"IF(ASJ13=\"\",\"0\",1/ASJ$22)","v":"0"},null,{"$f":"IF(ASL13=\"\",\"0\",1/ASL$22)","v":"0"},null,{"$f":"IF(ASN13=\"\",\"0\",1/ASN$22)","v":"0"},null,{"$f":"IF(ASP13=\"\",\"0\",1/ASP$22)","v":"0"},null,{"$f":"IF(ASR13=\"\",\"0\",1/ASR$22)","v":"0"},null,{"$f":"IF(AST13=\"\",\"0\",1/AST$22)","v":"0"},null,{"$f":"IF(ASV13=\"\",\"0\",1/ASV$22)","v":"0"},null,{"$f":"IF(ASX13=\"\",\"0\",1/ASX$22)","v":"0"},null,{"$f":"IF(ASZ13=\"\",\"0\",1/ASZ$22)","v":"0"},null,{"$f":"IF(ATB13=\"\",\"0\",1/ATB$22)","v":"0"},null,{"$f":"IF(ATD13=\"\",\"0\",1/ATD$22)","v":"0"},null,{"$f":"IF(ATF13=\"\",\"0\",1/ATF$22)","v":"0"},null,{"$f":"IF(ATH13=\"\",\"0\",1/ATH$22)","v":"0"},null,{"$f":"IF(ATJ13=\"\",\"0\",1/ATJ$22)","v":"0"},null,{"$f":"IF(ATL13=\"\",\"0\",1/ATL$22)","v":"0"},null,{"$f":"IF(ATN13=\"\",\"0\",1/ATN$22)","v":"0"},null,{"$f":"IF(ATP13=\"\",\"0\",1/ATP$22)","v":"0"},null,{"$f":"IF(ATR13=\"\",\"0\",1/ATR$22)","v":"0"},null,{"$f":"IF(ATT13=\"\",\"0\",1/ATT$22)","v":"0"},null,{"$f":"IF(ATV13=\"\",\"0\",1/ATV$22)","v":"0"},null,{"$f":"IF(ATX13=\"\",\"0\",1/ATX$22)","v":"0"},null,{"$f":"IF(ATZ13=\"\",\"0\",1/ATZ$22)","v":"0"},null,{"$f":"IF(AUB13=\"\",\"0\",1/AUB$22)","v":"0"},null,{"$f":"IF(AUD13=\"\",\"0\",1/AUD$22)","v":"0"},null,{"$f":"IF(AUF13=\"\",\"0\",1/AUF$22)","v":"0"},null,{"$f":"IF(AUH13=\"\",\"0\",1/AUH$22)","v":"0"},null,{"$f":"IF(AUJ13=\"\",\"0\",1/AUJ$22)","v":"0"},null,{"$f":"IF(AUL13=\"\",\"0\",1/AUL$22)","v":"0"},null,{"$f":"IF(AUN13=\"\",\"0\",1/AUN$22)","v":"0"},null,{"$f":"IF(AUP13=\"\",\"0\",1/AUP$22)","v":"0"},null,{"$f":"IF(AUR13=\"\",\"0\",1/AUR$22)","v":"0"},null,{"$f":"IF(AUT13=\"\",\"0\",1/AUT$22)","v":"0"},null,{"$f":"IF(AUV13=\"\",\"0\",1/AUV$22)","v":"0"},null,{"$f":"IF(AUX13=\"\",\"0\",1/AUX$22)","v":"0"},null,{"$f":"IF(AUZ13=\"\",\"0\",1/AUZ$22)","v":"0"},null,{"$f":"IF(AVB13=\"\",\"0\",1/AVB$22)","v":"0"},null,{"$f":"IF(AVD13=\"\",\"0\",1/AVD$22)","v":"0"},null,{"$f":"IF(AVF13=\"\",\"0\",1/AVF$22)","v":"0"},null,{"$f":"IF(AVH13=\"\",\"0\",1/AVH$22)","v":"0"},null,{"$f":"IF(AVJ13=\"\",\"0\",1/AVJ$22)","v":"0"},null,{"$f":"IF(AVL13=\"\",\"0\",1/AVL$22)","v":"0"},null,{"$f":"IF(AVN13=\"\",\"0\",1/AVN$22)","v":"0"},null,{"$f":"IF(AVP13=\"\",\"0\",1/AVP$22)","v":"0"},null,{"$f":"IF(AVR13=\"\",\"0\",1/AVR$22)","v":"0"},null,{"$f":"IF(AVT13=\"\",\"0\",1/AVT$22)","v":"0"},null,{"$f":"IF(AVV13=\"\",\"0\",1/AVV$22)","v":"0"},null,{"$f":"IF(AVX13=\"\",\"0\",1/AVX$22)","v":"0"},null,{"$f":"IF(AVZ13=\"\",\"0\",1/AVZ$22)","v":"0"},null,{"$f":"IF(AWB13=\"\",\"0\",1/AWB$22)","v":"0"},null,{"$f":"IF(AWD13=\"\",\"0\",1/AWD$22)","v":"0"},null,{"$f":"IF(AWF13=\"\",\"0\",1/AWF$22)","v":"0"},null,{"$f":"IF(AWH13=\"\",\"0\",1/AWH$22)","v":"0"},null,{"$f":"IF(AWJ13=\"\",\"0\",1/AWJ$22)","v":"0"},null,{"$f":"IF(AWL13=\"\",\"0\",1/AWL$22)","v":"0"},null,{"$f":"IF(AWN13=\"\",\"0\",1/AWN$22)","v":"0"},null,{"$f":"IF(AWP13=\"\",\"0\",1/AWP$22)","v":"0"},null,{"$f":"IF(AWR13=\"\",\"0\",1/AWR$22)","v":"0"},null,{"$f":"IF(AWT13=\"\",\"0\",1/AWT$22)","v":"0"},null,{"$f":"IF(AWV13=\"\",\"0\",1/AWV$22)","v":"0"},null,{"$f":"IF(AWX13=\"\",\"0\",1/AWX$22)","v":"0"},null,{"$f":"IF(AWZ13=\"\",\"0\",1/AWZ$22)","v":"0"},null,{"$f":"IF(AXB13=\"\",\"0\",1/AXB$22)","v":"0"},null,{"$f":"IF(AXD13=\"\",\"0\",1/AXD$22)","v":"0"},null,{"$f":"IF(AXF13=\"\",\"0\",1/AXF$22)","v":"0"},null,{"$f":"IF(AXH13=\"\",\"0\",1/AXH$22)","v":"0"},null,{"$f":"IF(AXJ13=\"\",\"0\",1/AXJ$22)","v":"0"},null,{"$f":"IF(AXL13=\"\",\"0\",1/AXL$22)","v":"0"},null,{"$f":"IF(AXN13=\"\",\"0\",1/AXN$22)","v":"0"},null,{"$f":"IF(AXP13=\"\",\"0\",1/AXP$22)","v":"0"},null,{"$f":"IF(AXR13=\"\",\"0\",1/AXR$22)","v":"0"},null,{"$f":"IF(AXT13=\"\",\"0\",1/AXT$22)","v":"0"},null,{"$f":"IF(AXV13=\"\",\"0\",1/AXV$22)","v":"0"},null,{"$f":"IF(AXX13=\"\",\"0\",1/AXX$22)","v":"0"},null,{"$f":"IF(AXZ13=\"\",\"0\",1/AXZ$22)","v":"0"},null,{"$f":"IF(AYB13=\"\",\"0\",1/AYB$22)","v":"0"},null,{"$f":"IF(AYD13=\"\",\"0\",1/AYD$22)","v":"0"},null,{"$f":"IF(AYF13=\"\",\"0\",1/AYF$22)","v":"0"},null,{"$f":"IF(AYH13=\"\",\"0\",1/AYH$22)","v":"0"},null,{"$f":"IF(AYJ13=\"\",\"0\",1/AYJ$22)","v":"0"},null,{"$f":"IF(AYL13=\"\",\"0\",1/AYL$22)","v":"0"},null,{"$f":"IF(AYN13=\"\",\"0\",1/AYN$22)","v":"0"},null,{"$f":"IF(AYP13=\"\",\"0\",1/AYP$22)","v":"0"},null,{"$f":"IF(AYR13=\"\",\"0\",1/AYR$22)","v":"0"},null,{"$f":"IF(AYT13=\"\",\"0\",1/AYT$22)","v":"0"},null,{"$f":"IF(AYV13=\"\",\"0\",1/AYV$22)","v":"0"},null,{"$f":"IF(AYX13=\"\",\"0\",1/AYX$22)","v":"0"},null,{"$f":"IF(AYZ13=\"\",\"0\",1/AYZ$22)","v":"0"},null,{"$f":"IF(AZB13=\"\",\"0\",1/AZB$22)","v":"0"},null,{"$f":"IF(AZD13=\"\",\"0\",1/AZD$22)","v":"0"},null,{"$f":"IF(AZF13=\"\",\"0\",1/AZF$22)","v":"0"},null,{"$f":"IF(AZH13=\"\",\"0\",1/AZH$22)","v":"0"},null,{"$f":"IF(AZJ13=\"\",\"0\",1/AZJ$22)","v":"0"},null,{"$f":"IF(AZL13=\"\",\"0\",1/AZL$22)","v":"0"},null,{"$f":"IF(AZN13=\"\",\"0\",1/AZN$22)","v":"0"},null,{"$f":"IF(AZP13=\"\",\"0\",1/AZP$22)","v":"0"},null,{"$f":"IF(AZR13=\"\",\"0\",1/AZR$22)","v":"0"},null,{"$f":"IF(AZT13=\"\",\"0\",1/AZT$22)","v":"0"},null,{"$f":"IF(AZV13=\"\",\"0\",1/AZV$22)","v":"0"},null,{"$f":"IF(AZX13=\"\",\"0\",1/AZX$22)","v":"0"},null,{"$f":"IF(AZZ13=\"\",\"0\",1/AZZ$22)","v":"0"},null,{"$f":"IF(BAB13=\"\",\"0\",1/BAB$22)","v":"0"},null,{"$f":"IF(BAD13=\"\",\"0\",1/BAD$22)","v":"0"},null,{"$f":"IF(BAF13=\"\",\"0\",1/BAF$22)","v":"0"},null,{"$f":"IF(BAH13=\"\",\"0\",1/BAH$22)","v":"0"},null,{"$f":"IF(BAJ13=\"\",\"0\",1/BAJ$22)","v":"0"},null,{"$f":"IF(BAL13=\"\",\"0\",1/BAL$22)","v":"0"},null,{"$f":"IF(BAN13=\"\",\"0\",1/BAN$22)","v":"0"},null,{"$f":"IF(BAP13=\"\",\"0\",1/BAP$22)","v":"0"},null,{"$f":"IF(BAR13=\"\",\"0\",1/BAR$22)","v":"0"},null,{"$f":"IF(BAT13=\"\",\"0\",1/BAT$22)","v":"0"},null,{"$f":"IF(BAV13=\"\",\"0\",1/BAV$22)","v":"0"},null,{"$f":"IF(BAX13=\"\",\"0\",1/BAX$22)","v":"0"},null,{"$f":"IF(BAZ13=\"\",\"0\",1/BAZ$22)","v":"0"},null,{"$f":"IF(BBB13=\"\",\"0\",1/BBB$22)","v":"0"},null,{"$f":"IF(BBD13=\"\",\"0\",1/BBD$22)","v":"0"},null,{"$f":"IF(BBF13=\"\",\"0\",1/BBF$22)","v":"0"},null,{"$f":"IF(BBH13=\"\",\"0\",1/BBH$22)","v":"0"},null,{"$f":"IF(BBJ13=\"\",\"0\",1/BBJ$22)","v":"0"},null,{"$f":"IF(BBL13=\"\",\"0\",1/BBL$22)","v":"0"},null,{"$f":"IF(BBN13=\"\",\"0\",1/BBN$22)","v":"0"},null,{"$f":"IF(BBP13=\"\",\"0\",1/BBP$22)","v":"0"},null,{"$f":"IF(BBR13=\"\",\"0\",1/BBR$22)","v":"0"},null,{"$f":"IF(BBT13=\"\",\"0\",1/BBT$22)","v":"0"},null,{"$f":"IF(BBV13=\"\",\"0\",1/BBV$22)","v":"0"},null,{"$f":"IF(BBX13=\"\",\"0\",1/BBX$22)","v":"0"},null,{"$f":"IF(BBZ13=\"\",\"0\",1/BBZ$22)","v":"0"},null,{"$f":"IF(BCB13=\"\",\"0\",1/BCB$22)","v":"0"},null,{"$f":"IF(BCD13=\"\",\"0\",1/BCD$22)","v":"0"},null,{"$f":"IF(BCF13=\"\",\"0\",1/BCF$22)","v":"0"},null,{"$f":"IF(BCH13=\"\",\"0\",1/BCH$22)","v":"0"},null,{"$f":"IF(BCJ13=\"\",\"0\",1/BCJ$22)","v":"0"},null,{"$f":"IF(BCL13=\"\",\"0\",1/BCL$22)","v":"0"},null,{"$f":"IF(BCN13=\"\",\"0\",1/BCN$22)","v":"0"},null,{"$f":"IF(BCP13=\"\",\"0\",1/BCP$22)","v":"0"},null,{"$f":"IF(BCR13=\"\",\"0\",1/BCR$22)","v":"0"},null,{"$f":"IF(BCT13=\"\",\"0\",1/BCT$22)","v":"0"},null,{"$f":"IF(BCV13=\"\",\"0\",1/BCV$22)","v":"0"},null,{"$f":"IF(BCX13=\"\",\"0\",1/BCX$22)","v":"0"},null,{"$f":"IF(BCZ13=\"\",\"0\",1/BCZ$22)","v":"0"},null,{"$f":"IF(BDB13=\"\",\"0\",1/BDB$22)","v":"0"},null,{"$f":"IF(BDD13=\"\",\"0\",1/BDD$22)","v":"0"},null,{"$f":"IF(BDF13=\"\",\"0\",1/BDF$22)","v":"0"},null,{"$f":"IF(BDH13=\"\",\"0\",1/BDH$22)","v":"0"},null,{"$f":"IF(BDJ13=\"\",\"0\",1/BDJ$22)","v":"0"},null,{"$f":"IF(BDL13=\"\",\"0\",1/BDL$22)","v":"0"},null,{"$f":"IF(BDN13=\"\",\"0\",1/BDN$22)","v":"0"},null,{"$f":"IF(BDP13=\"\",\"0\",1/BDP$22)","v":"0"},null,{"$f":"IF(BDR13=\"\",\"0\",1/BDR$22)","v":"0"},null,{"$f":"IF(BDT13=\"\",\"0\",1/BDT$22)","v":"0"},null,{"$f":"IF(BDV13=\"\",\"0\",1/BDV$22)","v":"0"},null,{"$f":"IF(BDX13=\"\",\"0\",1/BDX$22)","v":"0"},null,{"$f":"IF(BDZ13=\"\",\"0\",1/BDZ$22)","v":"0"},null,{"$f":"IF(BEB13=\"\",\"0\",1/BEB$22)","v":"0"},null,{"$f":"IF(BED13=\"\",\"0\",1/BED$22)","v":"0"},null,{"$f":"IF(BEF13=\"\",\"0\",1/BEF$22)","v":"0"},null,{"$f":"IF(BEH13=\"\",\"0\",1/BEH$22)","v":"0"},null,{"$f":"IF(BEJ13=\"\",\"0\",1/BEJ$22)","v":"0"},null,{"$f":"IF(BEL13=\"\",\"0\",1/BEL$22)","v":"0"},null,{"$f":"IF(BEN13=\"\",\"0\",1/BEN$22)","v":"0"},null,{"$f":"IF(BEP13=\"\",\"0\",1/BEP$22)","v":"0"},null,{"$f":"IF(BER13=\"\",\"0\",1/BER$22)","v":"0"},null,{"$f":"IF(BET13=\"\",\"0\",1/BET$22)","v":"0"},null,{"$f":"IF(BEV13=\"\",\"0\",1/BEV$22)","v":"0"},null,{"$f":"IF(BEX13=\"\",\"0\",1/BEX$22)","v":"0"},null,{"$f":"IF(BEZ13=\"\",\"0\",1/BEZ$22)","v":"0"},null,{"$f":"IF(BFB13=\"\",\"0\",1/BFB$22)","v":"0"},null,{"$f":"IF(BFD13=\"\",\"0\",1/BFD$22)","v":"0"},null,{"$f":"IF(BFF13=\"\",\"0\",1/BFF$22)","v":"0"},null,{"$f":"IF(BFH13=\"\",\"0\",1/BFH$22)","v":"0"},null,{"$f":"IF(BFJ13=\"\",\"0\",1/BFJ$22)","v":"0"},null,{"$f":"IF(BFL13=\"\",\"0\",1/BFL$22)","v":"0"},null,{"$f":"IF(BFN13=\"\",\"0\",1/BFN$22)","v":"0"},null,{"$f":"IF(BFP13=\"\",\"0\",1/BFP$22)","v":"0"},null,{"$f":"IF(BFR13=\"\",\"0\",1/BFR$22)","v":"0"},null,{"$f":"IF(BFT13=\"\",\"0\",1/BFT$22)","v":"0"},null,{"$f":"IF(BFV13=\"\",\"0\",1/BFV$22)","v":"0"},null,{"$f":"IF(BFX13=\"\",\"0\",1/BFX$22)","v":"0"},null,{"$f":"IF(BFZ13=\"\",\"0\",1/BFZ$22)","v":"0"},null,{"$f":"IF(BGB13=\"\",\"0\",1/BGB$22)","v":"0"},null,{"$f":"IF(BGD13=\"\",\"0\",1/BGD$22)","v":"0"},null,{"$f":"IF(BGF13=\"\",\"0\",1/BGF$22)","v":"0"},null,{"$f":"IF(BGH13=\"\",\"0\",1/BGH$22)","v":"0"},null,{"$f":"IF(BGJ13=\"\",\"0\",1/BGJ$22)","v":"0"},null,{"$f":"IF(BGL13=\"\",\"0\",1/BGL$22)","v":"0"},null,{"$f":"IF(BGN13=\"\",\"0\",1/BGN$22)","v":"0"},null,{"$f":"IF(BGP13=\"\",\"0\",1/BGP$22)","v":"0"},null,{"$f":"IF(BGR13=\"\",\"0\",1/BGR$22)","v":"0"},null,{"$f":"IF(BGT13=\"\",\"0\",1/BGT$22)","v":"0"},null,{"$f":"IF(BGV13=\"\",\"0\",1/BGV$22)","v":"0"},null,{"$f":"IF(BGX13=\"\",\"0\",1/BGX$22)","v":"0"},null,{"$f":"IF(BGZ13=\"\",\"0\",1/BGZ$22)","v":"0"},null,{"$f":"IF(BHB13=\"\",\"0\",1/BHB$22)","v":"0"},null,{"$f":"IF(BHD13=\"\",\"0\",1/BHD$22)","v":"0"},null,{"$f":"IF(BHF13=\"\",\"0\",1/BHF$22)","v":"0"},null,{"$f":"IF(BHH13=\"\",\"0\",1/BHH$22)","v":"0"},null,{"$f":"IF(BHJ13=\"\",\"0\",1/BHJ$22)","v":"0"},null,{"$f":"IF(BHL13=\"\",\"0\",1/BHL$22)","v":"0"},null,{"$f":"IF(BHN13=\"\",\"0\",1/BHN$22)","v":"0"},null,{"$f":"IF(BHP13=\"\",\"0\",1/BHP$22)","v":"0"},null,{"$f":"IF(BHR13=\"\",\"0\",1/BHR$22)","v":"0"},null,{"$f":"IF(BHT13=\"\",\"0\",1/BHT$22)","v":"0"},null,{"$f":"IF(BHV13=\"\",\"0\",1/BHV$22)","v":"0"},null,{"$f":"IF(BHX13=\"\",\"0\",1/BHX$22)","v":"0"},null,{"$f":"IF(BHZ13=\"\",\"0\",1/BHZ$22)","v":"0"},null,{"$f":"IF(BIB13=\"\",\"0\",1/BIB$22)","v":"0"},null,{"$f":"IF(BID13=\"\",\"0\",1/BID$22)","v":"0"},null,{"$f":"IF(BIF13=\"\",\"0\",1/BIF$22)","v":"0"},null,{"$f":"IF(BIH13=\"\",\"0\",1/BIH$22)","v":"0"},null,{"$f":"IF(BIJ13=\"\",\"0\",1/BIJ$22)","v":"0"},null,{"$f":"IF(BIL13=\"\",\"0\",1/BIL$22)","v":"0"},null,{"$f":"IF(BIN13=\"\",\"0\",1/BIN$22)","v":"0"},null,{"$f":"IF(BIP13=\"\",\"0\",1/BIP$22)","v":"0"},null,{"$f":"IF(BIR13=\"\",\"0\",1/BIR$22)","v":"0"},null,{"$f":"IF(BIT13=\"\",\"0\",1/BIT$22)","v":"0"},null,{"$f":"IF(BIV13=\"\",\"0\",1/BIV$22)","v":"0"},null,{"$f":"IF(BIX13=\"\",\"0\",1/BIX$22)","v":"0"},null,{"$f":"IF(BIZ13=\"\",\"0\",1/BIZ$22)","v":"0"},null,{"$f":"IF(BJB13=\"\",\"0\",1/BJB$22)","v":"0"},null,{"$f":"IF(BJD13=\"\",\"0\",1/BJD$22)","v":"0"},null,{"$f":"IF(BJF13=\"\",\"0\",1/BJF$22)","v":"0"},null,{"$f":"IF(BJH13=\"\",\"0\",1/BJH$22)","v":"0"},null,{"$f":"IF(BJJ13=\"\",\"0\",1/BJJ$22)","v":"0"},null,{"$f":"IF(BJL13=\"\",\"0\",1/BJL$22)","v":"0"},null,{"$f":"IF(BJN13=\"\",\"0\",1/BJN$22)","v":"0"},null,{"$f":"IF(BJP13=\"\",\"0\",1/BJP$22)","v":"0"},null,{"$f":"IF(BJR13=\"\",\"0\",1/BJR$22)","v":"0"},null,{"$f":"IF(BJT13=\"\",\"0\",1/BJT$22)","v":"0"},null,{"$f":"IF(BJV13=\"\",\"0\",1/BJV$22)","v":"0"},null,{"$f":"IF(BJX13=\"\",\"0\",1/BJX$22)","v":"0"},null,{"$f":"IF(BJZ13=\"\",\"0\",1/BJZ$22)","v":"0"},null,{"$f":"IF(BKB13=\"\",\"0\",1/BKB$22)","v":"0"},null,{"$f":"IF(BKD13=\"\",\"0\",1/BKD$22)","v":"0"},null,{"$f":"IF(BKF13=\"\",\"0\",1/BKF$22)","v":"0"},null,{"$f":"IF(BKH13=\"\",\"0\",1/BKH$22)","v":"0"},null,{"$f":"IF(BKJ13=\"\",\"0\",1/BKJ$22)","v":"0"},null,{"$f":"IF(BKL13=\"\",\"0\",1/BKL$22)","v":"0"},null,{"$f":"IF(BKN13=\"\",\"0\",1/BKN$22)","v":"0"},null,{"$f":"IF(BKP13=\"\",\"0\",1/BKP$22)","v":"0"},null,{"$f":"IF(BKR13=\"\",\"0\",1/BKR$22)","v":"0"},null,{"$f":"IF(BKT13=\"\",\"0\",1/BKT$22)","v":"0"},null,{"$f":"IF(BKV13=\"\",\"0\",1/BKV$22)","v":"0"},null,{"$f":"IF(BKX13=\"\",\"0\",1/BKX$22)","v":"0"},null,{"$f":"IF(BKZ13=\"\",\"0\",1/BKZ$22)","v":"0"},null,{"$f":"IF(BLB13=\"\",\"0\",1/BLB$22)","v":"0"},null,{"$f":"IF(BLD13=\"\",\"0\",1/BLD$22)","v":"0"},null,{"$f":"IF(BLF13=\"\",\"0\",1/BLF$22)","v":"0"},null,{"$f":"IF(BLH13=\"\",\"0\",1/BLH$22)","v":"0"},null,{"$f":"IF(BLJ13=\"\",\"0\",1/BLJ$22)","v":"0"},null,{"$f":"IF(BLL13=\"\",\"0\",1/BLL$22)","v":"0"},null,{"$f":"IF(BLN13=\"\",\"0\",1/BLN$22)","v":"0"},null,{"$f":"IF(BLP13=\"\",\"0\",1/BLP$22)","v":"0"},null,{"$f":"IF(BLR13=\"\",\"0\",1/BLR$22)","v":"0"},null,{"$f":"IF(BLT13=\"\",\"0\",1/BLT$22)","v":"0"},null,{"$f":"IF(BLV13=\"\",\"0\",1/BLV$22)","v":"0"},null,{"$f":"IF(BLX13=\"\",\"0\",1/BLX$22)","v":"0"},null,{"$f":"IF(BLZ13=\"\",\"0\",1/BLZ$22)","v":"0"},null,{"$f":"IF(BMB13=\"\",\"0\",1/BMB$22)","v":"0"},null,{"$f":"IF(BMD13=\"\",\"0\",1/BMD$22)","v":"0"},null,{"$f":"IF(BMF13=\"\",\"0\",1/BMF$22)","v":"0"},null,{"$f":"IF(BMH13=\"\",\"0\",1/BMH$22)","v":"0"},null,{"$f":"IF(BMJ13=\"\",\"0\",1/BMJ$22)","v":"0"},null,{"$f":"IF(BML13=\"\",\"0\",1/BML$22)","v":"0"},null,{"$f":"IF(BMN13=\"\",\"0\",1/BMN$22)","v":"0"},null,{"$f":"IF(BMP13=\"\",\"0\",1/BMP$22)","v":"0"},null,{"$f":"IF(BMR13=\"\",\"0\",1/BMR$22)","v":"0"},null,{"$f":"IF(BMT13=\"\",\"0\",1/BMT$22)","v":"0"},null,{"$f":"IF(BMV13=\"\",\"0\",1/BMV$22)","v":"0"},null,{"$f":"IF(BMX13=\"\",\"0\",1/BMX$22)","v":"0"},null,{"$f":"IF(BMZ13=\"\",\"0\",1/BMZ$22)","v":"0"},null,{"$f":"IF(BNB13=\"\",\"0\",1/BNB$22)","v":"0"},null,{"$f":"IF(BND13=\"\",\"0\",1/BND$22)","v":"0"},null,{"$f":"IF(BNF13=\"\",\"0\",1/BNF$22)","v":"0"},null,{"$f":"IF(BNH13=\"\",\"0\",1/BNH$22)","v":"0"},null,{"$f":"IF(BNJ13=\"\",\"0\",1/BNJ$22)","v":"0"},null,{"$f":"IF(BNL13=\"\",\"0\",1/BNL$22)","v":"0"},null,{"$f":"IF(BNN13=\"\",\"0\",1/BNN$22)","v":"0"},null,{"$f":"IF(BNP13=\"\",\"0\",1/BNP$22)","v":"0"},null,{"$f":"IF(BNR13=\"\",\"0\",1/BNR$22)","v":"0"},null,{"$f":"IF(BNT13=\"\",\"0\",1/BNT$22)","v":"0"},null,{"$f":"IF(BNV13=\"\",\"0\",1/BNV$22)","v":"0"},null,{"$f":"IF(BNX13=\"\",\"0\",1/BNX$22)","v":"0"},null,{"$f":"IF(BNZ13=\"\",\"0\",1/BNZ$22)","v":"0"},null,{"$f":"IF(BOB13=\"\",\"0\",1/BOB$22)","v":"0"},null,{"$f":"IF(BOD13=\"\",\"0\",1/BOD$22)","v":"0"},null,{"$f":"IF(BOF13=\"\",\"0\",1/BOF$22)","v":"0"},null,{"$f":"IF(BOH13=\"\",\"0\",1/BOH$22)","v":"0"},null,{"$f":"IF(BOJ13=\"\",\"0\",1/BOJ$22)","v":"0"},null,{"$f":"IF(BOL13=\"\",\"0\",1/BOL$22)","v":"0"},null,{"$f":"IF(BON13=\"\",\"0\",1/BON$22)","v":"0"},null,{"$f":"IF(BOP13=\"\",\"0\",1/BOP$22)","v":"0"},null,{"$f":"IF(BOR13=\"\",\"0\",1/BOR$22)","v":"0"},null,{"$f":"IF(BOT13=\"\",\"0\",1/BOT$22)","v":"0"},null,{"$f":"IF(BOV13=\"\",\"0\",1/BOV$22)","v":"0"},null,{"$f":"IF(BOX13=\"\",\"0\",1/BOX$22)","v":"0"},null,{"$f":"IF(BOZ13=\"\",\"0\",1/BOZ$22)","v":"0"},null,{"$f":"IF(BPB13=\"\",\"0\",1/BPB$22)","v":"0"},null,{"$f":"IF(BPD13=\"\",\"0\",1/BPD$22)","v":"0"},null,{"$f":"IF(BPF13=\"\",\"0\",1/BPF$22)","v":"0"},null,{"$f":"IF(BPH13=\"\",\"0\",1/BPH$22)","v":"0"},null,{"$f":"IF(BPJ13=\"\",\"0\",1/BPJ$22)","v":"0"},null,{"$f":"IF(BPL13=\"\",\"0\",1/BPL$22)","v":"0"},null,{"$f":"IF(BPN13=\"\",\"0\",1/BPN$22)","v":"0"},null,{"$f":"IF(BPP13=\"\",\"0\",1/BPP$22)","v":"0"},null,{"$f":"IF(BPR13=\"\",\"0\",1/BPR$22)","v":"0"},null,{"$f":"IF(BPT13=\"\",\"0\",1/BPT$22)","v":"0"},null,{"$f":"IF(BPV13=\"\",\"0\",1/BPV$22)","v":"0"},null,{"$f":"IF(BPX13=\"\",\"0\",1/BPX$22)","v":"0"},null,{"$f":"IF(BPZ13=\"\",\"0\",1/BPZ$22)","v":"0"},null,{"$f":"IF(BQB13=\"\",\"0\",1/BQB$22)","v":"0"},null,{"$f":"IF(BQD13=\"\",\"0\",1/BQD$22)","v":"0"},null,{"$f":"IF(BQF13=\"\",\"0\",1/BQF$22)","v":"0"},null,{"$f":"IF(BQH13=\"\",\"0\",1/BQH$22)","v":"0"},null,{"$f":"IF(BQJ13=\"\",\"0\",1/BQJ$22)","v":"0"},null,{"$f":"IF(BQL13=\"\",\"0\",1/BQL$22)","v":"0"},null,{"$f":"IF(BQN13=\"\",\"0\",1/BQN$22)","v":"0"},null,{"$f":"IF(BQP13=\"\",\"0\",1/BQP$22)","v":"0"},null,{"$f":"IF(BQR13=\"\",\"0\",1/BQR$22)","v":"0"},null,{"$f":"IF(BQT13=\"\",\"0\",1/BQT$22)","v":"0"},null,{"$f":"IF(BQV13=\"\",\"0\",1/BQV$22)","v":"0"},null,{"$f":"IF(BQX13=\"\",\"0\",1/BQX$22)","v":"0"},null,{"$f":"IF(BQZ13=\"\",\"0\",1/BQZ$22)","v":"0"},null,{"$f":"IF(BRB13=\"\",\"0\",1/BRB$22)","v":"0"},null,{"$f":"IF(BRD13=\"\",\"0\",1/BRD$22)","v":"0"},null,{"$f":"IF(BRF13=\"\",\"0\",1/BRF$22)","v":"0"},null,{"$f":"IF(BRH13=\"\",\"0\",1/BRH$22)","v":"0"},null,{"$f":"IF(BRJ13=\"\",\"0\",1/BRJ$22)","v":"0"},null,{"$f":"IF(BRL13=\"\",\"0\",1/BRL$22)","v":"0"},null,{"$f":"IF(BRN13=\"\",\"0\",1/BRN$22)","v":"0"},null,{"$f":"IF(BRP13=\"\",\"0\",1/BRP$22)","v":"0"},null,{"$f":"IF(BRR13=\"\",\"0\",1/BRR$22)","v":"0"},null,{"$f":"IF(BRT13=\"\",\"0\",1/BRT$22)","v":"0"},null,{"$f":"IF(BRV13=\"\",\"0\",1/BRV$22)","v":"0"},null,{"$f":"IF(BRX13=\"\",\"0\",1/BRX$22)","v":"0"},null,{"$f":"IF(BRZ13=\"\",\"0\",1/BRZ$22)","v":"0"},null,{"$f":"IF(BSB13=\"\",\"0\",1/BSB$22)","v":"0"},null,{"$f":"IF(BSD13=\"\",\"0\",1/BSD$22)","v":"0"},null,{"$f":"IF(BSF13=\"\",\"0\",1/BSF$22)","v":"0"},null,{"$f":"IF(BSH13=\"\",\"0\",1/BSH$22)","v":"0"},null,{"$f":"IF(BSJ13=\"\",\"0\",1/BSJ$22)","v":"0"},null,{"$f":"IF(BSL13=\"\",\"0\",1/BSL$22)","v":"0"},null,{"$f":"IF(BSN13=\"\",\"0\",1/BSN$22)","v":"0"},null,{"$f":"IF(BSP13=\"\",\"0\",1/BSP$22)","v":"0"},null,{"$f":"IF(BSR13=\"\",\"0\",1/BSR$22)","v":"0"},null,{"$f":"IF(BST13=\"\",\"0\",1/BST$22)","v":"0"},null,{"$f":"IF(BSV13=\"\",\"0\",1/BSV$22)","v":"0"},null,{"$f":"IF(BSX13=\"\",\"0\",1/BSX$22)","v":"0"},null,{"$f":"IF(BSZ13=\"\",\"0\",1/BSZ$22)","v":"0"},null,{"$f":"IF(BTB13=\"\",\"0\",1/BTB$22)","v":"0"},null,{"$f":"IF(BTD13=\"\",\"0\",1/BTD$22)","v":"0"},null,{"$f":"IF(BTF13=\"\",\"0\",1/BTF$22)","v":"0"},null,{"$f":"IF(BTH13=\"\",\"0\",1/BTH$22)","v":"0"},null,{"$f":"IF(BTJ13=\"\",\"0\",1/BTJ$22)","v":"0"},null,{"$f":"IF(BTL13=\"\",\"0\",1/BTL$22)","v":"0"},null,{"$f":"IF(BTN13=\"\",\"0\",1/BTN$22)","v":"0"},null,{"$f":"IF(BTP13=\"\",\"0\",1/BTP$22)","v":"0"},null,{"$f":"IF(BTR13=\"\",\"0\",1/BTR$22)","v":"0"},null,{"$f":"IF(BTT13=\"\",\"0\",1/BTT$22)","v":"0"},null,{"$f":"IF(BTV13=\"\",\"0\",1/BTV$22)","v":"0"},null,{"$f":"IF(BTX13=\"\",\"0\",1/BTX$22)","v":"0"},null,{"$f":"IF(BTZ13=\"\",\"0\",1/BTZ$22)","v":"0"},null,{"$f":"IF(BUB13=\"\",\"0\",1/BUB$22)","v":"0"},null,{"$f":"IF(BUD13=\"\",\"0\",1/BUD$22)","v":"0"},null,{"$f":"IF(BUF13=\"\",\"0\",1/BUF$22)","v":"0"},null,{"$f":"IF(BUH13=\"\",\"0\",1/BUH$22)","v":"0"},null,{"$f":"IF(BUJ13=\"\",\"0\",1/BUJ$22)","v":"0"},null,{"$f":"IF(BUL13=\"\",\"0\",1/BUL$22)","v":"0"},null,{"$f":"IF(BUN13=\"\",\"0\",1/BUN$22)","v":"0"},null,{"$f":"IF(BUP13=\"\",\"0\",1/BUP$22)","v":"0"},null,{"$f":"IF(BUR13=\"\",\"0\",1/BUR$22)","v":"0"},null,{"$f":"IF(BUT13=\"\",\"0\",1/BUT$22)","v":"0"},null,{"$f":"IF(BUV13=\"\",\"0\",1/BUV$22)","v":"0"},null,{"$f":"IF(BUX13=\"\",\"0\",1/BUX$22)","v":"0"},null,{"$f":"IF(BUZ13=\"\",\"0\",1/BUZ$22)","v":"0"},null,{"$f":"IF(BVB13=\"\",\"0\",1/BVB$22)","v":"0"},null,{"$f":"IF(BVD13=\"\",\"0\",1/BVD$22)","v":"0"},null,{"$f":"IF(BVF13=\"\",\"0\",1/BVF$22)","v":"0"},null,{"$f":"IF(BVH13=\"\",\"0\",1/BVH$22)","v":"0"},null,{"$f":"IF(BVJ13=\"\",\"0\",1/BVJ$22)","v":"0"},null,{"$f":"IF(BVL13=\"\",\"0\",1/BVL$22)","v":"0"},null,{"$f":"IF(BVN13=\"\",\"0\",1/BVN$22)","v":"0"},null,{"$f":"IF(BVP13=\"\",\"0\",1/BVP$22)","v":"0"},null,{"$f":"IF(BVR13=\"\",\"0\",1/BVR$22)","v":"0"},null,{"$f":"IF(BVT13=\"\",\"0\",1/BVT$22)","v":"0"},null,{"$f":"IF(BVV13=\"\",\"0\",1/BVV$22)","v":"0"},null,{"$f":"IF(BVX13=\"\",\"0\",1/BVX$22)","v":"0"},null,{"$f":"IF(BVZ13=\"\",\"0\",1/BVZ$22)","v":"0"},null,{"$f":"IF(BWB13=\"\",\"0\",1/BWB$22)","v":"0"},null,{"$f":"IF(BWD13=\"\",\"0\",1/BWD$22)","v":"0"},null,{"$f":"IF(BWF13=\"\",\"0\",1/BWF$22)","v":"0"},null,{"$f":"IF(BWH13=\"\",\"0\",1/BWH$22)","v":"0"},null,{"$f":"IF(BWJ13=\"\",\"0\",1/BWJ$22)","v":"0"},null,{"$f":"IF(BWL13=\"\",\"0\",1/BWL$22)","v":"0"},null,{"$f":"IF(BWN13=\"\",\"0\",1/BWN$22)","v":"0"},null,{"$f":"IF(BWP13=\"\",\"0\",1/BWP$22)","v":"0"},null,{"$f":"IF(BWR13=\"\",\"0\",1/BWR$22)","v":"0"},null,{"$f":"IF(BWT13=\"\",\"0\",1/BWT$22)","v":"0"},null,{"$f":"IF(BWV13=\"\",\"0\",1/BWV$22)","v":"0"}]
["実務（６）",{"$f":"年数合計!B18","v":{"$error":"#VALUE!"}},{"$f":"年数合計!C18","v":{"$error":"#VALUE!"}},{"$f":"COUNTIF(F15:BWV15,\"○\")","v":0},"月",{"$f":"IFERROR(IF(AND(F$3>=$B$15,F$3<=$C$15),\"○\",\"\"),\"\")","v":""},null,"",null,"",null,"",null,"",null,"",null,"",null,"",null,"",null,"",null,"",null,"",null,"",null,"",null,"",null,"",null,"",null,"",null,"",null,"",null,"",null,"",null,"",null,"",null,"",null,"",null,"",null,"",null,"",null,"",null,"",null,"",null,{"$f":"IFERROR(IF(AND(BR$3>=$B$15,BR$3<=$C$15),\"○\",\"\"),\"\")","v":""},null,"",null,"",null,"",null,"",null,"",null,"",null,"",null,"",null,"",null,"",null,"",null,"",null,"",null,"",null,"",null,"",null,"",null,"",null,"",null,"",null,"",null,"",null,"",null,"",null,"",null,"",null,"",null,"",null,"",null,"",null,"",null,{"$f":"IFERROR(IF(AND(ED$3>=$B$15,ED$3<=$C$15),\"○\",\"\"),\"\")","v":""},null,"",null,"",null,"",null,"",null,"",null,"",null,"",null,"",null,"",null,"",null,"",null,"",null,"",null,"",null,"",null,"",null,"",null,"",null,"",null,"",null,"",null,"",null,"",null,"",null,"",null,"",null,"",null,"",null,"",null,"",null,"",null,{"$f":"IFERROR(IF(AND(GP$3>=$B$15,GP$3<=$C$15),\"○\",\"\"),\"\")","v":""},null,"",null,"",null,"",null,"",null,"",null,"",null,"",null,"",null,"",null,"",null,"",null,"",null,"",null,"",null,"",null,"",null,"",null,"",null,"",null,"",null,"",null,"",null,"",null,"",null,"",null,"",null,"",null,"",null,"",null,"",null,"",null,{"$f":"IFERROR(IF(AND(JB$3>=$B$15,JB$3<=$C$15),\"○\",\"\"),\"\")","v":""},null,"",null,"",null,"",null,"",null,"",null,"",null,"",null,"",null,"",null,"",null,"",null,"",null,"",null,"",null,"",null,"",null,"",null,"",null,"",null,"",null,"",null,"",null,"",null,"",null,"",null,"",null,"",null,"",null,"",null,"",null,"",null,{"$f":"IFERROR(IF(AND(LN$3>=$B$15,LN$3<=$C$15),\"○\",\"\"),\"\")","v":""},null,"",null,"",null,"",null,"",null,"",null,"",null,"",null,"",null,"",null,"",null,"",null,"",null,"",null,"",null,"",null,"",null,"",null,"",null,"",null,"",null,"",null,"",null,"",null,"",null,"",null,"",null,"",null,"",null,"",null,"",null,"",null,{"$f":"IFERROR(IF(AND(NZ$3>=$B$15,NZ$3<=$C$15),\"○\",\"\"),\"\")","v":""},null,"",null,"",null,"",null,"",null,"",null,"",null,"",null,"",null,"",null,"",null,"",null,"",null,"",null,"",null,"",null,"",null,"",null,"",null,"",null,"",null,"",null,"",null,"",null,"",null,"",null,"",null,"",null,"",null,"",null,"",null,"",null,{"$f":"IFERROR(IF(AND(QL$3>=$B$15,QL$3<=$C$15),\"○\",\"\"),\"\")","v":""},null,"",null,"",null,"",null,"",null,"",null,"",null,"",null,"",null,"",null,"",null,"",null,"",null,"",null,"",null,"",null,"",null,"",null,"",null,"",null,"",null,"",null,"",null,"",null,"",null,"",null,"",null,"",null,"",null,"",null,"",null,"",null,{"$f":"IFERROR(IF(AND(SX$3>=$B$15,SX$3<=$C$15),\"○\",\"\"),\"\")","v":""},null,"",null,"",null,"",null,"",null,"",null,"",null,"",null,"",null,"",null,"",null,"",null,"",null,"",null,"",null,"",null,"",null,"",null,"",null,"",null,"",null,"",null,"",null,"",null,"",null,"",null,"",null,"",null,"",null,"",null,"",null,"",null,{"$f":"IFERROR(IF(AND(VJ$3>=$B$15,VJ$3<=$C$15),\"○\",\"\"),\"\")","v":""},null,"",null,"",null,"",null,"",null,"",null,"",null,"",null,"",null,"",null,"",null,"",null,"",null,"",null,"",null,"",null,"",null,"",null,"",null,"",null,"",null,"",null,"",null,"",null,"",null,"",null,"",null,"",null,"",null,"",null,"",null,"",null,{"$f":"IFERROR(IF(AND(XV$3>=$B$15,XV$3<=$C$15),\"○\",\"\"),\"\")","v":""},null,"",null,"",null,"",null,"",null,"",null,"",null,"",null,"",null,"",null,"",null,"",null,"",null,"",null,"",null,"",null,"",null,"",null,"",null,"",null,"",null,"",null,"",null,"",null,"",null,"",null,"",null,"",null,"",null,"",null,"",null,"",null,{"$f":"IFERROR(IF(AND(AAH$3>=$B$15,AAH$3<=$C$15),\"○\",\"\"),\"\")","v":""},null,"",null,"",null,"",null,"",null,"",null,"",null,"",null,"",null,"",null,"",null,"",null,"",null,"",null,"",null,"",null,"",null,"",null,"",null,"",null,"",null,"",null,"",null,"",null,"",null,"",null,"",null,"",null,"",null,"",null,"",null,"",null,{"$f":"IFERROR(IF(AND(ACT$3>=$B$15,ACT$3<=$C$15),\"○\",\"\"),\"\")","v":""},null,"",null,"",null,"",null,"",null,"",null,"",null,"",null,"",null,"",null,"",null,"",null,"",null,"",null,"",null,"",null,"",null,"",null,"",null,"",null,"",null,"",null,"",null,"",null,"",null,"",null,"",null,"",null,"",null,"",null,"",null,"",null,{"$f":"IFERROR(IF(AND(AFF$3>=$B$15,AFF$3<=$C$15),\"○\",\"\"),\"\")","v":""},null,"",null,"",null,"",null,"",null,"",null,"",null,"",null,"",null,"",null,"",null,"",null,"",null,"",null,"",null,"",null,"",null,"",null,"",null,"",null,"",null,"",null,"",null,"",null,"",null,"",null,"",null,"",null,"",null,"",null,"",null,"",null,{"$f":"IFERROR(IF(AND(AHR$3>=$B$15,AHR$3<=$C$15),\"○\",\"\"),\"\")","v":""},null,"",null,"",null,"",null,"",null,"",null,"",null,"",null,"",null,"",null,"",null,"",null,"",null,"",null,"",null,"",null,"",null,"",null,"",null,"",null,"",null,"",null,"",null,"",null,"",null,"",null,"",null,"",null,"",null,"",null,"",null,"",null,{"$f":"IFERROR(IF(AND(AKD$3>=$B$15,AKD$3<=$C$15),\"○\",\"\"),\"\")","v":""},null,"",null,"",null,"",null,"",null,"",null,"",null,"",null,"",null,"",null,"",null,"",null,"",null,"",null,"",null,"",null,"",null,"",null,"",null,"",null,"",null,"",null,"",null,"",null,"",null,"",null,"",null,"",null,"",null,"",null,"",null,"",null,{"$f":"IFERROR(IF(AND(AMP$3>=$B$15,AMP$3<=$C$15),\"○\",\"\"),\"\")","v":""},null,"",null,"",null,"",null,"",null,"",null,"",null,"",null,"",null,"",null,"",null,"",null,"",null,"",null,"",null,"",null,"",null,"",null,"",null,"",null,"",null,"",null,"",null,"",null,"",null,"",null,"",null,"",null,"",null,"",null,"",null,"",null,{"$f":"IFERROR(IF(AND(APB$3>=$B$15,APB$3<=$C$15),\"○\",\"\"),\"\")","v":""},null,"",null,"",null,"",null,"",null,"",null,"",null,"",null,"",null,"",null,"",null,"",null,"",null,"",null,"",null,"",null,"",null,"",null,"",null,"",null,"",null,"",null,"",null,"",null,"",null,"",null,"",null,"",null,"",null,"",null,"",null,"",null,{"$f":"IFERROR(IF(AND(ARN$3>=$B$15,ARN$3<=$C$15),\"○\",\"\"),\"\")","v":""},null,"",null,"",null,"",null,"",null,"",null,"",null,"",null,"",null,"",null,"",null,"",null,{"$f":"IFERROR(IF(AND(ASL$3>=$B$15,ASL$3<=$C$15),\"○\",\"\"),\"\")","v":""},null,"",null,"",null,"",null,"",null,"",null,"",null,"",null,"",null,"",null,"",null,"",null,"",null,"",null,"",null,"",null,"",null,"",null,"",null,"",null,"",null,"",null,"",null,"",null,"",null,"",null,"",null,"",null,"",null,"",null,"",null,"",null,{"$f":"IFERROR(IF(AND(AUX$3>=$B$15,AUX$3<=$C$15),\"○\",\"\"),\"\")","v":""},null,"",null,"",null,"",null,"",null,"",null,"",null,"",null,"",null,"",null,"",null,"",null,"",null,"",null,"",null,"",null,"",null,"",null,"",null,"",null,"",null,"",null,"",null,"",null,"",null,"",null,"",null,"",null,"",null,"",null,"",null,"",null,{"$f":"IFERROR(IF(AND(AXJ$3>=$B$15,AXJ$3<=$C$15),\"○\",\"\"),\"\")","v":""},null,"",null,"",null,"",null,"",null,"",null,"",null,"",null,"",null,"",null,"",null,"",null,"",null,"",null,"",null,"",null,"",null,"",null,"",null,"",null,"",null,"",null,"",null,"",null,"",null,"",null,"",null,"",null,"",null,"",null,"",null,"",null,{"$f":"IFERROR(IF(AND(AZV$3>=$B$15,AZV$3<=$C$15),\"○\",\"\"),\"\")","v":""},null,"",null,"",null,"",null,"",null,"",null,"",null,"",null,"",null,"",null,"",null,"",null,"",null,"",null,"",null,"",null,"",null,"",null,"",null,"",null,"",null,"",null,"",null,"",null,"",null,"",null,"",null,"",null,"",null,"",null,"",null,"",null,{"$f":"IFERROR(IF(AND(BCH$3>=$B$15,BCH$3<=$C$15),\"○\",\"\"),\"\")","v":""},null,"",null,"",null,"",null,"",null,"",null,"",null,"",null,"",null,"",null,"",null,"",null,"",null,"",null,"",null,"",null,"",null,"",null,"",null,"",null,"",null,"",null,"",null,"",null,"",null,"",null,"",null,"",null,"",null,"",null,"",null,"",null,{"$f":"IFERROR(IF(AND(BET$3>=$B$15,BET$3<=$C$15),\"○\",\"\"),\"\")","v":""},null,"",null,"",null,"",null,"",null,"",null,"",null,"",null,"",null,"",null,"",null,"",null,"",null,"",null,"",null,"",null,"",null,"",null,"",null,"",null,"",null,"",null,"",null,"",null,"",null,"",null,"",null,"",null,"",null,"",null,"",null,"",null,{"$f":"IFERROR(IF(AND(BHF$3>=$B$15,BHF$3<=$C$15),\"○\",\"\"),\"\")","v":""},null,"",null,"",null,"",null,"",null,"",null,"",null,"",null,"",null,"",null,"",null,"",null,"",null,"",null,"",null,"",null,"",null,"",null,"",null,"",null,"",null,"",null,"",null,"",null,"",null,"",null,"",null,"",null,"",null,"",null,"",null,"",null,{"$f":"IFERROR(IF(AND(BJR$3>=$B$15,BJR$3<=$C$15),\"○\",\"\"),\"\")","v":""},null,"",null,"",null,"",null,"",null,"",null,"",null,"",null,"",null,"",null,"",null,"",null,"",null,"",null,"",null,"",null,"",null,"",null,"",null,"",null,"",null,"",null,"",null,"",null,"",null,"",null,"",null,"",null,"",null,"",null,"",null,"",null,{"$f":"IFERROR(IF(AND(BMD$3>=$B$15,BMD$3<=$C$15),\"○\",\"\"),\"\")","v":""},null,"",null,"",null,"",null,"",null,"",null,"",null,"",null,"",null,"",null,"",null,"",null,"",null,"",null,"",null,"",null,"",null,"",null,"",null,"",null,"",null,"",null,"",null,"",null,"",null,"",null,"",null,"",null,"",null,"",null,"",null,"",null,{"$f":"IFERROR(IF(AND(BOP$3>=$B$15,BOP$3<=$C$15),\"○\",\"\"),\"\")","v":""},null,"",null,"",null,"",null,"",null,"",null,"",null,"",null,"",null,"",null,"",null,"",null,{"$f":"IFERROR(IF(AND(BPN$3>=$B$15,BPN$3<=$C$15),\"○\",\"\"),\"\")","v":""},null,"",null,"",null,"",null,"",null,"",null,"",null,"",null,"",null,"",null,"",null,"",null,"",null,"",null,"",null,"",null,"",null,"",null,"",null,"",null,"",null,"",null,"",null,"",null,"",null,"",null,"",null,"",null,"",null,"",null,"",null,"",null,{"$f":"IFERROR(IF(AND(BRZ$3>=$B$15,BRZ$3<=$C$15),\"○\",\"\"),\"\")","v":""},null,"",null,"",null,"",null,"",null,"",null,"",null,"",null,"",null,"",null,"",null,"",null,"",null,"",null,"",null,"",null,{"$f":"IFERROR(IF(AND(BTF$3>=$B$15,BTF$3<=$C$15),\"○\",\"\"),\"\")","v":""},null,"",null,"",null,"",null,"",null,"",null,"",null,"",null,"",null,"",null,"",null,"",null,{"$f":"IFERROR(IF(AND(BUD$3>=$B$15,BUD$3<=$C$15),\"○\",\"\"),\"\")","v":""},null,{"$f":"IFERROR(IF(AND(BUF$3>=$B$15,BUF$3<=$C$15),\"○\",\"\"),\"\")","v":""},null,{"$f":"IFERROR(IF(AND(BUH$3>=$B$15,BUH$3<=$C$15),\"○\",\"\"),\"\")","v":""},null,{"$f":"IFERROR(IF(AND(BUJ$3>=$B$15,BUJ$3<=$C$15),\"○\",\"\"),\"\")","v":""},null,{"$f":"IFERROR(IF(AND(BUL$3>=$B$15,BUL$3<=$C$15),\"○\",\"\"),\"\")","v":""},null,{"$f":"IFERROR(IF(AND(BUN$3>=$B$15,BUN$3<=$C$15),\"○\",\"\"),\"\")","v":""},null,{"$f":"IFERROR(IF(AND(BUP$3>=$B$15,BUP$3<=$C$15),\"○\",\"\"),\"\")","v":""},null,{"$f":"IFERROR(IF(AND(BUR$3>=$B$15,BUR$3<=$C$15),\"○\",\"\"),\"\")","v":""},null,{"$f":"IFERROR(IF(AND(BUT$3>=$B$15,BUT$3<=$C$15),\"○\",\"\"),\"\")","v":""},null,{"$f":"IFERROR(IF(AND(BUV$3>=$B$15,BUV$3<=$C$15),\"○\",\"\"),\"\")","v":""},null,{"$f":"IFERROR(IF(AND(BUX$3>=$B$15,BUX$3<=$C$15),\"○\",\"\"),\"\")","v":""},null,{"$f":"IFERROR(IF(AND(BUZ$3>=$B$15,BUZ$3<=$C$15),\"○\",\"\"),\"\")","v":""},null,{"$f":"IFERROR(IF(AND(BVB$3>=$B$15,BVB$3<=$C$15),\"○\",\"\"),\"\")","v":""},null,{"$f":"IFERROR(IF(AND(BVD$3>=$B$15,BVD$3<=$C$15),\"○\",\"\"),\"\")","v":""},null,{"$f":"IFERROR(IF(AND(BVF$3>=$B$15,BVF$3<=$C$15),\"○\",\"\"),\"\")","v":""},null,{"$f":"IFERROR(IF(AND(BVH$3>=$B$15,BVH$3<=$C$15),\"○\",\"\"),\"\")","v":""},null,{"$f":"IFERROR(IF(AND(BVJ$3>=$B$15,BVJ$3<=$C$15),\"○\",\"\"),\"\")","v":""},null,{"$f":"IFERROR(IF(AND(BVL$3>=$B$15,BVL$3<=$C$15),\"○\",\"\"),\"\")","v":""},null,{"$f":"IFERROR(IF(AND(BVN$3>=$B$15,BVN$3<=$C$15),\"○\",\"\"),\"\")","v":""},null,{"$f":"IFERROR(IF(AND(BVP$3>=$B$15,BVP$3<=$C$15),\"○\",\"\"),\"\")","v":""},null,{"$f":"IFERROR(IF(AND(BVR$3>=$B$15,BVR$3<=$C$15),\"○\",\"\"),\"\")","v":""},null,{"$f":"IFERROR(IF(AND(BVT$3>=$B$15,BVT$3<=$C$15),\"○\",\"\"),\"\")","v":""},null,{"$f":"IFERROR(IF(AND(BVV$3>=$B$15,BVV$3<=$C$15),\"○\",\"\"),\"\")","v":""},null,{"$f":"IFERROR(IF(AND(BVX$3>=$B$15,BVX$3<=$C$15),\"○\",\"\"),\"\")","v":""},null,{"$f":"IFERROR(IF(AND(BVZ$3>=$B$15,BVZ$3<=$C$15),\"○\",\"\"),\"\")","v":""},null,{"$f":"IFERROR(IF(AND(BWB$3>=$B$15,BWB$3<=$C$15),\"○\",\"\"),\"\")","v":""},null,{"$f":"IFERROR(IF(AND(BWD$3>=$B$15,BWD$3<=$C$15),\"○\",\"\"),\"\")","v":""},null,{"$f":"IFERROR(IF(AND(BWF$3>=$B$15,BWF$3<=$C$15),\"○\",\"\"),\"\")","v":""},null,{"$f":"IFERROR(IF(AND(BWH$3>=$B$15,BWH$3<=$C$15),\"○\",\"\"),\"\")","v":""},null,{"$f":"IFERROR(IF(AND(BWJ$3>=$B$15,BWJ$3<=$C$15),\"○\",\"\"),\"\")","v":""},null,{"$f":"IFERROR(IF(AND(BWL$3>=$B$15,BWL$3<=$C$15),\"○\",\"\"),\"\")","v":""},null,{"$f":"IFERROR(IF(AND(BWN$3>=$B$15,BWN$3<=$C$15),\"○\",\"\"),\"\")","v":""},null,{"$f":"IFERROR(IF(AND(BWP$3>=$B$15,BWP$3<=$C$15),\"○\",\"\"),\"\")","v":""},null,{"$f":"IFERROR(IF(AND(BWR$3>=$B$15,BWR$3<=$C$15),\"○\",\"\"),\"\")","v":""},null,{"$f":"IFERROR(IF(AND(BWT$3>=$B$15,BWT$3<=$C$15),\"○\",\"\"),\"\")","v":""},null,{"$f":"IFERROR(IF(AND(BWV$3>=$B$15,BWV$3<=$C$15),\"○\",\"\"),\"\")","v":""},null,{"$f":"SUM(F16:BWW16)","v":{"v":0,"d":"0.00"}},"月",{"$f":"BWX15/D15","v":{"$error":"#DIV/0!"}},{"v":0,"d":"0.00"},{"$f":"QUOTIENT(BXA15,12)","v":0},{"$f":"MOD(BXA15,12)","v":{"v":0,"d":"0.00"}}]
[{"$nulls":6},{"$f":"IF(F15=\"\",\"0\",1/F$22)","v":"0"},null,{"$f":"IF(H15=\"\",\"0\",1/H$22)","v":"0"},null,{"$f":"IF(J15=\"\",\"0\",1/J$22)","v":"0"},null,{"$f":"IF(L15=\"\",\"0\",1/L$22)","v":"0"},null,{"$f":"IF(N15=\"\",\"0\",1/N$22)","v":"0"},null,{"$f":"IF(P15=\"\",\"0\",1/P$22)","v":"0"},null,{"$f":"IF(R15=\"\",\"0\",1/R$22)","v":"0"},null,{"$f":"IF(T15=\"\",\"0\",1/T$22)","v":"0"},null,{"$f":"IF(V15=\"\",\"0\",1/V$22)","v":"0"},null,{"$f":"IF(X15=\"\",\"0\",1/X$22)","v":"0"},null,{"$f":"IF(Z15=\"\",\"0\",1/Z$22)","v":"0"},null,{"$f":"IF(AB15=\"\",\"0\",1/AB$22)","v":"0"},null,{"$f":"IF(AD15=\"\",\"0\",1/AD$22)","v":"0"},null,{"$f":"IF(AF15=\"\",\"0\",1/AF$22)","v":"0"},null,{"$f":"IF(AH15=\"\",\"0\",1/AH$22)","v":"0"},null,{"$f":"IF(AJ15=\"\",\"0\",1/AJ$22)","v":"0"},null,{"$f":"IF(AL15=\"\",\"0\",1/AL$22)","v":"0"},null,{"$f":"IF(AN15=\"\",\"0\",1/AN$22)","v":"0"},null,{"$f":"IF(AP15=\"\",\"0\",1/AP$22)","v":"0"},null,{"$f":"IF(AR15=\"\",\"0\",1/AR$22)","v":"0"},null,{"$f":"IF(AT15=\"\",\"0\",1/AT$22)","v":"0"},null,{"$f":"IF(AV15=\"\",\"0\",1/AV$22)","v":"0"},null,{"$f":"IF(AX15=\"\",\"0\",1/AX$22)","v":"0"},null,{"$f":"IF(AZ15=\"\",\"0\",1/AZ$22)","v":"0"},null,{"$f":"IF(BB15=\"\",\"0\",1/BB$22)","v":"0"},null,{"$f":"IF(BD15=\"\",\"0\",1/BD$22)","v":"0"},null,{"$f":"IF(BF15=\"\",\"0\",1/BF$22)","v":"0"},null,{"$f":"IF(BH15=\"\",\"0\",1/BH$22)","v":"0"},null,{"$f":"IF(BJ15=\"\",\"0\",1/BJ$22)","v":"0"},null,{"$f":"IF(BL15=\"\",\"0\",1/BL$22)","v":"0"},null,{"$f":"IF(BN15=\"\",\"0\",1/BN$22)","v":"0"},null,{"$f":"IF(BP15=\"\",\"0\",1/BP$22)","v":"0"},null,{"$f":"IF(BR15=\"\",\"0\",1/BR$22)","v":"0"},null,{"$f":"IF(BT15=\"\",\"0\",1/BT$22)","v":"0"},null,{"$f":"IF(BV15=\"\",\"0\",1/BV$22)","v":"0"},null,{"$f":"IF(BX15=\"\",\"0\",1/BX$22)","v":"0"},null,{"$f":"IF(BZ15=\"\",\"0\",1/BZ$22)","v":"0"},null,{"$f":"IF(CB15=\"\",\"0\",1/CB$22)","v":"0"},null,{"$f":"IF(CD15=\"\",\"0\",1/CD$22)","v":"0"},null,{"$f":"IF(CF15=\"\",\"0\",1/CF$22)","v":"0"},null,{"$f":"IF(CH15=\"\",\"0\",1/CH$22)","v":"0"},null,{"$f":"IF(CJ15=\"\",\"0\",1/CJ$22)","v":"0"},null,{"$f":"IF(CL15=\"\",\"0\",1/CL$22)","v":"0"},null,{"$f":"IF(CN15=\"\",\"0\",1/CN$22)","v":"0"},null,{"$f":"IF(CP15=\"\",\"0\",1/CP$22)","v":"0"},null,{"$f":"IF(CR15=\"\",\"0\",1/CR$22)","v":"0"},null,{"$f":"IF(CT15=\"\",\"0\",1/CT$22)","v":"0"},null,{"$f":"IF(CV15=\"\",\"0\",1/CV$22)","v":"0"},null,{"$f":"IF(CX15=\"\",\"0\",1/CX$22)","v":"0"},null,{"$f":"IF(CZ15=\"\",\"0\",1/CZ$22)","v":"0"},null,{"$f":"IF(DB15=\"\",\"0\",1/DB$22)","v":"0"},null,{"$f":"IF(DD15=\"\",\"0\",1/DD$22)","v":"0"},null,{"$f":"IF(DF15=\"\",\"0\",1/DF$22)","v":"0"},null,{"$f":"IF(DH15=\"\",\"0\",1/DH$22)","v":"0"},null,{"$f":"IF(DJ15=\"\",\"0\",1/DJ$22)","v":"0"},null,{"$f":"IF(DL15=\"\",\"0\",1/DL$22)","v":"0"},null,{"$f":"IF(DN15=\"\",\"0\",1/DN$22)","v":"0"},null,{"$f":"IF(DP15=\"\",\"0\",1/DP$22)","v":"0"},null,{"$f":"IF(DR15=\"\",\"0\",1/DR$22)","v":"0"},null,{"$f":"IF(DT15=\"\",\"0\",1/DT$22)","v":"0"},null,{"$f":"IF(DV15=\"\",\"0\",1/DV$22)","v":"0"},null,{"$f":"IF(DX15=\"\",\"0\",1/DX$22)","v":"0"},null,{"$f":"IF(DZ15=\"\",\"0\",1/DZ$22)","v":"0"},null,{"$f":"IF(EB15=\"\",\"0\",1/EB$22)","v":"0"},null,{"$f":"IF(ED15=\"\",\"0\",1/ED$22)","v":"0"},null,{"$f":"IF(EF15=\"\",\"0\",1/EF$22)","v":"0"},null,{"$f":"IF(EH15=\"\",\"0\",1/EH$22)","v":"0"},null,{"$f":"IF(EJ15=\"\",\"0\",1/EJ$22)","v":"0"},null,{"$f":"IF(EL15=\"\",\"0\",1/EL$22)","v":"0"},null,{"$f":"IF(EN15=\"\",\"0\",1/EN$22)","v":"0"},null,{"$f":"IF(EP15=\"\",\"0\",1/EP$22)","v":"0"},null,{"$f":"IF(ER15=\"\",\"0\",1/ER$22)","v":"0"},null,{"$f":"IF(ET15=\"\",\"0\",1/ET$22)","v":"0"},null,{"$f":"IF(EV15=\"\",\"0\",1/EV$22)","v":"0"},null,{"$f":"IF(EX15=\"\",\"0\",1/EX$22)","v":"0"},null,{"$f":"IF(EZ15=\"\",\"0\",1/EZ$22)","v":"0"},null,{"$f":"IF(FB15=\"\",\"0\",1/FB$22)","v":"0"},null,{"$f":"IF(FD15=\"\",\"0\",1/FD$22)","v":"0"},null,{"$f":"IF(FF15=\"\",\"0\",1/FF$22)","v":"0"},null,{"$f":"IF(FH15=\"\",\"0\",1/FH$22)","v":"0"},null,{"$f":"IF(FJ15=\"\",\"0\",1/FJ$22)","v":"0"},null,{"$f":"IF(FL15=\"\",\"0\",1/FL$22)","v":"0"},null,{"$f":"IF(FN15=\"\",\"0\",1/FN$22)","v":"0"},null,{"$f":"IF(FP15=\"\",\"0\",1/FP$22)","v":"0"},null,{"$f":"IF(FR15=\"\",\"0\",1/FR$22)","v":"0"},null,{"$f":"IF(FT15=\"\",\"0\",1/FT$22)","v":"0"},null,{"$f":"IF(FV15=\"\",\"0\",1/FV$22)","v":"0"},null,{"$f":"IF(FX15=\"\",\"0\",1/FX$22)","v":"0"},null,{"$f":"IF(FZ15=\"\",\"0\",1/FZ$22)","v":"0"},null,{"$f":"IF(GB15=\"\",\"0\",1/GB$22)","v":"0"},null,{"$f":"IF(GD15=\"\",\"0\",1/GD$22)","v":"0"},null,{"$f":"IF(GF15=\"\",\"0\",1/GF$22)","v":"0"},null,{"$f":"IF(GH15=\"\",\"0\",1/GH$22)","v":"0"},null,{"$f":"IF(GJ15=\"\",\"0\",1/GJ$22)","v":"0"},null,{"$f":"IF(GL15=\"\",\"0\",1/GL$22)","v":"0"},null,{"$f":"IF(GN15=\"\",\"0\",1/GN$22)","v":"0"},null,{"$f":"IF(GP15=\"\",\"0\",1/GP$22)","v":"0"},null,{"$f":"IF(GR15=\"\",\"0\",1/GR$22)","v":"0"},null,{"$f":"IF(GT15=\"\",\"0\",1/GT$22)","v":"0"},null,{"$f":"IF(GV15=\"\",\"0\",1/GV$22)","v":"0"},null,{"$f":"IF(GX15=\"\",\"0\",1/GX$22)","v":"0"},null,{"$f":"IF(GZ15=\"\",\"0\",1/GZ$22)","v":"0"},null,{"$f":"IF(HB15=\"\",\"0\",1/HB$22)","v":"0"},null,{"$f":"IF(HD15=\"\",\"0\",1/HD$22)","v":"0"},null,{"$f":"IF(HF15=\"\",\"0\",1/HF$22)","v":"0"},null,{"$f":"IF(HH15=\"\",\"0\",1/HH$22)","v":"0"},null,{"$f":"IF(HJ15=\"\",\"0\",1/HJ$22)","v":"0"},null,{"$f":"IF(HL15=\"\",\"0\",1/HL$22)","v":"0"},null,{"$f":"IF(HN15=\"\",\"0\",1/HN$22)","v":"0"},null,{"$f":"IF(HP15=\"\",\"0\",1/HP$22)","v":"0"},null,{"$f":"IF(HR15=\"\",\"0\",1/HR$22)","v":"0"},null,{"$f":"IF(HT15=\"\",\"0\",1/HT$22)","v":"0"},null,{"$f":"IF(HV15=\"\",\"0\",1/HV$22)","v":"0"},null,{"$f":"IF(HX15=\"\",\"0\",1/HX$22)","v":"0"},null,{"$f":"IF(HZ15=\"\",\"0\",1/HZ$22)","v":"0"},null,{"$f":"IF(IB15=\"\",\"0\",1/IB$22)","v":"0"},null,{"$f":"IF(ID15=\"\",\"0\",1/ID$22)","v":"0"},null,{"$f":"IF(IF15=\"\",\"0\",1/IF$22)","v":"0"},null,{"$f":"IF(IH15=\"\",\"0\",1/IH$22)","v":"0"},null,{"$f":"IF(IJ15=\"\",\"0\",1/IJ$22)","v":"0"},null,{"$f":"IF(IL15=\"\",\"0\",1/IL$22)","v":"0"},null,{"$f":"IF(IN15=\"\",\"0\",1/IN$22)","v":"0"},null,{"$f":"IF(IP15=\"\",\"0\",1/IP$22)","v":"0"},null,{"$f":"IF(IR15=\"\",\"0\",1/IR$22)","v":"0"},null,{"$f":"IF(IT15=\"\",\"0\",1/IT$22)","v":"0"},null,{"$f":"IF(IV15=\"\",\"0\",1/IV$22)","v":"0"},null,{"$f":"IF(IX15=\"\",\"0\",1/IX$22)","v":"0"},null,{"$f":"IF(IZ15=\"\",\"0\",1/IZ$22)","v":"0"},null,{"$f":"IF(JB15=\"\",\"0\",1/JB$22)","v":"0"},null,{"$f":"IF(JD15=\"\",\"0\",1/JD$22)","v":"0"},null,{"$f":"IF(JF15=\"\",\"0\",1/JF$22)","v":"0"},null,{"$f":"IF(JH15=\"\",\"0\",1/JH$22)","v":"0"},null,{"$f":"IF(JJ15=\"\",\"0\",1/JJ$22)","v":"0"},null,{"$f":"IF(JL15=\"\",\"0\",1/JL$22)","v":"0"},null,{"$f":"IF(JN15=\"\",\"0\",1/JN$22)","v":"0"},null,{"$f":"IF(JP15=\"\",\"0\",1/JP$22)","v":"0"},null,{"$f":"IF(JR15=\"\",\"0\",1/JR$22)","v":"0"},null,{"$f":"IF(JT15=\"\",\"0\",1/JT$22)","v":"0"},null,{"$f":"IF(JV15=\"\",\"0\",1/JV$22)","v":"0"},null,{"$f":"IF(JX15=\"\",\"0\",1/JX$22)","v":"0"},null,{"$f":"IF(JZ15=\"\",\"0\",1/JZ$22)","v":"0"},null,{"$f":"IF(KB15=\"\",\"0\",1/KB$22)","v":"0"},null,{"$f":"IF(KD15=\"\",\"0\",1/KD$22)","v":"0"},null,{"$f":"IF(KF15=\"\",\"0\",1/KF$22)","v":"0"},null,{"$f":"IF(KH15=\"\",\"0\",1/KH$22)","v":"0"},null,{"$f":"IF(KJ15=\"\",\"0\",1/KJ$22)","v":"0"},null,{"$f":"IF(KL15=\"\",\"0\",1/KL$22)","v":"0"},null,{"$f":"IF(KN15=\"\",\"0\",1/KN$22)","v":"0"},null,{"$f":"IF(KP15=\"\",\"0\",1/KP$22)","v":"0"},null,{"$f":"IF(KR15=\"\",\"0\",1/KR$22)","v":"0"},null,{"$f":"IF(KT15=\"\",\"0\",1/KT$22)","v":"0"},null,{"$f":"IF(KV15=\"\",\"0\",1/KV$22)","v":"0"},null,{"$f":"IF(KX15=\"\",\"0\",1/KX$22)","v":"0"},null,{"$f":"IF(KZ15=\"\",\"0\",1/KZ$22)","v":"0"},null,{"$f":"IF(LB15=\"\",\"0\",1/LB$22)","v":"0"},null,{"$f":"IF(LD15=\"\",\"0\",1/LD$22)","v":"0"},null,{"$f":"IF(LF15=\"\",\"0\",1/LF$22)","v":"0"},null,{"$f":"IF(LH15=\"\",\"0\",1/LH$22)","v":"0"},null,{"$f":"IF(LJ15=\"\",\"0\",1/LJ$22)","v":"0"},null,{"$f":"IF(LL15=\"\",\"0\",1/LL$22)","v":"0"},null,{"$f":"IF(LN15=\"\",\"0\",1/LN$22)","v":"0"},null,{"$f":"IF(LP15=\"\",\"0\",1/LP$22)","v":"0"},null,{"$f":"IF(LR15=\"\",\"0\",1/LR$22)","v":"0"},null,{"$f":"IF(LT15=\"\",\"0\",1/LT$22)","v":"0"},null,{"$f":"IF(LV15=\"\",\"0\",1/LV$22)","v":"0"},null,{"$f":"IF(LX15=\"\",\"0\",1/LX$22)","v":"0"},null,{"$f":"IF(LZ15=\"\",\"0\",1/LZ$22)","v":"0"},null,{"$f":"IF(MB15=\"\",\"0\",1/MB$22)","v":"0"},null,{"$f":"IF(MD15=\"\",\"0\",1/MD$22)","v":"0"},null,{"$f":"IF(MF15=\"\",\"0\",1/MF$22)","v":"0"},null,{"$f":"IF(MH15=\"\",\"0\",1/MH$22)","v":"0"},null,{"$f":"IF(MJ15=\"\",\"0\",1/MJ$22)","v":"0"},null,{"$f":"IF(ML15=\"\",\"0\",1/ML$22)","v":"0"},null,{"$f":"IF(MN15=\"\",\"0\",1/MN$22)","v":"0"},null,{"$f":"IF(MP15=\"\",\"0\",1/MP$22)","v":"0"},null,{"$f":"IF(MR15=\"\",\"0\",1/MR$22)","v":"0"},null,{"$f":"IF(MT15=\"\",\"0\",1/MT$22)","v":"0"},null,{"$f":"IF(MV15=\"\",\"0\",1/MV$22)","v":"0"},null,{"$f":"IF(MX15=\"\",\"0\",1/MX$22)","v":"0"},null,{"$f":"IF(MZ15=\"\",\"0\",1/MZ$22)","v":"0"},null,{"$f":"IF(NB15=\"\",\"0\",1/NB$22)","v":"0"},null,{"$f":"IF(ND15=\"\",\"0\",1/ND$22)","v":"0"},null,{"$f":"IF(NF15=\"\",\"0\",1/NF$22)","v":"0"},null,{"$f":"IF(NH15=\"\",\"0\",1/NH$22)","v":"0"},null,{"$f":"IF(NJ15=\"\",\"0\",1/NJ$22)","v":"0"},null,{"$f":"IF(NL15=\"\",\"0\",1/NL$22)","v":"0"},null,{"$f":"IF(NN15=\"\",\"0\",1/NN$22)","v":"0"},null,{"$f":"IF(NP15=\"\",\"0\",1/NP$22)","v":"0"},null,{"$f":"IF(NR15=\"\",\"0\",1/NR$22)","v":"0"},null,{"$f":"IF(NT15=\"\",\"0\",1/NT$22)","v":"0"},null,{"$f":"IF(NV15=\"\",\"0\",1/NV$22)","v":"0"},null,{"$f":"IF(NX15=\"\",\"0\",1/NX$22)","v":"0"},null,{"$f":"IF(NZ15=\"\",\"0\",1/NZ$22)","v":"0"},null,{"$f":"IF(OB15=\"\",\"0\",1/OB$22)","v":"0"},null,{"$f":"IF(OD15=\"\",\"0\",1/OD$22)","v":"0"},null,{"$f":"IF(OF15=\"\",\"0\",1/OF$22)","v":"0"},null,{"$f":"IF(OH15=\"\",\"0\",1/OH$22)","v":"0"},null,{"$f":"IF(OJ15=\"\",\"0\",1/OJ$22)","v":"0"},null,{"$f":"IF(OL15=\"\",\"0\",1/OL$22)","v":"0"},null,{"$f":"IF(ON15=\"\",\"0\",1/ON$22)","v":"0"},null,{"$f":"IF(OP15=\"\",\"0\",1/OP$22)","v":"0"},null,{"$f":"IF(OR15=\"\",\"0\",1/OR$22)","v":"0"},null,{"$f":"IF(OT15=\"\",\"0\",1/OT$22)","v":"0"},null,{"$f":"IF(OV15=\"\",\"0\",1/OV$22)","v":"0"},null,{"$f":"IF(OX15=\"\",\"0\",1/OX$22)","v":"0"},null,{"$f":"IF(OZ15=\"\",\"0\",1/OZ$22)","v":"0"},null,{"$f":"IF(PB15=\"\",\"0\",1/PB$22)","v":"0"},null,{"$f":"IF(PD15=\"\",\"0\",1/PD$22)","v":"0"},null,{"$f":"IF(PF15=\"\",\"0\",1/PF$22)","v":"0"},null,{"$f":"IF(PH15=\"\",\"0\",1/PH$22)","v":"0"},null,{"$f":"IF(PJ15=\"\",\"0\",1/PJ$22)","v":"0"},null,{"$f":"IF(PL15=\"\",\"0\",1/PL$22)","v":"0"},null,{"$f":"IF(PN15=\"\",\"0\",1/PN$22)","v":"0"},null,{"$f":"IF(PP15=\"\",\"0\",1/PP$22)","v":"0"},null,{"$f":"IF(PR15=\"\",\"0\",1/PR$22)","v":"0"},null,{"$f":"IF(PT15=\"\",\"0\",1/PT$22)","v":"0"},null,{"$f":"IF(PV15=\"\",\"0\",1/PV$22)","v":"0"},null,{"$f":"IF(PX15=\"\",\"0\",1/PX$22)","v":"0"},null,{"$f":"IF(PZ15=\"\",\"0\",1/PZ$22)","v":"0"},null,{"$f":"IF(QB15=\"\",\"0\",1/QB$22)","v":"0"},null,{"$f":"IF(QD15=\"\",\"0\",1/QD$22)","v":"0"},null,{"$f":"IF(QF15=\"\",\"0\",1/QF$22)","v":"0"},null,{"$f":"IF(QH15=\"\",\"0\",1/QH$22)","v":"0"},null,{"$f":"IF(QJ15=\"\",\"0\",1/QJ$22)","v":"0"},null,{"$f":"IF(QL15=\"\",\"0\",1/QL$22)","v":"0"},null,{"$f":"IF(QN15=\"\",\"0\",1/QN$22)","v":"0"},null,{"$f":"IF(QP15=\"\",\"0\",1/QP$22)","v":"0"},null,{"$f":"IF(QR15=\"\",\"0\",1/QR$22)","v":"0"},null,{"$f":"IF(QT15=\"\",\"0\",1/QT$22)","v":"0"},null,{"$f":"IF(QV15=\"\",\"0\",1/QV$22)","v":"0"},null,{"$f":"IF(QX15=\"\",\"0\",1/QX$22)","v":"0"},null,{"$f":"IF(QZ15=\"\",\"0\",1/QZ$22)","v":"0"},null,{"$f":"IF(RB15=\"\",\"0\",1/RB$22)","v":"0"},null,{"$f":"IF(RD15=\"\",\"0\",1/RD$22)","v":"0"},null,{"$f":"IF(RF15=\"\",\"0\",1/RF$22)","v":"0"},null,{"$f":"IF(RH15=\"\",\"0\",1/RH$22)","v":"0"},null,{"$f":"IF(RJ15=\"\",\"0\",1/RJ$22)","v":"0"},null,{"$f":"IF(RL15=\"\",\"0\",1/RL$22)","v":"0"},null,{"$f":"IF(RN15=\"\",\"0\",1/RN$22)","v":"0"},null,{"$f":"IF(RP15=\"\",\"0\",1/RP$22)","v":"0"},null,{"$f":"IF(RR15=\"\",\"0\",1/RR$22)","v":"0"},null,{"$f":"IF(RT15=\"\",\"0\",1/RT$22)","v":"0"},null,{"$f":"IF(RV15=\"\",\"0\",1/RV$22)","v":"0"},null,{"$f":"IF(RX15=\"\",\"0\",1/RX$22)","v":"0"},null,{"$f":"IF(RZ15=\"\",\"0\",1/RZ$22)","v":"0"},null,{"$f":"IF(SB15=\"\",\"0\",1/SB$22)","v":"0"},null,{"$f":"IF(SD15=\"\",\"0\",1/SD$22)","v":"0"},null,{"$f":"IF(SF15=\"\",\"0\",1/SF$22)","v":"0"},null,{"$f":"IF(SH15=\"\",\"0\",1/SH$22)","v":"0"},null,{"$f":"IF(SJ15=\"\",\"0\",1/SJ$22)","v":"0"},null,{"$f":"IF(SL15=\"\",\"0\",1/SL$22)","v":"0"},null,{"$f":"IF(SN15=\"\",\"0\",1/SN$22)","v":"0"},null,{"$f":"IF(SP15=\"\",\"0\",1/SP$22)","v":"0"},null,{"$f":"IF(SR15=\"\",\"0\",1/SR$22)","v":"0"},null,{"$f":"IF(ST15=\"\",\"0\",1/ST$22)","v":"0"},null,{"$f":"IF(SV15=\"\",\"0\",1/SV$22)","v":"0"},null,{"$f":"IF(SX15=\"\",\"0\",1/SX$22)","v":"0"},null,{"$f":"IF(SZ15=\"\",\"0\",1/SZ$22)","v":"0"},null,{"$f":"IF(TB15=\"\",\"0\",1/TB$22)","v":"0"},null,{"$f":"IF(TD15=\"\",\"0\",1/TD$22)","v":"0"},null,{"$f":"IF(TF15=\"\",\"0\",1/TF$22)","v":"0"},null,{"$f":"IF(TH15=\"\",\"0\",1/TH$22)","v":"0"},null,{"$f":"IF(TJ15=\"\",\"0\",1/TJ$22)","v":"0"},null,{"$f":"IF(TL15=\"\",\"0\",1/TL$22)","v":"0"},null,{"$f":"IF(TN15=\"\",\"0\",1/TN$22)","v":"0"},null,{"$f":"IF(TP15=\"\",\"0\",1/TP$22)","v":"0"},null,{"$f":"IF(TR15=\"\",\"0\",1/TR$22)","v":"0"},null,{"$f":"IF(TT15=\"\",\"0\",1/TT$22)","v":"0"},null,{"$f":"IF(TV15=\"\",\"0\",1/TV$22)","v":"0"},null,{"$f":"IF(TX15=\"\",\"0\",1/TX$22)","v":"0"},null,{"$f":"IF(TZ15=\"\",\"0\",1/TZ$22)","v":"0"},null,{"$f":"IF(UB15=\"\",\"0\",1/UB$22)","v":"0"},null,{"$f":"IF(UD15=\"\",\"0\",1/UD$22)","v":"0"},null,{"$f":"IF(UF15=\"\",\"0\",1/UF$22)","v":"0"},null,{"$f":"IF(UH15=\"\",\"0\",1/UH$22)","v":"0"},null,{"$f":"IF(UJ15=\"\",\"0\",1/UJ$22)","v":"0"},null,{"$f":"IF(UL15=\"\",\"0\",1/UL$22)","v":"0"},null,{"$f":"IF(UN15=\"\",\"0\",1/UN$22)","v":"0"},null,{"$f":"IF(UP15=\"\",\"0\",1/UP$22)","v":"0"},null,{"$f":"IF(UR15=\"\",\"0\",1/UR$22)","v":"0"},null,{"$f":"IF(UT15=\"\",\"0\",1/UT$22)","v":"0"},null,{"$f":"IF(UV15=\"\",\"0\",1/UV$22)","v":"0"},null,{"$f":"IF(UX15=\"\",\"0\",1/UX$22)","v":"0"},null,{"$f":"IF(UZ15=\"\",\"0\",1/UZ$22)","v":"0"},null,{"$f":"IF(VB15=\"\",\"0\",1/VB$22)","v":"0"},null,{"$f":"IF(VD15=\"\",\"0\",1/VD$22)","v":"0"},null,{"$f":"IF(VF15=\"\",\"0\",1/VF$22)","v":"0"},null,{"$f":"IF(VH15=\"\",\"0\",1/VH$22)","v":"0"},null,{"$f":"IF(VJ15=\"\",\"0\",1/VJ$22)","v":"0"},null,{"$f":"IF(VL15=\"\",\"0\",1/VL$22)","v":"0"},null,{"$f":"IF(VN15=\"\",\"0\",1/VN$22)","v":"0"},null,{"$f":"IF(VP15=\"\",\"0\",1/VP$22)","v":"0"},null,{"$f":"IF(VR15=\"\",\"0\",1/VR$22)","v":"0"},null,{"$f":"IF(VT15=\"\",\"0\",1/VT$22)","v":"0"},null,{"$f":"IF(VV15=\"\",\"0\",1/VV$22)","v":"0"},null,{"$f":"IF(VX15=\"\",\"0\",1/VX$22)","v":"0"},null,{"$f":"IF(VZ15=\"\",\"0\",1/VZ$22)","v":"0"},null,{"$f":"IF(WB15=\"\",\"0\",1/WB$22)","v":"0"},null,{"$f":"IF(WD15=\"\",\"0\",1/WD$22)","v":"0"},null,{"$f":"IF(WF15=\"\",\"0\",1/WF$22)","v":"0"},null,{"$f":"IF(WH15=\"\",\"0\",1/WH$22)","v":"0"},null,{"$f":"IF(WJ15=\"\",\"0\",1/WJ$22)","v":"0"},null,{"$f":"IF(WL15=\"\",\"0\",1/WL$22)","v":"0"},null,{"$f":"IF(WN15=\"\",\"0\",1/WN$22)","v":"0"},null,{"$f":"IF(WP15=\"\",\"0\",1/WP$22)","v":"0"},null,{"$f":"IF(WR15=\"\",\"0\",1/WR$22)","v":"0"},null,{"$f":"IF(WT15=\"\",\"0\",1/WT$22)","v":"0"},null,{"$f":"IF(WV15=\"\",\"0\",1/WV$22)","v":"0"},null,{"$f":"IF(WX15=\"\",\"0\",1/WX$22)","v":"0"},null,{"$f":"IF(WZ15=\"\",\"0\",1/WZ$22)","v":"0"},null,{"$f":"IF(XB15=\"\",\"0\",1/XB$22)","v":"0"},null,{"$f":"IF(XD15=\"\",\"0\",1/XD$22)","v":"0"},null,{"$f":"IF(XF15=\"\",\"0\",1/XF$22)","v":"0"},null,{"$f":"IF(XH15=\"\",\"0\",1/XH$22)","v":"0"},null,{"$f":"IF(XJ15=\"\",\"0\",1/XJ$22)","v":"0"},null,{"$f":"IF(XL15=\"\",\"0\",1/XL$22)","v":"0"},null,{"$f":"IF(XN15=\"\",\"0\",1/XN$22)","v":"0"},null,{"$f":"IF(XP15=\"\",\"0\",1/XP$22)","v":"0"},null,{"$f":"IF(XR15=\"\",\"0\",1/XR$22)","v":"0"},null,{"$f":"IF(XT15=\"\",\"0\",1/XT$22)","v":"0"},null,{"$f":"IF(XV15=\"\",\"0\",1/XV$22)","v":"0"},null,{"$f":"IF(XX15=\"\",\"0\",1/XX$22)","v":"0"},null,{"$f":"IF(XZ15=\"\",\"0\",1/XZ$22)","v":"0"},null,{"$f":"IF(YB15=\"\",\"0\",1/YB$22)","v":"0"},null,{"$f":"IF(YD15=\"\",\"0\",1/YD$22)","v":"0"},null,{"$f":"IF(YF15=\"\",\"0\",1/YF$22)","v":"0"},null,{"$f":"IF(YH15=\"\",\"0\",1/YH$22)","v":"0"},null,{"$f":"IF(YJ15=\"\",\"0\",1/YJ$22)","v":"0"},null,{"$f":"IF(YL15=\"\",\"0\",1/YL$22)","v":"0"},null,{"$f":"IF(YN15=\"\",\"0\",1/YN$22)","v":"0"},null,{"$f":"IF(YP15=\"\",\"0\",1/YP$22)","v":"0"},null,{"$f":"IF(YR15=\"\",\"0\",1/YR$22)","v":"0"},null,{"$f":"IF(YT15=\"\",\"0\",1/YT$22)","v":"0"},null,{"$f":"IF(YV15=\"\",\"0\",1/YV$22)","v":"0"},null,{"$f":"IF(YX15=\"\",\"0\",1/YX$22)","v":"0"},null,{"$f":"IF(YZ15=\"\",\"0\",1/YZ$22)","v":"0"},null,{"$f":"IF(ZB15=\"\",\"0\",1/ZB$22)","v":"0"},null,{"$f":"IF(ZD15=\"\",\"0\",1/ZD$22)","v":"0"},null,{"$f":"IF(ZF15=\"\",\"0\",1/ZF$22)","v":"0"},null,{"$f":"IF(ZH15=\"\",\"0\",1/ZH$22)","v":"0"},null,{"$f":"IF(ZJ15=\"\",\"0\",1/ZJ$22)","v":"0"},null,{"$f":"IF(ZL15=\"\",\"0\",1/ZL$22)","v":"0"},null,{"$f":"IF(ZN15=\"\",\"0\",1/ZN$22)","v":"0"},null,{"$f":"IF(ZP15=\"\",\"0\",1/ZP$22)","v":"0"},null,{"$f":"IF(ZR15=\"\",\"0\",1/ZR$22)","v":"0"},null,{"$f":"IF(ZT15=\"\",\"0\",1/ZT$22)","v":"0"},null,{"$f":"IF(ZV15=\"\",\"0\",1/ZV$22)","v":"0"},null,{"$f":"IF(ZX15=\"\",\"0\",1/ZX$22)","v":"0"},null,{"$f":"IF(ZZ15=\"\",\"0\",1/ZZ$22)","v":"0"},null,{"$f":"IF(AAB15=\"\",\"0\",1/AAB$22)","v":"0"},null,{"$f":"IF(AAD15=\"\",\"0\",1/AAD$22)","v":"0"},null,{"$f":"IF(AAF15=\"\",\"0\",1/AAF$22)","v":"0"},null,{"$f":"IF(AAH15=\"\",\"0\",1/AAH$22)","v":"0"},null,{"$f":"IF(AAJ15=\"\",\"0\",1/AAJ$22)","v":"0"},null,{"$f":"IF(AAL15=\"\",\"0\",1/AAL$22)","v":"0"},null,{"$f":"IF(AAN15=\"\",\"0\",1/AAN$22)","v":"0"},null,{"$f":"IF(AAP15=\"\",\"0\",1/AAP$22)","v":"0"},null,{"$f":"IF(AAR15=\"\",\"0\",1/AAR$22)","v":"0"},null,{"$f":"IF(AAT15=\"\",\"0\",1/AAT$22)","v":"0"},null,{"$f":"IF(AAV15=\"\",\"0\",1/AAV$22)","v":"0"},null,{"$f":"IF(AAX15=\"\",\"0\",1/AAX$22)","v":"0"},null,{"$f":"IF(AAZ15=\"\",\"0\",1/AAZ$22)","v":"0"},null,{"$f":"IF(ABB15=\"\",\"0\",1/ABB$22)","v":"0"},null,{"$f":"IF(ABD15=\"\",\"0\",1/ABD$22)","v":"0"},null,{"$f":"IF(ABF15=\"\",\"0\",1/ABF$22)","v":"0"},null,{"$f":"IF(ABH15=\"\",\"0\",1/ABH$22)","v":"0"},null,{"$f":"IF(ABJ15=\"\",\"0\",1/ABJ$22)","v":"0"},null,{"$f":"IF(ABL15=\"\",\"0\",1/ABL$22)","v":"0"},null,{"$f":"IF(ABN15=\"\",\"0\",1/ABN$22)","v":"0"},null,{"$f":"IF(ABP15=\"\",\"0\",1/ABP$22)","v":"0"},null,{"$f":"IF(ABR15=\"\",\"0\",1/ABR$22)","v":"0"},null,{"$f":"IF(ABT15=\"\",\"0\",1/ABT$22)","v":"0"},null,{"$f":"IF(ABV15=\"\",\"0\",1/ABV$22)","v":"0"},null,{"$f":"IF(ABX15=\"\",\"0\",1/ABX$22)","v":"0"},null,{"$f":"IF(ABZ15=\"\",\"0\",1/ABZ$22)","v":"0"},null,{"$f":"IF(ACB15=\"\",\"0\",1/ACB$22)","v":"0"},null,{"$f":"IF(ACD15=\"\",\"0\",1/ACD$22)","v":"0"},null,{"$f":"IF(ACF15=\"\",\"0\",1/ACF$22)","v":"0"},null,{"$f":"IF(ACH15=\"\",\"0\",1/ACH$22)","v":"0"},null,{"$f":"IF(ACJ15=\"\",\"0\",1/ACJ$22)","v":"0"},null,{"$f":"IF(ACL15=\"\",\"0\",1/ACL$22)","v":"0"},null,{"$f":"IF(ACN15=\"\",\"0\",1/ACN$22)","v":"0"},null,{"$f":"IF(ACP15=\"\",\"0\",1/ACP$22)","v":"0"},null,{"$f":"IF(ACR15=\"\",\"0\",1/ACR$22)","v":"0"},null,{"$f":"IF(ACT15=\"\",\"0\",1/ACT$22)","v":"0"},null,{"$f":"IF(ACV15=\"\",\"0\",1/ACV$22)","v":"0"},null,{"$f":"IF(ACX15=\"\",\"0\",1/ACX$22)","v":"0"},null,{"$f":"IF(ACZ15=\"\",\"0\",1/ACZ$22)","v":"0"},null,{"$f":"IF(ADB15=\"\",\"0\",1/ADB$22)","v":"0"},null,{"$f":"IF(ADD15=\"\",\"0\",1/ADD$22)","v":"0"},null,{"$f":"IF(ADF15=\"\",\"0\",1/ADF$22)","v":"0"},null,{"$f":"IF(ADH15=\"\",\"0\",1/ADH$22)","v":"0"},null,{"$f":"IF(ADJ15=\"\",\"0\",1/ADJ$22)","v":"0"},null,{"$f":"IF(ADL15=\"\",\"0\",1/ADL$22)","v":"0"},null,{"$f":"IF(ADN15=\"\",\"0\",1/ADN$22)","v":"0"},null,{"$f":"IF(ADP15=\"\",\"0\",1/ADP$22)","v":"0"},null,{"$f":"IF(ADR15=\"\",\"0\",1/ADR$22)","v":"0"},null,{"$f":"IF(ADT15=\"\",\"0\",1/ADT$22)","v":"0"},null,{"$f":"IF(ADV15=\"\",\"0\",1/ADV$22)","v":"0"},null,{"$f":"IF(ADX15=\"\",\"0\",1/ADX$22)","v":"0"},null,{"$f":"IF(ADZ15=\"\",\"0\",1/ADZ$22)","v":"0"},null,{"$f":"IF(AEB15=\"\",\"0\",1/AEB$22)","v":"0"},null,{"$f":"IF(AED15=\"\",\"0\",1/AED$22)","v":"0"},null,{"$f":"IF(AEF15=\"\",\"0\",1/AEF$22)","v":"0"},null,{"$f":"IF(AEH15=\"\",\"0\",1/AEH$22)","v":"0"},null,{"$f":"IF(AEJ15=\"\",\"0\",1/AEJ$22)","v":"0"},null,{"$f":"IF(AEL15=\"\",\"0\",1/AEL$22)","v":"0"},null,{"$f":"IF(AEN15=\"\",\"0\",1/AEN$22)","v":"0"},null,{"$f":"IF(AEP15=\"\",\"0\",1/AEP$22)","v":"0"},null,{"$f":"IF(AER15=\"\",\"0\",1/AER$22)","v":"0"},null,{"$f":"IF(AET15=\"\",\"0\",1/AET$22)","v":"0"},null,{"$f":"IF(AEV15=\"\",\"0\",1/AEV$22)","v":"0"},null,{"$f":"IF(AEX15=\"\",\"0\",1/AEX$22)","v":"0"},null,{"$f":"IF(AEZ15=\"\",\"0\",1/AEZ$22)","v":"0"},null,{"$f":"IF(AFB15=\"\",\"0\",1/AFB$22)","v":"0"},null,{"$f":"IF(AFD15=\"\",\"0\",1/AFD$22)","v":"0"},null,{"$f":"IF(AFF15=\"\",\"0\",1/AFF$22)","v":"0"},null,{"$f":"IF(AFH15=\"\",\"0\",1/AFH$22)","v":"0"},null,{"$f":"IF(AFJ15=\"\",\"0\",1/AFJ$22)","v":"0"},null,{"$f":"IF(AFL15=\"\",\"0\",1/AFL$22)","v":"0"},null,{"$f":"IF(AFN15=\"\",\"0\",1/AFN$22)","v":"0"},null,{"$f":"IF(AFP15=\"\",\"0\",1/AFP$22)","v":"0"},null,{"$f":"IF(AFR15=\"\",\"0\",1/AFR$22)","v":"0"},null,{"$f":"IF(AFT15=\"\",\"0\",1/AFT$22)","v":"0"},null,{"$f":"IF(AFV15=\"\",\"0\",1/AFV$22)","v":"0"},null,{"$f":"IF(AFX15=\"\",\"0\",1/AFX$22)","v":"0"},null,{"$f":"IF(AFZ15=\"\",\"0\",1/AFZ$22)","v":"0"},null,{"$f":"IF(AGB15=\"\",\"0\",1/AGB$22)","v":"0"},null,{"$f":"IF(AGD15=\"\",\"0\",1/AGD$22)","v":"0"},null,{"$f":"IF(AGF15=\"\",\"0\",1/AGF$22)","v":"0"},null,{"$f":"IF(AGH15=\"\",\"0\",1/AGH$22)","v":"0"},null,{"$f":"IF(AGJ15=\"\",\"0\",1/AGJ$22)","v":"0"},null,{"$f":"IF(AGL15=\"\",\"0\",1/AGL$22)","v":"0"},null,{"$f":"IF(AGN15=\"\",\"0\",1/AGN$22)","v":"0"},null,{"$f":"IF(AGP15=\"\",\"0\",1/AGP$22)","v":"0"},null,{"$f":"IF(AGR15=\"\",\"0\",1/AGR$22)","v":"0"},null,{"$f":"IF(AGT15=\"\",\"0\",1/AGT$22)","v":"0"},null,{"$f":"IF(AGV15=\"\",\"0\",1/AGV$22)","v":"0"},null,{"$f":"IF(AGX15=\"\",\"0\",1/AGX$22)","v":"0"},null,{"$f":"IF(AGZ15=\"\",\"0\",1/AGZ$22)","v":"0"},null,{"$f":"IF(AHB15=\"\",\"0\",1/AHB$22)","v":"0"},null,{"$f":"IF(AHD15=\"\",\"0\",1/AHD$22)","v":"0"},null,{"$f":"IF(AHF15=\"\",\"0\",1/AHF$22)","v":"0"},null,{"$f":"IF(AHH15=\"\",\"0\",1/AHH$22)","v":"0"},null,{"$f":"IF(AHJ15=\"\",\"0\",1/AHJ$22)","v":"0"},null,{"$f":"IF(AHL15=\"\",\"0\",1/AHL$22)","v":"0"},null,{"$f":"IF(AHN15=\"\",\"0\",1/AHN$22)","v":"0"},null,{"$f":"IF(AHP15=\"\",\"0\",1/AHP$22)","v":"0"},null,{"$f":"IF(AHR15=\"\",\"0\",1/AHR$22)","v":"0"},null,{"$f":"IF(AHT15=\"\",\"0\",1/AHT$22)","v":"0"},null,{"$f":"IF(AHV15=\"\",\"0\",1/AHV$22)","v":"0"},null,{"$f":"IF(AHX15=\"\",\"0\",1/AHX$22)","v":"0"},null,{"$f":"IF(AHZ15=\"\",\"0\",1/AHZ$22)","v":"0"},null,{"$f":"IF(AIB15=\"\",\"0\",1/AIB$22)","v":"0"},null,{"$f":"IF(AID15=\"\",\"0\",1/AID$22)","v":"0"},null,{"$f":"IF(AIF15=\"\",\"0\",1/AIF$22)","v":"0"},null,{"$f":"IF(AIH15=\"\",\"0\",1/AIH$22)","v":"0"},null,{"$f":"IF(AIJ15=\"\",\"0\",1/AIJ$22)","v":"0"},null,{"$f":"IF(AIL15=\"\",\"0\",1/AIL$22)","v":"0"},null,{"$f":"IF(AIN15=\"\",\"0\",1/AIN$22)","v":"0"},null,{"$f":"IF(AIP15=\"\",\"0\",1/AIP$22)","v":"0"},null,{"$f":"IF(AIR15=\"\",\"0\",1/AIR$22)","v":"0"},null,{"$f":"IF(AIT15=\"\",\"0\",1/AIT$22)","v":"0"},null,{"$f":"IF(AIV15=\"\",\"0\",1/AIV$22)","v":"0"},null,{"$f":"IF(AIX15=\"\",\"0\",1/AIX$22)","v":"0"},null,{"$f":"IF(AIZ15=\"\",\"0\",1/AIZ$22)","v":"0"},null,{"$f":"IF(AJB15=\"\",\"0\",1/AJB$22)","v":"0"},null,{"$f":"IF(AJD15=\"\",\"0\",1/AJD$22)","v":"0"},null,{"$f":"IF(AJF15=\"\",\"0\",1/AJF$22)","v":"0"},null,{"$f":"IF(AJH15=\"\",\"0\",1/AJH$22)","v":"0"},null,{"$f":"IF(AJJ15=\"\",\"0\",1/AJJ$22)","v":"0"},null,{"$f":"IF(AJL15=\"\",\"0\",1/AJL$22)","v":"0"},null,{"$f":"IF(AJN15=\"\",\"0\",1/AJN$22)","v":"0"},null,{"$f":"IF(AJP15=\"\",\"0\",1/AJP$22)","v":"0"},null,{"$f":"IF(AJR15=\"\",\"0\",1/AJR$22)","v":"0"},null,{"$f":"IF(AJT15=\"\",\"0\",1/AJT$22)","v":"0"},null,{"$f":"IF(AJV15=\"\",\"0\",1/AJV$22)","v":"0"},null,{"$f":"IF(AJX15=\"\",\"0\",1/AJX$22)","v":"0"},null,{"$f":"IF(AJZ15=\"\",\"0\",1/AJZ$22)","v":"0"},null,{"$f":"IF(AKB15=\"\",\"0\",1/AKB$22)","v":"0"},null,{"$f":"IF(AKD15=\"\",\"0\",1/AKD$22)","v":"0"},null,{"$f":"IF(AKF15=\"\",\"0\",1/AKF$22)","v":"0"},null,{"$f":"IF(AKH15=\"\",\"0\",1/AKH$22)","v":"0"},null,{"$f":"IF(AKJ15=\"\",\"0\",1/AKJ$22)","v":"0"},null,{"$f":"IF(AKL15=\"\",\"0\",1/AKL$22)","v":"0"},null,{"$f":"IF(AKN15=\"\",\"0\",1/AKN$22)","v":"0"},null,{"$f":"IF(AKP15=\"\",\"0\",1/AKP$22)","v":"0"},null,{"$f":"IF(AKR15=\"\",\"0\",1/AKR$22)","v":"0"},null,{"$f":"IF(AKT15=\"\",\"0\",1/AKT$22)","v":"0"},null,{"$f":"IF(AKV15=\"\",\"0\",1/AKV$22)","v":"0"},null,{"$f":"IF(AKX15=\"\",\"0\",1/AKX$22)","v":"0"},null,{"$f":"IF(AKZ15=\"\",\"0\",1/AKZ$22)","v":"0"},null,{"$f":"IF(ALB15=\"\",\"0\",1/ALB$22)","v":"0"},null,{"$f":"IF(ALD15=\"\",\"0\",1/ALD$22)","v":"0"},null,{"$f":"IF(ALF15=\"\",\"0\",1/ALF$22)","v":"0"},null,{"$f":"IF(ALH15=\"\",\"0\",1/ALH$22)","v":"0"},null,{"$f":"IF(ALJ15=\"\",\"0\",1/ALJ$22)","v":"0"},null,{"$f":"IF(ALL15=\"\",\"0\",1/ALL$22)","v":"0"},null,{"$f":"IF(ALN15=\"\",\"0\",1/ALN$22)","v":"0"},null,{"$f":"IF(ALP15=\"\",\"0\",1/ALP$22)","v":"0"},null,{"$f":"IF(ALR15=\"\",\"0\",1/ALR$22)","v":"0"},null,{"$f":"IF(ALT15=\"\",\"0\",1/ALT$22)","v":"0"},null,{"$f":"IF(ALV15=\"\",\"0\",1/ALV$22)","v":"0"},null,{"$f":"IF(ALX15=\"\",\"0\",1/ALX$22)","v":"0"},null,{"$f":"IF(ALZ15=\"\",\"0\",1/ALZ$22)","v":"0"},null,{"$f":"IF(AMB15=\"\",\"0\",1/AMB$22)","v":"0"},null,{"$f":"IF(AMD15=\"\",\"0\",1/AMD$22)","v":"0"},null,{"$f":"IF(AMF15=\"\",\"0\",1/AMF$22)","v":"0"},null,{"$f":"IF(AMH15=\"\",\"0\",1/AMH$22)","v":"0"},null,{"$f":"IF(AMJ15=\"\",\"0\",1/AMJ$22)","v":"0"},null,{"$f":"IF(AML15=\"\",\"0\",1/AML$22)","v":"0"},null,{"$f":"IF(AMN15=\"\",\"0\",1/AMN$22)","v":"0"},null,{"$f":"IF(AMP15=\"\",\"0\",1/AMP$22)","v":"0"},null,{"$f":"IF(AMR15=\"\",\"0\",1/AMR$22)","v":"0"},null,{"$f":"IF(AMT15=\"\",\"0\",1/AMT$22)","v":"0"},null,{"$f":"IF(AMV15=\"\",\"0\",1/AMV$22)","v":"0"},null,{"$f":"IF(AMX15=\"\",\"0\",1/AMX$22)","v":"0"},null,{"$f":"IF(AMZ15=\"\",\"0\",1/AMZ$22)","v":"0"},null,{"$f":"IF(ANB15=\"\",\"0\",1/ANB$22)","v":"0"},null,{"$f":"IF(AND15=\"\",\"0\",1/AND$22)","v":"0"},null,{"$f":"IF(ANF15=\"\",\"0\",1/ANF$22)","v":"0"},null,{"$f":"IF(ANH15=\"\",\"0\",1/ANH$22)","v":"0"},null,{"$f":"IF(ANJ15=\"\",\"0\",1/ANJ$22)","v":"0"},null,{"$f":"IF(ANL15=\"\",\"0\",1/ANL$22)","v":"0"},null,{"$f":"IF(ANN15=\"\",\"0\",1/ANN$22)","v":"0"},null,{"$f":"IF(ANP15=\"\",\"0\",1/ANP$22)","v":"0"},null,{"$f":"IF(ANR15=\"\",\"0\",1/ANR$22)","v":"0"},null,{"$f":"IF(ANT15=\"\",\"0\",1/ANT$22)","v":"0"},null,{"$f":"IF(ANV15=\"\",\"0\",1/ANV$22)","v":"0"},null,{"$f":"IF(ANX15=\"\",\"0\",1/ANX$22)","v":"0"},null,{"$f":"IF(ANZ15=\"\",\"0\",1/ANZ$22)","v":"0"},null,{"$f":"IF(AOB15=\"\",\"0\",1/AOB$22)","v":"0"},null,{"$f":"IF(AOD15=\"\",\"0\",1/AOD$22)","v":"0"},null,{"$f":"IF(AOF15=\"\",\"0\",1/AOF$22)","v":"0"},null,{"$f":"IF(AOH15=\"\",\"0\",1/AOH$22)","v":"0"},null,{"$f":"IF(AOJ15=\"\",\"0\",1/AOJ$22)","v":"0"},null,{"$f":"IF(AOL15=\"\",\"0\",1/AOL$22)","v":"0"},null,{"$f":"IF(AON15=\"\",\"0\",1/AON$22)","v":"0"},null,{"$f":"IF(AOP15=\"\",\"0\",1/AOP$22)","v":"0"},null,{"$f":"IF(AOR15=\"\",\"0\",1/AOR$22)","v":"0"},null,{"$f":"IF(AOT15=\"\",\"0\",1/AOT$22)","v":"0"},null,{"$f":"IF(AOV15=\"\",\"0\",1/AOV$22)","v":"0"},null,{"$f":"IF(AOX15=\"\",\"0\",1/AOX$22)","v":"0"},null,{"$f":"IF(AOZ15=\"\",\"0\",1/AOZ$22)","v":"0"},null,{"$f":"IF(APB15=\"\",\"0\",1/APB$22)","v":"0"},null,{"$f":"IF(APD15=\"\",\"0\",1/APD$22)","v":"0"},null,{"$f":"IF(APF15=\"\",\"0\",1/APF$22)","v":"0"},null,{"$f":"IF(APH15=\"\",\"0\",1/APH$22)","v":"0"},null,{"$f":"IF(APJ15=\"\",\"0\",1/APJ$22)","v":"0"},null,{"$f":"IF(APL15=\"\",\"0\",1/APL$22)","v":"0"},null,{"$f":"IF(APN15=\"\",\"0\",1/APN$22)","v":"0"},null,{"$f":"IF(APP15=\"\",\"0\",1/APP$22)","v":"0"},null,{"$f":"IF(APR15=\"\",\"0\",1/APR$22)","v":"0"},null,{"$f":"IF(APT15=\"\",\"0\",1/APT$22)","v":"0"},null,{"$f":"IF(APV15=\"\",\"0\",1/APV$22)","v":"0"},null,{"$f":"IF(APX15=\"\",\"0\",1/APX$22)","v":"0"},null,{"$f":"IF(APZ15=\"\",\"0\",1/APZ$22)","v":"0"},null,{"$f":"IF(AQB15=\"\",\"0\",1/AQB$22)","v":"0"},null,{"$f":"IF(AQD15=\"\",\"0\",1/AQD$22)","v":"0"},null,{"$f":"IF(AQF15=\"\",\"0\",1/AQF$22)","v":"0"},null,{"$f":"IF(AQH15=\"\",\"0\",1/AQH$22)","v":"0"},null,{"$f":"IF(AQJ15=\"\",\"0\",1/AQJ$22)","v":"0"},null,{"$f":"IF(AQL15=\"\",\"0\",1/AQL$22)","v":"0"},null,{"$f":"IF(AQN15=\"\",\"0\",1/AQN$22)","v":"0"},null,{"$f":"IF(AQP15=\"\",\"0\",1/AQP$22)","v":"0"},null,{"$f":"IF(AQR15=\"\",\"0\",1/AQR$22)","v":"0"},null,{"$f":"IF(AQT15=\"\",\"0\",1/AQT$22)","v":"0"},null,{"$f":"IF(AQV15=\"\",\"0\",1/AQV$22)","v":"0"},null,{"$f":"IF(AQX15=\"\",\"0\",1/AQX$22)","v":"0"},null,{"$f":"IF(AQZ15=\"\",\"0\",1/AQZ$22)","v":"0"},null,{"$f":"IF(ARB15=\"\",\"0\",1/ARB$22)","v":"0"},null,{"$f":"IF(ARD15=\"\",\"0\",1/ARD$22)","v":"0"},null,{"$f":"IF(ARF15=\"\",\"0\",1/ARF$22)","v":"0"},null,{"$f":"IF(ARH15=\"\",\"0\",1/ARH$22)","v":"0"},null,{"$f":"IF(ARJ15=\"\",\"0\",1/ARJ$22)","v":"0"},null,{"$f":"IF(ARL15=\"\",\"0\",1/ARL$22)","v":"0"},null,{"$f":"IF(ARN15=\"\",\"0\",1/ARN$22)","v":"0"},null,{"$f":"IF(ARP15=\"\",\"0\",1/ARP$22)","v":"0"},null,{"$f":"IF(ARR15=\"\",\"0\",1/ARR$22)","v":"0"},null,{"$f":"IF(ART15=\"\",\"0\",1/ART$22)","v":"0"},null,{"$f":"IF(ARV15=\"\",\"0\",1/ARV$22)","v":"0"},null,{"$f":"IF(ARX15=\"\",\"0\",1/ARX$22)","v":"0"},null,{"$f":"IF(ARZ15=\"\",\"0\",1/ARZ$22)","v":"0"},null,{"$f":"IF(ASB15=\"\",\"0\",1/ASB$22)","v":"0"},null,{"$f":"IF(ASD15=\"\",\"0\",1/ASD$22)","v":"0"},null,{"$f":"IF(ASF15=\"\",\"0\",1/ASF$22)","v":"0"},null,{"$f":"IF(ASH15=\"\",\"0\",1/ASH$22)","v":"0"},null,{"$f":"IF(ASJ15=\"\",\"0\",1/ASJ$22)","v":"0"},null,{"$f":"IF(ASL15=\"\",\"0\",1/ASL$22)","v":"0"},null,{"$f":"IF(ASN15=\"\",\"0\",1/ASN$22)","v":"0"},null,{"$f":"IF(ASP15=\"\",\"0\",1/ASP$22)","v":"0"},null,{"$f":"IF(ASR15=\"\",\"0\",1/ASR$22)","v":"0"},null,{"$f":"IF(AST15=\"\",\"0\",1/AST$22)","v":"0"},null,{"$f":"IF(ASV15=\"\",\"0\",1/ASV$22)","v":"0"},null,{"$f":"IF(ASX15=\"\",\"0\",1/ASX$22)","v":"0"},null,{"$f":"IF(ASZ15=\"\",\"0\",1/ASZ$22)","v":"0"},null,{"$f":"IF(ATB15=\"\",\"0\",1/ATB$22)","v":"0"},null,{"$f":"IF(ATD15=\"\",\"0\",1/ATD$22)","v":"0"},null,{"$f":"IF(ATF15=\"\",\"0\",1/ATF$22)","v":"0"},null,{"$f":"IF(ATH15=\"\",\"0\",1/ATH$22)","v":"0"},null,{"$f":"IF(ATJ15=\"\",\"0\",1/ATJ$22)","v":"0"},null,{"$f":"IF(ATL15=\"\",\"0\",1/ATL$22)","v":"0"},null,{"$f":"IF(ATN15=\"\",\"0\",1/ATN$22)","v":"0"},null,{"$f":"IF(ATP15=\"\",\"0\",1/ATP$22)","v":"0"},null,{"$f":"IF(ATR15=\"\",\"0\",1/ATR$22)","v":"0"},null,{"$f":"IF(ATT15=\"\",\"0\",1/ATT$22)","v":"0"},null,{"$f":"IF(ATV15=\"\",\"0\",1/ATV$22)","v":"0"},null,{"$f":"IF(ATX15=\"\",\"0\",1/ATX$22)","v":"0"},null,{"$f":"IF(ATZ15=\"\",\"0\",1/ATZ$22)","v":"0"},null,{"$f":"IF(AUB15=\"\",\"0\",1/AUB$22)","v":"0"},null,{"$f":"IF(AUD15=\"\",\"0\",1/AUD$22)","v":"0"},null,{"$f":"IF(AUF15=\"\",\"0\",1/AUF$22)","v":"0"},null,{"$f":"IF(AUH15=\"\",\"0\",1/AUH$22)","v":"0"},null,{"$f":"IF(AUJ15=\"\",\"0\",1/AUJ$22)","v":"0"},null,{"$f":"IF(AUL15=\"\",\"0\",1/AUL$22)","v":"0"},null,{"$f":"IF(AUN15=\"\",\"0\",1/AUN$22)","v":"0"},null,{"$f":"IF(AUP15=\"\",\"0\",1/AUP$22)","v":"0"},null,{"$f":"IF(AUR15=\"\",\"0\",1/AUR$22)","v":"0"},null,{"$f":"IF(AUT15=\"\",\"0\",1/AUT$22)","v":"0"},null,{"$f":"IF(AUV15=\"\",\"0\",1/AUV$22)","v":"0"},null,{"$f":"IF(AUX15=\"\",\"0\",1/AUX$22)","v":"0"},null,{"$f":"IF(AUZ15=\"\",\"0\",1/AUZ$22)","v":"0"},null,{"$f":"IF(AVB15=\"\",\"0\",1/AVB$22)","v":"0"},null,{"$f":"IF(AVD15=\"\",\"0\",1/AVD$22)","v":"0"},null,{"$f":"IF(AVF15=\"\",\"0\",1/AVF$22)","v":"0"},null,{"$f":"IF(AVH15=\"\",\"0\",1/AVH$22)","v":"0"},null,{"$f":"IF(AVJ15=\"\",\"0\",1/AVJ$22)","v":"0"},null,{"$f":"IF(AVL15=\"\",\"0\",1/AVL$22)","v":"0"},null,{"$f":"IF(AVN15=\"\",\"0\",1/AVN$22)","v":"0"},null,{"$f":"IF(AVP15=\"\",\"0\",1/AVP$22)","v":"0"},null,{"$f":"IF(AVR15=\"\",\"0\",1/AVR$22)","v":"0"},null,{"$f":"IF(AVT15=\"\",\"0\",1/AVT$22)","v":"0"},null,{"$f":"IF(AVV15=\"\",\"0\",1/AVV$22)","v":"0"},null,{"$f":"IF(AVX15=\"\",\"0\",1/AVX$22)","v":"0"},null,{"$f":"IF(AVZ15=\"\",\"0\",1/AVZ$22)","v":"0"},null,{"$f":"IF(AWB15=\"\",\"0\",1/AWB$22)","v":"0"},null,{"$f":"IF(AWD15=\"\",\"0\",1/AWD$22)","v":"0"},null,{"$f":"IF(AWF15=\"\",\"0\",1/AWF$22)","v":"0"},null,{"$f":"IF(AWH15=\"\",\"0\",1/AWH$22)","v":"0"},null,{"$f":"IF(AWJ15=\"\",\"0\",1/AWJ$22)","v":"0"},null,{"$f":"IF(AWL15=\"\",\"0\",1/AWL$22)","v":"0"},null,{"$f":"IF(AWN15=\"\",\"0\",1/AWN$22)","v":"0"},null,{"$f":"IF(AWP15=\"\",\"0\",1/AWP$22)","v":"0"},null,{"$f":"IF(AWR15=\"\",\"0\",1/AWR$22)","v":"0"},null,{"$f":"IF(AWT15=\"\",\"0\",1/AWT$22)","v":"0"},null,{"$f":"IF(AWV15=\"\",\"0\",1/AWV$22)","v":"0"},null,{"$f":"IF(AWX15=\"\",\"0\",1/AWX$22)","v":"0"},null,{"$f":"IF(AWZ15=\"\",\"0\",1/AWZ$22)","v":"0"},null,{"$f":"IF(AXB15=\"\",\"0\",1/AXB$22)","v":"0"},null,{"$f":"IF(AXD15=\"\",\"0\",1/AXD$22)","v":"0"},null,{"$f":"IF(AXF15=\"\",\"0\",1/AXF$22)","v":"0"},null,{"$f":"IF(AXH15=\"\",\"0\",1/AXH$22)","v":"0"},null,{"$f":"IF(AXJ15=\"\",\"0\",1/AXJ$22)","v":"0"},null,{"$f":"IF(AXL15=\"\",\"0\",1/AXL$22)","v":"0"},null,{"$f":"IF(AXN15=\"\",\"0\",1/AXN$22)","v":"0"},null,{"$f":"IF(AXP15=\"\",\"0\",1/AXP$22)","v":"0"},null,{"$f":"IF(AXR15=\"\",\"0\",1/AXR$22)","v":"0"},null,{"$f":"IF(AXT15=\"\",\"0\",1/AXT$22)","v":"0"},null,{"$f":"IF(AXV15=\"\",\"0\",1/AXV$22)","v":"0"},null,{"$f":"IF(AXX15=\"\",\"0\",1/AXX$22)","v":"0"},null,{"$f":"IF(AXZ15=\"\",\"0\",1/AXZ$22)","v":"0"},null,{"$f":"IF(AYB15=\"\",\"0\",1/AYB$22)","v":"0"},null,{"$f":"IF(AYD15=\"\",\"0\",1/AYD$22)","v":"0"},null,{"$f":"IF(AYF15=\"\",\"0\",1/AYF$22)","v":"0"},null,{"$f":"IF(AYH15=\"\",\"0\",1/AYH$22)","v":"0"},null,{"$f":"IF(AYJ15=\"\",\"0\",1/AYJ$22)","v":"0"},null,{"$f":"IF(AYL15=\"\",\"0\",1/AYL$22)","v":"0"},null,{"$f":"IF(AYN15=\"\",\"0\",1/AYN$22)","v":"0"},null,{"$f":"IF(AYP15=\"\",\"0\",1/AYP$22)","v":"0"},null,{"$f":"IF(AYR15=\"\",\"0\",1/AYR$22)","v":"0"},null,{"$f":"IF(AYT15=\"\",\"0\",1/AYT$22)","v":"0"},null,{"$f":"IF(AYV15=\"\",\"0\",1/AYV$22)","v":"0"},null,{"$f":"IF(AYX15=\"\",\"0\",1/AYX$22)","v":"0"},null,{"$f":"IF(AYZ15=\"\",\"0\",1/AYZ$22)","v":"0"},null,{"$f":"IF(AZB15=\"\",\"0\",1/AZB$22)","v":"0"},null,{"$f":"IF(AZD15=\"\",\"0\",1/AZD$22)","v":"0"},null,{"$f":"IF(AZF15=\"\",\"0\",1/AZF$22)","v":"0"},null,{"$f":"IF(AZH15=\"\",\"0\",1/AZH$22)","v":"0"},null,{"$f":"IF(AZJ15=\"\",\"0\",1/AZJ$22)","v":"0"},null,{"$f":"IF(AZL15=\"\",\"0\",1/AZL$22)","v":"0"},null,{"$f":"IF(AZN15=\"\",\"0\",1/AZN$22)","v":"0"},null,{"$f":"IF(AZP15=\"\",\"0\",1/AZP$22)","v":"0"},null,{"$f":"IF(AZR15=\"\",\"0\",1/AZR$22)","v":"0"},null,{"$f":"IF(AZT15=\"\",\"0\",1/AZT$22)","v":"0"},null,{"$f":"IF(AZV15=\"\",\"0\",1/AZV$22)","v":"0"},null,{"$f":"IF(AZX15=\"\",\"0\",1/AZX$22)","v":"0"},null,{"$f":"IF(AZZ15=\"\",\"0\",1/AZZ$22)","v":"0"},null,{"$f":"IF(BAB15=\"\",\"0\",1/BAB$22)","v":"0"},null,{"$f":"IF(BAD15=\"\",\"0\",1/BAD$22)","v":"0"},null,{"$f":"IF(BAF15=\"\",\"0\",1/BAF$22)","v":"0"},null,{"$f":"IF(BAH15=\"\",\"0\",1/BAH$22)","v":"0"},null,{"$f":"IF(BAJ15=\"\",\"0\",1/BAJ$22)","v":"0"},null,{"$f":"IF(BAL15=\"\",\"0\",1/BAL$22)","v":"0"},null,{"$f":"IF(BAN15=\"\",\"0\",1/BAN$22)","v":"0"},null,{"$f":"IF(BAP15=\"\",\"0\",1/BAP$22)","v":"0"},null,{"$f":"IF(BAR15=\"\",\"0\",1/BAR$22)","v":"0"},null,{"$f":"IF(BAT15=\"\",\"0\",1/BAT$22)","v":"0"},null,{"$f":"IF(BAV15=\"\",\"0\",1/BAV$22)","v":"0"},null,{"$f":"IF(BAX15=\"\",\"0\",1/BAX$22)","v":"0"},null,{"$f":"IF(BAZ15=\"\",\"0\",1/BAZ$22)","v":"0"},null,{"$f":"IF(BBB15=\"\",\"0\",1/BBB$22)","v":"0"},null,{"$f":"IF(BBD15=\"\",\"0\",1/BBD$22)","v":"0"},null,{"$f":"IF(BBF15=\"\",\"0\",1/BBF$22)","v":"0"},null,{"$f":"IF(BBH15=\"\",\"0\",1/BBH$22)","v":"0"},null,{"$f":"IF(BBJ15=\"\",\"0\",1/BBJ$22)","v":"0"},null,{"$f":"IF(BBL15=\"\",\"0\",1/BBL$22)","v":"0"},null,{"$f":"IF(BBN15=\"\",\"0\",1/BBN$22)","v":"0"},null,{"$f":"IF(BBP15=\"\",\"0\",1/BBP$22)","v":"0"},null,{"$f":"IF(BBR15=\"\",\"0\",1/BBR$22)","v":"0"},null,{"$f":"IF(BBT15=\"\",\"0\",1/BBT$22)","v":"0"},null,{"$f":"IF(BBV15=\"\",\"0\",1/BBV$22)","v":"0"},null,{"$f":"IF(BBX15=\"\",\"0\",1/BBX$22)","v":"0"},null,{"$f":"IF(BBZ15=\"\",\"0\",1/BBZ$22)","v":"0"},null,{"$f":"IF(BCB15=\"\",\"0\",1/BCB$22)","v":"0"},null,{"$f":"IF(BCD15=\"\",\"0\",1/BCD$22)","v":"0"},null,{"$f":"IF(BCF15=\"\",\"0\",1/BCF$22)","v":"0"},null,{"$f":"IF(BCH15=\"\",\"0\",1/BCH$22)","v":"0"},null,{"$f":"IF(BCJ15=\"\",\"0\",1/BCJ$22)","v":"0"},null,{"$f":"IF(BCL15=\"\",\"0\",1/BCL$22)","v":"0"},null,{"$f":"IF(BCN15=\"\",\"0\",1/BCN$22)","v":"0"},null,{"$f":"IF(BCP15=\"\",\"0\",1/BCP$22)","v":"0"},null,{"$f":"IF(BCR15=\"\",\"0\",1/BCR$22)","v":"0"},null,{"$f":"IF(BCT15=\"\",\"0\",1/BCT$22)","v":"0"},null,{"$f":"IF(BCV15=\"\",\"0\",1/BCV$22)","v":"0"},null,{"$f":"IF(BCX15=\"\",\"0\",1/BCX$22)","v":"0"},null,{"$f":"IF(BCZ15=\"\",\"0\",1/BCZ$22)","v":"0"},null,{"$f":"IF(BDB15=\"\",\"0\",1/BDB$22)","v":"0"},null,{"$f":"IF(BDD15=\"\",\"0\",1/BDD$22)","v":"0"},null,{"$f":"IF(BDF15=\"\",\"0\",1/BDF$22)","v":"0"},null,{"$f":"IF(BDH15=\"\",\"0\",1/BDH$22)","v":"0"},null,{"$f":"IF(BDJ15=\"\",\"0\",1/BDJ$22)","v":"0"},null,{"$f":"IF(BDL15=\"\",\"0\",1/BDL$22)","v":"0"},null,{"$f":"IF(BDN15=\"\",\"0\",1/BDN$22)","v":"0"},null,{"$f":"IF(BDP15=\"\",\"0\",1/BDP$22)","v":"0"},null,{"$f":"IF(BDR15=\"\",\"0\",1/BDR$22)","v":"0"},null,{"$f":"IF(BDT15=\"\",\"0\",1/BDT$22)","v":"0"},null,{"$f":"IF(BDV15=\"\",\"0\",1/BDV$22)","v":"0"},null,{"$f":"IF(BDX15=\"\",\"0\",1/BDX$22)","v":"0"},null,{"$f":"IF(BDZ15=\"\",\"0\",1/BDZ$22)","v":"0"},null,{"$f":"IF(BEB15=\"\",\"0\",1/BEB$22)","v":"0"},null,{"$f":"IF(BED15=\"\",\"0\",1/BED$22)","v":"0"},null,{"$f":"IF(BEF15=\"\",\"0\",1/BEF$22)","v":"0"},null,{"$f":"IF(BEH15=\"\",\"0\",1/BEH$22)","v":"0"},null,{"$f":"IF(BEJ15=\"\",\"0\",1/BEJ$22)","v":"0"},null,{"$f":"IF(BEL15=\"\",\"0\",1/BEL$22)","v":"0"},null,{"$f":"IF(BEN15=\"\",\"0\",1/BEN$22)","v":"0"},null,{"$f":"IF(BEP15=\"\",\"0\",1/BEP$22)","v":"0"},null,{"$f":"IF(BER15=\"\",\"0\",1/BER$22)","v":"0"},null,{"$f":"IF(BET15=\"\",\"0\",1/BET$22)","v":"0"},null,{"$f":"IF(BEV15=\"\",\"0\",1/BEV$22)","v":"0"},null,{"$f":"IF(BEX15=\"\",\"0\",1/BEX$22)","v":"0"},null,{"$f":"IF(BEZ15=\"\",\"0\",1/BEZ$22)","v":"0"},null,{"$f":"IF(BFB15=\"\",\"0\",1/BFB$22)","v":"0"},null,{"$f":"IF(BFD15=\"\",\"0\",1/BFD$22)","v":"0"},null,{"$f":"IF(BFF15=\"\",\"0\",1/BFF$22)","v":"0"},null,{"$f":"IF(BFH15=\"\",\"0\",1/BFH$22)","v":"0"},null,{"$f":"IF(BFJ15=\"\",\"0\",1/BFJ$22)","v":"0"},null,{"$f":"IF(BFL15=\"\",\"0\",1/BFL$22)","v":"0"},null,{"$f":"IF(BFN15=\"\",\"0\",1/BFN$22)","v":"0"},null,{"$f":"IF(BFP15=\"\",\"0\",1/BFP$22)","v":"0"},null,{"$f":"IF(BFR15=\"\",\"0\",1/BFR$22)","v":"0"},null,{"$f":"IF(BFT15=\"\",\"0\",1/BFT$22)","v":"0"},null,{"$f":"IF(BFV15=\"\",\"0\",1/BFV$22)","v":"0"},null,{"$f":"IF(BFX15=\"\",\"0\",1/BFX$22)","v":"0"},null,{"$f":"IF(BFZ15=\"\",\"0\",1/BFZ$22)","v":"0"},null,{"$f":"IF(BGB15=\"\",\"0\",1/BGB$22)","v":"0"},null,{"$f":"IF(BGD15=\"\",\"0\",1/BGD$22)","v":"0"},null,{"$f":"IF(BGF15=\"\",\"0\",1/BGF$22)","v":"0"},null,{"$f":"IF(BGH15=\"\",\"0\",1/BGH$22)","v":"0"},null,{"$f":"IF(BGJ15=\"\",\"0\",1/BGJ$22)","v":"0"},null,{"$f":"IF(BGL15=\"\",\"0\",1/BGL$22)","v":"0"},null,{"$f":"IF(BGN15=\"\",\"0\",1/BGN$22)","v":"0"},null,{"$f":"IF(BGP15=\"\",\"0\",1/BGP$22)","v":"0"},null,{"$f":"IF(BGR15=\"\",\"0\",1/BGR$22)","v":"0"},null,{"$f":"IF(BGT15=\"\",\"0\",1/BGT$22)","v":"0"},null,{"$f":"IF(BGV15=\"\",\"0\",1/BGV$22)","v":"0"},null,{"$f":"IF(BGX15=\"\",\"0\",1/BGX$22)","v":"0"},null,{"$f":"IF(BGZ15=\"\",\"0\",1/BGZ$22)","v":"0"},null,{"$f":"IF(BHB15=\"\",\"0\",1/BHB$22)","v":"0"},null,{"$f":"IF(BHD15=\"\",\"0\",1/BHD$22)","v":"0"},null,{"$f":"IF(BHF15=\"\",\"0\",1/BHF$22)","v":"0"},null,{"$f":"IF(BHH15=\"\",\"0\",1/BHH$22)","v":"0"},null,{"$f":"IF(BHJ15=\"\",\"0\",1/BHJ$22)","v":"0"},null,{"$f":"IF(BHL15=\"\",\"0\",1/BHL$22)","v":"0"},null,{"$f":"IF(BHN15=\"\",\"0\",1/BHN$22)","v":"0"},null,{"$f":"IF(BHP15=\"\",\"0\",1/BHP$22)","v":"0"},null,{"$f":"IF(BHR15=\"\",\"0\",1/BHR$22)","v":"0"},null,{"$f":"IF(BHT15=\"\",\"0\",1/BHT$22)","v":"0"},null,{"$f":"IF(BHV15=\"\",\"0\",1/BHV$22)","v":"0"},null,{"$f":"IF(BHX15=\"\",\"0\",1/BHX$22)","v":"0"},null,{"$f":"IF(BHZ15=\"\",\"0\",1/BHZ$22)","v":"0"},null,{"$f":"IF(BIB15=\"\",\"0\",1/BIB$22)","v":"0"},null,{"$f":"IF(BID15=\"\",\"0\",1/BID$22)","v":"0"},null,{"$f":"IF(BIF15=\"\",\"0\",1/BIF$22)","v":"0"},null,{"$f":"IF(BIH15=\"\",\"0\",1/BIH$22)","v":"0"},null,{"$f":"IF(BIJ15=\"\",\"0\",1/BIJ$22)","v":"0"},null,{"$f":"IF(BIL15=\"\",\"0\",1/BIL$22)","v":"0"},null,{"$f":"IF(BIN15=\"\",\"0\",1/BIN$22)","v":"0"},null,{"$f":"IF(BIP15=\"\",\"0\",1/BIP$22)","v":"0"},null,{"$f":"IF(BIR15=\"\",\"0\",1/BIR$22)","v":"0"},null,{"$f":"IF(BIT15=\"\",\"0\",1/BIT$22)","v":"0"},null,{"$f":"IF(BIV15=\"\",\"0\",1/BIV$22)","v":"0"},null,{"$f":"IF(BIX15=\"\",\"0\",1/BIX$22)","v":"0"},null,{"$f":"IF(BIZ15=\"\",\"0\",1/BIZ$22)","v":"0"},null,{"$f":"IF(BJB15=\"\",\"0\",1/BJB$22)","v":"0"},null,{"$f":"IF(BJD15=\"\",\"0\",1/BJD$22)","v":"0"},null,{"$f":"IF(BJF15=\"\",\"0\",1/BJF$22)","v":"0"},null,{"$f":"IF(BJH15=\"\",\"0\",1/BJH$22)","v":"0"},null,{"$f":"IF(BJJ15=\"\",\"0\",1/BJJ$22)","v":"0"},null,{"$f":"IF(BJL15=\"\",\"0\",1/BJL$22)","v":"0"},null,{"$f":"IF(BJN15=\"\",\"0\",1/BJN$22)","v":"0"},null,{"$f":"IF(BJP15=\"\",\"0\",1/BJP$22)","v":"0"},null,{"$f":"IF(BJR15=\"\",\"0\",1/BJR$22)","v":"0"},null,{"$f":"IF(BJT15=\"\",\"0\",1/BJT$22)","v":"0"},null,{"$f":"IF(BJV15=\"\",\"0\",1/BJV$22)","v":"0"},null,{"$f":"IF(BJX15=\"\",\"0\",1/BJX$22)","v":"0"},null,{"$f":"IF(BJZ15=\"\",\"0\",1/BJZ$22)","v":"0"},null,{"$f":"IF(BKB15=\"\",\"0\",1/BKB$22)","v":"0"},null,{"$f":"IF(BKD15=\"\",\"0\",1/BKD$22)","v":"0"},null,{"$f":"IF(BKF15=\"\",\"0\",1/BKF$22)","v":"0"},null,{"$f":"IF(BKH15=\"\",\"0\",1/BKH$22)","v":"0"},null,{"$f":"IF(BKJ15=\"\",\"0\",1/BKJ$22)","v":"0"},null,{"$f":"IF(BKL15=\"\",\"0\",1/BKL$22)","v":"0"},null,{"$f":"IF(BKN15=\"\",\"0\",1/BKN$22)","v":"0"},null,{"$f":"IF(BKP15=\"\",\"0\",1/BKP$22)","v":"0"},null,{"$f":"IF(BKR15=\"\",\"0\",1/BKR$22)","v":"0"},null,{"$f":"IF(BKT15=\"\",\"0\",1/BKT$22)","v":"0"},null,{"$f":"IF(BKV15=\"\",\"0\",1/BKV$22)","v":"0"},null,{"$f":"IF(BKX15=\"\",\"0\",1/BKX$22)","v":"0"},null,{"$f":"IF(BKZ15=\"\",\"0\",1/BKZ$22)","v":"0"},null,{"$f":"IF(BLB15=\"\",\"0\",1/BLB$22)","v":"0"},null,{"$f":"IF(BLD15=\"\",\"0\",1/BLD$22)","v":"0"},null,{"$f":"IF(BLF15=\"\",\"0\",1/BLF$22)","v":"0"},null,{"$f":"IF(BLH15=\"\",\"0\",1/BLH$22)","v":"0"},null,{"$f":"IF(BLJ15=\"\",\"0\",1/BLJ$22)","v":"0"},null,{"$f":"IF(BLL15=\"\",\"0\",1/BLL$22)","v":"0"},null,{"$f":"IF(BLN15=\"\",\"0\",1/BLN$22)","v":"0"},null,{"$f":"IF(BLP15=\"\",\"0\",1/BLP$22)","v":"0"},null,{"$f":"IF(BLR15=\"\",\"0\",1/BLR$22)","v":"0"},null,{"$f":"IF(BLT15=\"\",\"0\",1/BLT$22)","v":"0"},null,{"$f":"IF(BLV15=\"\",\"0\",1/BLV$22)","v":"0"},null,{"$f":"IF(BLX15=\"\",\"0\",1/BLX$22)","v":"0"},null,{"$f":"IF(BLZ15=\"\",\"0\",1/BLZ$22)","v":"0"},null,{"$f":"IF(BMB15=\"\",\"0\",1/BMB$22)","v":"0"},null,{"$f":"IF(BMD15=\"\",\"0\",1/BMD$22)","v":"0"},null,{"$f":"IF(BMF15=\"\",\"0\",1/BMF$22)","v":"0"},null,{"$f":"IF(BMH15=\"\",\"0\",1/BMH$22)","v":"0"},null,{"$f":"IF(BMJ15=\"\",\"0\",1/BMJ$22)","v":"0"},null,{"$f":"IF(BML15=\"\",\"0\",1/BML$22)","v":"0"},null,{"$f":"IF(BMN15=\"\",\"0\",1/BMN$22)","v":"0"},null,{"$f":"IF(BMP15=\"\",\"0\",1/BMP$22)","v":"0"},null,{"$f":"IF(BMR15=\"\",\"0\",1/BMR$22)","v":"0"},null,{"$f":"IF(BMT15=\"\",\"0\",1/BMT$22)","v":"0"},null,{"$f":"IF(BMV15=\"\",\"0\",1/BMV$22)","v":"0"},null,{"$f":"IF(BMX15=\"\",\"0\",1/BMX$22)","v":"0"},null,{"$f":"IF(BMZ15=\"\",\"0\",1/BMZ$22)","v":"0"},null,{"$f":"IF(BNB15=\"\",\"0\",1/BNB$22)","v":"0"},null,{"$f":"IF(BND15=\"\",\"0\",1/BND$22)","v":"0"},null,{"$f":"IF(BNF15=\"\",\"0\",1/BNF$22)","v":"0"},null,{"$f":"IF(BNH15=\"\",\"0\",1/BNH$22)","v":"0"},null,{"$f":"IF(BNJ15=\"\",\"0\",1/BNJ$22)","v":"0"},null,{"$f":"IF(BNL15=\"\",\"0\",1/BNL$22)","v":"0"},null,{"$f":"IF(BNN15=\"\",\"0\",1/BNN$22)","v":"0"},null,{"$f":"IF(BNP15=\"\",\"0\",1/BNP$22)","v":"0"},null,{"$f":"IF(BNR15=\"\",\"0\",1/BNR$22)","v":"0"},null,{"$f":"IF(BNT15=\"\",\"0\",1/BNT$22)","v":"0"},null,{"$f":"IF(BNV15=\"\",\"0\",1/BNV$22)","v":"0"},null,{"$f":"IF(BNX15=\"\",\"0\",1/BNX$22)","v":"0"},null,{"$f":"IF(BNZ15=\"\",\"0\",1/BNZ$22)","v":"0"},null,{"$f":"IF(BOB15=\"\",\"0\",1/BOB$22)","v":"0"},null,{"$f":"IF(BOD15=\"\",\"0\",1/BOD$22)","v":"0"},null,{"$f":"IF(BOF15=\"\",\"0\",1/BOF$22)","v":"0"},null,{"$f":"IF(BOH15=\"\",\"0\",1/BOH$22)","v":"0"},null,{"$f":"IF(BOJ15=\"\",\"0\",1/BOJ$22)","v":"0"},null,{"$f":"IF(BOL15=\"\",\"0\",1/BOL$22)","v":"0"},null,{"$f":"IF(BON15=\"\",\"0\",1/BON$22)","v":"0"},null,{"$f":"IF(BOP15=\"\",\"0\",1/BOP$22)","v":"0"},null,{"$f":"IF(BOR15=\"\",\"0\",1/BOR$22)","v":"0"},null,{"$f":"IF(BOT15=\"\",\"0\",1/BOT$22)","v":"0"},null,{"$f":"IF(BOV15=\"\",\"0\",1/BOV$22)","v":"0"},null,{"$f":"IF(BOX15=\"\",\"0\",1/BOX$22)","v":"0"},null,{"$f":"IF(BOZ15=\"\",\"0\",1/BOZ$22)","v":"0"},null,{"$f":"IF(BPB15=\"\",\"0\",1/BPB$22)","v":"0"},null,{"$f":"IF(BPD15=\"\",\"0\",1/BPD$22)","v":"0"},null,{"$f":"IF(BPF15=\"\",\"0\",1/BPF$22)","v":"0"},null,{"$f":"IF(BPH15=\"\",\"0\",1/BPH$22)","v":"0"},null,{"$f":"IF(BPJ15=\"\",\"0\",1/BPJ$22)","v":"0"},null,{"$f":"IF(BPL15=\"\",\"0\",1/BPL$22)","v":"0"},null,{"$f":"IF(BPN15=\"\",\"0\",1/BPN$22)","v":"0"},null,{"$f":"IF(BPP15=\"\",\"0\",1/BPP$22)","v":"0"},null,{"$f":"IF(BPR15=\"\",\"0\",1/BPR$22)","v":"0"},null,{"$f":"IF(BPT15=\"\",\"0\",1/BPT$22)","v":"0"},null,{"$f":"IF(BPV15=\"\",\"0\",1/BPV$22)","v":"0"},null,{"$f":"IF(BPX15=\"\",\"0\",1/BPX$22)","v":"0"},null,{"$f":"IF(BPZ15=\"\",\"0\",1/BPZ$22)","v":"0"},null,{"$f":"IF(BQB15=\"\",\"0\",1/BQB$22)","v":"0"},null,{"$f":"IF(BQD15=\"\",\"0\",1/BQD$22)","v":"0"},null,{"$f":"IF(BQF15=\"\",\"0\",1/BQF$22)","v":"0"},null,{"$f":"IF(BQH15=\"\",\"0\",1/BQH$22)","v":"0"},null,{"$f":"IF(BQJ15=\"\",\"0\",1/BQJ$22)","v":"0"},null,{"$f":"IF(BQL15=\"\",\"0\",1/BQL$22)","v":"0"},null,{"$f":"IF(BQN15=\"\",\"0\",1/BQN$22)","v":"0"},null,{"$f":"IF(BQP15=\"\",\"0\",1/BQP$22)","v":"0"},null,{"$f":"IF(BQR15=\"\",\"0\",1/BQR$22)","v":"0"},null,{"$f":"IF(BQT15=\"\",\"0\",1/BQT$22)","v":"0"},null,{"$f":"IF(BQV15=\"\",\"0\",1/BQV$22)","v":"0"},null,{"$f":"IF(BQX15=\"\",\"0\",1/BQX$22)","v":"0"},null,{"$f":"IF(BQZ15=\"\",\"0\",1/BQZ$22)","v":"0"},null,{"$f":"IF(BRB15=\"\",\"0\",1/BRB$22)","v":"0"},null,{"$f":"IF(BRD15=\"\",\"0\",1/BRD$22)","v":"0"},null,{"$f":"IF(BRF15=\"\",\"0\",1/BRF$22)","v":"0"},null,{"$f":"IF(BRH15=\"\",\"0\",1/BRH$22)","v":"0"},null,{"$f":"IF(BRJ15=\"\",\"0\",1/BRJ$22)","v":"0"},null,{"$f":"IF(BRL15=\"\",\"0\",1/BRL$22)","v":"0"},null,{"$f":"IF(BRN15=\"\",\"0\",1/BRN$22)","v":"0"},null,{"$f":"IF(BRP15=\"\",\"0\",1/BRP$22)","v":"0"},null,{"$f":"IF(BRR15=\"\",\"0\",1/BRR$22)","v":"0"},null,{"$f":"IF(BRT15=\"\",\"0\",1/BRT$22)","v":"0"},null,{"$f":"IF(BRV15=\"\",\"0\",1/BRV$22)","v":"0"},null,{"$f":"IF(BRX15=\"\",\"0\",1/BRX$22)","v":"0"},null,{"$f":"IF(BRZ15=\"\",\"0\",1/BRZ$22)","v":"0"},null,{"$f":"IF(BSB15=\"\",\"0\",1/BSB$22)","v":"0"},null,{"$f":"IF(BSD15=\"\",\"0\",1/BSD$22)","v":"0"},null,{"$f":"IF(BSF15=\"\",\"0\",1/BSF$22)","v":"0"},null,{"$f":"IF(BSH15=\"\",\"0\",1/BSH$22)","v":"0"},null,{"$f":"IF(BSJ15=\"\",\"0\",1/BSJ$22)","v":"0"},null,{"$f":"IF(BSL15=\"\",\"0\",1/BSL$22)","v":"0"},null,{"$f":"IF(BSN15=\"\",\"0\",1/BSN$22)","v":"0"},null,{"$f":"IF(BSP15=\"\",\"0\",1/BSP$22)","v":"0"},null,{"$f":"IF(BSR15=\"\",\"0\",1/BSR$22)","v":"0"},null,{"$f":"IF(BST15=\"\",\"0\",1/BST$22)","v":"0"},null,{"$f":"IF(BSV15=\"\",\"0\",1/BSV$22)","v":"0"},null,{"$f":"IF(BSX15=\"\",\"0\",1/BSX$22)","v":"0"},null,{"$f":"IF(BSZ15=\"\",\"0\",1/BSZ$22)","v":"0"},null,{"$f":"IF(BTB15=\"\",\"0\",1/BTB$22)","v":"0"},null,{"$f":"IF(BTD15=\"\",\"0\",1/BTD$22)","v":"0"},null,{"$f":"IF(BTF15=\"\",\"0\",1/BTF$22)","v":"0"},null,{"$f":"IF(BTH15=\"\",\"0\",1/BTH$22)","v":"0"},null,{"$f":"IF(BTJ15=\"\",\"0\",1/BTJ$22)","v":"0"},null,{"$f":"IF(BTL15=\"\",\"0\",1/BTL$22)","v":"0"},null,{"$f":"IF(BTN15=\"\",\"0\",1/BTN$22)","v":"0"},null,{"$f":"IF(BTP15=\"\",\"0\",1/BTP$22)","v":"0"},null,{"$f":"IF(BTR15=\"\",\"0\",1/BTR$22)","v":"0"},null,{"$f":"IF(BTT15=\"\",\"0\",1/BTT$22)","v":"0"},null,{"$f":"IF(BTV15=\"\",\"0\",1/BTV$22)","v":"0"},null,{"$f":"IF(BTX15=\"\",\"0\",1/BTX$22)","v":"0"},null,{"$f":"IF(BTZ15=\"\",\"0\",1/BTZ$22)","v":"0"},null,{"$f":"IF(BUB15=\"\",\"0\",1/BUB$22)","v":"0"},null,{"$f":"IF(BUD15=\"\",\"0\",1/BUD$22)","v":"0"},null,{"$f":"IF(BUF15=\"\",\"0\",1/BUF$22)","v":"0"},null,{"$f":"IF(BUH15=\"\",\"0\",1/BUH$22)","v":"0"},null,{"$f":"IF(BUJ15=\"\",\"0\",1/BUJ$22)","v":"0"},null,{"$f":"IF(BUL15=\"\",\"0\",1/BUL$22)","v":"0"},null,{"$f":"IF(BUN15=\"\",\"0\",1/BUN$22)","v":"0"},null,{"$f":"IF(BUP15=\"\",\"0\",1/BUP$22)","v":"0"},null,{"$f":"IF(BUR15=\"\",\"0\",1/BUR$22)","v":"0"},null,{"$f":"IF(BUT15=\"\",\"0\",1/BUT$22)","v":"0"},null,{"$f":"IF(BUV15=\"\",\"0\",1/BUV$22)","v":"0"},null,{"$f":"IF(BUX15=\"\",\"0\",1/BUX$22)","v":"0"},null,{"$f":"IF(BUZ15=\"\",\"0\",1/BUZ$22)","v":"0"},null,{"$f":"IF(BVB15=\"\",\"0\",1/BVB$22)","v":"0"},null,{"$f":"IF(BVD15=\"\",\"0\",1/BVD$22)","v":"0"},null,{"$f":"IF(BVF15=\"\",\"0\",1/BVF$22)","v":"0"},null,{"$f":"IF(BVH15=\"\",\"0\",1/BVH$22)","v":"0"},null,{"$f":"IF(BVJ15=\"\",\"0\",1/BVJ$22)","v":"0"},null,{"$f":"IF(BVL15=\"\",\"0\",1/BVL$22)","v":"0"},null,{"$f":"IF(BVN15=\"\",\"0\",1/BVN$22)","v":"0"},null,{"$f":"IF(BVP15=\"\",\"0\",1/BVP$22)","v":"0"},null,{"$f":"IF(BVR15=\"\",\"0\",1/BVR$22)","v":"0"},null,{"$f":"IF(BVT15=\"\",\"0\",1/BVT$22)","v":"0"},null,{"$f":"IF(BVV15=\"\",\"0\",1/BVV$22)","v":"0"},null,{"$f":"IF(BVX15=\"\",\"0\",1/BVX$22)","v":"0"},null,{"$f":"IF(BVZ15=\"\",\"0\",1/BVZ$22)","v":"0"},null,{"$f":"IF(BWB15=\"\",\"0\",1/BWB$22)","v":"0"},null,{"$f":"IF(BWD15=\"\",\"0\",1/BWD$22)","v":"0"},null,{"$f":"IF(BWF15=\"\",\"0\",1/BWF$22)","v":"0"},null,{"$f":"IF(BWH15=\"\",\"0\",1/BWH$22)","v":"0"},null,{"$f":"IF(BWJ15=\"\",\"0\",1/BWJ$22)","v":"0"},null,{"$f":"IF(BWL15=\"\",\"0\",1/BWL$22)","v":"0"},null,{"$f":"IF(BWN15=\"\",\"0\",1/BWN$22)","v":"0"},null,{"$f":"IF(BWP15=\"\",\"0\",1/BWP$22)","v":"0"},null,{"$f":"IF(BWR15=\"\",\"0\",1/BWR$22)","v":"0"},null,{"$f":"IF(BWT15=\"\",\"0\",1/BWT$22)","v":"0"},null,{"$f":"IF(BWV15=\"\",\"0\",1/BWV$22)","v":"0"}]
["実務（７）",{"$f":"年数合計!B19","v":{"$error":"#VALUE!"}},{"$f":"年数合計!C19","v":{"$error":"#VALUE!"}},{"$f":"COUNTIF(F17:BWV17,\"○\")","v":0},"月",{"$f":"IFERROR(IF(AND(F$3>=$B$17,F$3<=$C$17),\"○\",\"\"),\"\")","v":""},null,"",null,"",null,"",null,"",null,"",null,"",null,"",null,"",null,"",null,"",null,"",null,"",null,"",null,"",null,"",null,"",null,"",null,"",null,"",null,"",null,"",null,"",null,"",null,"",null,"",null,"",null,"",null,"",null,"",null,"",null,"",null,{"$f":"IFERROR(IF(AND(BR$3>=$B$17,BR$3<=$C$17),\"○\",\"\"),\"\")","v":""},null,"",null,"",null,"",null,"",null,"",null,"",null,"",null,"",null,"",null,"",null,"",null,"",null,"",null,"",null,"",null,"",null,"",null,"",null,"",null,"",null,"",null,"",null,"",null,"",null,"",null,"",null,"",null,"",null,"",null,"",null,"",null,{"$f":"IFERROR(IF(AND(ED$3>=$B$17,ED$3<=$C$17),\"○\",\"\"),\"\")","v":""},null,"",null,"",null,"",null,"",null,"",null,"",null,"",null,"",null,"",null,"",null,"",null,"",null,"",null,"",null,"",null,"",null,"",null,"",null,"",null,"",null,"",null,"",null,"",null,"",null,"",null,"",null,"",null,"",null,"",null,"",null,"",null,{"$f":"IFERROR(IF(AND(GP$3>=$B$17,GP$3<=$C$17),\"○\",\"\"),\"\")","v":""},null,"",null,"",null,"",null,"",null,"",null,"",null,"",null,"",null,"",null,"",null,"",null,"",null,"",null,"",null,"",null,"",null,"",null,"",null,"",null,"",null,"",null,"",null,"",null,"",null,"",null,"",null,"",null,"",null,"",null,"",null,"",null,{"$f":"IFERROR(IF(AND(JB$3>=$B$17,JB$3<=$C$17),\"○\",\"\"),\"\")","v":""},null,"",null,"",null,"",null,"",null,"",null,"",null,"",null,"",null,"",null,"",null,"",null,"",null,"",null,"",null,"",null,"",null,"",null,"",null,"",null,"",null,"",null,"",null,"",null,"",null,"",null,"",null,"",null,"",null,"",null,"",null,"",null,{"$f":"IFERROR(IF(AND(LN$3>=$B$17,LN$3<=$C$17),\"○\",\"\"),\"\")","v":""},null,"",null,"",null,"",null,"",null,"",null,"",null,"",null,"",null,"",null,"",null,"",null,"",null,"",null,"",null,"",null,"",null,"",null,"",null,"",null,"",null,"",null,"",null,"",null,"",null,"",null,"",null,"",null,"",null,"",null,"",null,"",null,{"$f":"IFERROR(IF(AND(NZ$3>=$B$17,NZ$3<=$C$17),\"○\",\"\"),\"\")","v":""},null,"",null,"",null,"",null,"",null,"",null,"",null,"",null,"",null,"",null,"",null,"",null,"",null,"",null,"",null,"",null,"",null,"",null,"",null,"",null,"",null,"",null,"",null,"",null,"",null,"",null,"",null,"",null,"",null,"",null,"",null,"",null,{"$f":"IFERROR(IF(AND(QL$3>=$B$17,QL$3<=$C$17),\"○\",\"\"),\"\")","v":""},null,"",null,"",null,"",null,"",null,"",null,"",null,"",null,"",null,"",null,"",null,"",null,"",null,"",null,"",null,"",null,"",null,"",null,"",null,"",null,"",null,"",null,"",null,"",null,"",null,"",null,"",null,"",null,"",null,"",null,"",null,"",null,{"$f":"IFERROR(IF(AND(SX$3>=$B$17,SX$3<=$C$17),\"○\",\"\"),\"\")","v":""},null,"",null,"",null,"",null,"",null,"",null,"",null,"",null,"",null,"",null,"",null,"",null,"",null,"",null,"",null,"",null,"",null,"",null,"",null,"",null,"",null,"",null,"",null,"",null,"",null,"",null,"",null,"",null,"",null,"",null,"",null,"",null,{"$f":"IFERROR(IF(AND(VJ$3>=$B$17,VJ$3<=$C$17),\"○\",\"\"),\"\")","v":""},null,"",null,"",null,"",null,"",null,"",null,"",null,"",null,"",null,"",null,"",null,"",null,"",null,"",null,"",null,"",null,"",null,"",null,"",null,"",null,"",null,"",null,"",null,"",null,"",null,"",null,"",null,"",null,"",null,"",null,"",null,"",null,{"$f":"IFERROR(IF(AND(XV$3>=$B$17,XV$3<=$C$17),\"○\",\"\"),\"\")","v":""},null,"",null,"",null,"",null,"",null,"",null,"",null,"",null,"",null,"",null,"",null,"",null,"",null,"",null,"",null,"",null,"",null,"",null,"",null,"",null,"",null,"",null,"",null,"",null,"",null,"",null,"",null,"",null,"",null,"",null,"",null,"",null,{"$f":"IFERROR(IF(AND(AAH$3>=$B$17,AAH$3<=$C$17),\"○\",\"\"),\"\")","v":""},null,"",null,"",null,"",null,"",null,"",null,"",null,"",null,"",null,"",null,"",null,"",null,"",null,"",null,"",null,"",null,"",null,"",null,"",null,"",null,"",null,"",null,"",null,"",null,"",null,"",null,"",null,"",null,"",null,"",null,"",null,"",null,{"$f":"IFERROR(IF(AND(ACT$3>=$B$17,ACT$3<=$C$17),\"○\",\"\"),\"\")","v":""},null,"",null,"",null,"",null,"",null,"",null,"",null,"",null,"",null,"",null,"",null,"",null,"",null,"",null,"",null,"",null,"",null,"",null,"",null,"",null,"",null,"",null,"",null,"",null,"",null,"",null,"",null,"",null,"",null,"",null,"",null,"",null,{"$f":"IFERROR(IF(AND(AFF$3>=$B$17,AFF$3<=$C$17),\"○\",\"\"),\"\")","v":""},null,"",null,"",null,"",null,"",null,"",null,"",null,"",null,"",null,"",null,"",null,"",null,"",null,"",null,"",null,"",null,"",null,"",null,"",null,"",null,"",null,"",null,"",null,"",null,"",null,"",null,"",null,"",null,"",null,"",null,"",null,"",null,{"$f":"IFERROR(IF(AND(AHR$3>=$B$17,AHR$3<=$C$17),\"○\",\"\"),\"\")","v":""},null,"",null,"",null,"",null,"",null,"",null,"",null,"",null,"",null,"",null,"",null,"",null,"",null,"",null,"",null,"",null,"",null,"",null,"",null,"",null,"",null,"",null,"",null,"",null,"",null,"",null,"",null,"",null,"",null,"",null,"",null,"",null,{"$f":"IFERROR(IF(AND(AKD$3>=$B$17,AKD$3<=$C$17),\"○\",\"\"),\"\")","v":""},null,"",null,"",null,"",null,"",null,"",null,"",null,"",null,"",null,"",null,"",null,"",null,"",null,"",null,"",null,"",null,"",null,"",null,"",null,"",null,"",null,"",null,"",null,"",null,"",null,"",null,"",null,"",null,"",null,"",null,"",null,"",null,{"$f":"IFERROR(IF(AND(AMP$3>=$B$17,AMP$3<=$C$17),\"○\",\"\"),\"\")","v":""},null,"",null,"",null,"",null,"",null,"",null,"",null,"",null,"",null,"",null,"",null,"",null,"",null,"",null,"",null,"",null,"",null,"",null,"",null,"",null,"",null,"",null,"",null,"",null,"",null,"",null,"",null,"",null,"",null,"",null,"",null,"",null,{"$f":"IFERROR(IF(AND(APB$3>=$B$17,APB$3<=$C$17),\"○\",\"\"),\"\")","v":""},null,"",null,"",null,"",null,"",null,"",null,"",null,"",null,"",null,"",null,"",null,"",null,"",null,"",null,"",null,"",null,"",null,"",null,"",null,"",null,"",null,"",null,"",null,"",null,"",null,"",null,"",null,"",null,"",null,"",null,"",null,"",null,{"$f":"IFERROR(IF(AND(ARN$3>=$B$17,ARN$3<=$C$17),\"○\",\"\"),\"\")","v":""},null,"",null,"",null,"",null,"",null,"",null,"",null,"",null,"",null,"",null,"",null,"",null,{"$f":"IFERROR(IF(AND(ASL$3>=$B$17,ASL$3<=$C$17),\"○\",\"\"),\"\")","v":""},null,"",null,"",null,"",null,"",null,"",null,"",null,"",null,"",null,"",null,"",null,"",null,"",null,"",null,"",null,"",null,"",null,"",null,"",null,"",null,"",null,"",null,"",null,"",null,"",null,"",null,"",null,"",null,"",null,"",null,"",null,"",null,{"$f":"IFERROR(IF(AND(AUX$3>=$B$17,AUX$3<=$C$17),\"○\",\"\"),\"\")","v":""},null,"",null,"",null,"",null,"",null,"",null,"",null,"",null,"",null,"",null,"",null,"",null,"",null,"",null,"",null,"",null,"",null,"",null,"",null,"",null,"",null,"",null,"",null,"",null,"",null,"",null,"",null,"",null,"",null,"",null,"",null,"",null,{"$f":"IFERROR(IF(AND(AXJ$3>=$B$17,AXJ$3<=$C$17),\"○\",\"\"),\"\")","v":""},null,"",null,"",null,"",null,"",null,"",null,"",null,"",null,"",null,"",null,"",null,"",null,"",null,"",null,"",null,"",null,"",null,"",null,"",null,"",null,"",null,"",null,"",null,"",null,"",null,"",null,"",null,"",null,"",null,"",null,"",null,"",null,{"$f":"IFERROR(IF(AND(AZV$3>=$B$17,AZV$3<=$C$17),\"○\",\"\"),\"\")","v":""},null,"",null,"",null,"",null,"",null,"",null,"",null,"",null,"",null,"",null,"",null,"",null,"",null,"",null,"",null,"",null,"",null,"",null,"",null,"",null,"",null,"",null,"",null,"",null,"",null,"",null,"",null,"",null,"",null,"",null,"",null,"",null,{"$f":"IFERROR(IF(AND(BCH$3>=$B$17,BCH$3<=$C$17),\"○\",\"\"),\"\")","v":""},null,"",null,"",null,"",null,"",null,"",null,"",null,"",null,"",null,"",null,"",null,"",null,"",null,"",null,"",null,"",null,"",null,"",null,"",null,"",null,"",null,"",null,"",null,"",null,"",null,"",null,"",null,"",null,"",null,"",null,"",null,"",null,{"$f":"IFERROR(IF(AND(BET$3>=$B$17,BET$3<=$C$17),\"○\",\"\"),\"\")","v":""},null,"",null,"",null,"",null,"",null,"",null,"",null,"",null,"",null,"",null,"",null,"",null,"",null,"",null,"",null,"",null,"",null,"",null,"",null,"",null,"",null,"",null,"",null,"",null,"",null,"",null,"",null,"",null,"",null,"",null,"",null,"",null,{"$f":"IFERROR(IF(AND(BHF$3>=$B$17,BHF$3<=$C$17),\"○\",\"\"),\"\")","v":""},null,"",null,"",null,"",null,"",null,"",null,"",null,"",null,"",null,"",null,"",null,"",null,"",null,"",null,"",null,"",null,"",null,"",null,"",null,"",null,"",null,"",null,"",null,"",null,"",null,"",null,"",null,"",null,"",null,"",null,"",null,"",null,{"$f":"IFERROR(IF(AND(BJR$3>=$B$17,BJR$3<=$C$17),\"○\",\"\"),\"\")","v":""},null,"",null,"",null,"",null,"",null,"",null,"",null,"",null,"",null,"",null,"",null,"",null,"",null,"",null,"",null,"",null,"",null,"",null,"",null,"",null,"",null,"",null,"",null,"",null,"",null,"",null,"",null,"",null,"",null,"",null,"",null,"",null,{"$f":"IFERROR(IF(AND(BMD$3>=$B$17,BMD$3<=$C$17),\"○\",\"\"),\"\")","v":""},null,"",null,"",null,"",null,"",null,"",null,"",null,"",null,"",null,"",null,"",null,"",null,"",null,"",null,"",null,"",null,"",null,"",null,"",null,"",null,"",null,"",null,"",null,"",null,"",null,"",null,"",null,"",null,"",null,"",null,"",null,"",null,{"$f":"IFERROR(IF(AND(BOP$3>=$B$17,BOP$3<=$C$17),\"○\",\"\"),\"\")","v":""},null,"",null,"",null,"",null,"",null,"",null,"",null,"",null,"",null,"",null,"",null,"",null,{"$f":"IFERROR(IF(AND(BPN$3>=$B$17,BPN$3<=$C$17),\"○\",\"\"),\"\")","v":""},null,"",null,"",null,"",null,"",null,"",null,"",null,"",null,"",null,"",null,"",null,"",null,"",null,"",null,"",null,"",null,"",null,"",null,"",null,"",null,"",null,"",null,"",null,"",null,"",null,"",null,"",null,"",null,"",null,"",null,"",null,"",null,{"$f":"IFERROR(IF(AND(BRZ$3>=$B$17,BRZ$3<=$C$17),\"○\",\"\"),\"\")","v":""},null,"",null,"",null,"",null,"",null,"",null,"",null,"",null,"",null,"",null,"",null,"",null,"",null,"",null,"",null,"",null,{"$f":"IFERROR(IF(AND(BTF$3>=$B$17,BTF$3<=$C$17),\"○\",\"\"),\"\")","v":""},null,"",null,"",null,"",null,"",null,"",null,"",null,"",null,"",null,"",null,"",null,"",null,{"$f":"IFERROR(IF(AND(BUD$3>=$B$17,BUD$3<=$C$17),\"○\",\"\"),\"\")","v":""},null,{"$f":"IFERROR(IF(AND(BUF$3>=$B$17,BUF$3<=$C$17),\"○\",\"\"),\"\")","v":""},null,{"$f":"IFERROR(IF(AND(BUH$3>=$B$17,BUH$3<=$C$17),\"○\",\"\"),\"\")","v":""},null,{"$f":"IFERROR(IF(AND(BUJ$3>=$B$17,BUJ$3<=$C$17),\"○\",\"\"),\"\")","v":""},null,{"$f":"IFERROR(IF(AND(BUL$3>=$B$17,BUL$3<=$C$17),\"○\",\"\"),\"\")","v":""},null,{"$f":"IFERROR(IF(AND(BUN$3>=$B$17,BUN$3<=$C$17),\"○\",\"\"),\"\")","v":""},null,{"$f":"IFERROR(IF(AND(BUP$3>=$B$17,BUP$3<=$C$17),\"○\",\"\"),\"\")","v":""},null,{"$f":"IFERROR(IF(AND(BUR$3>=$B$17,BUR$3<=$C$17),\"○\",\"\"),\"\")","v":""},null,{"$f":"IFERROR(IF(AND(BUT$3>=$B$17,BUT$3<=$C$17),\"○\",\"\"),\"\")","v":""},null,{"$f":"IFERROR(IF(AND(BUV$3>=$B$17,BUV$3<=$C$17),\"○\",\"\"),\"\")","v":""},null,{"$f":"IFERROR(IF(AND(BUX$3>=$B$17,BUX$3<=$C$17),\"○\",\"\"),\"\")","v":""},null,{"$f":"IFERROR(IF(AND(BUZ$3>=$B$17,BUZ$3<=$C$17),\"○\",\"\"),\"\")","v":""},null,{"$f":"IFERROR(IF(AND(BVB$3>=$B$17,BVB$3<=$C$17),\"○\",\"\"),\"\")","v":""},null,{"$f":"IFERROR(IF(AND(BVD$3>=$B$17,BVD$3<=$C$17),\"○\",\"\"),\"\")","v":""},null,{"$f":"IFERROR(IF(AND(BVF$3>=$B$17,BVF$3<=$C$17),\"○\",\"\"),\"\")","v":""},null,{"$f":"IFERROR(IF(AND(BVH$3>=$B$17,BVH$3<=$C$17),\"○\",\"\"),\"\")","v":""},null,{"$f":"IFERROR(IF(AND(BVJ$3>=$B$17,BVJ$3<=$C$17),\"○\",\"\"),\"\")","v":""},null,{"$f":"IFERROR(IF(AND(BVL$3>=$B$17,BVL$3<=$C$17),\"○\",\"\"),\"\")","v":""},null,{"$f":"IFERROR(IF(AND(BVN$3>=$B$17,BVN$3<=$C$17),\"○\",\"\"),\"\")","v":""},null,{"$f":"IFERROR(IF(AND(BVP$3>=$B$17,BVP$3<=$C$17),\"○\",\"\"),\"\")","v":""},null,{"$f":"IFERROR(IF(AND(BVR$3>=$B$17,BVR$3<=$C$17),\"○\",\"\"),\"\")","v":""},null,{"$f":"IFERROR(IF(AND(BVT$3>=$B$17,BVT$3<=$C$17),\"○\",\"\"),\"\")","v":""},null,{"$f":"IFERROR(IF(AND(BVV$3>=$B$17,BVV$3<=$C$17),\"○\",\"\"),\"\")","v":""},null,{"$f":"IFERROR(IF(AND(BVX$3>=$B$17,BVX$3<=$C$17),\"○\",\"\"),\"\")","v":""},null,{"$f":"IFERROR(IF(AND(BVZ$3>=$B$17,BVZ$3<=$C$17),\"○\",\"\"),\"\")","v":""},null,{"$f":"IFERROR(IF(AND(BWB$3>=$B$17,BWB$3<=$C$17),\"○\",\"\"),\"\")","v":""},null,{"$f":"IFERROR(IF(AND(BWD$3>=$B$17,BWD$3<=$C$17),\"○\",\"\"),\"\")","v":""},null,{"$f":"IFERROR(IF(AND(BWF$3>=$B$17,BWF$3<=$C$17),\"○\",\"\"),\"\")","v":""},null,{"$f":"IFERROR(IF(AND(BWH$3>=$B$17,BWH$3<=$C$17),\"○\",\"\"),\"\")","v":""},null,{"$f":"IFERROR(IF(AND(BWJ$3>=$B$17,BWJ$3<=$C$17),\"○\",\"\"),\"\")","v":""},null,{"$f":"IFERROR(IF(AND(BWL$3>=$B$17,BWL$3<=$C$17),\"○\",\"\"),\"\")","v":""},null,{"$f":"IFERROR(IF(AND(BWN$3>=$B$17,BWN$3<=$C$17),\"○\",\"\"),\"\")","v":""},null,{"$f":"IFERROR(IF(AND(BWP$3>=$B$17,BWP$3<=$C$17),\"○\",\"\"),\"\")","v":""},null,{"$f":"IFERROR(IF(AND(BWR$3>=$B$17,BWR$3<=$C$17),\"○\",\"\"),\"\")","v":""},null,{"$f":"IFERROR(IF(AND(BWT$3>=$B$17,BWT$3<=$C$17),\"○\",\"\"),\"\")","v":""},null,{"$f":"IFERROR(IF(AND(BWV$3>=$B$17,BWV$3<=$C$17),\"○\",\"\"),\"\")","v":""},null,{"$f":"SUM(F18:BWW18)","v":{"v":0,"d":"0.00"}},"月",{"$f":"BWX17/D17","v":{"$error":"#DIV/0!"}},{"v":0,"d":"0.00"},{"$f":"QUOTIENT(BXA17,12)","v":0},{"$f":"MOD(BXA17,12)","v":{"v":0,"d":"0.00"}}]
[{"$nulls":6},{"$f":"IF(F17=\"\",\"0\",1/F$22)","v":"0"},null,{"$f":"IF(H17=\"\",\"0\",1/H$22)","v":"0"},null,{"$f":"IF(J17=\"\",\"0\",1/J$22)","v":"0"},null,{"$f":"IF(L17=\"\",\"0\",1/L$22)","v":"0"},null,{"$f":"IF(N17=\"\",\"0\",1/N$22)","v":"0"},null,{"$f":"IF(P17=\"\",\"0\",1/P$22)","v":"0"},null,{"$f":"IF(R17=\"\",\"0\",1/R$22)","v":"0"},null,{"$f":"IF(T17=\"\",\"0\",1/T$22)","v":"0"},null,{"$f":"IF(V17=\"\",\"0\",1/V$22)","v":"0"},null,{"$f":"IF(X17=\"\",\"0\",1/X$22)","v":"0"},null,{"$f":"IF(Z17=\"\",\"0\",1/Z$22)","v":"0"},null,{"$f":"IF(AB17=\"\",\"0\",1/AB$22)","v":"0"},null,{"$f":"IF(AD17=\"\",\"0\",1/AD$22)","v":"0"},null,{"$f":"IF(AF17=\"\",\"0\",1/AF$22)","v":"0"},null,{"$f":"IF(AH17=\"\",\"0\",1/AH$22)","v":"0"},null,{"$f":"IF(AJ17=\"\",\"0\",1/AJ$22)","v":"0"},null,{"$f":"IF(AL17=\"\",\"0\",1/AL$22)","v":"0"},null,{"$f":"IF(AN17=\"\",\"0\",1/AN$22)","v":"0"},null,{"$f":"IF(AP17=\"\",\"0\",1/AP$22)","v":"0"},null,{"$f":"IF(AR17=\"\",\"0\",1/AR$22)","v":"0"},null,{"$f":"IF(AT17=\"\",\"0\",1/AT$22)","v":"0"},null,{"$f":"IF(AV17=\"\",\"0\",1/AV$22)","v":"0"},null,{"$f":"IF(AX17=\"\",\"0\",1/AX$22)","v":"0"},null,{"$f":"IF(AZ17=\"\",\"0\",1/AZ$22)","v":"0"},null,{"$f":"IF(BB17=\"\",\"0\",1/BB$22)","v":"0"},null,{"$f":"IF(BD17=\"\",\"0\",1/BD$22)","v":"0"},null,{"$f":"IF(BF17=\"\",\"0\",1/BF$22)","v":"0"},null,{"$f":"IF(BH17=\"\",\"0\",1/BH$22)","v":"0"},null,{"$f":"IF(BJ17=\"\",\"0\",1/BJ$22)","v":"0"},null,{"$f":"IF(BL17=\"\",\"0\",1/BL$22)","v":"0"},null,{"$f":"IF(BN17=\"\",\"0\",1/BN$22)","v":"0"},null,{"$f":"IF(BP17=\"\",\"0\",1/BP$22)","v":"0"},null,{"$f":"IF(BR17=\"\",\"0\",1/BR$22)","v":"0"},null,{"$f":"IF(BT17=\"\",\"0\",1/BT$22)","v":"0"},null,{"$f":"IF(BV17=\"\",\"0\",1/BV$22)","v":"0"},null,{"$f":"IF(BX17=\"\",\"0\",1/BX$22)","v":"0"},null,{"$f":"IF(BZ17=\"\",\"0\",1/BZ$22)","v":"0"},null,{"$f":"IF(CB17=\"\",\"0\",1/CB$22)","v":"0"},null,{"$f":"IF(CD17=\"\",\"0\",1/CD$22)","v":"0"},null,{"$f":"IF(CF17=\"\",\"0\",1/CF$22)","v":"0"},null,{"$f":"IF(CH17=\"\",\"0\",1/CH$22)","v":"0"},null,{"$f":"IF(CJ17=\"\",\"0\",1/CJ$22)","v":"0"},null,{"$f":"IF(CL17=\"\",\"0\",1/CL$22)","v":"0"},null,{"$f":"IF(CN17=\"\",\"0\",1/CN$22)","v":"0"},null,{"$f":"IF(CP17=\"\",\"0\",1/CP$22)","v":"0"},null,{"$f":"IF(CR17=\"\",\"0\",1/CR$22)","v":"0"},null,{"$f":"IF(CT17=\"\",\"0\",1/CT$22)","v":"0"},null,{"$f":"IF(CV17=\"\",\"0\",1/CV$22)","v":"0"},null,{"$f":"IF(CX17=\"\",\"0\",1/CX$22)","v":"0"},null,{"$f":"IF(CZ17=\"\",\"0\",1/CZ$22)","v":"0"},null,{"$f":"IF(DB17=\"\",\"0\",1/DB$22)","v":"0"},null,{"$f":"IF(DD17=\"\",\"0\",1/DD$22)","v":"0"},null,{"$f":"IF(DF17=\"\",\"0\",1/DF$22)","v":"0"},null,{"$f":"IF(DH17=\"\",\"0\",1/DH$22)","v":"0"},null,{"$f":"IF(DJ17=\"\",\"0\",1/DJ$22)","v":"0"},null,{"$f":"IF(DL17=\"\",\"0\",1/DL$22)","v":"0"},null,{"$f":"IF(DN17=\"\",\"0\",1/DN$22)","v":"0"},null,{"$f":"IF(DP17=\"\",\"0\",1/DP$22)","v":"0"},null,{"$f":"IF(DR17=\"\",\"0\",1/DR$22)","v":"0"},null,{"$f":"IF(DT17=\"\",\"0\",1/DT$22)","v":"0"},null,{"$f":"IF(DV17=\"\",\"0\",1/DV$22)","v":"0"},null,{"$f":"IF(DX17=\"\",\"0\",1/DX$22)","v":"0"},null,{"$f":"IF(DZ17=\"\",\"0\",1/DZ$22)","v":"0"},null,{"$f":"IF(EB17=\"\",\"0\",1/EB$22)","v":"0"},null,{"$f":"IF(ED17=\"\",\"0\",1/ED$22)","v":"0"},null,{"$f":"IF(EF17=\"\",\"0\",1/EF$22)","v":"0"},null,{"$f":"IF(EH17=\"\",\"0\",1/EH$22)","v":"0"},null,{"$f":"IF(EJ17=\"\",\"0\",1/EJ$22)","v":"0"},null,{"$f":"IF(EL17=\"\",\"0\",1/EL$22)","v":"0"},null,{"$f":"IF(EN17=\"\",\"0\",1/EN$22)","v":"0"},null,{"$f":"IF(EP17=\"\",\"0\",1/EP$22)","v":"0"},null,{"$f":"IF(ER17=\"\",\"0\",1/ER$22)","v":"0"},null,{"$f":"IF(ET17=\"\",\"0\",1/ET$22)","v":"0"},null,{"$f":"IF(EV17=\"\",\"0\",1/EV$22)","v":"0"},null,{"$f":"IF(EX17=\"\",\"0\",1/EX$22)","v":"0"},null,{"$f":"IF(EZ17=\"\",\"0\",1/EZ$22)","v":"0"},null,{"$f":"IF(FB17=\"\",\"0\",1/FB$22)","v":"0"},null,{"$f":"IF(FD17=\"\",\"0\",1/FD$22)","v":"0"},null,{"$f":"IF(FF17=\"\",\"0\",1/FF$22)","v":"0"},null,{"$f":"IF(FH17=\"\",\"0\",1/FH$22)","v":"0"},null,{"$f":"IF(FJ17=\"\",\"0\",1/FJ$22)","v":"0"},null,{"$f":"IF(FL17=\"\",\"0\",1/FL$22)","v":"0"},null,{"$f":"IF(FN17=\"\",\"0\",1/FN$22)","v":"0"},null,{"$f":"IF(FP17=\"\",\"0\",1/FP$22)","v":"0"},null,{"$f":"IF(FR17=\"\",\"0\",1/FR$22)","v":"0"},null,{"$f":"IF(FT17=\"\",\"0\",1/FT$22)","v":"0"},null,{"$f":"IF(FV17=\"\",\"0\",1/FV$22)","v":"0"},null,{"$f":"IF(FX17=\"\",\"0\",1/FX$22)","v":"0"},null,{"$f":"IF(FZ17=\"\",\"0\",1/FZ$22)","v":"0"},null,{"$f":"IF(GB17=\"\",\"0\",1/GB$22)","v":"0"},null,{"$f":"IF(GD17=\"\",\"0\",1/GD$22)","v":"0"},null,{"$f":"IF(GF17=\"\",\"0\",1/GF$22)","v":"0"},null,{"$f":"IF(GH17=\"\",\"0\",1/GH$22)","v":"0"},null,{"$f":"IF(GJ17=\"\",\"0\",1/GJ$22)","v":"0"},null,{"$f":"IF(GL17=\"\",\"0\",1/GL$22)","v":"0"},null,{"$f":"IF(GN17=\"\",\"0\",1/GN$22)","v":"0"},null,{"$f":"IF(GP17=\"\",\"0\",1/GP$22)","v":"0"},null,{"$f":"IF(GR17=\"\",\"0\",1/GR$22)","v":"0"},null,{"$f":"IF(GT17=\"\",\"0\",1/GT$22)","v":"0"},null,{"$f":"IF(GV17=\"\",\"0\",1/GV$22)","v":"0"},null,{"$f":"IF(GX17=\"\",\"0\",1/GX$22)","v":"0"},null,{"$f":"IF(GZ17=\"\",\"0\",1/GZ$22)","v":"0"},null,{"$f":"IF(HB17=\"\",\"0\",1/HB$22)","v":"0"},null,{"$f":"IF(HD17=\"\",\"0\",1/HD$22)","v":"0"},null,{"$f":"IF(HF17=\"\",\"0\",1/HF$22)","v":"0"},null,{"$f":"IF(HH17=\"\",\"0\",1/HH$22)","v":"0"},null,{"$f":"IF(HJ17=\"\",\"0\",1/HJ$22)","v":"0"},null,{"$f":"IF(HL17=\"\",\"0\",1/HL$22)","v":"0"},null,{"$f":"IF(HN17=\"\",\"0\",1/HN$22)","v":"0"},null,{"$f":"IF(HP17=\"\",\"0\",1/HP$22)","v":"0"},null,{"$f":"IF(HR17=\"\",\"0\",1/HR$22)","v":"0"},null,{"$f":"IF(HT17=\"\",\"0\",1/HT$22)","v":"0"},null,{"$f":"IF(HV17=\"\",\"0\",1/HV$22)","v":"0"},null,{"$f":"IF(HX17=\"\",\"0\",1/HX$22)","v":"0"},null,{"$f":"IF(HZ17=\"\",\"0\",1/HZ$22)","v":"0"},null,{"$f":"IF(IB17=\"\",\"0\",1/IB$22)","v":"0"},null,{"$f":"IF(ID17=\"\",\"0\",1/ID$22)","v":"0"},null,{"$f":"IF(IF17=\"\",\"0\",1/IF$22)","v":"0"},null,{"$f":"IF(IH17=\"\",\"0\",1/IH$22)","v":"0"},null,{"$f":"IF(IJ17=\"\",\"0\",1/IJ$22)","v":"0"},null,{"$f":"IF(IL17=\"\",\"0\",1/IL$22)","v":"0"},null,{"$f":"IF(IN17=\"\",\"0\",1/IN$22)","v":"0"},null,{"$f":"IF(IP17=\"\",\"0\",1/IP$22)","v":"0"},null,{"$f":"IF(IR17=\"\",\"0\",1/IR$22)","v":"0"},null,{"$f":"IF(IT17=\"\",\"0\",1/IT$22)","v":"0"},null,{"$f":"IF(IV17=\"\",\"0\",1/IV$22)","v":"0"},null,{"$f":"IF(IX17=\"\",\"0\",1/IX$22)","v":"0"},null,{"$f":"IF(IZ17=\"\",\"0\",1/IZ$22)","v":"0"},null,{"$f":"IF(JB17=\"\",\"0\",1/JB$22)","v":"0"},null,{"$f":"IF(JD17=\"\",\"0\",1/JD$22)","v":"0"},null,{"$f":"IF(JF17=\"\",\"0\",1/JF$22)","v":"0"},null,{"$f":"IF(JH17=\"\",\"0\",1/JH$22)","v":"0"},null,{"$f":"IF(JJ17=\"\",\"0\",1/JJ$22)","v":"0"},null,{"$f":"IF(JL17=\"\",\"0\",1/JL$22)","v":"0"},null,{"$f":"IF(JN17=\"\",\"0\",1/JN$22)","v":"0"},null,{"$f":"IF(JP17=\"\",\"0\",1/JP$22)","v":"0"},null,{"$f":"IF(JR17=\"\",\"0\",1/JR$22)","v":"0"},null,{"$f":"IF(JT17=\"\",\"0\",1/JT$22)","v":"0"},null,{"$f":"IF(JV17=\"\",\"0\",1/JV$22)","v":"0"},null,{"$f":"IF(JX17=\"\",\"0\",1/JX$22)","v":"0"},null,{"$f":"IF(JZ17=\"\",\"0\",1/JZ$22)","v":"0"},null,{"$f":"IF(KB17=\"\",\"0\",1/KB$22)","v":"0"},null,{"$f":"IF(KD17=\"\",\"0\",1/KD$22)","v":"0"},null,{"$f":"IF(KF17=\"\",\"0\",1/KF$22)","v":"0"},null,{"$f":"IF(KH17=\"\",\"0\",1/KH$22)","v":"0"},null,{"$f":"IF(KJ17=\"\",\"0\",1/KJ$22)","v":"0"},null,{"$f":"IF(KL17=\"\",\"0\",1/KL$22)","v":"0"},null,{"$f":"IF(KN17=\"\",\"0\",1/KN$22)","v":"0"},null,{"$f":"IF(KP17=\"\",\"0\",1/KP$22)","v":"0"},null,{"$f":"IF(KR17=\"\",\"0\",1/KR$22)","v":"0"},null,{"$f":"IF(KT17=\"\",\"0\",1/KT$22)","v":"0"},null,{"$f":"IF(KV17=\"\",\"0\",1/KV$22)","v":"0"},null,{"$f":"IF(KX17=\"\",\"0\",1/KX$22)","v":"0"},null,{"$f":"IF(KZ17=\"\",\"0\",1/KZ$22)","v":"0"},null,{"$f":"IF(LB17=\"\",\"0\",1/LB$22)","v":"0"},null,{"$f":"IF(LD17=\"\",\"0\",1/LD$22)","v":"0"},null,{"$f":"IF(LF17=\"\",\"0\",1/LF$22)","v":"0"},null,{"$f":"IF(LH17=\"\",\"0\",1/LH$22)","v":"0"},null,{"$f":"IF(LJ17=\"\",\"0\",1/LJ$22)","v":"0"},null,{"$f":"IF(LL17=\"\",\"0\",1/LL$22)","v":"0"},null,{"$f":"IF(LN17=\"\",\"0\",1/LN$22)","v":"0"},null,{"$f":"IF(LP17=\"\",\"0\",1/LP$22)","v":"0"},null,{"$f":"IF(LR17=\"\",\"0\",1/LR$22)","v":"0"},null,{"$f":"IF(LT17=\"\",\"0\",1/LT$22)","v":"0"},null,{"$f":"IF(LV17=\"\",\"0\",1/LV$22)","v":"0"},null,{"$f":"IF(LX17=\"\",\"0\",1/LX$22)","v":"0"},null,{"$f":"IF(LZ17=\"\",\"0\",1/LZ$22)","v":"0"},null,{"$f":"IF(MB17=\"\",\"0\",1/MB$22)","v":"0"},null,{"$f":"IF(MD17=\"\",\"0\",1/MD$22)","v":"0"},null,{"$f":"IF(MF17=\"\",\"0\",1/MF$22)","v":"0"},null,{"$f":"IF(MH17=\"\",\"0\",1/MH$22)","v":"0"},null,{"$f":"IF(MJ17=\"\",\"0\",1/MJ$22)","v":"0"},null,{"$f":"IF(ML17=\"\",\"0\",1/ML$22)","v":"0"},null,{"$f":"IF(MN17=\"\",\"0\",1/MN$22)","v":"0"},null,{"$f":"IF(MP17=\"\",\"0\",1/MP$22)","v":"0"},null,{"$f":"IF(MR17=\"\",\"0\",1/MR$22)","v":"0"},null,{"$f":"IF(MT17=\"\",\"0\",1/MT$22)","v":"0"},null,{"$f":"IF(MV17=\"\",\"0\",1/MV$22)","v":"0"},null,{"$f":"IF(MX17=\"\",\"0\",1/MX$22)","v":"0"},null,{"$f":"IF(MZ17=\"\",\"0\",1/MZ$22)","v":"0"},null,{"$f":"IF(NB17=\"\",\"0\",1/NB$22)","v":"0"},null,{"$f":"IF(ND17=\"\",\"0\",1/ND$22)","v":"0"},null,{"$f":"IF(NF17=\"\",\"0\",1/NF$22)","v":"0"},null,{"$f":"IF(NH17=\"\",\"0\",1/NH$22)","v":"0"},null,{"$f":"IF(NJ17=\"\",\"0\",1/NJ$22)","v":"0"},null,{"$f":"IF(NL17=\"\",\"0\",1/NL$22)","v":"0"},null,{"$f":"IF(NN17=\"\",\"0\",1/NN$22)","v":"0"},null,{"$f":"IF(NP17=\"\",\"0\",1/NP$22)","v":"0"},null,{"$f":"IF(NR17=\"\",\"0\",1/NR$22)","v":"0"},null,{"$f":"IF(NT17=\"\",\"0\",1/NT$22)","v":"0"},null,{"$f":"IF(NV17=\"\",\"0\",1/NV$22)","v":"0"},null,{"$f":"IF(NX17=\"\",\"0\",1/NX$22)","v":"0"},null,{"$f":"IF(NZ17=\"\",\"0\",1/NZ$22)","v":"0"},null,{"$f":"IF(OB17=\"\",\"0\",1/OB$22)","v":"0"},null,{"$f":"IF(OD17=\"\",\"0\",1/OD$22)","v":"0"},null,{"$f":"IF(OF17=\"\",\"0\",1/OF$22)","v":"0"},null,{"$f":"IF(OH17=\"\",\"0\",1/OH$22)","v":"0"},null,{"$f":"IF(OJ17=\"\",\"0\",1/OJ$22)","v":"0"},null,{"$f":"IF(OL17=\"\",\"0\",1/OL$22)","v":"0"},null,{"$f":"IF(ON17=\"\",\"0\",1/ON$22)","v":"0"},null,{"$f":"IF(OP17=\"\",\"0\",1/OP$22)","v":"0"},null,{"$f":"IF(OR17=\"\",\"0\",1/OR$22)","v":"0"},null,{"$f":"IF(OT17=\"\",\"0\",1/OT$22)","v":"0"},null,{"$f":"IF(OV17=\"\",\"0\",1/OV$22)","v":"0"},null,{"$f":"IF(OX17=\"\",\"0\",1/OX$22)","v":"0"},null,{"$f":"IF(OZ17=\"\",\"0\",1/OZ$22)","v":"0"},null,{"$f":"IF(PB17=\"\",\"0\",1/PB$22)","v":"0"},null,{"$f":"IF(PD17=\"\",\"0\",1/PD$22)","v":"0"},null,{"$f":"IF(PF17=\"\",\"0\",1/PF$22)","v":"0"},null,{"$f":"IF(PH17=\"\",\"0\",1/PH$22)","v":"0"},null,{"$f":"IF(PJ17=\"\",\"0\",1/PJ$22)","v":"0"},null,{"$f":"IF(PL17=\"\",\"0\",1/PL$22)","v":"0"},null,{"$f":"IF(PN17=\"\",\"0\",1/PN$22)","v":"0"},null,{"$f":"IF(PP17=\"\",\"0\",1/PP$22)","v":"0"},null,{"$f":"IF(PR17=\"\",\"0\",1/PR$22)","v":"0"},null,{"$f":"IF(PT17=\"\",\"0\",1/PT$22)","v":"0"},null,{"$f":"IF(PV17=\"\",\"0\",1/PV$22)","v":"0"},null,{"$f":"IF(PX17=\"\",\"0\",1/PX$22)","v":"0"},null,{"$f":"IF(PZ17=\"\",\"0\",1/PZ$22)","v":"0"},null,{"$f":"IF(QB17=\"\",\"0\",1/QB$22)","v":"0"},null,{"$f":"IF(QD17=\"\",\"0\",1/QD$22)","v":"0"},null,{"$f":"IF(QF17=\"\",\"0\",1/QF$22)","v":"0"},null,{"$f":"IF(QH17=\"\",\"0\",1/QH$22)","v":"0"},null,{"$f":"IF(QJ17=\"\",\"0\",1/QJ$22)","v":"0"},null,{"$f":"IF(QL17=\"\",\"0\",1/QL$22)","v":"0"},null,{"$f":"IF(QN17=\"\",\"0\",1/QN$22)","v":"0"},null,{"$f":"IF(QP17=\"\",\"0\",1/QP$22)","v":"0"},null,{"$f":"IF(QR17=\"\",\"0\",1/QR$22)","v":"0"},null,{"$f":"IF(QT17=\"\",\"0\",1/QT$22)","v":"0"},null,{"$f":"IF(QV17=\"\",\"0\",1/QV$22)","v":"0"},null,{"$f":"IF(QX17=\"\",\"0\",1/QX$22)","v":"0"},null,{"$f":"IF(QZ17=\"\",\"0\",1/QZ$22)","v":"0"},null,{"$f":"IF(RB17=\"\",\"0\",1/RB$22)","v":"0"},null,{"$f":"IF(RD17=\"\",\"0\",1/RD$22)","v":"0"},null,{"$f":"IF(RF17=\"\",\"0\",1/RF$22)","v":"0"},null,{"$f":"IF(RH17=\"\",\"0\",1/RH$22)","v":"0"},null,{"$f":"IF(RJ17=\"\",\"0\",1/RJ$22)","v":"0"},null,{"$f":"IF(RL17=\"\",\"0\",1/RL$22)","v":"0"},null,{"$f":"IF(RN17=\"\",\"0\",1/RN$22)","v":"0"},null,{"$f":"IF(RP17=\"\",\"0\",1/RP$22)","v":"0"},null,{"$f":"IF(RR17=\"\",\"0\",1/RR$22)","v":"0"},null,{"$f":"IF(RT17=\"\",\"0\",1/RT$22)","v":"0"},null,{"$f":"IF(RV17=\"\",\"0\",1/RV$22)","v":"0"},null,{"$f":"IF(RX17=\"\",\"0\",1/RX$22)","v":"0"},null,{"$f":"IF(RZ17=\"\",\"0\",1/RZ$22)","v":"0"},null,{"$f":"IF(SB17=\"\",\"0\",1/SB$22)","v":"0"},null,{"$f":"IF(SD17=\"\",\"0\",1/SD$22)","v":"0"},null,{"$f":"IF(SF17=\"\",\"0\",1/SF$22)","v":"0"},null,{"$f":"IF(SH17=\"\",\"0\",1/SH$22)","v":"0"},null,{"$f":"IF(SJ17=\"\",\"0\",1/SJ$22)","v":"0"},null,{"$f":"IF(SL17=\"\",\"0\",1/SL$22)","v":"0"},null,{"$f":"IF(SN17=\"\",\"0\",1/SN$22)","v":"0"},null,{"$f":"IF(SP17=\"\",\"0\",1/SP$22)","v":"0"},null,{"$f":"IF(SR17=\"\",\"0\",1/SR$22)","v":"0"},null,{"$f":"IF(ST17=\"\",\"0\",1/ST$22)","v":"0"},null,{"$f":"IF(SV17=\"\",\"0\",1/SV$22)","v":"0"},null,{"$f":"IF(SX17=\"\",\"0\",1/SX$22)","v":"0"},null,{"$f":"IF(SZ17=\"\",\"0\",1/SZ$22)","v":"0"},null,{"$f":"IF(TB17=\"\",\"0\",1/TB$22)","v":"0"},null,{"$f":"IF(TD17=\"\",\"0\",1/TD$22)","v":"0"},null,{"$f":"IF(TF17=\"\",\"0\",1/TF$22)","v":"0"},null,{"$f":"IF(TH17=\"\",\"0\",1/TH$22)","v":"0"},null,{"$f":"IF(TJ17=\"\",\"0\",1/TJ$22)","v":"0"},null,{"$f":"IF(TL17=\"\",\"0\",1/TL$22)","v":"0"},null,{"$f":"IF(TN17=\"\",\"0\",1/TN$22)","v":"0"},null,{"$f":"IF(TP17=\"\",\"0\",1/TP$22)","v":"0"},null,{"$f":"IF(TR17=\"\",\"0\",1/TR$22)","v":"0"},null,{"$f":"IF(TT17=\"\",\"0\",1/TT$22)","v":"0"},null,{"$f":"IF(TV17=\"\",\"0\",1/TV$22)","v":"0"},null,{"$f":"IF(TX17=\"\",\"0\",1/TX$22)","v":"0"},null,{"$f":"IF(TZ17=\"\",\"0\",1/TZ$22)","v":"0"},null,{"$f":"IF(UB17=\"\",\"0\",1/UB$22)","v":"0"},null,{"$f":"IF(UD17=\"\",\"0\",1/UD$22)","v":"0"},null,{"$f":"IF(UF17=\"\",\"0\",1/UF$22)","v":"0"},null,{"$f":"IF(UH17=\"\",\"0\",1/UH$22)","v":"0"},null,{"$f":"IF(UJ17=\"\",\"0\",1/UJ$22)","v":"0"},null,{"$f":"IF(UL17=\"\",\"0\",1/UL$22)","v":"0"},null,{"$f":"IF(UN17=\"\",\"0\",1/UN$22)","v":"0"},null,{"$f":"IF(UP17=\"\",\"0\",1/UP$22)","v":"0"},null,{"$f":"IF(UR17=\"\",\"0\",1/UR$22)","v":"0"},null,{"$f":"IF(UT17=\"\",\"0\",1/UT$22)","v":"0"},null,{"$f":"IF(UV17=\"\",\"0\",1/UV$22)","v":"0"},null,{"$f":"IF(UX17=\"\",\"0\",1/UX$22)","v":"0"},null,{"$f":"IF(UZ17=\"\",\"0\",1/UZ$22)","v":"0"},null,{"$f":"IF(VB17=\"\",\"0\",1/VB$22)","v":"0"},null,{"$f":"IF(VD17=\"\",\"0\",1/VD$22)","v":"0"},null,{"$f":"IF(VF17=\"\",\"0\",1/VF$22)","v":"0"},null,{"$f":"IF(VH17=\"\",\"0\",1/VH$22)","v":"0"},null,{"$f":"IF(VJ17=\"\",\"0\",1/VJ$22)","v":"0"},null,{"$f":"IF(VL17=\"\",\"0\",1/VL$22)","v":"0"},null,{"$f":"IF(VN17=\"\",\"0\",1/VN$22)","v":"0"},null,{"$f":"IF(VP17=\"\",\"0\",1/VP$22)","v":"0"},null,{"$f":"IF(VR17=\"\",\"0\",1/VR$22)","v":"0"},null,{"$f":"IF(VT17=\"\",\"0\",1/VT$22)","v":"0"},null,{"$f":"IF(VV17=\"\",\"0\",1/VV$22)","v":"0"},null,{"$f":"IF(VX17=\"\",\"0\",1/VX$22)","v":"0"},null,{"$f":"IF(VZ17=\"\",\"0\",1/VZ$22)","v":"0"},null,{"$f":"IF(WB17=\"\",\"0\",1/WB$22)","v":"0"},null,{"$f":"IF(WD17=\"\",\"0\",1/WD$22)","v":"0"},null,{"$f":"IF(WF17=\"\",\"0\",1/WF$22)","v":"0"},null,{"$f":"IF(WH17=\"\",\"0\",1/WH$22)","v":"0"},null,{"$f":"IF(WJ17=\"\",\"0\",1/WJ$22)","v":"0"},null,{"$f":"IF(WL17=\"\",\"0\",1/WL$22)","v":"0"},null,{"$f":"IF(WN17=\"\",\"0\",1/WN$22)","v":"0"},null,{"$f":"IF(WP17=\"\",\"0\",1/WP$22)","v":"0"},null,{"$f":"IF(WR17=\"\",\"0\",1/WR$22)","v":"0"},null,{"$f":"IF(WT17=\"\",\"0\",1/WT$22)","v":"0"},null,{"$f":"IF(WV17=\"\",\"0\",1/WV$22)","v":"0"},null,{"$f":"IF(WX17=\"\",\"0\",1/WX$22)","v":"0"},null,{"$f":"IF(WZ17=\"\",\"0\",1/WZ$22)","v":"0"},null,{"$f":"IF(XB17=\"\",\"0\",1/XB$22)","v":"0"},null,{"$f":"IF(XD17=\"\",\"0\",1/XD$22)","v":"0"},null,{"$f":"IF(XF17=\"\",\"0\",1/XF$22)","v":"0"},null,{"$f":"IF(XH17=\"\",\"0\",1/XH$22)","v":"0"},null,{"$f":"IF(XJ17=\"\",\"0\",1/XJ$22)","v":"0"},null,{"$f":"IF(XL17=\"\",\"0\",1/XL$22)","v":"0"},null,{"$f":"IF(XN17=\"\",\"0\",1/XN$22)","v":"0"},null,{"$f":"IF(XP17=\"\",\"0\",1/XP$22)","v":"0"},null,{"$f":"IF(XR17=\"\",\"0\",1/XR$22)","v":"0"},null,{"$f":"IF(XT17=\"\",\"0\",1/XT$22)","v":"0"},null,{"$f":"IF(XV17=\"\",\"0\",1/XV$22)","v":"0"},null,{"$f":"IF(XX17=\"\",\"0\",1/XX$22)","v":"0"},null,{"$f":"IF(XZ17=\"\",\"0\",1/XZ$22)","v":"0"},null,{"$f":"IF(YB17=\"\",\"0\",1/YB$22)","v":"0"},null,{"$f":"IF(YD17=\"\",\"0\",1/YD$22)","v":"0"},null,{"$f":"IF(YF17=\"\",\"0\",1/YF$22)","v":"0"},null,{"$f":"IF(YH17=\"\",\"0\",1/YH$22)","v":"0"},null,{"$f":"IF(YJ17=\"\",\"0\",1/YJ$22)","v":"0"},null,{"$f":"IF(YL17=\"\",\"0\",1/YL$22)","v":"0"},null,{"$f":"IF(YN17=\"\",\"0\",1/YN$22)","v":"0"},null,{"$f":"IF(YP17=\"\",\"0\",1/YP$22)","v":"0"},null,{"$f":"IF(YR17=\"\",\"0\",1/YR$22)","v":"0"},null,{"$f":"IF(YT17=\"\",\"0\",1/YT$22)","v":"0"},null,{"$f":"IF(YV17=\"\",\"0\",1/YV$22)","v":"0"},null,{"$f":"IF(YX17=\"\",\"0\",1/YX$22)","v":"0"},null,{"$f":"IF(YZ17=\"\",\"0\",1/YZ$22)","v":"0"},null,{"$f":"IF(ZB17=\"\",\"0\",1/ZB$22)","v":"0"},null,{"$f":"IF(ZD17=\"\",\"0\",1/ZD$22)","v":"0"},null,{"$f":"IF(ZF17=\"\",\"0\",1/ZF$22)","v":"0"},null,{"$f":"IF(ZH17=\"\",\"0\",1/ZH$22)","v":"0"},null,{"$f":"IF(ZJ17=\"\",\"0\",1/ZJ$22)","v":"0"},null,{"$f":"IF(ZL17=\"\",\"0\",1/ZL$22)","v":"0"},null,{"$f":"IF(ZN17=\"\",\"0\",1/ZN$22)","v":"0"},null,{"$f":"IF(ZP17=\"\",\"0\",1/ZP$22)","v":"0"},null,{"$f":"IF(ZR17=\"\",\"0\",1/ZR$22)","v":"0"},null,{"$f":"IF(ZT17=\"\",\"0\",1/ZT$22)","v":"0"},null,{"$f":"IF(ZV17=\"\",\"0\",1/ZV$22)","v":"0"},null,{"$f":"IF(ZX17=\"\",\"0\",1/ZX$22)","v":"0"},null,{"$f":"IF(ZZ17=\"\",\"0\",1/ZZ$22)","v":"0"},null,{"$f":"IF(AAB17=\"\",\"0\",1/AAB$22)","v":"0"},null,{"$f":"IF(AAD17=\"\",\"0\",1/AAD$22)","v":"0"},null,{"$f":"IF(AAF17=\"\",\"0\",1/AAF$22)","v":"0"},null,{"$f":"IF(AAH17=\"\",\"0\",1/AAH$22)","v":"0"},null,{"$f":"IF(AAJ17=\"\",\"0\",1/AAJ$22)","v":"0"},null,{"$f":"IF(AAL17=\"\",\"0\",1/AAL$22)","v":"0"},null,{"$f":"IF(AAN17=\"\",\"0\",1/AAN$22)","v":"0"},null,{"$f":"IF(AAP17=\"\",\"0\",1/AAP$22)","v":"0"},null,{"$f":"IF(AAR17=\"\",\"0\",1/AAR$22)","v":"0"},null,{"$f":"IF(AAT17=\"\",\"0\",1/AAT$22)","v":"0"},null,{"$f":"IF(AAV17=\"\",\"0\",1/AAV$22)","v":"0"},null,{"$f":"IF(AAX17=\"\",\"0\",1/AAX$22)","v":"0"},null,{"$f":"IF(AAZ17=\"\",\"0\",1/AAZ$22)","v":"0"},null,{"$f":"IF(ABB17=\"\",\"0\",1/ABB$22)","v":"0"},null,{"$f":"IF(ABD17=\"\",\"0\",1/ABD$22)","v":"0"},null,{"$f":"IF(ABF17=\"\",\"0\",1/ABF$22)","v":"0"},null,{"$f":"IF(ABH17=\"\",\"0\",1/ABH$22)","v":"0"},null,{"$f":"IF(ABJ17=\"\",\"0\",1/ABJ$22)","v":"0"},null,{"$f":"IF(ABL17=\"\",\"0\",1/ABL$22)","v":"0"},null,{"$f":"IF(ABN17=\"\",\"0\",1/ABN$22)","v":"0"},null,{"$f":"IF(ABP17=\"\",\"0\",1/ABP$22)","v":"0"},null,{"$f":"IF(ABR17=\"\",\"0\",1/ABR$22)","v":"0"},null,{"$f":"IF(ABT17=\"\",\"0\",1/ABT$22)","v":"0"},null,{"$f":"IF(ABV17=\"\",\"0\",1/ABV$22)","v":"0"},null,{"$f":"IF(ABX17=\"\",\"0\",1/ABX$22)","v":"0"},null,{"$f":"IF(ABZ17=\"\",\"0\",1/ABZ$22)","v":"0"},null,{"$f":"IF(ACB17=\"\",\"0\",1/ACB$22)","v":"0"},null,{"$f":"IF(ACD17=\"\",\"0\",1/ACD$22)","v":"0"},null,{"$f":"IF(ACF17=\"\",\"0\",1/ACF$22)","v":"0"},null,{"$f":"IF(ACH17=\"\",\"0\",1/ACH$22)","v":"0"},null,{"$f":"IF(ACJ17=\"\",\"0\",1/ACJ$22)","v":"0"},null,{"$f":"IF(ACL17=\"\",\"0\",1/ACL$22)","v":"0"},null,{"$f":"IF(ACN17=\"\",\"0\",1/ACN$22)","v":"0"},null,{"$f":"IF(ACP17=\"\",\"0\",1/ACP$22)","v":"0"},null,{"$f":"IF(ACR17=\"\",\"0\",1/ACR$22)","v":"0"},null,{"$f":"IF(ACT17=\"\",\"0\",1/ACT$22)","v":"0"},null,{"$f":"IF(ACV17=\"\",\"0\",1/ACV$22)","v":"0"},null,{"$f":"IF(ACX17=\"\",\"0\",1/ACX$22)","v":"0"},null,{"$f":"IF(ACZ17=\"\",\"0\",1/ACZ$22)","v":"0"},null,{"$f":"IF(ADB17=\"\",\"0\",1/ADB$22)","v":"0"},null,{"$f":"IF(ADD17=\"\",\"0\",1/ADD$22)","v":"0"},null,{"$f":"IF(ADF17=\"\",\"0\",1/ADF$22)","v":"0"},null,{"$f":"IF(ADH17=\"\",\"0\",1/ADH$22)","v":"0"},null,{"$f":"IF(ADJ17=\"\",\"0\",1/ADJ$22)","v":"0"},null,{"$f":"IF(ADL17=\"\",\"0\",1/ADL$22)","v":"0"},null,{"$f":"IF(ADN17=\"\",\"0\",1/ADN$22)","v":"0"},null,{"$f":"IF(ADP17=\"\",\"0\",1/ADP$22)","v":"0"},null,{"$f":"IF(ADR17=\"\",\"0\",1/ADR$22)","v":"0"},null,{"$f":"IF(ADT17=\"\",\"0\",1/ADT$22)","v":"0"},null,{"$f":"IF(ADV17=\"\",\"0\",1/ADV$22)","v":"0"},null,{"$f":"IF(ADX17=\"\",\"0\",1/ADX$22)","v":"0"},null,{"$f":"IF(ADZ17=\"\",\"0\",1/ADZ$22)","v":"0"},null,{"$f":"IF(AEB17=\"\",\"0\",1/AEB$22)","v":"0"},null,{"$f":"IF(AED17=\"\",\"0\",1/AED$22)","v":"0"},null,{"$f":"IF(AEF17=\"\",\"0\",1/AEF$22)","v":"0"},null,{"$f":"IF(AEH17=\"\",\"0\",1/AEH$22)","v":"0"},null,{"$f":"IF(AEJ17=\"\",\"0\",1/AEJ$22)","v":"0"},null,{"$f":"IF(AEL17=\"\",\"0\",1/AEL$22)","v":"0"},null,{"$f":"IF(AEN17=\"\",\"0\",1/AEN$22)","v":"0"},null,{"$f":"IF(AEP17=\"\",\"0\",1/AEP$22)","v":"0"},null,{"$f":"IF(AER17=\"\",\"0\",1/AER$22)","v":"0"},null,{"$f":"IF(AET17=\"\",\"0\",1/AET$22)","v":"0"},null,{"$f":"IF(AEV17=\"\",\"0\",1/AEV$22)","v":"0"},null,{"$f":"IF(AEX17=\"\",\"0\",1/AEX$22)","v":"0"},null,{"$f":"IF(AEZ17=\"\",\"0\",1/AEZ$22)","v":"0"},null,{"$f":"IF(AFB17=\"\",\"0\",1/AFB$22)","v":"0"},null,{"$f":"IF(AFD17=\"\",\"0\",1/AFD$22)","v":"0"},null,{"$f":"IF(AFF17=\"\",\"0\",1/AFF$22)","v":"0"},null,{"$f":"IF(AFH17=\"\",\"0\",1/AFH$22)","v":"0"},null,{"$f":"IF(AFJ17=\"\",\"0\",1/AFJ$22)","v":"0"},null,{"$f":"IF(AFL17=\"\",\"0\",1/AFL$22)","v":"0"},null,{"$f":"IF(AFN17=\"\",\"0\",1/AFN$22)","v":"0"},null,{"$f":"IF(AFP17=\"\",\"0\",1/AFP$22)","v":"0"},null,{"$f":"IF(AFR17=\"\",\"0\",1/AFR$22)","v":"0"},null,{"$f":"IF(AFT17=\"\",\"0\",1/AFT$22)","v":"0"},null,{"$f":"IF(AFV17=\"\",\"0\",1/AFV$22)","v":"0"},null,{"$f":"IF(AFX17=\"\",\"0\",1/AFX$22)","v":"0"},null,{"$f":"IF(AFZ17=\"\",\"0\",1/AFZ$22)","v":"0"},null,{"$f":"IF(AGB17=\"\",\"0\",1/AGB$22)","v":"0"},null,{"$f":"IF(AGD17=\"\",\"0\",1/AGD$22)","v":"0"},null,{"$f":"IF(AGF17=\"\",\"0\",1/AGF$22)","v":"0"},null,{"$f":"IF(AGH17=\"\",\"0\",1/AGH$22)","v":"0"},null,{"$f":"IF(AGJ17=\"\",\"0\",1/AGJ$22)","v":"0"},null,{"$f":"IF(AGL17=\"\",\"0\",1/AGL$22)","v":"0"},null,{"$f":"IF(AGN17=\"\",\"0\",1/AGN$22)","v":"0"},null,{"$f":"IF(AGP17=\"\",\"0\",1/AGP$22)","v":"0"},null,{"$f":"IF(AGR17=\"\",\"0\",1/AGR$22)","v":"0"},null,{"$f":"IF(AGT17=\"\",\"0\",1/AGT$22)","v":"0"},null,{"$f":"IF(AGV17=\"\",\"0\",1/AGV$22)","v":"0"},null,{"$f":"IF(AGX17=\"\",\"0\",1/AGX$22)","v":"0"},null,{"$f":"IF(AGZ17=\"\",\"0\",1/AGZ$22)","v":"0"},null,{"$f":"IF(AHB17=\"\",\"0\",1/AHB$22)","v":"0"},null,{"$f":"IF(AHD17=\"\",\"0\",1/AHD$22)","v":"0"},null,{"$f":"IF(AHF17=\"\",\"0\",1/AHF$22)","v":"0"},null,{"$f":"IF(AHH17=\"\",\"0\",1/AHH$22)","v":"0"},null,{"$f":"IF(AHJ17=\"\",\"0\",1/AHJ$22)","v":"0"},null,{"$f":"IF(AHL17=\"\",\"0\",1/AHL$22)","v":"0"},null,{"$f":"IF(AHN17=\"\",\"0\",1/AHN$22)","v":"0"},null,{"$f":"IF(AHP17=\"\",\"0\",1/AHP$22)","v":"0"},null,{"$f":"IF(AHR17=\"\",\"0\",1/AHR$22)","v":"0"},null,{"$f":"IF(AHT17=\"\",\"0\",1/AHT$22)","v":"0"},null,{"$f":"IF(AHV17=\"\",\"0\",1/AHV$22)","v":"0"},null,{"$f":"IF(AHX17=\"\",\"0\",1/AHX$22)","v":"0"},null,{"$f":"IF(AHZ17=\"\",\"0\",1/AHZ$22)","v":"0"},null,{"$f":"IF(AIB17=\"\",\"0\",1/AIB$22)","v":"0"},null,{"$f":"IF(AID17=\"\",\"0\",1/AID$22)","v":"0"},null,{"$f":"IF(AIF17=\"\",\"0\",1/AIF$22)","v":"0"},null,{"$f":"IF(AIH17=\"\",\"0\",1/AIH$22)","v":"0"},null,{"$f":"IF(AIJ17=\"\",\"0\",1/AIJ$22)","v":"0"},null,{"$f":"IF(AIL17=\"\",\"0\",1/AIL$22)","v":"0"},null,{"$f":"IF(AIN17=\"\",\"0\",1/AIN$22)","v":"0"},null,{"$f":"IF(AIP17=\"\",\"0\",1/AIP$22)","v":"0"},null,{"$f":"IF(AIR17=\"\",\"0\",1/AIR$22)","v":"0"},null,{"$f":"IF(AIT17=\"\",\"0\",1/AIT$22)","v":"0"},null,{"$f":"IF(AIV17=\"\",\"0\",1/AIV$22)","v":"0"},null,{"$f":"IF(AIX17=\"\",\"0\",1/AIX$22)","v":"0"},null,{"$f":"IF(AIZ17=\"\",\"0\",1/AIZ$22)","v":"0"},null,{"$f":"IF(AJB17=\"\",\"0\",1/AJB$22)","v":"0"},null,{"$f":"IF(AJD17=\"\",\"0\",1/AJD$22)","v":"0"},null,{"$f":"IF(AJF17=\"\",\"0\",1/AJF$22)","v":"0"},null,{"$f":"IF(AJH17=\"\",\"0\",1/AJH$22)","v":"0"},null,{"$f":"IF(AJJ17=\"\",\"0\",1/AJJ$22)","v":"0"},null,{"$f":"IF(AJL17=\"\",\"0\",1/AJL$22)","v":"0"},null,{"$f":"IF(AJN17=\"\",\"0\",1/AJN$22)","v":"0"},null,{"$f":"IF(AJP17=\"\",\"0\",1/AJP$22)","v":"0"},null,{"$f":"IF(AJR17=\"\",\"0\",1/AJR$22)","v":"0"},null,{"$f":"IF(AJT17=\"\",\"0\",1/AJT$22)","v":"0"},null,{"$f":"IF(AJV17=\"\",\"0\",1/AJV$22)","v":"0"},null,{"$f":"IF(AJX17=\"\",\"0\",1/AJX$22)","v":"0"},null,{"$f":"IF(AJZ17=\"\",\"0\",1/AJZ$22)","v":"0"},null,{"$f":"IF(AKB17=\"\",\"0\",1/AKB$22)","v":"0"},null,{"$f":"IF(AKD17=\"\",\"0\",1/AKD$22)","v":"0"},null,{"$f":"IF(AKF17=\"\",\"0\",1/AKF$22)","v":"0"},null,{"$f":"IF(AKH17=\"\",\"0\",1/AKH$22)","v":"0"},null,{"$f":"IF(AKJ17=\"\",\"0\",1/AKJ$22)","v":"0"},null,{"$f":"IF(AKL17=\"\",\"0\",1/AKL$22)","v":"0"},null,{"$f":"IF(AKN17=\"\",\"0\",1/AKN$22)","v":"0"},null,{"$f":"IF(AKP17=\"\",\"0\",1/AKP$22)","v":"0"},null,{"$f":"IF(AKR17=\"\",\"0\",1/AKR$22)","v":"0"},null,{"$f":"IF(AKT17=\"\",\"0\",1/AKT$22)","v":"0"},null,{"$f":"IF(AKV17=\"\",\"0\",1/AKV$22)","v":"0"},null,{"$f":"IF(AKX17=\"\",\"0\",1/AKX$22)","v":"0"},null,{"$f":"IF(AKZ17=\"\",\"0\",1/AKZ$22)","v":"0"},null,{"$f":"IF(ALB17=\"\",\"0\",1/ALB$22)","v":"0"},null,{"$f":"IF(ALD17=\"\",\"0\",1/ALD$22)","v":"0"},null,{"$f":"IF(ALF17=\"\",\"0\",1/ALF$22)","v":"0"},null,{"$f":"IF(ALH17=\"\",\"0\",1/ALH$22)","v":"0"},null,{"$f":"IF(ALJ17=\"\",\"0\",1/ALJ$22)","v":"0"},null,{"$f":"IF(ALL17=\"\",\"0\",1/ALL$22)","v":"0"},null,{"$f":"IF(ALN17=\"\",\"0\",1/ALN$22)","v":"0"},null,{"$f":"IF(ALP17=\"\",\"0\",1/ALP$22)","v":"0"},null,{"$f":"IF(ALR17=\"\",\"0\",1/ALR$22)","v":"0"},null,{"$f":"IF(ALT17=\"\",\"0\",1/ALT$22)","v":"0"},null,{"$f":"IF(ALV17=\"\",\"0\",1/ALV$22)","v":"0"},null,{"$f":"IF(ALX17=\"\",\"0\",1/ALX$22)","v":"0"},null,{"$f":"IF(ALZ17=\"\",\"0\",1/ALZ$22)","v":"0"},null,{"$f":"IF(AMB17=\"\",\"0\",1/AMB$22)","v":"0"},null,{"$f":"IF(AMD17=\"\",\"0\",1/AMD$22)","v":"0"},null,{"$f":"IF(AMF17=\"\",\"0\",1/AMF$22)","v":"0"},null,{"$f":"IF(AMH17=\"\",\"0\",1/AMH$22)","v":"0"},null,{"$f":"IF(AMJ17=\"\",\"0\",1/AMJ$22)","v":"0"},null,{"$f":"IF(AML17=\"\",\"0\",1/AML$22)","v":"0"},null,{"$f":"IF(AMN17=\"\",\"0\",1/AMN$22)","v":"0"},null,{"$f":"IF(AMP17=\"\",\"0\",1/AMP$22)","v":"0"},null,{"$f":"IF(AMR17=\"\",\"0\",1/AMR$22)","v":"0"},null,{"$f":"IF(AMT17=\"\",\"0\",1/AMT$22)","v":"0"},null,{"$f":"IF(AMV17=\"\",\"0\",1/AMV$22)","v":"0"},null,{"$f":"IF(AMX17=\"\",\"0\",1/AMX$22)","v":"0"},null,{"$f":"IF(AMZ17=\"\",\"0\",1/AMZ$22)","v":"0"},null,{"$f":"IF(ANB17=\"\",\"0\",1/ANB$22)","v":"0"},null,{"$f":"IF(AND17=\"\",\"0\",1/AND$22)","v":"0"},null,{"$f":"IF(ANF17=\"\",\"0\",1/ANF$22)","v":"0"},null,{"$f":"IF(ANH17=\"\",\"0\",1/ANH$22)","v":"0"},null,{"$f":"IF(ANJ17=\"\",\"0\",1/ANJ$22)","v":"0"},null,{"$f":"IF(ANL17=\"\",\"0\",1/ANL$22)","v":"0"},null,{"$f":"IF(ANN17=\"\",\"0\",1/ANN$22)","v":"0"},null,{"$f":"IF(ANP17=\"\",\"0\",1/ANP$22)","v":"0"},null,{"$f":"IF(ANR17=\"\",\"0\",1/ANR$22)","v":"0"},null,{"$f":"IF(ANT17=\"\",\"0\",1/ANT$22)","v":"0"},null,{"$f":"IF(ANV17=\"\",\"0\",1/ANV$22)","v":"0"},null,{"$f":"IF(ANX17=\"\",\"0\",1/ANX$22)","v":"0"},null,{"$f":"IF(ANZ17=\"\",\"0\",1/ANZ$22)","v":"0"},null,{"$f":"IF(AOB17=\"\",\"0\",1/AOB$22)","v":"0"},null,{"$f":"IF(AOD17=\"\",\"0\",1/AOD$22)","v":"0"},null,{"$f":"IF(AOF17=\"\",\"0\",1/AOF$22)","v":"0"},null,{"$f":"IF(AOH17=\"\",\"0\",1/AOH$22)","v":"0"},null,{"$f":"IF(AOJ17=\"\",\"0\",1/AOJ$22)","v":"0"},null,{"$f":"IF(AOL17=\"\",\"0\",1/AOL$22)","v":"0"},null,{"$f":"IF(AON17=\"\",\"0\",1/AON$22)","v":"0"},null,{"$f":"IF(AOP17=\"\",\"0\",1/AOP$22)","v":"0"},null,{"$f":"IF(AOR17=\"\",\"0\",1/AOR$22)","v":"0"},null,{"$f":"IF(AOT17=\"\",\"0\",1/AOT$22)","v":"0"},null,{"$f":"IF(AOV17=\"\",\"0\",1/AOV$22)","v":"0"},null,{"$f":"IF(AOX17=\"\",\"0\",1/AOX$22)","v":"0"},null,{"$f":"IF(AOZ17=\"\",\"0\",1/AOZ$22)","v":"0"},null,{"$f":"IF(APB17=\"\",\"0\",1/APB$22)","v":"0"},null,{"$f":"IF(APD17=\"\",\"0\",1/APD$22)","v":"0"},null,{"$f":"IF(APF17=\"\",\"0\",1/APF$22)","v":"0"},null,{"$f":"IF(APH17=\"\",\"0\",1/APH$22)","v":"0"},null,{"$f":"IF(APJ17=\"\",\"0\",1/APJ$22)","v":"0"},null,{"$f":"IF(APL17=\"\",\"0\",1/APL$22)","v":"0"},null,{"$f":"IF(APN17=\"\",\"0\",1/APN$22)","v":"0"},null,{"$f":"IF(APP17=\"\",\"0\",1/APP$22)","v":"0"},null,{"$f":"IF(APR17=\"\",\"0\",1/APR$22)","v":"0"},null,{"$f":"IF(APT17=\"\",\"0\",1/APT$22)","v":"0"},null,{"$f":"IF(APV17=\"\",\"0\",1/APV$22)","v":"0"},null,{"$f":"IF(APX17=\"\",\"0\",1/APX$22)","v":"0"},null,{"$f":"IF(APZ17=\"\",\"0\",1/APZ$22)","v":"0"},null,{"$f":"IF(AQB17=\"\",\"0\",1/AQB$22)","v":"0"},null,{"$f":"IF(AQD17=\"\",\"0\",1/AQD$22)","v":"0"},null,{"$f":"IF(AQF17=\"\",\"0\",1/AQF$22)","v":"0"},null,{"$f":"IF(AQH17=\"\",\"0\",1/AQH$22)","v":"0"},null,{"$f":"IF(AQJ17=\"\",\"0\",1/AQJ$22)","v":"0"},null,{"$f":"IF(AQL17=\"\",\"0\",1/AQL$22)","v":"0"},null,{"$f":"IF(AQN17=\"\",\"0\",1/AQN$22)","v":"0"},null,{"$f":"IF(AQP17=\"\",\"0\",1/AQP$22)","v":"0"},null,{"$f":"IF(AQR17=\"\",\"0\",1/AQR$22)","v":"0"},null,{"$f":"IF(AQT17=\"\",\"0\",1/AQT$22)","v":"0"},null,{"$f":"IF(AQV17=\"\",\"0\",1/AQV$22)","v":"0"},null,{"$f":"IF(AQX17=\"\",\"0\",1/AQX$22)","v":"0"},null,{"$f":"IF(AQZ17=\"\",\"0\",1/AQZ$22)","v":"0"},null,{"$f":"IF(ARB17=\"\",\"0\",1/ARB$22)","v":"0"},null,{"$f":"IF(ARD17=\"\",\"0\",1/ARD$22)","v":"0"},null,{"$f":"IF(ARF17=\"\",\"0\",1/ARF$22)","v":"0"},null,{"$f":"IF(ARH17=\"\",\"0\",1/ARH$22)","v":"0"},null,{"$f":"IF(ARJ17=\"\",\"0\",1/ARJ$22)","v":"0"},null,{"$f":"IF(ARL17=\"\",\"0\",1/ARL$22)","v":"0"},null,{"$f":"IF(ARN17=\"\",\"0\",1/ARN$22)","v":"0"},null,{"$f":"IF(ARP17=\"\",\"0\",1/ARP$22)","v":"0"},null,{"$f":"IF(ARR17=\"\",\"0\",1/ARR$22)","v":"0"},null,{"$f":"IF(ART17=\"\",\"0\",1/ART$22)","v":"0"},null,{"$f":"IF(ARV17=\"\",\"0\",1/ARV$22)","v":"0"},null,{"$f":"IF(ARX17=\"\",\"0\",1/ARX$22)","v":"0"},null,{"$f":"IF(ARZ17=\"\",\"0\",1/ARZ$22)","v":"0"},null,{"$f":"IF(ASB17=\"\",\"0\",1/ASB$22)","v":"0"},null,{"$f":"IF(ASD17=\"\",\"0\",1/ASD$22)","v":"0"},null,{"$f":"IF(ASF17=\"\",\"0\",1/ASF$22)","v":"0"},null,{"$f":"IF(ASH17=\"\",\"0\",1/ASH$22)","v":"0"},null,{"$f":"IF(ASJ17=\"\",\"0\",1/ASJ$22)","v":"0"},null,{"$f":"IF(ASL17=\"\",\"0\",1/ASL$22)","v":"0"},null,{"$f":"IF(ASN17=\"\",\"0\",1/ASN$22)","v":"0"},null,{"$f":"IF(ASP17=\"\",\"0\",1/ASP$22)","v":"0"},null,{"$f":"IF(ASR17=\"\",\"0\",1/ASR$22)","v":"0"},null,{"$f":"IF(AST17=\"\",\"0\",1/AST$22)","v":"0"},null,{"$f":"IF(ASV17=\"\",\"0\",1/ASV$22)","v":"0"},null,{"$f":"IF(ASX17=\"\",\"0\",1/ASX$22)","v":"0"},null,{"$f":"IF(ASZ17=\"\",\"0\",1/ASZ$22)","v":"0"},null,{"$f":"IF(ATB17=\"\",\"0\",1/ATB$22)","v":"0"},null,{"$f":"IF(ATD17=\"\",\"0\",1/ATD$22)","v":"0"},null,{"$f":"IF(ATF17=\"\",\"0\",1/ATF$22)","v":"0"},null,{"$f":"IF(ATH17=\"\",\"0\",1/ATH$22)","v":"0"},null,{"$f":"IF(ATJ17=\"\",\"0\",1/ATJ$22)","v":"0"},null,{"$f":"IF(ATL17=\"\",\"0\",1/ATL$22)","v":"0"},null,{"$f":"IF(ATN17=\"\",\"0\",1/ATN$22)","v":"0"},null,{"$f":"IF(ATP17=\"\",\"0\",1/ATP$22)","v":"0"},null,{"$f":"IF(ATR17=\"\",\"0\",1/ATR$22)","v":"0"},null,{"$f":"IF(ATT17=\"\",\"0\",1/ATT$22)","v":"0"},null,{"$f":"IF(ATV17=\"\",\"0\",1/ATV$22)","v":"0"},null,{"$f":"IF(ATX17=\"\",\"0\",1/ATX$22)","v":"0"},null,{"$f":"IF(ATZ17=\"\",\"0\",1/ATZ$22)","v":"0"},null,{"$f":"IF(AUB17=\"\",\"0\",1/AUB$22)","v":"0"},null,{"$f":"IF(AUD17=\"\",\"0\",1/AUD$22)","v":"0"},null,{"$f":"IF(AUF17=\"\",\"0\",1/AUF$22)","v":"0"},null,{"$f":"IF(AUH17=\"\",\"0\",1/AUH$22)","v":"0"},null,{"$f":"IF(AUJ17=\"\",\"0\",1/AUJ$22)","v":"0"},null,{"$f":"IF(AUL17=\"\",\"0\",1/AUL$22)","v":"0"},null,{"$f":"IF(AUN17=\"\",\"0\",1/AUN$22)","v":"0"},null,{"$f":"IF(AUP17=\"\",\"0\",1/AUP$22)","v":"0"},null,{"$f":"IF(AUR17=\"\",\"0\",1/AUR$22)","v":"0"},null,{"$f":"IF(AUT17=\"\",\"0\",1/AUT$22)","v":"0"},null,{"$f":"IF(AUV17=\"\",\"0\",1/AUV$22)","v":"0"},null,{"$f":"IF(AUX17=\"\",\"0\",1/AUX$22)","v":"0"},null,{"$f":"IF(AUZ17=\"\",\"0\",1/AUZ$22)","v":"0"},null,{"$f":"IF(AVB17=\"\",\"0\",1/AVB$22)","v":"0"},null,{"$f":"IF(AVD17=\"\",\"0\",1/AVD$22)","v":"0"},null,{"$f":"IF(AVF17=\"\",\"0\",1/AVF$22)","v":"0"},null,{"$f":"IF(AVH17=\"\",\"0\",1/AVH$22)","v":"0"},null,{"$f":"IF(AVJ17=\"\",\"0\",1/AVJ$22)","v":"0"},null,{"$f":"IF(AVL17=\"\",\"0\",1/AVL$22)","v":"0"},null,{"$f":"IF(AVN17=\"\",\"0\",1/AVN$22)","v":"0"},null,{"$f":"IF(AVP17=\"\",\"0\",1/AVP$22)","v":"0"},null,{"$f":"IF(AVR17=\"\",\"0\",1/AVR$22)","v":"0"},null,{"$f":"IF(AVT17=\"\",\"0\",1/AVT$22)","v":"0"},null,{"$f":"IF(AVV17=\"\",\"0\",1/AVV$22)","v":"0"},null,{"$f":"IF(AVX17=\"\",\"0\",1/AVX$22)","v":"0"},null,{"$f":"IF(AVZ17=\"\",\"0\",1/AVZ$22)","v":"0"},null,{"$f":"IF(AWB17=\"\",\"0\",1/AWB$22)","v":"0"},null,{"$f":"IF(AWD17=\"\",\"0\",1/AWD$22)","v":"0"},null,{"$f":"IF(AWF17=\"\",\"0\",1/AWF$22)","v":"0"},null,{"$f":"IF(AWH17=\"\",\"0\",1/AWH$22)","v":"0"},null,{"$f":"IF(AWJ17=\"\",\"0\",1/AWJ$22)","v":"0"},null,{"$f":"IF(AWL17=\"\",\"0\",1/AWL$22)","v":"0"},null,{"$f":"IF(AWN17=\"\",\"0\",1/AWN$22)","v":"0"},null,{"$f":"IF(AWP17=\"\",\"0\",1/AWP$22)","v":"0"},null,{"$f":"IF(AWR17=\"\",\"0\",1/AWR$22)","v":"0"},null,{"$f":"IF(AWT17=\"\",\"0\",1/AWT$22)","v":"0"},null,{"$f":"IF(AWV17=\"\",\"0\",1/AWV$22)","v":"0"},null,{"$f":"IF(AWX17=\"\",\"0\",1/AWX$22)","v":"0"},null,{"$f":"IF(AWZ17=\"\",\"0\",1/AWZ$22)","v":"0"},null,{"$f":"IF(AXB17=\"\",\"0\",1/AXB$22)","v":"0"},null,{"$f":"IF(AXD17=\"\",\"0\",1/AXD$22)","v":"0"},null,{"$f":"IF(AXF17=\"\",\"0\",1/AXF$22)","v":"0"},null,{"$f":"IF(AXH17=\"\",\"0\",1/AXH$22)","v":"0"},null,{"$f":"IF(AXJ17=\"\",\"0\",1/AXJ$22)","v":"0"},null,{"$f":"IF(AXL17=\"\",\"0\",1/AXL$22)","v":"0"},null,{"$f":"IF(AXN17=\"\",\"0\",1/AXN$22)","v":"0"},null,{"$f":"IF(AXP17=\"\",\"0\",1/AXP$22)","v":"0"},null,{"$f":"IF(AXR17=\"\",\"0\",1/AXR$22)","v":"0"},null,{"$f":"IF(AXT17=\"\",\"0\",1/AXT$22)","v":"0"},null,{"$f":"IF(AXV17=\"\",\"0\",1/AXV$22)","v":"0"},null,{"$f":"IF(AXX17=\"\",\"0\",1/AXX$22)","v":"0"},null,{"$f":"IF(AXZ17=\"\",\"0\",1/AXZ$22)","v":"0"},null,{"$f":"IF(AYB17=\"\",\"0\",1/AYB$22)","v":"0"},null,{"$f":"IF(AYD17=\"\",\"0\",1/AYD$22)","v":"0"},null,{"$f":"IF(AYF17=\"\",\"0\",1/AYF$22)","v":"0"},null,{"$f":"IF(AYH17=\"\",\"0\",1/AYH$22)","v":"0"},null,{"$f":"IF(AYJ17=\"\",\"0\",1/AYJ$22)","v":"0"},null,{"$f":"IF(AYL17=\"\",\"0\",1/AYL$22)","v":"0"},null,{"$f":"IF(AYN17=\"\",\"0\",1/AYN$22)","v":"0"},null,{"$f":"IF(AYP17=\"\",\"0\",1/AYP$22)","v":"0"},null,{"$f":"IF(AYR17=\"\",\"0\",1/AYR$22)","v":"0"},null,{"$f":"IF(AYT17=\"\",\"0\",1/AYT$22)","v":"0"},null,{"$f":"IF(AYV17=\"\",\"0\",1/AYV$22)","v":"0"},null,{"$f":"IF(AYX17=\"\",\"0\",1/AYX$22)","v":"0"},null,{"$f":"IF(AYZ17=\"\",\"0\",1/AYZ$22)","v":"0"},null,{"$f":"IF(AZB17=\"\",\"0\",1/AZB$22)","v":"0"},null,{"$f":"IF(AZD17=\"\",\"0\",1/AZD$22)","v":"0"},null,{"$f":"IF(AZF17=\"\",\"0\",1/AZF$22)","v":"0"},null,{"$f":"IF(AZH17=\"\",\"0\",1/AZH$22)","v":"0"},null,{"$f":"IF(AZJ17=\"\",\"0\",1/AZJ$22)","v":"0"},null,{"$f":"IF(AZL17=\"\",\"0\",1/AZL$22)","v":"0"},null,{"$f":"IF(AZN17=\"\",\"0\",1/AZN$22)","v":"0"},null,{"$f":"IF(AZP17=\"\",\"0\",1/AZP$22)","v":"0"},null,{"$f":"IF(AZR17=\"\",\"0\",1/AZR$22)","v":"0"},null,{"$f":"IF(AZT17=\"\",\"0\",1/AZT$22)","v":"0"},null,{"$f":"IF(AZV17=\"\",\"0\",1/AZV$22)","v":"0"},null,{"$f":"IF(AZX17=\"\",\"0\",1/AZX$22)","v":"0"},null,{"$f":"IF(AZZ17=\"\",\"0\",1/AZZ$22)","v":"0"},null,{"$f":"IF(BAB17=\"\",\"0\",1/BAB$22)","v":"0"},null,{"$f":"IF(BAD17=\"\",\"0\",1/BAD$22)","v":"0"},null,{"$f":"IF(BAF17=\"\",\"0\",1/BAF$22)","v":"0"},null,{"$f":"IF(BAH17=\"\",\"0\",1/BAH$22)","v":"0"},null,{"$f":"IF(BAJ17=\"\",\"0\",1/BAJ$22)","v":"0"},null,{"$f":"IF(BAL17=\"\",\"0\",1/BAL$22)","v":"0"},null,{"$f":"IF(BAN17=\"\",\"0\",1/BAN$22)","v":"0"},null,{"$f":"IF(BAP17=\"\",\"0\",1/BAP$22)","v":"0"},null,{"$f":"IF(BAR17=\"\",\"0\",1/BAR$22)","v":"0"},null,{"$f":"IF(BAT17=\"\",\"0\",1/BAT$22)","v":"0"},null,{"$f":"IF(BAV17=\"\",\"0\",1/BAV$22)","v":"0"},null,{"$f":"IF(BAX17=\"\",\"0\",1/BAX$22)","v":"0"},null,{"$f":"IF(BAZ17=\"\",\"0\",1/BAZ$22)","v":"0"},null,{"$f":"IF(BBB17=\"\",\"0\",1/BBB$22)","v":"0"},null,{"$f":"IF(BBD17=\"\",\"0\",1/BBD$22)","v":"0"},null,{"$f":"IF(BBF17=\"\",\"0\",1/BBF$22)","v":"0"},null,{"$f":"IF(BBH17=\"\",\"0\",1/BBH$22)","v":"0"},null,{"$f":"IF(BBJ17=\"\",\"0\",1/BBJ$22)","v":"0"},null,{"$f":"IF(BBL17=\"\",\"0\",1/BBL$22)","v":"0"},null,{"$f":"IF(BBN17=\"\",\"0\",1/BBN$22)","v":"0"},null,{"$f":"IF(BBP17=\"\",\"0\",1/BBP$22)","v":"0"},null,{"$f":"IF(BBR17=\"\",\"0\",1/BBR$22)","v":"0"},null,{"$f":"IF(BBT17=\"\",\"0\",1/BBT$22)","v":"0"},null,{"$f":"IF(BBV17=\"\",\"0\",1/BBV$22)","v":"0"},null,{"$f":"IF(BBX17=\"\",\"0\",1/BBX$22)","v":"0"},null,{"$f":"IF(BBZ17=\"\",\"0\",1/BBZ$22)","v":"0"},null,{"$f":"IF(BCB17=\"\",\"0\",1/BCB$22)","v":"0"},null,{"$f":"IF(BCD17=\"\",\"0\",1/BCD$22)","v":"0"},null,{"$f":"IF(BCF17=\"\",\"0\",1/BCF$22)","v":"0"},null,{"$f":"IF(BCH17=\"\",\"0\",1/BCH$22)","v":"0"},null,{"$f":"IF(BCJ17=\"\",\"0\",1/BCJ$22)","v":"0"},null,{"$f":"IF(BCL17=\"\",\"0\",1/BCL$22)","v":"0"},null,{"$f":"IF(BCN17=\"\",\"0\",1/BCN$22)","v":"0"},null,{"$f":"IF(BCP17=\"\",\"0\",1/BCP$22)","v":"0"},null,{"$f":"IF(BCR17=\"\",\"0\",1/BCR$22)","v":"0"},null,{"$f":"IF(BCT17=\"\",\"0\",1/BCT$22)","v":"0"},null,{"$f":"IF(BCV17=\"\",\"0\",1/BCV$22)","v":"0"},null,{"$f":"IF(BCX17=\"\",\"0\",1/BCX$22)","v":"0"},null,{"$f":"IF(BCZ17=\"\",\"0\",1/BCZ$22)","v":"0"},null,{"$f":"IF(BDB17=\"\",\"0\",1/BDB$22)","v":"0"},null,{"$f":"IF(BDD17=\"\",\"0\",1/BDD$22)","v":"0"},null,{"$f":"IF(BDF17=\"\",\"0\",1/BDF$22)","v":"0"},null,{"$f":"IF(BDH17=\"\",\"0\",1/BDH$22)","v":"0"},null,{"$f":"IF(BDJ17=\"\",\"0\",1/BDJ$22)","v":"0"},null,{"$f":"IF(BDL17=\"\",\"0\",1/BDL$22)","v":"0"},null,{"$f":"IF(BDN17=\"\",\"0\",1/BDN$22)","v":"0"},null,{"$f":"IF(BDP17=\"\",\"0\",1/BDP$22)","v":"0"},null,{"$f":"IF(BDR17=\"\",\"0\",1/BDR$22)","v":"0"},null,{"$f":"IF(BDT17=\"\",\"0\",1/BDT$22)","v":"0"},null,{"$f":"IF(BDV17=\"\",\"0\",1/BDV$22)","v":"0"},null,{"$f":"IF(BDX17=\"\",\"0\",1/BDX$22)","v":"0"},null,{"$f":"IF(BDZ17=\"\",\"0\",1/BDZ$22)","v":"0"},null,{"$f":"IF(BEB17=\"\",\"0\",1/BEB$22)","v":"0"},null,{"$f":"IF(BED17=\"\",\"0\",1/BED$22)","v":"0"},null,{"$f":"IF(BEF17=\"\",\"0\",1/BEF$22)","v":"0"},null,{"$f":"IF(BEH17=\"\",\"0\",1/BEH$22)","v":"0"},null,{"$f":"IF(BEJ17=\"\",\"0\",1/BEJ$22)","v":"0"},null,{"$f":"IF(BEL17=\"\",\"0\",1/BEL$22)","v":"0"},null,{"$f":"IF(BEN17=\"\",\"0\",1/BEN$22)","v":"0"},null,{"$f":"IF(BEP17=\"\",\"0\",1/BEP$22)","v":"0"},null,{"$f":"IF(BER17=\"\",\"0\",1/BER$22)","v":"0"},null,{"$f":"IF(BET17=\"\",\"0\",1/BET$22)","v":"0"},null,{"$f":"IF(BEV17=\"\",\"0\",1/BEV$22)","v":"0"},null,{"$f":"IF(BEX17=\"\",\"0\",1/BEX$22)","v":"0"},null,{"$f":"IF(BEZ17=\"\",\"0\",1/BEZ$22)","v":"0"},null,{"$f":"IF(BFB17=\"\",\"0\",1/BFB$22)","v":"0"},null,{"$f":"IF(BFD17=\"\",\"0\",1/BFD$22)","v":"0"},null,{"$f":"IF(BFF17=\"\",\"0\",1/BFF$22)","v":"0"},null,{"$f":"IF(BFH17=\"\",\"0\",1/BFH$22)","v":"0"},null,{"$f":"IF(BFJ17=\"\",\"0\",1/BFJ$22)","v":"0"},null,{"$f":"IF(BFL17=\"\",\"0\",1/BFL$22)","v":"0"},null,{"$f":"IF(BFN17=\"\",\"0\",1/BFN$22)","v":"0"},null,{"$f":"IF(BFP17=\"\",\"0\",1/BFP$22)","v":"0"},null,{"$f":"IF(BFR17=\"\",\"0\",1/BFR$22)","v":"0"},null,{"$f":"IF(BFT17=\"\",\"0\",1/BFT$22)","v":"0"},null,{"$f":"IF(BFV17=\"\",\"0\",1/BFV$22)","v":"0"},null,{"$f":"IF(BFX17=\"\",\"0\",1/BFX$22)","v":"0"},null,{"$f":"IF(BFZ17=\"\",\"0\",1/BFZ$22)","v":"0"},null,{"$f":"IF(BGB17=\"\",\"0\",1/BGB$22)","v":"0"},null,{"$f":"IF(BGD17=\"\",\"0\",1/BGD$22)","v":"0"},null,{"$f":"IF(BGF17=\"\",\"0\",1/BGF$22)","v":"0"},null,{"$f":"IF(BGH17=\"\",\"0\",1/BGH$22)","v":"0"},null,{"$f":"IF(BGJ17=\"\",\"0\",1/BGJ$22)","v":"0"},null,{"$f":"IF(BGL17=\"\",\"0\",1/BGL$22)","v":"0"},null,{"$f":"IF(BGN17=\"\",\"0\",1/BGN$22)","v":"0"},null,{"$f":"IF(BGP17=\"\",\"0\",1/BGP$22)","v":"0"},null,{"$f":"IF(BGR17=\"\",\"0\",1/BGR$22)","v":"0"},null,{"$f":"IF(BGT17=\"\",\"0\",1/BGT$22)","v":"0"},null,{"$f":"IF(BGV17=\"\",\"0\",1/BGV$22)","v":"0"},null,{"$f":"IF(BGX17=\"\",\"0\",1/BGX$22)","v":"0"},null,{"$f":"IF(BGZ17=\"\",\"0\",1/BGZ$22)","v":"0"},null,{"$f":"IF(BHB17=\"\",\"0\",1/BHB$22)","v":"0"},null,{"$f":"IF(BHD17=\"\",\"0\",1/BHD$22)","v":"0"},null,{"$f":"IF(BHF17=\"\",\"0\",1/BHF$22)","v":"0"},null,{"$f":"IF(BHH17=\"\",\"0\",1/BHH$22)","v":"0"},null,{"$f":"IF(BHJ17=\"\",\"0\",1/BHJ$22)","v":"0"},null,{"$f":"IF(BHL17=\"\",\"0\",1/BHL$22)","v":"0"},null,{"$f":"IF(BHN17=\"\",\"0\",1/BHN$22)","v":"0"},null,{"$f":"IF(BHP17=\"\",\"0\",1/BHP$22)","v":"0"},null,{"$f":"IF(BHR17=\"\",\"0\",1/BHR$22)","v":"0"},null,{"$f":"IF(BHT17=\"\",\"0\",1/BHT$22)","v":"0"},null,{"$f":"IF(BHV17=\"\",\"0\",1/BHV$22)","v":"0"},null,{"$f":"IF(BHX17=\"\",\"0\",1/BHX$22)","v":"0"},null,{"$f":"IF(BHZ17=\"\",\"0\",1/BHZ$22)","v":"0"},null,{"$f":"IF(BIB17=\"\",\"0\",1/BIB$22)","v":"0"},null,{"$f":"IF(BID17=\"\",\"0\",1/BID$22)","v":"0"},null,{"$f":"IF(BIF17=\"\",\"0\",1/BIF$22)","v":"0"},null,{"$f":"IF(BIH17=\"\",\"0\",1/BIH$22)","v":"0"},null,{"$f":"IF(BIJ17=\"\",\"0\",1/BIJ$22)","v":"0"},null,{"$f":"IF(BIL17=\"\",\"0\",1/BIL$22)","v":"0"},null,{"$f":"IF(BIN17=\"\",\"0\",1/BIN$22)","v":"0"},null,{"$f":"IF(BIP17=\"\",\"0\",1/BIP$22)","v":"0"},null,{"$f":"IF(BIR17=\"\",\"0\",1/BIR$22)","v":"0"},null,{"$f":"IF(BIT17=\"\",\"0\",1/BIT$22)","v":"0"},null,{"$f":"IF(BIV17=\"\",\"0\",1/BIV$22)","v":"0"},null,{"$f":"IF(BIX17=\"\",\"0\",1/BIX$22)","v":"0"},null,{"$f":"IF(BIZ17=\"\",\"0\",1/BIZ$22)","v":"0"},null,{"$f":"IF(BJB17=\"\",\"0\",1/BJB$22)","v":"0"},null,{"$f":"IF(BJD17=\"\",\"0\",1/BJD$22)","v":"0"},null,{"$f":"IF(BJF17=\"\",\"0\",1/BJF$22)","v":"0"},null,{"$f":"IF(BJH17=\"\",\"0\",1/BJH$22)","v":"0"},null,{"$f":"IF(BJJ17=\"\",\"0\",1/BJJ$22)","v":"0"},null,{"$f":"IF(BJL17=\"\",\"0\",1/BJL$22)","v":"0"},null,{"$f":"IF(BJN17=\"\",\"0\",1/BJN$22)","v":"0"},null,{"$f":"IF(BJP17=\"\",\"0\",1/BJP$22)","v":"0"},null,{"$f":"IF(BJR17=\"\",\"0\",1/BJR$22)","v":"0"},null,{"$f":"IF(BJT17=\"\",\"0\",1/BJT$22)","v":"0"},null,{"$f":"IF(BJV17=\"\",\"0\",1/BJV$22)","v":"0"},null,{"$f":"IF(BJX17=\"\",\"0\",1/BJX$22)","v":"0"},null,{"$f":"IF(BJZ17=\"\",\"0\",1/BJZ$22)","v":"0"},null,{"$f":"IF(BKB17=\"\",\"0\",1/BKB$22)","v":"0"},null,{"$f":"IF(BKD17=\"\",\"0\",1/BKD$22)","v":"0"},null,{"$f":"IF(BKF17=\"\",\"0\",1/BKF$22)","v":"0"},null,{"$f":"IF(BKH17=\"\",\"0\",1/BKH$22)","v":"0"},null,{"$f":"IF(BKJ17=\"\",\"0\",1/BKJ$22)","v":"0"},null,{"$f":"IF(BKL17=\"\",\"0\",1/BKL$22)","v":"0"},null,{"$f":"IF(BKN17=\"\",\"0\",1/BKN$22)","v":"0"},null,{"$f":"IF(BKP17=\"\",\"0\",1/BKP$22)","v":"0"},null,{"$f":"IF(BKR17=\"\",\"0\",1/BKR$22)","v":"0"},null,{"$f":"IF(BKT17=\"\",\"0\",1/BKT$22)","v":"0"},null,{"$f":"IF(BKV17=\"\",\"0\",1/BKV$22)","v":"0"},null,{"$f":"IF(BKX17=\"\",\"0\",1/BKX$22)","v":"0"},null,{"$f":"IF(BKZ17=\"\",\"0\",1/BKZ$22)","v":"0"},null,{"$f":"IF(BLB17=\"\",\"0\",1/BLB$22)","v":"0"},null,{"$f":"IF(BLD17=\"\",\"0\",1/BLD$22)","v":"0"},null,{"$f":"IF(BLF17=\"\",\"0\",1/BLF$22)","v":"0"},null,{"$f":"IF(BLH17=\"\",\"0\",1/BLH$22)","v":"0"},null,{"$f":"IF(BLJ17=\"\",\"0\",1/BLJ$22)","v":"0"},null,{"$f":"IF(BLL17=\"\",\"0\",1/BLL$22)","v":"0"},null,{"$f":"IF(BLN17=\"\",\"0\",1/BLN$22)","v":"0"},null,{"$f":"IF(BLP17=\"\",\"0\",1/BLP$22)","v":"0"},null,{"$f":"IF(BLR17=\"\",\"0\",1/BLR$22)","v":"0"},null,{"$f":"IF(BLT17=\"\",\"0\",1/BLT$22)","v":"0"},null,{"$f":"IF(BLV17=\"\",\"0\",1/BLV$22)","v":"0"},null,{"$f":"IF(BLX17=\"\",\"0\",1/BLX$22)","v":"0"},null,{"$f":"IF(BLZ17=\"\",\"0\",1/BLZ$22)","v":"0"},null,{"$f":"IF(BMB17=\"\",\"0\",1/BMB$22)","v":"0"},null,{"$f":"IF(BMD17=\"\",\"0\",1/BMD$22)","v":"0"},null,{"$f":"IF(BMF17=\"\",\"0\",1/BMF$22)","v":"0"},null,{"$f":"IF(BMH17=\"\",\"0\",1/BMH$22)","v":"0"},null,{"$f":"IF(BMJ17=\"\",\"0\",1/BMJ$22)","v":"0"},null,{"$f":"IF(BML17=\"\",\"0\",1/BML$22)","v":"0"},null,{"$f":"IF(BMN17=\"\",\"0\",1/BMN$22)","v":"0"},null,{"$f":"IF(BMP17=\"\",\"0\",1/BMP$22)","v":"0"},null,{"$f":"IF(BMR17=\"\",\"0\",1/BMR$22)","v":"0"},null,{"$f":"IF(BMT17=\"\",\"0\",1/BMT$22)","v":"0"},null,{"$f":"IF(BMV17=\"\",\"0\",1/BMV$22)","v":"0"},null,{"$f":"IF(BMX17=\"\",\"0\",1/BMX$22)","v":"0"},null,{"$f":"IF(BMZ17=\"\",\"0\",1/BMZ$22)","v":"0"},null,{"$f":"IF(BNB17=\"\",\"0\",1/BNB$22)","v":"0"},null,{"$f":"IF(BND17=\"\",\"0\",1/BND$22)","v":"0"},null,{"$f":"IF(BNF17=\"\",\"0\",1/BNF$22)","v":"0"},null,{"$f":"IF(BNH17=\"\",\"0\",1/BNH$22)","v":"0"},null,{"$f":"IF(BNJ17=\"\",\"0\",1/BNJ$22)","v":"0"},null,{"$f":"IF(BNL17=\"\",\"0\",1/BNL$22)","v":"0"},null,{"$f":"IF(BNN17=\"\",\"0\",1/BNN$22)","v":"0"},null,{"$f":"IF(BNP17=\"\",\"0\",1/BNP$22)","v":"0"},null,{"$f":"IF(BNR17=\"\",\"0\",1/BNR$22)","v":"0"},null,{"$f":"IF(BNT17=\"\",\"0\",1/BNT$22)","v":"0"},null,{"$f":"IF(BNV17=\"\",\"0\",1/BNV$22)","v":"0"},null,{"$f":"IF(BNX17=\"\",\"0\",1/BNX$22)","v":"0"},null,{"$f":"IF(BNZ17=\"\",\"0\",1/BNZ$22)","v":"0"},null,{"$f":"IF(BOB17=\"\",\"0\",1/BOB$22)","v":"0"},null,{"$f":"IF(BOD17=\"\",\"0\",1/BOD$22)","v":"0"},null,{"$f":"IF(BOF17=\"\",\"0\",1/BOF$22)","v":"0"},null,{"$f":"IF(BOH17=\"\",\"0\",1/BOH$22)","v":"0"},null,{"$f":"IF(BOJ17=\"\",\"0\",1/BOJ$22)","v":"0"},null,{"$f":"IF(BOL17=\"\",\"0\",1/BOL$22)","v":"0"},null,{"$f":"IF(BON17=\"\",\"0\",1/BON$22)","v":"0"},null,{"$f":"IF(BOP17=\"\",\"0\",1/BOP$22)","v":"0"},null,{"$f":"IF(BOR17=\"\",\"0\",1/BOR$22)","v":"0"},null,{"$f":"IF(BOT17=\"\",\"0\",1/BOT$22)","v":"0"},null,{"$f":"IF(BOV17=\"\",\"0\",1/BOV$22)","v":"0"},null,{"$f":"IF(BOX17=\"\",\"0\",1/BOX$22)","v":"0"},null,{"$f":"IF(BOZ17=\"\",\"0\",1/BOZ$22)","v":"0"},null,{"$f":"IF(BPB17=\"\",\"0\",1/BPB$22)","v":"0"},null,{"$f":"IF(BPD17=\"\",\"0\",1/BPD$22)","v":"0"},null,{"$f":"IF(BPF17=\"\",\"0\",1/BPF$22)","v":"0"},null,{"$f":"IF(BPH17=\"\",\"0\",1/BPH$22)","v":"0"},null,{"$f":"IF(BPJ17=\"\",\"0\",1/BPJ$22)","v":"0"},null,{"$f":"IF(BPL17=\"\",\"0\",1/BPL$22)","v":"0"},null,{"$f":"IF(BPN17=\"\",\"0\",1/BPN$22)","v":"0"},null,{"$f":"IF(BPP17=\"\",\"0\",1/BPP$22)","v":"0"},null,{"$f":"IF(BPR17=\"\",\"0\",1/BPR$22)","v":"0"},null,{"$f":"IF(BPT17=\"\",\"0\",1/BPT$22)","v":"0"},null,{"$f":"IF(BPV17=\"\",\"0\",1/BPV$22)","v":"0"},null,{"$f":"IF(BPX17=\"\",\"0\",1/BPX$22)","v":"0"},null,{"$f":"IF(BPZ17=\"\",\"0\",1/BPZ$22)","v":"0"},null,{"$f":"IF(BQB17=\"\",\"0\",1/BQB$22)","v":"0"},null,{"$f":"IF(BQD17=\"\",\"0\",1/BQD$22)","v":"0"},null,{"$f":"IF(BQF17=\"\",\"0\",1/BQF$22)","v":"0"},null,{"$f":"IF(BQH17=\"\",\"0\",1/BQH$22)","v":"0"},null,{"$f":"IF(BQJ17=\"\",\"0\",1/BQJ$22)","v":"0"},null,{"$f":"IF(BQL17=\"\",\"0\",1/BQL$22)","v":"0"},null,{"$f":"IF(BQN17=\"\",\"0\",1/BQN$22)","v":"0"},null,{"$f":"IF(BQP17=\"\",\"0\",1/BQP$22)","v":"0"},null,{"$f":"IF(BQR17=\"\",\"0\",1/BQR$22)","v":"0"},null,{"$f":"IF(BQT17=\"\",\"0\",1/BQT$22)","v":"0"},null,{"$f":"IF(BQV17=\"\",\"0\",1/BQV$22)","v":"0"},null,{"$f":"IF(BQX17=\"\",\"0\",1/BQX$22)","v":"0"},null,{"$f":"IF(BQZ17=\"\",\"0\",1/BQZ$22)","v":"0"},null,{"$f":"IF(BRB17=\"\",\"0\",1/BRB$22)","v":"0"},null,{"$f":"IF(BRD17=\"\",\"0\",1/BRD$22)","v":"0"},null,{"$f":"IF(BRF17=\"\",\"0\",1/BRF$22)","v":"0"},null,{"$f":"IF(BRH17=\"\",\"0\",1/BRH$22)","v":"0"},null,{"$f":"IF(BRJ17=\"\",\"0\",1/BRJ$22)","v":"0"},null,{"$f":"IF(BRL17=\"\",\"0\",1/BRL$22)","v":"0"},null,{"$f":"IF(BRN17=\"\",\"0\",1/BRN$22)","v":"0"},null,{"$f":"IF(BRP17=\"\",\"0\",1/BRP$22)","v":"0"},null,{"$f":"IF(BRR17=\"\",\"0\",1/BRR$22)","v":"0"},null,{"$f":"IF(BRT17=\"\",\"0\",1/BRT$22)","v":"0"},null,{"$f":"IF(BRV17=\"\",\"0\",1/BRV$22)","v":"0"},null,{"$f":"IF(BRX17=\"\",\"0\",1/BRX$22)","v":"0"},null,{"$f":"IF(BRZ17=\"\",\"0\",1/BRZ$22)","v":"0"},null,{"$f":"IF(BSB17=\"\",\"0\",1/BSB$22)","v":"0"},null,{"$f":"IF(BSD17=\"\",\"0\",1/BSD$22)","v":"0"},null,{"$f":"IF(BSF17=\"\",\"0\",1/BSF$22)","v":"0"},null,{"$f":"IF(BSH17=\"\",\"0\",1/BSH$22)","v":"0"},null,{"$f":"IF(BSJ17=\"\",\"0\",1/BSJ$22)","v":"0"},null,{"$f":"IF(BSL17=\"\",\"0\",1/BSL$22)","v":"0"},null,{"$f":"IF(BSN17=\"\",\"0\",1/BSN$22)","v":"0"},null,{"$f":"IF(BSP17=\"\",\"0\",1/BSP$22)","v":"0"},null,{"$f":"IF(BSR17=\"\",\"0\",1/BSR$22)","v":"0"},null,{"$f":"IF(BST17=\"\",\"0\",1/BST$22)","v":"0"},null,{"$f":"IF(BSV17=\"\",\"0\",1/BSV$22)","v":"0"},null,{"$f":"IF(BSX17=\"\",\"0\",1/BSX$22)","v":"0"},null,{"$f":"IF(BSZ17=\"\",\"0\",1/BSZ$22)","v":"0"},null,{"$f":"IF(BTB17=\"\",\"0\",1/BTB$22)","v":"0"},null,{"$f":"IF(BTD17=\"\",\"0\",1/BTD$22)","v":"0"},null,{"$f":"IF(BTF17=\"\",\"0\",1/BTF$22)","v":"0"},null,{"$f":"IF(BTH17=\"\",\"0\",1/BTH$22)","v":"0"},null,{"$f":"IF(BTJ17=\"\",\"0\",1/BTJ$22)","v":"0"},null,{"$f":"IF(BTL17=\"\",\"0\",1/BTL$22)","v":"0"},null,{"$f":"IF(BTN17=\"\",\"0\",1/BTN$22)","v":"0"},null,{"$f":"IF(BTP17=\"\",\"0\",1/BTP$22)","v":"0"},null,{"$f":"IF(BTR17=\"\",\"0\",1/BTR$22)","v":"0"},null,{"$f":"IF(BTT17=\"\",\"0\",1/BTT$22)","v":"0"},null,{"$f":"IF(BTV17=\"\",\"0\",1/BTV$22)","v":"0"},null,{"$f":"IF(BTX17=\"\",\"0\",1/BTX$22)","v":"0"},null,{"$f":"IF(BTZ17=\"\",\"0\",1/BTZ$22)","v":"0"},null,{"$f":"IF(BUB17=\"\",\"0\",1/BUB$22)","v":"0"},null,{"$f":"IF(BUD17=\"\",\"0\",1/BUD$22)","v":"0"},null,{"$f":"IF(BUF17=\"\",\"0\",1/BUF$22)","v":"0"},null,{"$f":"IF(BUH17=\"\",\"0\",1/BUH$22)","v":"0"},null,{"$f":"IF(BUJ17=\"\",\"0\",1/BUJ$22)","v":"0"},null,{"$f":"IF(BUL17=\"\",\"0\",1/BUL$22)","v":"0"},null,{"$f":"IF(BUN17=\"\",\"0\",1/BUN$22)","v":"0"},null,{"$f":"IF(BUP17=\"\",\"0\",1/BUP$22)","v":"0"},null,{"$f":"IF(BUR17=\"\",\"0\",1/BUR$22)","v":"0"},null,{"$f":"IF(BUT17=\"\",\"0\",1/BUT$22)","v":"0"},null,{"$f":"IF(BUV17=\"\",\"0\",1/BUV$22)","v":"0"},null,{"$f":"IF(BUX17=\"\",\"0\",1/BUX$22)","v":"0"},null,{"$f":"IF(BUZ17=\"\",\"0\",1/BUZ$22)","v":"0"},null,{"$f":"IF(BVB17=\"\",\"0\",1/BVB$22)","v":"0"},null,{"$f":"IF(BVD17=\"\",\"0\",1/BVD$22)","v":"0"},null,{"$f":"IF(BVF17=\"\",\"0\",1/BVF$22)","v":"0"},null,{"$f":"IF(BVH17=\"\",\"0\",1/BVH$22)","v":"0"},null,{"$f":"IF(BVJ17=\"\",\"0\",1/BVJ$22)","v":"0"},null,{"$f":"IF(BVL17=\"\",\"0\",1/BVL$22)","v":"0"},null,{"$f":"IF(BVN17=\"\",\"0\",1/BVN$22)","v":"0"},null,{"$f":"IF(BVP17=\"\",\"0\",1/BVP$22)","v":"0"},null,{"$f":"IF(BVR17=\"\",\"0\",1/BVR$22)","v":"0"},null,{"$f":"IF(BVT17=\"\",\"0\",1/BVT$22)","v":"0"},null,{"$f":"IF(BVV17=\"\",\"0\",1/BVV$22)","v":"0"},null,{"$f":"IF(BVX17=\"\",\"0\",1/BVX$22)","v":"0"},null,{"$f":"IF(BVZ17=\"\",\"0\",1/BVZ$22)","v":"0"},null,{"$f":"IF(BWB17=\"\",\"0\",1/BWB$22)","v":"0"},null,{"$f":"IF(BWD17=\"\",\"0\",1/BWD$22)","v":"0"},null,{"$f":"IF(BWF17=\"\",\"0\",1/BWF$22)","v":"0"},null,{"$f":"IF(BWH17=\"\",\"0\",1/BWH$22)","v":"0"},null,{"$f":"IF(BWJ17=\"\",\"0\",1/BWJ$22)","v":"0"},null,{"$f":"IF(BWL17=\"\",\"0\",1/BWL$22)","v":"0"},null,{"$f":"IF(BWN17=\"\",\"0\",1/BWN$22)","v":"0"},null,{"$f":"IF(BWP17=\"\",\"0\",1/BWP$22)","v":"0"},null,{"$f":"IF(BWR17=\"\",\"0\",1/BWR$22)","v":"0"},null,{"$f":"IF(BWT17=\"\",\"0\",1/BWT$22)","v":"0"},null,{"$f":"IF(BWV17=\"\",\"0\",1/BWV$22)","v":"0"}]
["実務（８）",{"$f":"年数合計!B20","v":{"$error":"#VALUE!"}},{"$f":"年数合計!C20","v":{"$error":"#VALUE!"}},{"$f":"COUNTIF(F19:BWV19,\"○\")","v":0},"月",{"$f":"IFERROR(IF(AND(F$3>=$B$19,F$3<=$C$19),\"○\",\"\"),\"\")","v":""},null,"",null,"",null,"",null,"",null,"",null,"",null,"",null,"",null,"",null,"",null,"",null,"",null,"",null,"",null,"",null,"",null,"",null,"",null,"",null,"",null,"",null,"",null,"",null,"",null,"",null,"",null,"",null,"",null,"",null,"",null,"",null,{"$f":"IFERROR(IF(AND(BR$3>=$B$19,BR$3<=$C$19),\"○\",\"\"),\"\")","v":""},null,"",null,"",null,"",null,"",null,"",null,"",null,"",null,"",null,"",null,"",null,"",null,"",null,"",null,"",null,"",null,"",null,"",null,"",null,"",null,"",null,"",null,"",null,"",null,"",null,"",null,"",null,"",null,"",null,"",null,"",null,"",null,{"$f":"IFERROR(IF(AND(ED$3>=$B$19,ED$3<=$C$19),\"○\",\"\"),\"\")","v":""},null,"",null,"",null,"",null,"",null,"",null,"",null,"",null,"",null,"",null,"",null,"",null,"",null,"",null,"",null,"",null,"",null,"",null,"",null,"",null,"",null,"",null,"",null,"",null,"",null,"",null,"",null,"",null,"",null,"",null,"",null,"",null,{"$f":"IFERROR(IF(AND(GP$3>=$B$19,GP$3<=$C$19),\"○\",\"\"),\"\")","v":""},null,"",null,"",null,"",null,"",null,"",null,"",null,"",null,"",null,"",null,"",null,"",null,"",null,"",null,"",null,"",null,"",null,"",null,"",null,"",null,"",null,"",null,"",null,"",null,"",null,"",null,"",null,"",null,"",null,"",null,"",null,"",null,{"$f":"IFERROR(IF(AND(JB$3>=$B$19,JB$3<=$C$19),\"○\",\"\"),\"\")","v":""},null,"",null,"",null,"",null,"",null,"",null,"",null,"",null,"",null,"",null,"",null,"",null,"",null,"",null,"",null,"",null,"",null,"",null,"",null,"",null,"",null,"",null,"",null,"",null,"",null,"",null,"",null,"",null,"",null,"",null,"",null,"",null,{"$f":"IFERROR(IF(AND(LN$3>=$B$19,LN$3<=$C$19),\"○\",\"\"),\"\")","v":""},null,"",null,"",null,"",null,"",null,"",null,"",null,"",null,"",null,"",null,"",null,"",null,"",null,"",null,"",null,"",null,"",null,"",null,"",null,"",null,"",null,"",null,"",null,"",null,"",null,"",null,"",null,"",null,"",null,"",null,"",null,"",null,{"$f":"IFERROR(IF(AND(NZ$3>=$B$19,NZ$3<=$C$19),\"○\",\"\"),\"\")","v":""},null,"",null,"",null,"",null,"",null,"",null,"",null,"",null,"",null,"",null,"",null,"",null,"",null,"",null,"",null,"",null,"",null,"",null,"",null,"",null,"",null,"",null,"",null,"",null,"",null,"",null,"",null,"",null,"",null,"",null,"",null,"",null,{"$f":"IFERROR(IF(AND(QL$3>=$B$19,QL$3<=$C$19),\"○\",\"\"),\"\")","v":""},null,"",null,"",null,"",null,"",null,"",null,"",null,"",null,"",null,"",null,"",null,"",null,"",null,"",null,"",null,"",null,"",null,"",null,"",null,"",null,"",null,"",null,"",null,"",null,"",null,"",null,"",null,"",null,"",null,"",null,"",null,"",null,{"$f":"IFERROR(IF(AND(SX$3>=$B$19,SX$3<=$C$19),\"○\",\"\"),\"\")","v":""},null,"",null,"",null,"",null,"",null,"",null,"",null,"",null,"",null,"",null,"",null,"",null,"",null,"",null,"",null,"",null,"",null,"",null,"",null,"",null,"",null,"",null,"",null,"",null,"",null,"",null,"",null,"",null,"",null,"",null,"",null,"",null,{"$f":"IFERROR(IF(AND(VJ$3>=$B$19,VJ$3<=$C$19),\"○\",\"\"),\"\")","v":""},null,"",null,"",null,"",null,"",null,"",null,"",null,"",null,"",null,"",null,"",null,"",null,"",null,"",null,"",null,"",null,"",null,"",null,"",null,"",null,"",null,"",null,"",null,"",null,"",null,"",null,"",null,"",null,"",null,"",null,"",null,"",null,{"$f":"IFERROR(IF(AND(XV$3>=$B$19,XV$3<=$C$19),\"○\",\"\"),\"\")","v":""},null,"",null,"",null,"",null,"",null,"",null,"",null,"",null,"",null,"",null,"",null,"",null,"",null,"",null,"",null,"",null,"",null,"",null,"",null,"",null,"",null,"",null,"",null,"",null,"",null,"",null,"",null,"",null,"",null,"",null,"",null,"",null,{"$f":"IFERROR(IF(AND(AAH$3>=$B$19,AAH$3<=$C$19),\"○\",\"\"),\"\")","v":""},null,"",null,"",null,"",null,"",null,"",null,"",null,"",null,"",null,"",null,"",null,"",null,"",null,"",null,"",null,"",null,"",null,"",null,"",null,"",null,"",null,"",null,"",null,"",null,"",null,"",null,"",null,"",null,"",null,"",null,"",null,"",null,{"$f":"IFERROR(IF(AND(ACT$3>=$B$19,ACT$3<=$C$19),\"○\",\"\"),\"\")","v":""},null,"",null,"",null,"",null,"",null,"",null,"",null,"",null,"",null,"",null,"",null,"",null,"",null,"",null,"",null,"",null,"",null,"",null,"",null,"",null,"",null,"",null,"",null,"",null,"",null,"",null,"",null,"",null,"",null,"",null,"",null,"",null,{"$f":"IFERROR(IF(AND(AFF$3>=$B$19,AFF$3<=$C$19),\"○\",\"\"),\"\")","v":""},null,"",null,"",null,"",null,"",null,"",null,"",null,"",null,"",null,"",null,"",null,"",null,"",null,"",null,"",null,"",null,"",null,"",null,"",null,"",null,"",null,"",null,"",null,"",null,"",null,"",null,"",null,"",null,"",null,"",null,"",null,"",null,{"$f":"IFERROR(IF(AND(AHR$3>=$B$19,AHR$3<=$C$19),\"○\",\"\"),\"\")","v":""},null,"",null,"",null,"",null,"",null,"",null,"",null,"",null,"",null,"",null,"",null,"",null,"",null,"",null,"",null,"",null,"",null,"",null,"",null,"",null,"",null,"",null,"",null,"",null,"",null,"",null,"",null,"",null,"",null,"",null,"",null,"",null,{"$f":"IFERROR(IF(AND(AKD$3>=$B$19,AKD$3<=$C$19),\"○\",\"\"),\"\")","v":""},null,"",null,"",null,"",null,"",null,"",null,"",null,"",null,"",null,"",null,"",null,"",null,"",null,"",null,"",null,"",null,"",null,"",null,"",null,"",null,"",null,"",null,"",null,"",null,"",null,"",null,"",null,"",null,"",null,"",null,"",null,"",null,{"$f":"IFERROR(IF(AND(AMP$3>=$B$19,AMP$3<=$C$19),\"○\",\"\"),\"\")","v":""},null,"",null,"",null,"",null,"",null,"",null,"",null,"",null,"",null,"",null,"",null,"",null,"",null,"",null,"",null,"",null,"",null,"",null,"",null,"",null,"",null,"",null,"",null,"",null,"",null,"",null,"",null,"",null,"",null,"",null,"",null,"",null,{"$f":"IFERROR(IF(AND(APB$3>=$B$19,APB$3<=$C$19),\"○\",\"\"),\"\")","v":""},null,"",null,"",null,"",null,"",null,"",null,"",null,"",null,"",null,"",null,"",null,"",null,"",null,"",null,"",null,"",null,"",null,"",null,"",null,"",null,"",null,"",null,"",null,"",null,"",null,"",null,"",null,"",null,"",null,"",null,"",null,"",null,{"$f":"IFERROR(IF(AND(ARN$3>=$B$19,ARN$3<=$C$19),\"○\",\"\"),\"\")","v":""},null,"",null,"",null,"",null,"",null,"",null,"",null,"",null,"",null,"",null,"",null,"",null,{"$f":"IFERROR(IF(AND(ASL$3>=$B$19,ASL$3<=$C$19),\"○\",\"\"),\"\")","v":""},null,"",null,"",null,"",null,"",null,"",null,"",null,"",null,"",null,"",null,"",null,"",null,"",null,"",null,"",null,"",null,"",null,"",null,"",null,"",null,"",null,"",null,"",null,"",null,"",null,"",null,"",null,"",null,"",null,"",null,"",null,"",null,{"$f":"IFERROR(IF(AND(AUX$3>=$B$19,AUX$3<=$C$19),\"○\",\"\"),\"\")","v":""},null,"",null,"",null,"",null,"",null,"",null,"",null,"",null,"",null,"",null,"",null,"",null,"",null,"",null,"",null,"",null,"",null,"",null,"",null,"",null,"",null,"",null,"",null,"",null,"",null,"",null,"",null,"",null,"",null,"",null,"",null,"",null,{"$f":"IFERROR(IF(AND(AXJ$3>=$B$19,AXJ$3<=$C$19),\"○\",\"\"),\"\")","v":""},null,"",null,"",null,"",null,"",null,"",null,"",null,"",null,"",null,"",null,"",null,"",null,"",null,"",null,"",null,"",null,"",null,"",null,"",null,"",null,"",null,"",null,"",null,"",null,"",null,"",null,"",null,"",null,"",null,"",null,"",null,"",null,{"$f":"IFERROR(IF(AND(AZV$3>=$B$19,AZV$3<=$C$19),\"○\",\"\"),\"\")","v":""},null,"",null,"",null,"",null,"",null,"",null,"",null,"",null,"",null,"",null,"",null,"",null,"",null,"",null,"",null,"",null,"",null,"",null,"",null,"",null,"",null,"",null,"",null,"",null,"",null,"",null,"",null,"",null,"",null,"",null,"",null,"",null,{"$f":"IFERROR(IF(AND(BCH$3>=$B$19,BCH$3<=$C$19),\"○\",\"\"),\"\")","v":""},null,"",null,"",null,"",null,"",null,"",null,"",null,"",null,"",null,"",null,"",null,"",null,"",null,"",null,"",null,"",null,"",null,"",null,"",null,"",null,"",null,"",null,"",null,"",null,"",null,"",null,"",null,"",null,"",null,"",null,"",null,"",null,{"$f":"IFERROR(IF(AND(BET$3>=$B$19,BET$3<=$C$19),\"○\",\"\"),\"\")","v":""},null,"",null,"",null,"",null,"",null,"",null,"",null,"",null,"",null,"",null,"",null,"",null,"",null,"",null,"",null,"",null,"",null,"",null,"",null,"",null,"",null,"",null,"",null,"",null,"",null,"",null,"",null,"",null,"",null,"",null,"",null,"",null,{"$f":"IFERROR(IF(AND(BHF$3>=$B$19,BHF$3<=$C$19),\"○\",\"\"),\"\")","v":""},null,"",null,"",null,"",null,"",null,"",null,"",null,"",null,"",null,"",null,"",null,"",null,"",null,"",null,"",null,"",null,"",null,"",null,"",null,"",null,"",null,"",null,"",null,"",null,"",null,"",null,"",null,"",null,"",null,"",null,"",null,"",null,{"$f":"IFERROR(IF(AND(BJR$3>=$B$19,BJR$3<=$C$19),\"○\",\"\"),\"\")","v":""},null,"",null,"",null,"",null,"",null,"",null,"",null,"",null,"",null,"",null,"",null,"",null,"",null,"",null,"",null,"",null,"",null,"",null,"",null,"",null,"",null,"",null,"",null,"",null,"",null,"",null,"",null,"",null,"",null,"",null,"",null,"",null,{"$f":"IFERROR(IF(AND(BMD$3>=$B$19,BMD$3<=$C$19),\"○\",\"\"),\"\")","v":""},null,"",null,"",null,"",null,"",null,"",null,"",null,"",null,"",null,"",null,"",null,"",null,"",null,"",null,"",null,"",null,"",null,"",null,"",null,"",null,"",null,"",null,"",null,"",null,"",null,"",null,"",null,"",null,"",null,"",null,"",null,"",null,{"$f":"IFERROR(IF(AND(BOP$3>=$B$19,BOP$3<=$C$19),\"○\",\"\"),\"\")","v":""},null,"",null,"",null,"",null,"",null,"",null,"",null,"",null,"",null,"",null,"",null,"",null,{"$f":"IFERROR(IF(AND(BPN$3>=$B$19,BPN$3<=$C$19),\"○\",\"\"),\"\")","v":""},null,"",null,"",null,"",null,"",null,"",null,"",null,"",null,"",null,"",null,"",null,"",null,"",null,"",null,"",null,"",null,"",null,"",null,"",null,"",null,"",null,"",null,"",null,"",null,"",null,"",null,"",null,"",null,"",null,"",null,"",null,"",null,{"$f":"IFERROR(IF(AND(BRZ$3>=$B$19,BRZ$3<=$C$19),\"○\",\"\"),\"\")","v":""},null,"",null,"",null,"",null,"",null,"",null,"",null,"",null,"",null,"",null,"",null,"",null,"",null,"",null,"",null,"",null,{"$f":"IFERROR(IF(AND(BTF$3>=$B$19,BTF$3<=$C$19),\"○\",\"\"),\"\")","v":""},null,{"$f":"IFERROR(IF(AND(BTH$3>=$B$19,BTH$3<=$C$19),\"○\",\"\"),\"\")","v":""},null,{"$f":"IFERROR(IF(AND(BTJ$3>=$B$19,BTJ$3<=$C$19),\"○\",\"\"),\"\")","v":""},null,{"$f":"IFERROR(IF(AND(BTL$3>=$B$19,BTL$3<=$C$19),\"○\",\"\"),\"\")","v":""},null,{"$f":"IFERROR(IF(AND(BTN$3>=$B$19,BTN$3<=$C$19),\"○\",\"\"),\"\")","v":""},null,{"$f":"IFERROR(IF(AND(BTP$3>=$B$19,BTP$3<=$C$19),\"○\",\"\"),\"\")","v":""},null,{"$f":"IFERROR(IF(AND(BTR$3>=$B$19,BTR$3<=$C$19),\"○\",\"\"),\"\")","v":""},null,{"$f":"IFERROR(IF(AND(BTT$3>=$B$19,BTT$3<=$C$19),\"○\",\"\"),\"\")","v":""},null,{"$f":"IFERROR(IF(AND(BTV$3>=$B$19,BTV$3<=$C$19),\"○\",\"\"),\"\")","v":""},null,{"$f":"IFERROR(IF(AND(BTX$3>=$B$19,BTX$3<=$C$19),\"○\",\"\"),\"\")","v":""},null,{"$f":"IFERROR(IF(AND(BTZ$3>=$B$19,BTZ$3<=$C$19),\"○\",\"\"),\"\")","v":""},null,{"$f":"IFERROR(IF(AND(BUB$3>=$B$19,BUB$3<=$C$19),\"○\",\"\"),\"\")","v":""},null,{"$f":"IFERROR(IF(AND(BUD$3>=$B$19,BUD$3<=$C$19),\"○\",\"\"),\"\")","v":""},null,{"$f":"IFERROR(IF(AND(BUF$3>=$B$19,BUF$3<=$C$19),\"○\",\"\"),\"\")","v":""},null,{"$f":"IFERROR(IF(AND(BUH$3>=$B$19,BUH$3<=$C$19),\"○\",\"\"),\"\")","v":""},null,{"$f":"IFERROR(IF(AND(BUJ$3>=$B$19,BUJ$3<=$C$19),\"○\",\"\"),\"\")","v":""},null,{"$f":"IFERROR(IF(AND(BUL$3>=$B$19,BUL$3<=$C$19),\"○\",\"\"),\"\")","v":""},null,{"$f":"IFERROR(IF(AND(BUN$3>=$B$19,BUN$3<=$C$19),\"○\",\"\"),\"\")","v":""},null,{"$f":"IFERROR(IF(AND(BUP$3>=$B$19,BUP$3<=$C$19),\"○\",\"\"),\"\")","v":""},null,{"$f":"IFERROR(IF(AND(BUR$3>=$B$19,BUR$3<=$C$19),\"○\",\"\"),\"\")","v":""},null,{"$f":"IFERROR(IF(AND(BUT$3>=$B$19,BUT$3<=$C$19),\"○\",\"\"),\"\")","v":""},null,{"$f":"IFERROR(IF(AND(BUV$3>=$B$19,BUV$3<=$C$19),\"○\",\"\"),\"\")","v":""},null,{"$f":"IFERROR(IF(AND(BUX$3>=$B$19,BUX$3<=$C$19),\"○\",\"\"),\"\")","v":""},null,{"$f":"IFERROR(IF(AND(BUZ$3>=$B$19,BUZ$3<=$C$19),\"○\",\"\"),\"\")","v":""},null,{"$f":"IFERROR(IF(AND(BVB$3>=$B$19,BVB$3<=$C$19),\"○\",\"\"),\"\")","v":""},null,{"$f":"IFERROR(IF(AND(BVD$3>=$B$19,BVD$3<=$C$19),\"○\",\"\"),\"\")","v":""},null,{"$f":"IFERROR(IF(AND(BVF$3>=$B$19,BVF$3<=$C$19),\"○\",\"\"),\"\")","v":""},null,{"$f":"IFERROR(IF(AND(BVH$3>=$B$19,BVH$3<=$C$19),\"○\",\"\"),\"\")","v":""},null,{"$f":"IFERROR(IF(AND(BVJ$3>=$B$19,BVJ$3<=$C$19),\"○\",\"\"),\"\")","v":""},null,{"$f":"IFERROR(IF(AND(BVL$3>=$B$19,BVL$3<=$C$19),\"○\",\"\"),\"\")","v":""},null,{"$f":"IFERROR(IF(AND(BVN$3>=$B$19,BVN$3<=$C$19),\"○\",\"\"),\"\")","v":""},null,{"$f":"IFERROR(IF(AND(BVP$3>=$B$19,BVP$3<=$C$19),\"○\",\"\"),\"\")","v":""},null,{"$f":"IFERROR(IF(AND(BVR$3>=$B$19,BVR$3<=$C$19),\"○\",\"\"),\"\")","v":""},null,{"$f":"IFERROR(IF(AND(BVT$3>=$B$19,BVT$3<=$C$19),\"○\",\"\"),\"\")","v":""},null,{"$f":"IFERROR(IF(AND(BVV$3>=$B$19,BVV$3<=$C$19),\"○\",\"\"),\"\")","v":""},null,{"$f":"IFERROR(IF(AND(BVX$3>=$B$19,BVX$3<=$C$19),\"○\",\"\"),\"\")","v":""},null,{"$f":"IFERROR(IF(AND(BVZ$3>=$B$19,BVZ$3<=$C$19),\"○\",\"\"),\"\")","v":""},null,{"$f":"IFERROR(IF(AND(BWB$3>=$B$19,BWB$3<=$C$19),\"○\",\"\"),\"\")","v":""},null,{"$f":"IFERROR(IF(AND(BWD$3>=$B$19,BWD$3<=$C$19),\"○\",\"\"),\"\")","v":""},null,{"$f":"IFERROR(IF(AND(BWF$3>=$B$19,BWF$3<=$C$19),\"○\",\"\"),\"\")","v":""},null,{"$f":"IFERROR(IF(AND(BWH$3>=$B$19,BWH$3<=$C$19),\"○\",\"\"),\"\")","v":""},null,{"$f":"IFERROR(IF(AND(BWJ$3>=$B$19,BWJ$3<=$C$19),\"○\",\"\"),\"\")","v":""},null,{"$f":"IFERROR(IF(AND(BWL$3>=$B$19,BWL$3<=$C$19),\"○\",\"\"),\"\")","v":""},null,{"$f":"IFERROR(IF(AND(BWN$3>=$B$19,BWN$3<=$C$19),\"○\",\"\"),\"\")","v":""},null,{"$f":"IFERROR(IF(AND(BWP$3>=$B$19,BWP$3<=$C$19),\"○\",\"\"),\"\")","v":""},null,{"$f":"IFERROR(IF(AND(BWR$3>=$B$19,BWR$3<=$C$19),\"○\",\"\"),\"\")","v":""},null,{"$f":"IFERROR(IF(AND(BWT$3>=$B$19,BWT$3<=$C$19),\"○\",\"\"),\"\")","v":""},null,{"$f":"IFERROR(IF(AND(BWV$3>=$B$19,BWV$3<=$C$19),\"○\",\"\"),\"\")","v":""},null,{"$f":"SUM(F20:BWW20)","v":{"v":0,"d":"0.00"}},"月",{"$f":"BWX19/D19","v":{"$error":"#DIV/0!"}},{"v":0,"d":"0.00"},{"$f":"QUOTIENT(BXA19,12)","v":0},{"$f":"MOD(BXA19,12)","v":{"v":0,"d":"0.00"}}]
[{"$nulls":6},{"$f":"IF(F19=\"\",\"0\",1/F$22)","v":"0"},null,{"$f":"IF(H19=\"\",\"0\",1/H$22)","v":"0"},null,{"$f":"IF(J19=\"\",\"0\",1/J$22)","v":"0"},null,{"$f":"IF(L19=\"\",\"0\",1/L$22)","v":"0"},null,{"$f":"IF(N19=\"\",\"0\",1/N$22)","v":"0"},null,{"$f":"IF(P19=\"\",\"0\",1/P$22)","v":"0"},null,{"$f":"IF(R19=\"\",\"0\",1/R$22)","v":"0"},null,{"$f":"IF(T19=\"\",\"0\",1/T$22)","v":"0"},null,{"$f":"IF(V19=\"\",\"0\",1/V$22)","v":"0"},null,{"$f":"IF(X19=\"\",\"0\",1/X$22)","v":"0"},null,{"$f":"IF(Z19=\"\",\"0\",1/Z$22)","v":"0"},null,{"$f":"IF(AB19=\"\",\"0\",1/AB$22)","v":"0"},null,{"$f":"IF(AD19=\"\",\"0\",1/AD$22)","v":"0"},null,{"$f":"IF(AF19=\"\",\"0\",1/AF$22)","v":"0"},null,{"$f":"IF(AH19=\"\",\"0\",1/AH$22)","v":"0"},null,{"$f":"IF(AJ19=\"\",\"0\",1/AJ$22)","v":"0"},null,{"$f":"IF(AL19=\"\",\"0\",1/AL$22)","v":"0"},null,{"$f":"IF(AN19=\"\",\"0\",1/AN$22)","v":"0"},null,{"$f":"IF(AP19=\"\",\"0\",1/AP$22)","v":"0"},null,{"$f":"IF(AR19=\"\",\"0\",1/AR$22)","v":"0"},null,{"$f":"IF(AT19=\"\",\"0\",1/AT$22)","v":"0"},null,{"$f":"IF(AV19=\"\",\"0\",1/AV$22)","v":"0"},null,{"$f":"IF(AX19=\"\",\"0\",1/AX$22)","v":"0"},null,{"$f":"IF(AZ19=\"\",\"0\",1/AZ$22)","v":"0"},null,{"$f":"IF(BB19=\"\",\"0\",1/BB$22)","v":"0"},null,{"$f":"IF(BD19=\"\",\"0\",1/BD$22)","v":"0"},null,{"$f":"IF(BF19=\"\",\"0\",1/BF$22)","v":"0"},null,{"$f":"IF(BH19=\"\",\"0\",1/BH$22)","v":"0"},null,{"$f":"IF(BJ19=\"\",\"0\",1/BJ$22)","v":"0"},null,{"$f":"IF(BL19=\"\",\"0\",1/BL$22)","v":"0"},null,{"$f":"IF(BN19=\"\",\"0\",1/BN$22)","v":"0"},null,{"$f":"IF(BP19=\"\",\"0\",1/BP$22)","v":"0"},null,{"$f":"IF(BR19=\"\",\"0\",1/BR$22)","v":"0"},null,{"$f":"IF(BT19=\"\",\"0\",1/BT$22)","v":"0"},null,{"$f":"IF(BV19=\"\",\"0\",1/BV$22)","v":"0"},null,{"$f":"IF(BX19=\"\",\"0\",1/BX$22)","v":"0"},null,{"$f":"IF(BZ19=\"\",\"0\",1/BZ$22)","v":"0"},null,{"$f":"IF(CB19=\"\",\"0\",1/CB$22)","v":"0"},null,{"$f":"IF(CD19=\"\",\"0\",1/CD$22)","v":"0"},null,{"$f":"IF(CF19=\"\",\"0\",1/CF$22)","v":"0"},null,{"$f":"IF(CH19=\"\",\"0\",1/CH$22)","v":"0"},null,{"$f":"IF(CJ19=\"\",\"0\",1/CJ$22)","v":"0"},null,{"$f":"IF(CL19=\"\",\"0\",1/CL$22)","v":"0"},null,{"$f":"IF(CN19=\"\",\"0\",1/CN$22)","v":"0"},null,{"$f":"IF(CP19=\"\",\"0\",1/CP$22)","v":"0"},null,{"$f":"IF(CR19=\"\",\"0\",1/CR$22)","v":"0"},null,{"$f":"IF(CT19=\"\",\"0\",1/CT$22)","v":"0"},null,{"$f":"IF(CV19=\"\",\"0\",1/CV$22)","v":"0"},null,{"$f":"IF(CX19=\"\",\"0\",1/CX$22)","v":"0"},null,{"$f":"IF(CZ19=\"\",\"0\",1/CZ$22)","v":"0"},null,{"$f":"IF(DB19=\"\",\"0\",1/DB$22)","v":"0"},null,{"$f":"IF(DD19=\"\",\"0\",1/DD$22)","v":"0"},null,{"$f":"IF(DF19=\"\",\"0\",1/DF$22)","v":"0"},null,{"$f":"IF(DH19=\"\",\"0\",1/DH$22)","v":"0"},null,{"$f":"IF(DJ19=\"\",\"0\",1/DJ$22)","v":"0"},null,{"$f":"IF(DL19=\"\",\"0\",1/DL$22)","v":"0"},null,{"$f":"IF(DN19=\"\",\"0\",1/DN$22)","v":"0"},null,{"$f":"IF(DP19=\"\",\"0\",1/DP$22)","v":"0"},null,{"$f":"IF(DR19=\"\",\"0\",1/DR$22)","v":"0"},null,{"$f":"IF(DT19=\"\",\"0\",1/DT$22)","v":"0"},null,{"$f":"IF(DV19=\"\",\"0\",1/DV$22)","v":"0"},null,{"$f":"IF(DX19=\"\",\"0\",1/DX$22)","v":"0"},null,{"$f":"IF(DZ19=\"\",\"0\",1/DZ$22)","v":"0"},null,{"$f":"IF(EB19=\"\",\"0\",1/EB$22)","v":"0"},null,{"$f":"IF(ED19=\"\",\"0\",1/ED$22)","v":"0"},null,{"$f":"IF(EF19=\"\",\"0\",1/EF$22)","v":"0"},null,{"$f":"IF(EH19=\"\",\"0\",1/EH$22)","v":"0"},null,{"$f":"IF(EJ19=\"\",\"0\",1/EJ$22)","v":"0"},null,{"$f":"IF(EL19=\"\",\"0\",1/EL$22)","v":"0"},null,{"$f":"IF(EN19=\"\",\"0\",1/EN$22)","v":"0"},null,{"$f":"IF(EP19=\"\",\"0\",1/EP$22)","v":"0"},null,{"$f":"IF(ER19=\"\",\"0\",1/ER$22)","v":"0"},null,{"$f":"IF(ET19=\"\",\"0\",1/ET$22)","v":"0"},null,{"$f":"IF(EV19=\"\",\"0\",1/EV$22)","v":"0"},null,{"$f":"IF(EX19=\"\",\"0\",1/EX$22)","v":"0"},null,{"$f":"IF(EZ19=\"\",\"0\",1/EZ$22)","v":"0"},null,{"$f":"IF(FB19=\"\",\"0\",1/FB$22)","v":"0"},null,{"$f":"IF(FD19=\"\",\"0\",1/FD$22)","v":"0"},null,{"$f":"IF(FF19=\"\",\"0\",1/FF$22)","v":"0"},null,{"$f":"IF(FH19=\"\",\"0\",1/FH$22)","v":"0"},null,{"$f":"IF(FJ19=\"\",\"0\",1/FJ$22)","v":"0"},null,{"$f":"IF(FL19=\"\",\"0\",1/FL$22)","v":"0"},null,{"$f":"IF(FN19=\"\",\"0\",1/FN$22)","v":"0"},null,{"$f":"IF(FP19=\"\",\"0\",1/FP$22)","v":"0"},null,{"$f":"IF(FR19=\"\",\"0\",1/FR$22)","v":"0"},null,{"$f":"IF(FT19=\"\",\"0\",1/FT$22)","v":"0"},null,{"$f":"IF(FV19=\"\",\"0\",1/FV$22)","v":"0"},null,{"$f":"IF(FX19=\"\",\"0\",1/FX$22)","v":"0"},null,{"$f":"IF(FZ19=\"\",\"0\",1/FZ$22)","v":"0"},null,{"$f":"IF(GB19=\"\",\"0\",1/GB$22)","v":"0"},null,{"$f":"IF(GD19=\"\",\"0\",1/GD$22)","v":"0"},null,{"$f":"IF(GF19=\"\",\"0\",1/GF$22)","v":"0"},null,{"$f":"IF(GH19=\"\",\"0\",1/GH$22)","v":"0"},null,{"$f":"IF(GJ19=\"\",\"0\",1/GJ$22)","v":"0"},null,{"$f":"IF(GL19=\"\",\"0\",1/GL$22)","v":"0"},null,{"$f":"IF(GN19=\"\",\"0\",1/GN$22)","v":"0"},null,{"$f":"IF(GP19=\"\",\"0\",1/GP$22)","v":"0"},null,{"$f":"IF(GR19=\"\",\"0\",1/GR$22)","v":"0"},null,{"$f":"IF(GT19=\"\",\"0\",1/GT$22)","v":"0"},null,{"$f":"IF(GV19=\"\",\"0\",1/GV$22)","v":"0"},null,{"$f":"IF(GX19=\"\",\"0\",1/GX$22)","v":"0"},null,{"$f":"IF(GZ19=\"\",\"0\",1/GZ$22)","v":"0"},null,{"$f":"IF(HB19=\"\",\"0\",1/HB$22)","v":"0"},null,{"$f":"IF(HD19=\"\",\"0\",1/HD$22)","v":"0"},null,{"$f":"IF(HF19=\"\",\"0\",1/HF$22)","v":"0"},null,{"$f":"IF(HH19=\"\",\"0\",1/HH$22)","v":"0"},null,{"$f":"IF(HJ19=\"\",\"0\",1/HJ$22)","v":"0"},null,{"$f":"IF(HL19=\"\",\"0\",1/HL$22)","v":"0"},null,{"$f":"IF(HN19=\"\",\"0\",1/HN$22)","v":"0"},null,{"$f":"IF(HP19=\"\",\"0\",1/HP$22)","v":"0"},null,{"$f":"IF(HR19=\"\",\"0\",1/HR$22)","v":"0"},null,{"$f":"IF(HT19=\"\",\"0\",1/HT$22)","v":"0"},null,{"$f":"IF(HV19=\"\",\"0\",1/HV$22)","v":"0"},null,{"$f":"IF(HX19=\"\",\"0\",1/HX$22)","v":"0"},null,{"$f":"IF(HZ19=\"\",\"0\",1/HZ$22)","v":"0"},null,{"$f":"IF(IB19=\"\",\"0\",1/IB$22)","v":"0"},null,{"$f":"IF(ID19=\"\",\"0\",1/ID$22)","v":"0"},null,{"$f":"IF(IF19=\"\",\"0\",1/IF$22)","v":"0"},null,{"$f":"IF(IH19=\"\",\"0\",1/IH$22)","v":"0"},null,{"$f":"IF(IJ19=\"\",\"0\",1/IJ$22)","v":"0"},null,{"$f":"IF(IL19=\"\",\"0\",1/IL$22)","v":"0"},null,{"$f":"IF(IN19=\"\",\"0\",1/IN$22)","v":"0"},null,{"$f":"IF(IP19=\"\",\"0\",1/IP$22)","v":"0"},null,{"$f":"IF(IR19=\"\",\"0\",1/IR$22)","v":"0"},null,{"$f":"IF(IT19=\"\",\"0\",1/IT$22)","v":"0"},null,{"$f":"IF(IV19=\"\",\"0\",1/IV$22)","v":"0"},null,{"$f":"IF(IX19=\"\",\"0\",1/IX$22)","v":"0"},null,{"$f":"IF(IZ19=\"\",\"0\",1/IZ$22)","v":"0"},null,{"$f":"IF(JB19=\"\",\"0\",1/JB$22)","v":"0"},null,{"$f":"IF(JD19=\"\",\"0\",1/JD$22)","v":"0"},null,{"$f":"IF(JF19=\"\",\"0\",1/JF$22)","v":"0"},null,{"$f":"IF(JH19=\"\",\"0\",1/JH$22)","v":"0"},null,{"$f":"IF(JJ19=\"\",\"0\",1/JJ$22)","v":"0"},null,{"$f":"IF(JL19=\"\",\"0\",1/JL$22)","v":"0"},null,{"$f":"IF(JN19=\"\",\"0\",1/JN$22)","v":"0"},null,{"$f":"IF(JP19=\"\",\"0\",1/JP$22)","v":"0"},null,{"$f":"IF(JR19=\"\",\"0\",1/JR$22)","v":"0"},null,{"$f":"IF(JT19=\"\",\"0\",1/JT$22)","v":"0"},null,{"$f":"IF(JV19=\"\",\"0\",1/JV$22)","v":"0"},null,{"$f":"IF(JX19=\"\",\"0\",1/JX$22)","v":"0"},null,{"$f":"IF(JZ19=\"\",\"0\",1/JZ$22)","v":"0"},null,{"$f":"IF(KB19=\"\",\"0\",1/KB$22)","v":"0"},null,{"$f":"IF(KD19=\"\",\"0\",1/KD$22)","v":"0"},null,{"$f":"IF(KF19=\"\",\"0\",1/KF$22)","v":"0"},null,{"$f":"IF(KH19=\"\",\"0\",1/KH$22)","v":"0"},null,{"$f":"IF(KJ19=\"\",\"0\",1/KJ$22)","v":"0"},null,{"$f":"IF(KL19=\"\",\"0\",1/KL$22)","v":"0"},null,{"$f":"IF(KN19=\"\",\"0\",1/KN$22)","v":"0"},null,{"$f":"IF(KP19=\"\",\"0\",1/KP$22)","v":"0"},null,{"$f":"IF(KR19=\"\",\"0\",1/KR$22)","v":"0"},null,{"$f":"IF(KT19=\"\",\"0\",1/KT$22)","v":"0"},null,{"$f":"IF(KV19=\"\",\"0\",1/KV$22)","v":"0"},null,{"$f":"IF(KX19=\"\",\"0\",1/KX$22)","v":"0"},null,{"$f":"IF(KZ19=\"\",\"0\",1/KZ$22)","v":"0"},null,{"$f":"IF(LB19=\"\",\"0\",1/LB$22)","v":"0"},null,{"$f":"IF(LD19=\"\",\"0\",1/LD$22)","v":"0"},null,{"$f":"IF(LF19=\"\",\"0\",1/LF$22)","v":"0"},null,{"$f":"IF(LH19=\"\",\"0\",1/LH$22)","v":"0"},null,{"$f":"IF(LJ19=\"\",\"0\",1/LJ$22)","v":"0"},null,{"$f":"IF(LL19=\"\",\"0\",1/LL$22)","v":"0"},null,{"$f":"IF(LN19=\"\",\"0\",1/LN$22)","v":"0"},null,{"$f":"IF(LP19=\"\",\"0\",1/LP$22)","v":"0"},null,{"$f":"IF(LR19=\"\",\"0\",1/LR$22)","v":"0"},null,{"$f":"IF(LT19=\"\",\"0\",1/LT$22)","v":"0"},null,{"$f":"IF(LV19=\"\",\"0\",1/LV$22)","v":"0"},null,{"$f":"IF(LX19=\"\",\"0\",1/LX$22)","v":"0"},null,{"$f":"IF(LZ19=\"\",\"0\",1/LZ$22)","v":"0"},null,{"$f":"IF(MB19=\"\",\"0\",1/MB$22)","v":"0"},null,{"$f":"IF(MD19=\"\",\"0\",1/MD$22)","v":"0"},null,{"$f":"IF(MF19=\"\",\"0\",1/MF$22)","v":"0"},null,{"$f":"IF(MH19=\"\",\"0\",1/MH$22)","v":"0"},null,{"$f":"IF(MJ19=\"\",\"0\",1/MJ$22)","v":"0"},null,{"$f":"IF(ML19=\"\",\"0\",1/ML$22)","v":"0"},null,{"$f":"IF(MN19=\"\",\"0\",1/MN$22)","v":"0"},null,{"$f":"IF(MP19=\"\",\"0\",1/MP$22)","v":"0"},null,{"$f":"IF(MR19=\"\",\"0\",1/MR$22)","v":"0"},null,{"$f":"IF(MT19=\"\",\"0\",1/MT$22)","v":"0"},null,{"$f":"IF(MV19=\"\",\"0\",1/MV$22)","v":"0"},null,{"$f":"IF(MX19=\"\",\"0\",1/MX$22)","v":"0"},null,{"$f":"IF(MZ19=\"\",\"0\",1/MZ$22)","v":"0"},null,{"$f":"IF(NB19=\"\",\"0\",1/NB$22)","v":"0"},null,{"$f":"IF(ND19=\"\",\"0\",1/ND$22)","v":"0"},null,{"$f":"IF(NF19=\"\",\"0\",1/NF$22)","v":"0"},null,{"$f":"IF(NH19=\"\",\"0\",1/NH$22)","v":"0"},null,{"$f":"IF(NJ19=\"\",\"0\",1/NJ$22)","v":"0"},null,{"$f":"IF(NL19=\"\",\"0\",1/NL$22)","v":"0"},null,{"$f":"IF(NN19=\"\",\"0\",1/NN$22)","v":"0"},null,{"$f":"IF(NP19=\"\",\"0\",1/NP$22)","v":"0"},null,{"$f":"IF(NR19=\"\",\"0\",1/NR$22)","v":"0"},null,{"$f":"IF(NT19=\"\",\"0\",1/NT$22)","v":"0"},null,{"$f":"IF(NV19=\"\",\"0\",1/NV$22)","v":"0"},null,{"$f":"IF(NX19=\"\",\"0\",1/NX$22)","v":"0"},null,{"$f":"IF(NZ19=\"\",\"0\",1/NZ$22)","v":"0"},null,{"$f":"IF(OB19=\"\",\"0\",1/OB$22)","v":"0"},null,{"$f":"IF(OD19=\"\",\"0\",1/OD$22)","v":"0"},null,{"$f":"IF(OF19=\"\",\"0\",1/OF$22)","v":"0"},null,{"$f":"IF(OH19=\"\",\"0\",1/OH$22)","v":"0"},null,{"$f":"IF(OJ19=\"\",\"0\",1/OJ$22)","v":"0"},null,{"$f":"IF(OL19=\"\",\"0\",1/OL$22)","v":"0"},null,{"$f":"IF(ON19=\"\",\"0\",1/ON$22)","v":"0"},null,{"$f":"IF(OP19=\"\",\"0\",1/OP$22)","v":"0"},null,{"$f":"IF(OR19=\"\",\"0\",1/OR$22)","v":"0"},null,{"$f":"IF(OT19=\"\",\"0\",1/OT$22)","v":"0"},null,{"$f":"IF(OV19=\"\",\"0\",1/OV$22)","v":"0"},null,{"$f":"IF(OX19=\"\",\"0\",1/OX$22)","v":"0"},null,{"$f":"IF(OZ19=\"\",\"0\",1/OZ$22)","v":"0"},null,{"$f":"IF(PB19=\"\",\"0\",1/PB$22)","v":"0"},null,{"$f":"IF(PD19=\"\",\"0\",1/PD$22)","v":"0"},null,{"$f":"IF(PF19=\"\",\"0\",1/PF$22)","v":"0"},null,{"$f":"IF(PH19=\"\",\"0\",1/PH$22)","v":"0"},null,{"$f":"IF(PJ19=\"\",\"0\",1/PJ$22)","v":"0"},null,{"$f":"IF(PL19=\"\",\"0\",1/PL$22)","v":"0"},null,{"$f":"IF(PN19=\"\",\"0\",1/PN$22)","v":"0"},null,{"$f":"IF(PP19=\"\",\"0\",1/PP$22)","v":"0"},null,{"$f":"IF(PR19=\"\",\"0\",1/PR$22)","v":"0"},null,{"$f":"IF(PT19=\"\",\"0\",1/PT$22)","v":"0"},null,{"$f":"IF(PV19=\"\",\"0\",1/PV$22)","v":"0"},null,{"$f":"IF(PX19=\"\",\"0\",1/PX$22)","v":"0"},null,{"$f":"IF(PZ19=\"\",\"0\",1/PZ$22)","v":"0"},null,{"$f":"IF(QB19=\"\",\"0\",1/QB$22)","v":"0"},null,{"$f":"IF(QD19=\"\",\"0\",1/QD$22)","v":"0"},null,{"$f":"IF(QF19=\"\",\"0\",1/QF$22)","v":"0"},null,{"$f":"IF(QH19=\"\",\"0\",1/QH$22)","v":"0"},null,{"$f":"IF(QJ19=\"\",\"0\",1/QJ$22)","v":"0"},null,{"$f":"IF(QL19=\"\",\"0\",1/QL$22)","v":"0"},null,{"$f":"IF(QN19=\"\",\"0\",1/QN$22)","v":"0"},null,{"$f":"IF(QP19=\"\",\"0\",1/QP$22)","v":"0"},null,{"$f":"IF(QR19=\"\",\"0\",1/QR$22)","v":"0"},null,{"$f":"IF(QT19=\"\",\"0\",1/QT$22)","v":"0"},null,{"$f":"IF(QV19=\"\",\"0\",1/QV$22)","v":"0"},null,{"$f":"IF(QX19=\"\",\"0\",1/QX$22)","v":"0"},null,{"$f":"IF(QZ19=\"\",\"0\",1/QZ$22)","v":"0"},null,{"$f":"IF(RB19=\"\",\"0\",1/RB$22)","v":"0"},null,{"$f":"IF(RD19=\"\",\"0\",1/RD$22)","v":"0"},null,{"$f":"IF(RF19=\"\",\"0\",1/RF$22)","v":"0"},null,{"$f":"IF(RH19=\"\",\"0\",1/RH$22)","v":"0"},null,{"$f":"IF(RJ19=\"\",\"0\",1/RJ$22)","v":"0"},null,{"$f":"IF(RL19=\"\",\"0\",1/RL$22)","v":"0"},null,{"$f":"IF(RN19=\"\",\"0\",1/RN$22)","v":"0"},null,{"$f":"IF(RP19=\"\",\"0\",1/RP$22)","v":"0"},null,{"$f":"IF(RR19=\"\",\"0\",1/RR$22)","v":"0"},null,{"$f":"IF(RT19=\"\",\"0\",1/RT$22)","v":"0"},null,{"$f":"IF(RV19=\"\",\"0\",1/RV$22)","v":"0"},null,{"$f":"IF(RX19=\"\",\"0\",1/RX$22)","v":"0"},null,{"$f":"IF(RZ19=\"\",\"0\",1/RZ$22)","v":"0"},null,{"$f":"IF(SB19=\"\",\"0\",1/SB$22)","v":"0"},null,{"$f":"IF(SD19=\"\",\"0\",1/SD$22)","v":"0"},null,{"$f":"IF(SF19=\"\",\"0\",1/SF$22)","v":"0"},null,{"$f":"IF(SH19=\"\",\"0\",1/SH$22)","v":"0"},null,{"$f":"IF(SJ19=\"\",\"0\",1/SJ$22)","v":"0"},null,{"$f":"IF(SL19=\"\",\"0\",1/SL$22)","v":"0"},null,{"$f":"IF(SN19=\"\",\"0\",1/SN$22)","v":"0"},null,{"$f":"IF(SP19=\"\",\"0\",1/SP$22)","v":"0"},null,{"$f":"IF(SR19=\"\",\"0\",1/SR$22)","v":"0"},null,{"$f":"IF(ST19=\"\",\"0\",1/ST$22)","v":"0"},null,{"$f":"IF(SV19=\"\",\"0\",1/SV$22)","v":"0"},null,{"$f":"IF(SX19=\"\",\"0\",1/SX$22)","v":"0"},null,{"$f":"IF(SZ19=\"\",\"0\",1/SZ$22)","v":"0"},null,{"$f":"IF(TB19=\"\",\"0\",1/TB$22)","v":"0"},null,{"$f":"IF(TD19=\"\",\"0\",1/TD$22)","v":"0"},null,{"$f":"IF(TF19=\"\",\"0\",1/TF$22)","v":"0"},null,{"$f":"IF(TH19=\"\",\"0\",1/TH$22)","v":"0"},null,{"$f":"IF(TJ19=\"\",\"0\",1/TJ$22)","v":"0"},null,{"$f":"IF(TL19=\"\",\"0\",1/TL$22)","v":"0"},null,{"$f":"IF(TN19=\"\",\"0\",1/TN$22)","v":"0"},null,{"$f":"IF(TP19=\"\",\"0\",1/TP$22)","v":"0"},null,{"$f":"IF(TR19=\"\",\"0\",1/TR$22)","v":"0"},null,{"$f":"IF(TT19=\"\",\"0\",1/TT$22)","v":"0"},null,{"$f":"IF(TV19=\"\",\"0\",1/TV$22)","v":"0"},null,{"$f":"IF(TX19=\"\",\"0\",1/TX$22)","v":"0"},null,{"$f":"IF(TZ19=\"\",\"0\",1/TZ$22)","v":"0"},null,{"$f":"IF(UB19=\"\",\"0\",1/UB$22)","v":"0"},null,{"$f":"IF(UD19=\"\",\"0\",1/UD$22)","v":"0"},null,{"$f":"IF(UF19=\"\",\"0\",1/UF$22)","v":"0"},null,{"$f":"IF(UH19=\"\",\"0\",1/UH$22)","v":"0"},null,{"$f":"IF(UJ19=\"\",\"0\",1/UJ$22)","v":"0"},null,{"$f":"IF(UL19=\"\",\"0\",1/UL$22)","v":"0"},null,{"$f":"IF(UN19=\"\",\"0\",1/UN$22)","v":"0"},null,{"$f":"IF(UP19=\"\",\"0\",1/UP$22)","v":"0"},null,{"$f":"IF(UR19=\"\",\"0\",1/UR$22)","v":"0"},null,{"$f":"IF(UT19=\"\",\"0\",1/UT$22)","v":"0"},null,{"$f":"IF(UV19=\"\",\"0\",1/UV$22)","v":"0"},null,{"$f":"IF(UX19=\"\",\"0\",1/UX$22)","v":"0"},null,{"$f":"IF(UZ19=\"\",\"0\",1/UZ$22)","v":"0"},null,{"$f":"IF(VB19=\"\",\"0\",1/VB$22)","v":"0"},null,{"$f":"IF(VD19=\"\",\"0\",1/VD$22)","v":"0"},null,{"$f":"IF(VF19=\"\",\"0\",1/VF$22)","v":"0"},null,{"$f":"IF(VH19=\"\",\"0\",1/VH$22)","v":"0"},null,{"$f":"IF(VJ19=\"\",\"0\",1/VJ$22)","v":"0"},null,{"$f":"IF(VL19=\"\",\"0\",1/VL$22)","v":"0"},null,{"$f":"IF(VN19=\"\",\"0\",1/VN$22)","v":"0"},null,{"$f":"IF(VP19=\"\",\"0\",1/VP$22)","v":"0"},null,{"$f":"IF(VR19=\"\",\"0\",1/VR$22)","v":"0"},null,{"$f":"IF(VT19=\"\",\"0\",1/VT$22)","v":"0"},null,{"$f":"IF(VV19=\"\",\"0\",1/VV$22)","v":"0"},null,{"$f":"IF(VX19=\"\",\"0\",1/VX$22)","v":"0"},null,{"$f":"IF(VZ19=\"\",\"0\",1/VZ$22)","v":"0"},null,{"$f":"IF(WB19=\"\",\"0\",1/WB$22)","v":"0"},null,{"$f":"IF(WD19=\"\",\"0\",1/WD$22)","v":"0"},null,{"$f":"IF(WF19=\"\",\"0\",1/WF$22)","v":"0"},null,{"$f":"IF(WH19=\"\",\"0\",1/WH$22)","v":"0"},null,{"$f":"IF(WJ19=\"\",\"0\",1/WJ$22)","v":"0"},null,{"$f":"IF(WL19=\"\",\"0\",1/WL$22)","v":"0"},null,{"$f":"IF(WN19=\"\",\"0\",1/WN$22)","v":"0"},null,{"$f":"IF(WP19=\"\",\"0\",1/WP$22)","v":"0"},null,{"$f":"IF(WR19=\"\",\"0\",1/WR$22)","v":"0"},null,{"$f":"IF(WT19=\"\",\"0\",1/WT$22)","v":"0"},null,{"$f":"IF(WV19=\"\",\"0\",1/WV$22)","v":"0"},null,{"$f":"IF(WX19=\"\",\"0\",1/WX$22)","v":"0"},null,{"$f":"IF(WZ19=\"\",\"0\",1/WZ$22)","v":"0"},null,{"$f":"IF(XB19=\"\",\"0\",1/XB$22)","v":"0"},null,{"$f":"IF(XD19=\"\",\"0\",1/XD$22)","v":"0"},null,{"$f":"IF(XF19=\"\",\"0\",1/XF$22)","v":"0"},null,{"$f":"IF(XH19=\"\",\"0\",1/XH$22)","v":"0"},null,{"$f":"IF(XJ19=\"\",\"0\",1/XJ$22)","v":"0"},null,{"$f":"IF(XL19=\"\",\"0\",1/XL$22)","v":"0"},null,{"$f":"IF(XN19=\"\",\"0\",1/XN$22)","v":"0"},null,{"$f":"IF(XP19=\"\",\"0\",1/XP$22)","v":"0"},null,{"$f":"IF(XR19=\"\",\"0\",1/XR$22)","v":"0"},null,{"$f":"IF(XT19=\"\",\"0\",1/XT$22)","v":"0"},null,{"$f":"IF(XV19=\"\",\"0\",1/XV$22)","v":"0"},null,{"$f":"IF(XX19=\"\",\"0\",1/XX$22)","v":"0"},null,{"$f":"IF(XZ19=\"\",\"0\",1/XZ$22)","v":"0"},null,{"$f":"IF(YB19=\"\",\"0\",1/YB$22)","v":"0"},null,{"$f":"IF(YD19=\"\",\"0\",1/YD$22)","v":"0"},null,{"$f":"IF(YF19=\"\",\"0\",1/YF$22)","v":"0"},null,{"$f":"IF(YH19=\"\",\"0\",1/YH$22)","v":"0"},null,{"$f":"IF(YJ19=\"\",\"0\",1/YJ$22)","v":"0"},null,{"$f":"IF(YL19=\"\",\"0\",1/YL$22)","v":"0"},null,{"$f":"IF(YN19=\"\",\"0\",1/YN$22)","v":"0"},null,{"$f":"IF(YP19=\"\",\"0\",1/YP$22)","v":"0"},null,{"$f":"IF(YR19=\"\",\"0\",1/YR$22)","v":"0"},null,{"$f":"IF(YT19=\"\",\"0\",1/YT$22)","v":"0"},null,{"$f":"IF(YV19=\"\",\"0\",1/YV$22)","v":"0"},null,{"$f":"IF(YX19=\"\",\"0\",1/YX$22)","v":"0"},null,{"$f":"IF(YZ19=\"\",\"0\",1/YZ$22)","v":"0"},null,{"$f":"IF(ZB19=\"\",\"0\",1/ZB$22)","v":"0"},null,{"$f":"IF(ZD19=\"\",\"0\",1/ZD$22)","v":"0"},null,{"$f":"IF(ZF19=\"\",\"0\",1/ZF$22)","v":"0"},null,{"$f":"IF(ZH19=\"\",\"0\",1/ZH$22)","v":"0"},null,{"$f":"IF(ZJ19=\"\",\"0\",1/ZJ$22)","v":"0"},null,{"$f":"IF(ZL19=\"\",\"0\",1/ZL$22)","v":"0"},null,{"$f":"IF(ZN19=\"\",\"0\",1/ZN$22)","v":"0"},null,{"$f":"IF(ZP19=\"\",\"0\",1/ZP$22)","v":"0"},null,{"$f":"IF(ZR19=\"\",\"0\",1/ZR$22)","v":"0"},null,{"$f":"IF(ZT19=\"\",\"0\",1/ZT$22)","v":"0"},null,{"$f":"IF(ZV19=\"\",\"0\",1/ZV$22)","v":"0"},null,{"$f":"IF(ZX19=\"\",\"0\",1/ZX$22)","v":"0"},null,{"$f":"IF(ZZ19=\"\",\"0\",1/ZZ$22)","v":"0"},null,{"$f":"IF(AAB19=\"\",\"0\",1/AAB$22)","v":"0"},null,{"$f":"IF(AAD19=\"\",\"0\",1/AAD$22)","v":"0"},null,{"$f":"IF(AAF19=\"\",\"0\",1/AAF$22)","v":"0"},null,{"$f":"IF(AAH19=\"\",\"0\",1/AAH$22)","v":"0"},null,{"$f":"IF(AAJ19=\"\",\"0\",1/AAJ$22)","v":"0"},null,{"$f":"IF(AAL19=\"\",\"0\",1/AAL$22)","v":"0"},null,{"$f":"IF(AAN19=\"\",\"0\",1/AAN$22)","v":"0"},null,{"$f":"IF(AAP19=\"\",\"0\",1/AAP$22)","v":"0"},null,{"$f":"IF(AAR19=\"\",\"0\",1/AAR$22)","v":"0"},null,{"$f":"IF(AAT19=\"\",\"0\",1/AAT$22)","v":"0"},null,{"$f":"IF(AAV19=\"\",\"0\",1/AAV$22)","v":"0"},null,{"$f":"IF(AAX19=\"\",\"0\",1/AAX$22)","v":"0"},null,{"$f":"IF(AAZ19=\"\",\"0\",1/AAZ$22)","v":"0"},null,{"$f":"IF(ABB19=\"\",\"0\",1/ABB$22)","v":"0"},null,{"$f":"IF(ABD19=\"\",\"0\",1/ABD$22)","v":"0"},null,{"$f":"IF(ABF19=\"\",\"0\",1/ABF$22)","v":"0"},null,{"$f":"IF(ABH19=\"\",\"0\",1/ABH$22)","v":"0"},null,{"$f":"IF(ABJ19=\"\",\"0\",1/ABJ$22)","v":"0"},null,{"$f":"IF(ABL19=\"\",\"0\",1/ABL$22)","v":"0"},null,{"$f":"IF(ABN19=\"\",\"0\",1/ABN$22)","v":"0"},null,{"$f":"IF(ABP19=\"\",\"0\",1/ABP$22)","v":"0"},null,{"$f":"IF(ABR19=\"\",\"0\",1/ABR$22)","v":"0"},null,{"$f":"IF(ABT19=\"\",\"0\",1/ABT$22)","v":"0"},null,{"$f":"IF(ABV19=\"\",\"0\",1/ABV$22)","v":"0"},null,{"$f":"IF(ABX19=\"\",\"0\",1/ABX$22)","v":"0"},null,{"$f":"IF(ABZ19=\"\",\"0\",1/ABZ$22)","v":"0"},null,{"$f":"IF(ACB19=\"\",\"0\",1/ACB$22)","v":"0"},null,{"$f":"IF(ACD19=\"\",\"0\",1/ACD$22)","v":"0"},null,{"$f":"IF(ACF19=\"\",\"0\",1/ACF$22)","v":"0"},null,{"$f":"IF(ACH19=\"\",\"0\",1/ACH$22)","v":"0"},null,{"$f":"IF(ACJ19=\"\",\"0\",1/ACJ$22)","v":"0"},null,{"$f":"IF(ACL19=\"\",\"0\",1/ACL$22)","v":"0"},null,{"$f":"IF(ACN19=\"\",\"0\",1/ACN$22)","v":"0"},null,{"$f":"IF(ACP19=\"\",\"0\",1/ACP$22)","v":"0"},null,{"$f":"IF(ACR19=\"\",\"0\",1/ACR$22)","v":"0"},null,{"$f":"IF(ACT19=\"\",\"0\",1/ACT$22)","v":"0"},null,{"$f":"IF(ACV19=\"\",\"0\",1/ACV$22)","v":"0"},null,{"$f":"IF(ACX19=\"\",\"0\",1/ACX$22)","v":"0"},null,{"$f":"IF(ACZ19=\"\",\"0\",1/ACZ$22)","v":"0"},null,{"$f":"IF(ADB19=\"\",\"0\",1/ADB$22)","v":"0"},null,{"$f":"IF(ADD19=\"\",\"0\",1/ADD$22)","v":"0"},null,{"$f":"IF(ADF19=\"\",\"0\",1/ADF$22)","v":"0"},null,{"$f":"IF(ADH19=\"\",\"0\",1/ADH$22)","v":"0"},null,{"$f":"IF(ADJ19=\"\",\"0\",1/ADJ$22)","v":"0"},null,{"$f":"IF(ADL19=\"\",\"0\",1/ADL$22)","v":"0"},null,{"$f":"IF(ADN19=\"\",\"0\",1/ADN$22)","v":"0"},null,{"$f":"IF(ADP19=\"\",\"0\",1/ADP$22)","v":"0"},null,{"$f":"IF(ADR19=\"\",\"0\",1/ADR$22)","v":"0"},null,{"$f":"IF(ADT19=\"\",\"0\",1/ADT$22)","v":"0"},null,{"$f":"IF(ADV19=\"\",\"0\",1/ADV$22)","v":"0"},null,{"$f":"IF(ADX19=\"\",\"0\",1/ADX$22)","v":"0"},null,{"$f":"IF(ADZ19=\"\",\"0\",1/ADZ$22)","v":"0"},null,{"$f":"IF(AEB19=\"\",\"0\",1/AEB$22)","v":"0"},null,{"$f":"IF(AED19=\"\",\"0\",1/AED$22)","v":"0"},null,{"$f":"IF(AEF19=\"\",\"0\",1/AEF$22)","v":"0"},null,{"$f":"IF(AEH19=\"\",\"0\",1/AEH$22)","v":"0"},null,{"$f":"IF(AEJ19=\"\",\"0\",1/AEJ$22)","v":"0"},null,{"$f":"IF(AEL19=\"\",\"0\",1/AEL$22)","v":"0"},null,{"$f":"IF(AEN19=\"\",\"0\",1/AEN$22)","v":"0"},null,{"$f":"IF(AEP19=\"\",\"0\",1/AEP$22)","v":"0"},null,{"$f":"IF(AER19=\"\",\"0\",1/AER$22)","v":"0"},null,{"$f":"IF(AET19=\"\",\"0\",1/AET$22)","v":"0"},null,{"$f":"IF(AEV19=\"\",\"0\",1/AEV$22)","v":"0"},null,{"$f":"IF(AEX19=\"\",\"0\",1/AEX$22)","v":"0"},null,{"$f":"IF(AEZ19=\"\",\"0\",1/AEZ$22)","v":"0"},null,{"$f":"IF(AFB19=\"\",\"0\",1/AFB$22)","v":"0"},null,{"$f":"IF(AFD19=\"\",\"0\",1/AFD$22)","v":"0"},null,{"$f":"IF(AFF19=\"\",\"0\",1/AFF$22)","v":"0"},null,{"$f":"IF(AFH19=\"\",\"0\",1/AFH$22)","v":"0"},null,{"$f":"IF(AFJ19=\"\",\"0\",1/AFJ$22)","v":"0"},null,{"$f":"IF(AFL19=\"\",\"0\",1/AFL$22)","v":"0"},null,{"$f":"IF(AFN19=\"\",\"0\",1/AFN$22)","v":"0"},null,{"$f":"IF(AFP19=\"\",\"0\",1/AFP$22)","v":"0"},null,{"$f":"IF(AFR19=\"\",\"0\",1/AFR$22)","v":"0"},null,{"$f":"IF(AFT19=\"\",\"0\",1/AFT$22)","v":"0"},null,{"$f":"IF(AFV19=\"\",\"0\",1/AFV$22)","v":"0"},null,{"$f":"IF(AFX19=\"\",\"0\",1/AFX$22)","v":"0"},null,{"$f":"IF(AFZ19=\"\",\"0\",1/AFZ$22)","v":"0"},null,{"$f":"IF(AGB19=\"\",\"0\",1/AGB$22)","v":"0"},null,{"$f":"IF(AGD19=\"\",\"0\",1/AGD$22)","v":"0"},null,{"$f":"IF(AGF19=\"\",\"0\",1/AGF$22)","v":"0"},null,{"$f":"IF(AGH19=\"\",\"0\",1/AGH$22)","v":"0"},null,{"$f":"IF(AGJ19=\"\",\"0\",1/AGJ$22)","v":"0"},null,{"$f":"IF(AGL19=\"\",\"0\",1/AGL$22)","v":"0"},null,{"$f":"IF(AGN19=\"\",\"0\",1/AGN$22)","v":"0"},null,{"$f":"IF(AGP19=\"\",\"0\",1/AGP$22)","v":"0"},null,{"$f":"IF(AGR19=\"\",\"0\",1/AGR$22)","v":"0"},null,{"$f":"IF(AGT19=\"\",\"0\",1/AGT$22)","v":"0"},null,{"$f":"IF(AGV19=\"\",\"0\",1/AGV$22)","v":"0"},null,{"$f":"IF(AGX19=\"\",\"0\",1/AGX$22)","v":"0"},null,{"$f":"IF(AGZ19=\"\",\"0\",1/AGZ$22)","v":"0"},null,{"$f":"IF(AHB19=\"\",\"0\",1/AHB$22)","v":"0"},null,{"$f":"IF(AHD19=\"\",\"0\",1/AHD$22)","v":"0"},null,{"$f":"IF(AHF19=\"\",\"0\",1/AHF$22)","v":"0"},null,{"$f":"IF(AHH19=\"\",\"0\",1/AHH$22)","v":"0"},null,{"$f":"IF(AHJ19=\"\",\"0\",1/AHJ$22)","v":"0"},null,{"$f":"IF(AHL19=\"\",\"0\",1/AHL$22)","v":"0"},null,{"$f":"IF(AHN19=\"\",\"0\",1/AHN$22)","v":"0"},null,{"$f":"IF(AHP19=\"\",\"0\",1/AHP$22)","v":"0"},null,{"$f":"IF(AHR19=\"\",\"0\",1/AHR$22)","v":"0"},null,{"$f":"IF(AHT19=\"\",\"0\",1/AHT$22)","v":"0"},null,{"$f":"IF(AHV19=\"\",\"0\",1/AHV$22)","v":"0"},null,{"$f":"IF(AHX19=\"\",\"0\",1/AHX$22)","v":"0"},null,{"$f":"IF(AHZ19=\"\",\"0\",1/AHZ$22)","v":"0"},null,{"$f":"IF(AIB19=\"\",\"0\",1/AIB$22)","v":"0"},null,{"$f":"IF(AID19=\"\",\"0\",1/AID$22)","v":"0"},null,{"$f":"IF(AIF19=\"\",\"0\",1/AIF$22)","v":"0"},null,{"$f":"IF(AIH19=\"\",\"0\",1/AIH$22)","v":"0"},null,{"$f":"IF(AIJ19=\"\",\"0\",1/AIJ$22)","v":"0"},null,{"$f":"IF(AIL19=\"\",\"0\",1/AIL$22)","v":"0"},null,{"$f":"IF(AIN19=\"\",\"0\",1/AIN$22)","v":"0"},null,{"$f":"IF(AIP19=\"\",\"0\",1/AIP$22)","v":"0"},null,{"$f":"IF(AIR19=\"\",\"0\",1/AIR$22)","v":"0"},null,{"$f":"IF(AIT19=\"\",\"0\",1/AIT$22)","v":"0"},null,{"$f":"IF(AIV19=\"\",\"0\",1/AIV$22)","v":"0"},null,{"$f":"IF(AIX19=\"\",\"0\",1/AIX$22)","v":"0"},null,{"$f":"IF(AIZ19=\"\",\"0\",1/AIZ$22)","v":"0"},null,{"$f":"IF(AJB19=\"\",\"0\",1/AJB$22)","v":"0"},null,{"$f":"IF(AJD19=\"\",\"0\",1/AJD$22)","v":"0"},null,{"$f":"IF(AJF19=\"\",\"0\",1/AJF$22)","v":"0"},null,{"$f":"IF(AJH19=\"\",\"0\",1/AJH$22)","v":"0"},null,{"$f":"IF(AJJ19=\"\",\"0\",1/AJJ$22)","v":"0"},null,{"$f":"IF(AJL19=\"\",\"0\",1/AJL$22)","v":"0"},null,{"$f":"IF(AJN19=\"\",\"0\",1/AJN$22)","v":"0"},null,{"$f":"IF(AJP19=\"\",\"0\",1/AJP$22)","v":"0"},null,{"$f":"IF(AJR19=\"\",\"0\",1/AJR$22)","v":"0"},null,{"$f":"IF(AJT19=\"\",\"0\",1/AJT$22)","v":"0"},null,{"$f":"IF(AJV19=\"\",\"0\",1/AJV$22)","v":"0"},null,{"$f":"IF(AJX19=\"\",\"0\",1/AJX$22)","v":"0"},null,{"$f":"IF(AJZ19=\"\",\"0\",1/AJZ$22)","v":"0"},null,{"$f":"IF(AKB19=\"\",\"0\",1/AKB$22)","v":"0"},null,{"$f":"IF(AKD19=\"\",\"0\",1/AKD$22)","v":"0"},null,{"$f":"IF(AKF19=\"\",\"0\",1/AKF$22)","v":"0"},null,{"$f":"IF(AKH19=\"\",\"0\",1/AKH$22)","v":"0"},null,{"$f":"IF(AKJ19=\"\",\"0\",1/AKJ$22)","v":"0"},null,{"$f":"IF(AKL19=\"\",\"0\",1/AKL$22)","v":"0"},null,{"$f":"IF(AKN19=\"\",\"0\",1/AKN$22)","v":"0"},null,{"$f":"IF(AKP19=\"\",\"0\",1/AKP$22)","v":"0"},null,{"$f":"IF(AKR19=\"\",\"0\",1/AKR$22)","v":"0"},null,{"$f":"IF(AKT19=\"\",\"0\",1/AKT$22)","v":"0"},null,{"$f":"IF(AKV19=\"\",\"0\",1/AKV$22)","v":"0"},null,{"$f":"IF(AKX19=\"\",\"0\",1/AKX$22)","v":"0"},null,{"$f":"IF(AKZ19=\"\",\"0\",1/AKZ$22)","v":"0"},null,{"$f":"IF(ALB19=\"\",\"0\",1/ALB$22)","v":"0"},null,{"$f":"IF(ALD19=\"\",\"0\",1/ALD$22)","v":"0"},null,{"$f":"IF(ALF19=\"\",\"0\",1/ALF$22)","v":"0"},null,{"$f":"IF(ALH19=\"\",\"0\",1/ALH$22)","v":"0"},null,{"$f":"IF(ALJ19=\"\",\"0\",1/ALJ$22)","v":"0"},null,{"$f":"IF(ALL19=\"\",\"0\",1/ALL$22)","v":"0"},null,{"$f":"IF(ALN19=\"\",\"0\",1/ALN$22)","v":"0"},null,{"$f":"IF(ALP19=\"\",\"0\",1/ALP$22)","v":"0"},null,{"$f":"IF(ALR19=\"\",\"0\",1/ALR$22)","v":"0"},null,{"$f":"IF(ALT19=\"\",\"0\",1/ALT$22)","v":"0"},null,{"$f":"IF(ALV19=\"\",\"0\",1/ALV$22)","v":"0"},null,{"$f":"IF(ALX19=\"\",\"0\",1/ALX$22)","v":"0"},null,{"$f":"IF(ALZ19=\"\",\"0\",1/ALZ$22)","v":"0"},null,{"$f":"IF(AMB19=\"\",\"0\",1/AMB$22)","v":"0"},null,{"$f":"IF(AMD19=\"\",\"0\",1/AMD$22)","v":"0"},null,{"$f":"IF(AMF19=\"\",\"0\",1/AMF$22)","v":"0"},null,{"$f":"IF(AMH19=\"\",\"0\",1/AMH$22)","v":"0"},null,{"$f":"IF(AMJ19=\"\",\"0\",1/AMJ$22)","v":"0"},null,{"$f":"IF(AML19=\"\",\"0\",1/AML$22)","v":"0"},null,{"$f":"IF(AMN19=\"\",\"0\",1/AMN$22)","v":"0"},null,{"$f":"IF(AMP19=\"\",\"0\",1/AMP$22)","v":"0"},null,{"$f":"IF(AMR19=\"\",\"0\",1/AMR$22)","v":"0"},null,{"$f":"IF(AMT19=\"\",\"0\",1/AMT$22)","v":"0"},null,{"$f":"IF(AMV19=\"\",\"0\",1/AMV$22)","v":"0"},null,{"$f":"IF(AMX19=\"\",\"0\",1/AMX$22)","v":"0"},null,{"$f":"IF(AMZ19=\"\",\"0\",1/AMZ$22)","v":"0"},null,{"$f":"IF(ANB19=\"\",\"0\",1/ANB$22)","v":"0"},null,{"$f":"IF(AND19=\"\",\"0\",1/AND$22)","v":"0"},null,{"$f":"IF(ANF19=\"\",\"0\",1/ANF$22)","v":"0"},null,{"$f":"IF(ANH19=\"\",\"0\",1/ANH$22)","v":"0"},null,{"$f":"IF(ANJ19=\"\",\"0\",1/ANJ$22)","v":"0"},null,{"$f":"IF(ANL19=\"\",\"0\",1/ANL$22)","v":"0"},null,{"$f":"IF(ANN19=\"\",\"0\",1/ANN$22)","v":"0"},null,{"$f":"IF(ANP19=\"\",\"0\",1/ANP$22)","v":"0"},null,{"$f":"IF(ANR19=\"\",\"0\",1/ANR$22)","v":"0"},null,{"$f":"IF(ANT19=\"\",\"0\",1/ANT$22)","v":"0"},null,{"$f":"IF(ANV19=\"\",\"0\",1/ANV$22)","v":"0"},null,{"$f":"IF(ANX19=\"\",\"0\",1/ANX$22)","v":"0"},null,{"$f":"IF(ANZ19=\"\",\"0\",1/ANZ$22)","v":"0"},null,{"$f":"IF(AOB19=\"\",\"0\",1/AOB$22)","v":"0"},null,{"$f":"IF(AOD19=\"\",\"0\",1/AOD$22)","v":"0"},null,{"$f":"IF(AOF19=\"\",\"0\",1/AOF$22)","v":"0"},null,{"$f":"IF(AOH19=\"\",\"0\",1/AOH$22)","v":"0"},null,{"$f":"IF(AOJ19=\"\",\"0\",1/AOJ$22)","v":"0"},null,{"$f":"IF(AOL19=\"\",\"0\",1/AOL$22)","v":"0"},null,{"$f":"IF(AON19=\"\",\"0\",1/AON$22)","v":"0"},null,{"$f":"IF(AOP19=\"\",\"0\",1/AOP$22)","v":"0"},null,{"$f":"IF(AOR19=\"\",\"0\",1/AOR$22)","v":"0"},null,{"$f":"IF(AOT19=\"\",\"0\",1/AOT$22)","v":"0"},null,{"$f":"IF(AOV19=\"\",\"0\",1/AOV$22)","v":"0"},null,{"$f":"IF(AOX19=\"\",\"0\",1/AOX$22)","v":"0"},null,{"$f":"IF(AOZ19=\"\",\"0\",1/AOZ$22)","v":"0"},null,{"$f":"IF(APB19=\"\",\"0\",1/APB$22)","v":"0"},null,{"$f":"IF(APD19=\"\",\"0\",1/APD$22)","v":"0"},null,{"$f":"IF(APF19=\"\",\"0\",1/APF$22)","v":"0"},null,{"$f":"IF(APH19=\"\",\"0\",1/APH$22)","v":"0"},null,{"$f":"IF(APJ19=\"\",\"0\",1/APJ$22)","v":"0"},null,{"$f":"IF(APL19=\"\",\"0\",1/APL$22)","v":"0"},null,{"$f":"IF(APN19=\"\",\"0\",1/APN$22)","v":"0"},null,{"$f":"IF(APP19=\"\",\"0\",1/APP$22)","v":"0"},null,{"$f":"IF(APR19=\"\",\"0\",1/APR$22)","v":"0"},null,{"$f":"IF(APT19=\"\",\"0\",1/APT$22)","v":"0"},null,{"$f":"IF(APV19=\"\",\"0\",1/APV$22)","v":"0"},null,{"$f":"IF(APX19=\"\",\"0\",1/APX$22)","v":"0"},null,{"$f":"IF(APZ19=\"\",\"0\",1/APZ$22)","v":"0"},null,{"$f":"IF(AQB19=\"\",\"0\",1/AQB$22)","v":"0"},null,{"$f":"IF(AQD19=\"\",\"0\",1/AQD$22)","v":"0"},null,{"$f":"IF(AQF19=\"\",\"0\",1/AQF$22)","v":"0"},null,{"$f":"IF(AQH19=\"\",\"0\",1/AQH$22)","v":"0"},null,{"$f":"IF(AQJ19=\"\",\"0\",1/AQJ$22)","v":"0"},null,{"$f":"IF(AQL19=\"\",\"0\",1/AQL$22)","v":"0"},null,{"$f":"IF(AQN19=\"\",\"0\",1/AQN$22)","v":"0"},null,{"$f":"IF(AQP19=\"\",\"0\",1/AQP$22)","v":"0"},null,{"$f":"IF(AQR19=\"\",\"0\",1/AQR$22)","v":"0"},null,{"$f":"IF(AQT19=\"\",\"0\",1/AQT$22)","v":"0"},null,{"$f":"IF(AQV19=\"\",\"0\",1/AQV$22)","v":"0"},null,{"$f":"IF(AQX19=\"\",\"0\",1/AQX$22)","v":"0"},null,{"$f":"IF(AQZ19=\"\",\"0\",1/AQZ$22)","v":"0"},null,{"$f":"IF(ARB19=\"\",\"0\",1/ARB$22)","v":"0"},null,{"$f":"IF(ARD19=\"\",\"0\",1/ARD$22)","v":"0"},null,{"$f":"IF(ARF19=\"\",\"0\",1/ARF$22)","v":"0"},null,{"$f":"IF(ARH19=\"\",\"0\",1/ARH$22)","v":"0"},null,{"$f":"IF(ARJ19=\"\",\"0\",1/ARJ$22)","v":"0"},null,{"$f":"IF(ARL19=\"\",\"0\",1/ARL$22)","v":"0"},null,{"$f":"IF(ARN19=\"\",\"0\",1/ARN$22)","v":"0"},null,{"$f":"IF(ARP19=\"\",\"0\",1/ARP$22)","v":"0"},null,{"$f":"IF(ARR19=\"\",\"0\",1/ARR$22)","v":"0"},null,{"$f":"IF(ART19=\"\",\"0\",1/ART$22)","v":"0"},null,{"$f":"IF(ARV19=\"\",\"0\",1/ARV$22)","v":"0"},null,{"$f":"IF(ARX19=\"\",\"0\",1/ARX$22)","v":"0"},null,{"$f":"IF(ARZ19=\"\",\"0\",1/ARZ$22)","v":"0"},null,{"$f":"IF(ASB19=\"\",\"0\",1/ASB$22)","v":"0"},null,{"$f":"IF(ASD19=\"\",\"0\",1/ASD$22)","v":"0"},null,{"$f":"IF(ASF19=\"\",\"0\",1/ASF$22)","v":"0"},null,{"$f":"IF(ASH19=\"\",\"0\",1/ASH$22)","v":"0"},null,{"$f":"IF(ASJ19=\"\",\"0\",1/ASJ$22)","v":"0"},null,{"$f":"IF(ASL19=\"\",\"0\",1/ASL$22)","v":"0"},null,{"$f":"IF(ASN19=\"\",\"0\",1/ASN$22)","v":"0"},null,{"$f":"IF(ASP19=\"\",\"0\",1/ASP$22)","v":"0"},null,{"$f":"IF(ASR19=\"\",\"0\",1/ASR$22)","v":"0"},null,{"$f":"IF(AST19=\"\",\"0\",1/AST$22)","v":"0"},null,{"$f":"IF(ASV19=\"\",\"0\",1/ASV$22)","v":"0"},null,{"$f":"IF(ASX19=\"\",\"0\",1/ASX$22)","v":"0"},null,{"$f":"IF(ASZ19=\"\",\"0\",1/ASZ$22)","v":"0"},null,{"$f":"IF(ATB19=\"\",\"0\",1/ATB$22)","v":"0"},null,{"$f":"IF(ATD19=\"\",\"0\",1/ATD$22)","v":"0"},null,{"$f":"IF(ATF19=\"\",\"0\",1/ATF$22)","v":"0"},null,{"$f":"IF(ATH19=\"\",\"0\",1/ATH$22)","v":"0"},null,{"$f":"IF(ATJ19=\"\",\"0\",1/ATJ$22)","v":"0"},null,{"$f":"IF(ATL19=\"\",\"0\",1/ATL$22)","v":"0"},null,{"$f":"IF(ATN19=\"\",\"0\",1/ATN$22)","v":"0"},null,{"$f":"IF(ATP19=\"\",\"0\",1/ATP$22)","v":"0"},null,{"$f":"IF(ATR19=\"\",\"0\",1/ATR$22)","v":"0"},null,{"$f":"IF(ATT19=\"\",\"0\",1/ATT$22)","v":"0"},null,{"$f":"IF(ATV19=\"\",\"0\",1/ATV$22)","v":"0"},null,{"$f":"IF(ATX19=\"\",\"0\",1/ATX$22)","v":"0"},null,{"$f":"IF(ATZ19=\"\",\"0\",1/ATZ$22)","v":"0"},null,{"$f":"IF(AUB19=\"\",\"0\",1/AUB$22)","v":"0"},null,{"$f":"IF(AUD19=\"\",\"0\",1/AUD$22)","v":"0"},null,{"$f":"IF(AUF19=\"\",\"0\",1/AUF$22)","v":"0"},null,{"$f":"IF(AUH19=\"\",\"0\",1/AUH$22)","v":"0"},null,{"$f":"IF(AUJ19=\"\",\"0\",1/AUJ$22)","v":"0"},null,{"$f":"IF(AUL19=\"\",\"0\",1/AUL$22)","v":"0"},null,{"$f":"IF(AUN19=\"\",\"0\",1/AUN$22)","v":"0"},null,{"$f":"IF(AUP19=\"\",\"0\",1/AUP$22)","v":"0"},null,{"$f":"IF(AUR19=\"\",\"0\",1/AUR$22)","v":"0"},null,{"$f":"IF(AUT19=\"\",\"0\",1/AUT$22)","v":"0"},null,{"$f":"IF(AUV19=\"\",\"0\",1/AUV$22)","v":"0"},null,{"$f":"IF(AUX19=\"\",\"0\",1/AUX$22)","v":"0"},null,{"$f":"IF(AUZ19=\"\",\"0\",1/AUZ$22)","v":"0"},null,{"$f":"IF(AVB19=\"\",\"0\",1/AVB$22)","v":"0"},null,{"$f":"IF(AVD19=\"\",\"0\",1/AVD$22)","v":"0"},null,{"$f":"IF(AVF19=\"\",\"0\",1/AVF$22)","v":"0"},null,{"$f":"IF(AVH19=\"\",\"0\",1/AVH$22)","v":"0"},null,{"$f":"IF(AVJ19=\"\",\"0\",1/AVJ$22)","v":"0"},null,{"$f":"IF(AVL19=\"\",\"0\",1/AVL$22)","v":"0"},null,{"$f":"IF(AVN19=\"\",\"0\",1/AVN$22)","v":"0"},null,{"$f":"IF(AVP19=\"\",\"0\",1/AVP$22)","v":"0"},null,{"$f":"IF(AVR19=\"\",\"0\",1/AVR$22)","v":"0"},null,{"$f":"IF(AVT19=\"\",\"0\",1/AVT$22)","v":"0"},null,{"$f":"IF(AVV19=\"\",\"0\",1/AVV$22)","v":"0"},null,{"$f":"IF(AVX19=\"\",\"0\",1/AVX$22)","v":"0"},null,{"$f":"IF(AVZ19=\"\",\"0\",1/AVZ$22)","v":"0"},null,{"$f":"IF(AWB19=\"\",\"0\",1/AWB$22)","v":"0"},null,{"$f":"IF(AWD19=\"\",\"0\",1/AWD$22)","v":"0"},null,{"$f":"IF(AWF19=\"\",\"0\",1/AWF$22)","v":"0"},null,{"$f":"IF(AWH19=\"\",\"0\",1/AWH$22)","v":"0"},null,{"$f":"IF(AWJ19=\"\",\"0\",1/AWJ$22)","v":"0"},null,{"$f":"IF(AWL19=\"\",\"0\",1/AWL$22)","v":"0"},null,{"$f":"IF(AWN19=\"\",\"0\",1/AWN$22)","v":"0"},null,{"$f":"IF(AWP19=\"\",\"0\",1/AWP$22)","v":"0"},null,{"$f":"IF(AWR19=\"\",\"0\",1/AWR$22)","v":"0"},null,{"$f":"IF(AWT19=\"\",\"0\",1/AWT$22)","v":"0"},null,{"$f":"IF(AWV19=\"\",\"0\",1/AWV$22)","v":"0"},null,{"$f":"IF(AWX19=\"\",\"0\",1/AWX$22)","v":"0"},null,{"$f":"IF(AWZ19=\"\",\"0\",1/AWZ$22)","v":"0"},null,{"$f":"IF(AXB19=\"\",\"0\",1/AXB$22)","v":"0"},null,{"$f":"IF(AXD19=\"\",\"0\",1/AXD$22)","v":"0"},null,{"$f":"IF(AXF19=\"\",\"0\",1/AXF$22)","v":"0"},null,{"$f":"IF(AXH19=\"\",\"0\",1/AXH$22)","v":"0"},null,{"$f":"IF(AXJ19=\"\",\"0\",1/AXJ$22)","v":"0"},null,{"$f":"IF(AXL19=\"\",\"0\",1/AXL$22)","v":"0"},null,{"$f":"IF(AXN19=\"\",\"0\",1/AXN$22)","v":"0"},null,{"$f":"IF(AXP19=\"\",\"0\",1/AXP$22)","v":"0"},null,{"$f":"IF(AXR19=\"\",\"0\",1/AXR$22)","v":"0"},null,{"$f":"IF(AXT19=\"\",\"0\",1/AXT$22)","v":"0"},null,{"$f":"IF(AXV19=\"\",\"0\",1/AXV$22)","v":"0"},null,{"$f":"IF(AXX19=\"\",\"0\",1/AXX$22)","v":"0"},null,{"$f":"IF(AXZ19=\"\",\"0\",1/AXZ$22)","v":"0"},null,{"$f":"IF(AYB19=\"\",\"0\",1/AYB$22)","v":"0"},null,{"$f":"IF(AYD19=\"\",\"0\",1/AYD$22)","v":"0"},null,{"$f":"IF(AYF19=\"\",\"0\",1/AYF$22)","v":"0"},null,{"$f":"IF(AYH19=\"\",\"0\",1/AYH$22)","v":"0"},null,{"$f":"IF(AYJ19=\"\",\"0\",1/AYJ$22)","v":"0"},null,{"$f":"IF(AYL19=\"\",\"0\",1/AYL$22)","v":"0"},null,{"$f":"IF(AYN19=\"\",\"0\",1/AYN$22)","v":"0"},null,{"$f":"IF(AYP19=\"\",\"0\",1/AYP$22)","v":"0"},null,{"$f":"IF(AYR19=\"\",\"0\",1/AYR$22)","v":"0"},null,{"$f":"IF(AYT19=\"\",\"0\",1/AYT$22)","v":"0"},null,{"$f":"IF(AYV19=\"\",\"0\",1/AYV$22)","v":"0"},null,{"$f":"IF(AYX19=\"\",\"0\",1/AYX$22)","v":"0"},null,{"$f":"IF(AYZ19=\"\",\"0\",1/AYZ$22)","v":"0"},null,{"$f":"IF(AZB19=\"\",\"0\",1/AZB$22)","v":"0"},null,{"$f":"IF(AZD19=\"\",\"0\",1/AZD$22)","v":"0"},null,{"$f":"IF(AZF19=\"\",\"0\",1/AZF$22)","v":"0"},null,{"$f":"IF(AZH19=\"\",\"0\",1/AZH$22)","v":"0"},null,{"$f":"IF(AZJ19=\"\",\"0\",1/AZJ$22)","v":"0"},null,{"$f":"IF(AZL19=\"\",\"0\",1/AZL$22)","v":"0"},null,{"$f":"IF(AZN19=\"\",\"0\",1/AZN$22)","v":"0"},null,{"$f":"IF(AZP19=\"\",\"0\",1/AZP$22)","v":"0"},null,{"$f":"IF(AZR19=\"\",\"0\",1/AZR$22)","v":"0"},null,{"$f":"IF(AZT19=\"\",\"0\",1/AZT$22)","v":"0"},null,{"$f":"IF(AZV19=\"\",\"0\",1/AZV$22)","v":"0"},null,{"$f":"IF(AZX19=\"\",\"0\",1/AZX$22)","v":"0"},null,{"$f":"IF(AZZ19=\"\",\"0\",1/AZZ$22)","v":"0"},null,{"$f":"IF(BAB19=\"\",\"0\",1/BAB$22)","v":"0"},null,{"$f":"IF(BAD19=\"\",\"0\",1/BAD$22)","v":"0"},null,{"$f":"IF(BAF19=\"\",\"0\",1/BAF$22)","v":"0"},null,{"$f":"IF(BAH19=\"\",\"0\",1/BAH$22)","v":"0"},null,{"$f":"IF(BAJ19=\"\",\"0\",1/BAJ$22)","v":"0"},null,{"$f":"IF(BAL19=\"\",\"0\",1/BAL$22)","v":"0"},null,{"$f":"IF(BAN19=\"\",\"0\",1/BAN$22)","v":"0"},null,{"$f":"IF(BAP19=\"\",\"0\",1/BAP$22)","v":"0"},null,{"$f":"IF(BAR19=\"\",\"0\",1/BAR$22)","v":"0"},null,{"$f":"IF(BAT19=\"\",\"0\",1/BAT$22)","v":"0"},null,{"$f":"IF(BAV19=\"\",\"0\",1/BAV$22)","v":"0"},null,{"$f":"IF(BAX19=\"\",\"0\",1/BAX$22)","v":"0"},null,{"$f":"IF(BAZ19=\"\",\"0\",1/BAZ$22)","v":"0"},null,{"$f":"IF(BBB19=\"\",\"0\",1/BBB$22)","v":"0"},null,{"$f":"IF(BBD19=\"\",\"0\",1/BBD$22)","v":"0"},null,{"$f":"IF(BBF19=\"\",\"0\",1/BBF$22)","v":"0"},null,{"$f":"IF(BBH19=\"\",\"0\",1/BBH$22)","v":"0"},null,{"$f":"IF(BBJ19=\"\",\"0\",1/BBJ$22)","v":"0"},null,{"$f":"IF(BBL19=\"\",\"0\",1/BBL$22)","v":"0"},null,{"$f":"IF(BBN19=\"\",\"0\",1/BBN$22)","v":"0"},null,{"$f":"IF(BBP19=\"\",\"0\",1/BBP$22)","v":"0"},null,{"$f":"IF(BBR19=\"\",\"0\",1/BBR$22)","v":"0"},null,{"$f":"IF(BBT19=\"\",\"0\",1/BBT$22)","v":"0"},null,{"$f":"IF(BBV19=\"\",\"0\",1/BBV$22)","v":"0"},null,{"$f":"IF(BBX19=\"\",\"0\",1/BBX$22)","v":"0"},null,{"$f":"IF(BBZ19=\"\",\"0\",1/BBZ$22)","v":"0"},null,{"$f":"IF(BCB19=\"\",\"0\",1/BCB$22)","v":"0"},null,{"$f":"IF(BCD19=\"\",\"0\",1/BCD$22)","v":"0"},null,{"$f":"IF(BCF19=\"\",\"0\",1/BCF$22)","v":"0"},null,{"$f":"IF(BCH19=\"\",\"0\",1/BCH$22)","v":"0"},null,{"$f":"IF(BCJ19=\"\",\"0\",1/BCJ$22)","v":"0"},null,{"$f":"IF(BCL19=\"\",\"0\",1/BCL$22)","v":"0"},null,{"$f":"IF(BCN19=\"\",\"0\",1/BCN$22)","v":"0"},null,{"$f":"IF(BCP19=\"\",\"0\",1/BCP$22)","v":"0"},null,{"$f":"IF(BCR19=\"\",\"0\",1/BCR$22)","v":"0"},null,{"$f":"IF(BCT19=\"\",\"0\",1/BCT$22)","v":"0"},null,{"$f":"IF(BCV19=\"\",\"0\",1/BCV$22)","v":"0"},null,{"$f":"IF(BCX19=\"\",\"0\",1/BCX$22)","v":"0"},null,{"$f":"IF(BCZ19=\"\",\"0\",1/BCZ$22)","v":"0"},null,{"$f":"IF(BDB19=\"\",\"0\",1/BDB$22)","v":"0"},null,{"$f":"IF(BDD19=\"\",\"0\",1/BDD$22)","v":"0"},null,{"$f":"IF(BDF19=\"\",\"0\",1/BDF$22)","v":"0"},null,{"$f":"IF(BDH19=\"\",\"0\",1/BDH$22)","v":"0"},null,{"$f":"IF(BDJ19=\"\",\"0\",1/BDJ$22)","v":"0"},null,{"$f":"IF(BDL19=\"\",\"0\",1/BDL$22)","v":"0"},null,{"$f":"IF(BDN19=\"\",\"0\",1/BDN$22)","v":"0"},null,{"$f":"IF(BDP19=\"\",\"0\",1/BDP$22)","v":"0"},null,{"$f":"IF(BDR19=\"\",\"0\",1/BDR$22)","v":"0"},null,{"$f":"IF(BDT19=\"\",\"0\",1/BDT$22)","v":"0"},null,{"$f":"IF(BDV19=\"\",\"0\",1/BDV$22)","v":"0"},null,{"$f":"IF(BDX19=\"\",\"0\",1/BDX$22)","v":"0"},null,{"$f":"IF(BDZ19=\"\",\"0\",1/BDZ$22)","v":"0"},null,{"$f":"IF(BEB19=\"\",\"0\",1/BEB$22)","v":"0"},null,{"$f":"IF(BED19=\"\",\"0\",1/BED$22)","v":"0"},null,{"$f":"IF(BEF19=\"\",\"0\",1/BEF$22)","v":"0"},null,{"$f":"IF(BEH19=\"\",\"0\",1/BEH$22)","v":"0"},null,{"$f":"IF(BEJ19=\"\",\"0\",1/BEJ$22)","v":"0"},null,{"$f":"IF(BEL19=\"\",\"0\",1/BEL$22)","v":"0"},null,{"$f":"IF(BEN19=\"\",\"0\",1/BEN$22)","v":"0"},null,{"$f":"IF(BEP19=\"\",\"0\",1/BEP$22)","v":"0"},null,{"$f":"IF(BER19=\"\",\"0\",1/BER$22)","v":"0"},null,{"$f":"IF(BET19=\"\",\"0\",1/BET$22)","v":"0"},null,{"$f":"IF(BEV19=\"\",\"0\",1/BEV$22)","v":"0"},null,{"$f":"IF(BEX19=\"\",\"0\",1/BEX$22)","v":"0"},null,{"$f":"IF(BEZ19=\"\",\"0\",1/BEZ$22)","v":"0"},null,{"$f":"IF(BFB19=\"\",\"0\",1/BFB$22)","v":"0"},null,{"$f":"IF(BFD19=\"\",\"0\",1/BFD$22)","v":"0"},null,{"$f":"IF(BFF19=\"\",\"0\",1/BFF$22)","v":"0"},null,{"$f":"IF(BFH19=\"\",\"0\",1/BFH$22)","v":"0"},null,{"$f":"IF(BFJ19=\"\",\"0\",1/BFJ$22)","v":"0"},null,{"$f":"IF(BFL19=\"\",\"0\",1/BFL$22)","v":"0"},null,{"$f":"IF(BFN19=\"\",\"0\",1/BFN$22)","v":"0"},null,{"$f":"IF(BFP19=\"\",\"0\",1/BFP$22)","v":"0"},null,{"$f":"IF(BFR19=\"\",\"0\",1/BFR$22)","v":"0"},null,{"$f":"IF(BFT19=\"\",\"0\",1/BFT$22)","v":"0"},null,{"$f":"IF(BFV19=\"\",\"0\",1/BFV$22)","v":"0"},null,{"$f":"IF(BFX19=\"\",\"0\",1/BFX$22)","v":"0"},null,{"$f":"IF(BFZ19=\"\",\"0\",1/BFZ$22)","v":"0"},null,{"$f":"IF(BGB19=\"\",\"0\",1/BGB$22)","v":"0"},null,{"$f":"IF(BGD19=\"\",\"0\",1/BGD$22)","v":"0"},null,{"$f":"IF(BGF19=\"\",\"0\",1/BGF$22)","v":"0"},null,{"$f":"IF(BGH19=\"\",\"0\",1/BGH$22)","v":"0"},null,{"$f":"IF(BGJ19=\"\",\"0\",1/BGJ$22)","v":"0"},null,{"$f":"IF(BGL19=\"\",\"0\",1/BGL$22)","v":"0"},null,{"$f":"IF(BGN19=\"\",\"0\",1/BGN$22)","v":"0"},null,{"$f":"IF(BGP19=\"\",\"0\",1/BGP$22)","v":"0"},null,{"$f":"IF(BGR19=\"\",\"0\",1/BGR$22)","v":"0"},null,{"$f":"IF(BGT19=\"\",\"0\",1/BGT$22)","v":"0"},null,{"$f":"IF(BGV19=\"\",\"0\",1/BGV$22)","v":"0"},null,{"$f":"IF(BGX19=\"\",\"0\",1/BGX$22)","v":"0"},null,{"$f":"IF(BGZ19=\"\",\"0\",1/BGZ$22)","v":"0"},null,{"$f":"IF(BHB19=\"\",\"0\",1/BHB$22)","v":"0"},null,{"$f":"IF(BHD19=\"\",\"0\",1/BHD$22)","v":"0"},null,{"$f":"IF(BHF19=\"\",\"0\",1/BHF$22)","v":"0"},null,{"$f":"IF(BHH19=\"\",\"0\",1/BHH$22)","v":"0"},null,{"$f":"IF(BHJ19=\"\",\"0\",1/BHJ$22)","v":"0"},null,{"$f":"IF(BHL19=\"\",\"0\",1/BHL$22)","v":"0"},null,{"$f":"IF(BHN19=\"\",\"0\",1/BHN$22)","v":"0"},null,{"$f":"IF(BHP19=\"\",\"0\",1/BHP$22)","v":"0"},null,{"$f":"IF(BHR19=\"\",\"0\",1/BHR$22)","v":"0"},null,{"$f":"IF(BHT19=\"\",\"0\",1/BHT$22)","v":"0"},null,{"$f":"IF(BHV19=\"\",\"0\",1/BHV$22)","v":"0"},null,{"$f":"IF(BHX19=\"\",\"0\",1/BHX$22)","v":"0"},null,{"$f":"IF(BHZ19=\"\",\"0\",1/BHZ$22)","v":"0"},null,{"$f":"IF(BIB19=\"\",\"0\",1/BIB$22)","v":"0"},null,{"$f":"IF(BID19=\"\",\"0\",1/BID$22)","v":"0"},null,{"$f":"IF(BIF19=\"\",\"0\",1/BIF$22)","v":"0"},null,{"$f":"IF(BIH19=\"\",\"0\",1/BIH$22)","v":"0"},null,{"$f":"IF(BIJ19=\"\",\"0\",1/BIJ$22)","v":"0"},null,{"$f":"IF(BIL19=\"\",\"0\",1/BIL$22)","v":"0"},null,{"$f":"IF(BIN19=\"\",\"0\",1/BIN$22)","v":"0"},null,{"$f":"IF(BIP19=\"\",\"0\",1/BIP$22)","v":"0"},null,{"$f":"IF(BIR19=\"\",\"0\",1/BIR$22)","v":"0"},null,{"$f":"IF(BIT19=\"\",\"0\",1/BIT$22)","v":"0"},null,{"$f":"IF(BIV19=\"\",\"0\",1/BIV$22)","v":"0"},null,{"$f":"IF(BIX19=\"\",\"0\",1/BIX$22)","v":"0"},null,{"$f":"IF(BIZ19=\"\",\"0\",1/BIZ$22)","v":"0"},null,{"$f":"IF(BJB19=\"\",\"0\",1/BJB$22)","v":"0"},null,{"$f":"IF(BJD19=\"\",\"0\",1/BJD$22)","v":"0"},null,{"$f":"IF(BJF19=\"\",\"0\",1/BJF$22)","v":"0"},null,{"$f":"IF(BJH19=\"\",\"0\",1/BJH$22)","v":"0"},null,{"$f":"IF(BJJ19=\"\",\"0\",1/BJJ$22)","v":"0"},null,{"$f":"IF(BJL19=\"\",\"0\",1/BJL$22)","v":"0"},null,{"$f":"IF(BJN19=\"\",\"0\",1/BJN$22)","v":"0"},null,{"$f":"IF(BJP19=\"\",\"0\",1/BJP$22)","v":"0"},null,{"$f":"IF(BJR19=\"\",\"0\",1/BJR$22)","v":"0"},null,{"$f":"IF(BJT19=\"\",\"0\",1/BJT$22)","v":"0"},null,{"$f":"IF(BJV19=\"\",\"0\",1/BJV$22)","v":"0"},null,{"$f":"IF(BJX19=\"\",\"0\",1/BJX$22)","v":"0"},null,{"$f":"IF(BJZ19=\"\",\"0\",1/BJZ$22)","v":"0"},null,{"$f":"IF(BKB19=\"\",\"0\",1/BKB$22)","v":"0"},null,{"$f":"IF(BKD19=\"\",\"0\",1/BKD$22)","v":"0"},null,{"$f":"IF(BKF19=\"\",\"0\",1/BKF$22)","v":"0"},null,{"$f":"IF(BKH19=\"\",\"0\",1/BKH$22)","v":"0"},null,{"$f":"IF(BKJ19=\"\",\"0\",1/BKJ$22)","v":"0"},null,{"$f":"IF(BKL19=\"\",\"0\",1/BKL$22)","v":"0"},null,{"$f":"IF(BKN19=\"\",\"0\",1/BKN$22)","v":"0"},null,{"$f":"IF(BKP19=\"\",\"0\",1/BKP$22)","v":"0"},null,{"$f":"IF(BKR19=\"\",\"0\",1/BKR$22)","v":"0"},null,{"$f":"IF(BKT19=\"\",\"0\",1/BKT$22)","v":"0"},null,{"$f":"IF(BKV19=\"\",\"0\",1/BKV$22)","v":"0"},null,{"$f":"IF(BKX19=\"\",\"0\",1/BKX$22)","v":"0"},null,{"$f":"IF(BKZ19=\"\",\"0\",1/BKZ$22)","v":"0"},null,{"$f":"IF(BLB19=\"\",\"0\",1/BLB$22)","v":"0"},null,{"$f":"IF(BLD19=\"\",\"0\",1/BLD$22)","v":"0"},null,{"$f":"IF(BLF19=\"\",\"0\",1/BLF$22)","v":"0"},null,{"$f":"IF(BLH19=\"\",\"0\",1/BLH$22)","v":"0"},null,{"$f":"IF(BLJ19=\"\",\"0\",1/BLJ$22)","v":"0"},null,{"$f":"IF(BLL19=\"\",\"0\",1/BLL$22)","v":"0"},null,{"$f":"IF(BLN19=\"\",\"0\",1/BLN$22)","v":"0"},null,{"$f":"IF(BLP19=\"\",\"0\",1/BLP$22)","v":"0"},null,{"$f":"IF(BLR19=\"\",\"0\",1/BLR$22)","v":"0"},null,{"$f":"IF(BLT19=\"\",\"0\",1/BLT$22)","v":"0"},null,{"$f":"IF(BLV19=\"\",\"0\",1/BLV$22)","v":"0"},null,{"$f":"IF(BLX19=\"\",\"0\",1/BLX$22)","v":"0"},null,{"$f":"IF(BLZ19=\"\",\"0\",1/BLZ$22)","v":"0"},null,{"$f":"IF(BMB19=\"\",\"0\",1/BMB$22)","v":"0"},null,{"$f":"IF(BMD19=\"\",\"0\",1/BMD$22)","v":"0"},null,{"$f":"IF(BMF19=\"\",\"0\",1/BMF$22)","v":"0"},null,{"$f":"IF(BMH19=\"\",\"0\",1/BMH$22)","v":"0"},null,{"$f":"IF(BMJ19=\"\",\"0\",1/BMJ$22)","v":"0"},null,{"$f":"IF(BML19=\"\",\"0\",1/BML$22)","v":"0"},null,{"$f":"IF(BMN19=\"\",\"0\",1/BMN$22)","v":"0"},null,{"$f":"IF(BMP19=\"\",\"0\",1/BMP$22)","v":"0"},null,{"$f":"IF(BMR19=\"\",\"0\",1/BMR$22)","v":"0"},null,{"$f":"IF(BMT19=\"\",\"0\",1/BMT$22)","v":"0"},null,{"$f":"IF(BMV19=\"\",\"0\",1/BMV$22)","v":"0"},null,{"$f":"IF(BMX19=\"\",\"0\",1/BMX$22)","v":"0"},null,{"$f":"IF(BMZ19=\"\",\"0\",1/BMZ$22)","v":"0"},null,{"$f":"IF(BNB19=\"\",\"0\",1/BNB$22)","v":"0"},null,{"$f":"IF(BND19=\"\",\"0\",1/BND$22)","v":"0"},null,{"$f":"IF(BNF19=\"\",\"0\",1/BNF$22)","v":"0"},null,{"$f":"IF(BNH19=\"\",\"0\",1/BNH$22)","v":"0"},null,{"$f":"IF(BNJ19=\"\",\"0\",1/BNJ$22)","v":"0"},null,{"$f":"IF(BNL19=\"\",\"0\",1/BNL$22)","v":"0"},null,{"$f":"IF(BNN19=\"\",\"0\",1/BNN$22)","v":"0"},null,{"$f":"IF(BNP19=\"\",\"0\",1/BNP$22)","v":"0"},null,{"$f":"IF(BNR19=\"\",\"0\",1/BNR$22)","v":"0"},null,{"$f":"IF(BNT19=\"\",\"0\",1/BNT$22)","v":"0"},null,{"$f":"IF(BNV19=\"\",\"0\",1/BNV$22)","v":"0"},null,{"$f":"IF(BNX19=\"\",\"0\",1/BNX$22)","v":"0"},null,{"$f":"IF(BNZ19=\"\",\"0\",1/BNZ$22)","v":"0"},null,{"$f":"IF(BOB19=\"\",\"0\",1/BOB$22)","v":"0"},null,{"$f":"IF(BOD19=\"\",\"0\",1/BOD$22)","v":"0"},null,{"$f":"IF(BOF19=\"\",\"0\",1/BOF$22)","v":"0"},null,{"$f":"IF(BOH19=\"\",\"0\",1/BOH$22)","v":"0"},null,{"$f":"IF(BOJ19=\"\",\"0\",1/BOJ$22)","v":"0"},null,{"$f":"IF(BOL19=\"\",\"0\",1/BOL$22)","v":"0"},null,{"$f":"IF(BON19=\"\",\"0\",1/BON$22)","v":"0"},null,{"$f":"IF(BOP19=\"\",\"0\",1/BOP$22)","v":"0"},null,{"$f":"IF(BOR19=\"\",\"0\",1/BOR$22)","v":"0"},null,{"$f":"IF(BOT19=\"\",\"0\",1/BOT$22)","v":"0"},null,{"$f":"IF(BOV19=\"\",\"0\",1/BOV$22)","v":"0"},null,{"$f":"IF(BOX19=\"\",\"0\",1/BOX$22)","v":"0"},null,{"$f":"IF(BOZ19=\"\",\"0\",1/BOZ$22)","v":"0"},null,{"$f":"IF(BPB19=\"\",\"0\",1/BPB$22)","v":"0"},null,{"$f":"IF(BPD19=\"\",\"0\",1/BPD$22)","v":"0"},null,{"$f":"IF(BPF19=\"\",\"0\",1/BPF$22)","v":"0"},null,{"$f":"IF(BPH19=\"\",\"0\",1/BPH$22)","v":"0"},null,{"$f":"IF(BPJ19=\"\",\"0\",1/BPJ$22)","v":"0"},null,{"$f":"IF(BPL19=\"\",\"0\",1/BPL$22)","v":"0"},null,{"$f":"IF(BPN19=\"\",\"0\",1/BPN$22)","v":"0"},null,{"$f":"IF(BPP19=\"\",\"0\",1/BPP$22)","v":"0"},null,{"$f":"IF(BPR19=\"\",\"0\",1/BPR$22)","v":"0"},null,{"$f":"IF(BPT19=\"\",\"0\",1/BPT$22)","v":"0"},null,{"$f":"IF(BPV19=\"\",\"0\",1/BPV$22)","v":"0"},null,{"$f":"IF(BPX19=\"\",\"0\",1/BPX$22)","v":"0"},null,{"$f":"IF(BPZ19=\"\",\"0\",1/BPZ$22)","v":"0"},null,{"$f":"IF(BQB19=\"\",\"0\",1/BQB$22)","v":"0"},null,{"$f":"IF(BQD19=\"\",\"0\",1/BQD$22)","v":"0"},null,{"$f":"IF(BQF19=\"\",\"0\",1/BQF$22)","v":"0"},null,{"$f":"IF(BQH19=\"\",\"0\",1/BQH$22)","v":"0"},null,{"$f":"IF(BQJ19=\"\",\"0\",1/BQJ$22)","v":"0"},null,{"$f":"IF(BQL19=\"\",\"0\",1/BQL$22)","v":"0"},null,{"$f":"IF(BQN19=\"\",\"0\",1/BQN$22)","v":"0"},null,{"$f":"IF(BQP19=\"\",\"0\",1/BQP$22)","v":"0"},null,{"$f":"IF(BQR19=\"\",\"0\",1/BQR$22)","v":"0"},null,{"$f":"IF(BQT19=\"\",\"0\",1/BQT$22)","v":"0"},null,{"$f":"IF(BQV19=\"\",\"0\",1/BQV$22)","v":"0"},null,{"$f":"IF(BQX19=\"\",\"0\",1/BQX$22)","v":"0"},null,{"$f":"IF(BQZ19=\"\",\"0\",1/BQZ$22)","v":"0"},null,{"$f":"IF(BRB19=\"\",\"0\",1/BRB$22)","v":"0"},null,{"$f":"IF(BRD19=\"\",\"0\",1/BRD$22)","v":"0"},null,{"$f":"IF(BRF19=\"\",\"0\",1/BRF$22)","v":"0"},null,{"$f":"IF(BRH19=\"\",\"0\",1/BRH$22)","v":"0"},null,{"$f":"IF(BRJ19=\"\",\"0\",1/BRJ$22)","v":"0"},null,{"$f":"IF(BRL19=\"\",\"0\",1/BRL$22)","v":"0"},null,{"$f":"IF(BRN19=\"\",\"0\",1/BRN$22)","v":"0"},null,{"$f":"IF(BRP19=\"\",\"0\",1/BRP$22)","v":"0"},null,{"$f":"IF(BRR19=\"\",\"0\",1/BRR$22)","v":"0"},null,{"$f":"IF(BRT19=\"\",\"0\",1/BRT$22)","v":"0"},null,{"$f":"IF(BRV19=\"\",\"0\",1/BRV$22)","v":"0"},null,{"$f":"IF(BRX19=\"\",\"0\",1/BRX$22)","v":"0"},null,{"$f":"IF(BRZ19=\"\",\"0\",1/BRZ$22)","v":"0"},null,{"$f":"IF(BSB19=\"\",\"0\",1/BSB$22)","v":"0"},null,{"$f":"IF(BSD19=\"\",\"0\",1/BSD$22)","v":"0"},null,{"$f":"IF(BSF19=\"\",\"0\",1/BSF$22)","v":"0"},null,{"$f":"IF(BSH19=\"\",\"0\",1/BSH$22)","v":"0"},null,{"$f":"IF(BSJ19=\"\",\"0\",1/BSJ$22)","v":"0"},null,{"$f":"IF(BSL19=\"\",\"0\",1/BSL$22)","v":"0"},null,{"$f":"IF(BSN19=\"\",\"0\",1/BSN$22)","v":"0"},null,{"$f":"IF(BSP19=\"\",\"0\",1/BSP$22)","v":"0"},null,{"$f":"IF(BSR19=\"\",\"0\",1/BSR$22)","v":"0"},null,{"$f":"IF(BST19=\"\",\"0\",1/BST$22)","v":"0"},null,{"$f":"IF(BSV19=\"\",\"0\",1/BSV$22)","v":"0"},null,{"$f":"IF(BSX19=\"\",\"0\",1/BSX$22)","v":"0"},null,{"$f":"IF(BSZ19=\"\",\"0\",1/BSZ$22)","v":"0"},null,{"$f":"IF(BTB19=\"\",\"0\",1/BTB$22)","v":"0"},null,{"$f":"IF(BTD19=\"\",\"0\",1/BTD$22)","v":"0"},null,{"$f":"IF(BTF19=\"\",\"0\",1/BTF$22)","v":"0"},null,{"$f":"IF(BTH19=\"\",\"0\",1/BTH$22)","v":"0"},null,{"$f":"IF(BTJ19=\"\",\"0\",1/BTJ$22)","v":"0"},null,{"$f":"IF(BTL19=\"\",\"0\",1/BTL$22)","v":"0"},null,{"$f":"IF(BTN19=\"\",\"0\",1/BTN$22)","v":"0"},null,{"$f":"IF(BTP19=\"\",\"0\",1/BTP$22)","v":"0"},null,{"$f":"IF(BTR19=\"\",\"0\",1/BTR$22)","v":"0"},null,{"$f":"IF(BTT19=\"\",\"0\",1/BTT$22)","v":"0"},null,{"$f":"IF(BTV19=\"\",\"0\",1/BTV$22)","v":"0"},null,{"$f":"IF(BTX19=\"\",\"0\",1/BTX$22)","v":"0"},null,{"$f":"IF(BTZ19=\"\",\"0\",1/BTZ$22)","v":"0"},null,{"$f":"IF(BUB19=\"\",\"0\",1/BUB$22)","v":"0"},null,{"$f":"IF(BUD19=\"\",\"0\",1/BUD$22)","v":"0"},null,{"$f":"IF(BUF19=\"\",\"0\",1/BUF$22)","v":"0"},null,{"$f":"IF(BUH19=\"\",\"0\",1/BUH$22)","v":"0"},null,{"$f":"IF(BUJ19=\"\",\"0\",1/BUJ$22)","v":"0"},null,{"$f":"IF(BUL19=\"\",\"0\",1/BUL$22)","v":"0"},null,{"$f":"IF(BUN19=\"\",\"0\",1/BUN$22)","v":"0"},null,{"$f":"IF(BUP19=\"\",\"0\",1/BUP$22)","v":"0"},null,{"$f":"IF(BUR19=\"\",\"0\",1/BUR$22)","v":"0"},null,{"$f":"IF(BUT19=\"\",\"0\",1/BUT$22)","v":"0"},null,{"$f":"IF(BUV19=\"\",\"0\",1/BUV$22)","v":"0"},null,{"$f":"IF(BUX19=\"\",\"0\",1/BUX$22)","v":"0"},null,{"$f":"IF(BUZ19=\"\",\"0\",1/BUZ$22)","v":"0"},null,{"$f":"IF(BVB19=\"\",\"0\",1/BVB$22)","v":"0"},null,{"$f":"IF(BVD19=\"\",\"0\",1/BVD$22)","v":"0"},null,{"$f":"IF(BVF19=\"\",\"0\",1/BVF$22)","v":"0"},null,{"$f":"IF(BVH19=\"\",\"0\",1/BVH$22)","v":"0"},null,{"$f":"IF(BVJ19=\"\",\"0\",1/BVJ$22)","v":"0"},null,{"$f":"IF(BVL19=\"\",\"0\",1/BVL$22)","v":"0"},null,{"$f":"IF(BVN19=\"\",\"0\",1/BVN$22)","v":"0"},null,{"$f":"IF(BVP19=\"\",\"0\",1/BVP$22)","v":"0"},null,{"$f":"IF(BVR19=\"\",\"0\",1/BVR$22)","v":"0"},null,{"$f":"IF(BVT19=\"\",\"0\",1/BVT$22)","v":"0"},null,{"$f":"IF(BVV19=\"\",\"0\",1/BVV$22)","v":"0"},null,{"$f":"IF(BVX19=\"\",\"0\",1/BVX$22)","v":"0"},null,{"$f":"IF(BVZ19=\"\",\"0\",1/BVZ$22)","v":"0"},null,{"$f":"IF(BWB19=\"\",\"0\",1/BWB$22)","v":"0"},null,{"$f":"IF(BWD19=\"\",\"0\",1/BWD$22)","v":"0"},null,{"$f":"IF(BWF19=\"\",\"0\",1/BWF$22)","v":"0"},null,{"$f":"IF(BWH19=\"\",\"0\",1/BWH$22)","v":"0"},null,{"$f":"IF(BWJ19=\"\",\"0\",1/BWJ$22)","v":"0"},null,{"$f":"IF(BWL19=\"\",\"0\",1/BWL$22)","v":"0"},null,{"$f":"IF(BWN19=\"\",\"0\",1/BWN$22)","v":"0"},null,{"$f":"IF(BWP19=\"\",\"0\",1/BWP$22)","v":"0"},null,{"$f":"IF(BWR19=\"\",\"0\",1/BWR$22)","v":"0"},null,{"$f":"IF(BWT19=\"\",\"0\",1/BWT$22)","v":"0"},null,{"$f":"IF(BWV19=\"\",\"0\",1/BWV$22)","v":"0"}]
[{"$nulls":5},{"$f":"G6+G8+G10+G12+G14+G16+G18+G20","v":{"v":0,"d":"0%"}},null,{"$f":"I6+I8+I10+I12+I14+I16+I18+I20","v":{"v":0,"d":"0%"}},null,{"$f":"K6+K8+K10+K12+K14+K16+K18+K20","v":{"v":0,"d":"0%"}},null,{"$f":"M6+M8+M10+M12+M14+M16+M18+M20","v":{"v":0,"d":"0%"}},null,{"$f":"O6+O8+O10+O12+O14+O16+O18+O20","v":{"v":0,"d":"0%"}},null,{"$f":"Q6+Q8+Q10+Q12+Q14+Q16+Q18+Q20","v":{"v":0,"d":"0%"}},null,{"$f":"S6+S8+S10+S12+S14+S16+S18+S20","v":{"v":0,"d":"0%"}},null,{"$f":"U6+U8+U10+U12+U14+U16+U18+U20","v":{"v":0,"d":"0%"}},null,{"$f":"W6+W8+W10+W12+W14+W16+W18+W20","v":{"v":0,"d":"0%"}},null,{"$f":"Y6+Y8+Y10+Y12+Y14+Y16+Y18+Y20","v":{"v":0,"d":"0%"}},null,{"$f":"AA6+AA8+AA10+AA12+AA14+AA16+AA18+AA20","v":{"v":0,"d":"0%"}},null,{"$f":"AC6+AC8+AC10+AC12+AC14+AC16+AC18+AC20","v":{"v":0,"d":"0%"}},null,{"$f":"AE6+AE8+AE10+AE12+AE14+AE16+AE18+AE20","v":{"v":0,"d":"0%"}},null,{"$f":"AG6+AG8+AG10+AG12+AG14+AG16+AG18+AG20","v":{"v":0,"d":"0%"}},null,{"$f":"AI6+AI8+AI10+AI12+AI14+AI16+AI18+AI20","v":{"v":0,"d":"0%"}},null,{"$f":"AK6+AK8+AK10+AK12+AK14+AK16+AK18+AK20","v":{"v":0,"d":"0%"}},null,{"$f":"AM6+AM8+AM10+AM12+AM14+AM16+AM18+AM20","v":{"v":0,"d":"0%"}},null,{"$f":"AO6+AO8+AO10+AO12+AO14+AO16+AO18+AO20","v":{"v":0,"d":"0%"}},null,{"$f":"AQ6+AQ8+AQ10+AQ12+AQ14+AQ16+AQ18+AQ20","v":{"v":0,"d":"0%"}},null,{"$f":"AS6+AS8+AS10+AS12+AS14+AS16+AS18+AS20","v":{"v":0,"d":"0%"}},null,{"$f":"AU6+AU8+AU10+AU12+AU14+AU16+AU18+AU20","v":{"v":0,"d":"0%"}},null,{"$f":"AW6+AW8+AW10+AW12+AW14+AW16+AW18+AW20","v":{"v":0,"d":"0%"}},null,{"$f":"AY6+AY8+AY10+AY12+AY14+AY16+AY18+AY20","v":{"v":0,"d":"0%"}},null,{"$f":"BA6+BA8+BA10+BA12+BA14+BA16+BA18+BA20","v":{"v":0,"d":"0%"}},null,{"$f":"BC6+BC8+BC10+BC12+BC14+BC16+BC18+BC20","v":{"v":0,"d":"0%"}},null,{"$f":"BE6+BE8+BE10+BE12+BE14+BE16+BE18+BE20","v":{"v":0,"d":"0%"}},null,{"$f":"BG6+BG8+BG10+BG12+BG14+BG16+BG18+BG20","v":{"v":0,"d":"0%"}},null,{"$f":"BI6+BI8+BI10+BI12+BI14+BI16+BI18+BI20","v":{"v":0,"d":"0%"}},null,{"$f":"BK6+BK8+BK10+BK12+BK14+BK16+BK18+BK20","v":{"v":0,"d":"0%"}},null,{"$f":"BM6+BM8+BM10+BM12+BM14+BM16+BM18+BM20","v":{"v":0,"d":"0%"}},null,{"$f":"BO6+BO8+BO10+BO12+BO14+BO16+BO18+BO20","v":{"v":0,"d":"0%"}},null,{"$f":"BQ6+BQ8+BQ10+BQ12+BQ14+BQ16+BQ18+BQ20","v":{"v":0,"d":"0%"}},null,{"$f":"BS6+BS8+BS10+BS12+BS14+BS16+BS18+BS20","v":{"v":0,"d":"0%"}},null,{"$f":"BU6+BU8+BU10+BU12+BU14+BU16+BU18+BU20","v":{"v":0,"d":"0%"}},null,{"$f":"BW6+BW8+BW10+BW12+BW14+BW16+BW18+BW20","v":{"v":0,"d":"0%"}},null,{"$f":"BY6+BY8+BY10+BY12+BY14+BY16+BY18+BY20","v":{"v":0,"d":"0%"}},null,{"$f":"CA6+CA8+CA10+CA12+CA14+CA16+CA18+CA20","v":{"v":0,"d":"0%"}},null,{"$f":"CC6+CC8+CC10+CC12+CC14+CC16+CC18+CC20","v":{"v":0,"d":"0%"}},null,{"$f":"CE6+CE8+CE10+CE12+CE14+CE16+CE18+CE20","v":{"v":0,"d":"0%"}},null,{"$f":"CG6+CG8+CG10+CG12+CG14+CG16+CG18+CG20","v":{"v":0,"d":"0%"}},null,{"$f":"CI6+CI8+CI10+CI12+CI14+CI16+CI18+CI20","v":{"v":0,"d":"0%"}},null,{"$f":"CK6+CK8+CK10+CK12+CK14+CK16+CK18+CK20","v":{"v":0,"d":"0%"}},null,{"$f":"CM6+CM8+CM10+CM12+CM14+CM16+CM18+CM20","v":{"v":0,"d":"0%"}},null,{"$f":"CO6+CO8+CO10+CO12+CO14+CO16+CO18+CO20","v":{"v":0,"d":"0%"}},null,{"$f":"CQ6+CQ8+CQ10+CQ12+CQ14+CQ16+CQ18+CQ20","v":{"v":0,"d":"0%"}},null,{"$f":"CS6+CS8+CS10+CS12+CS14+CS16+CS18+CS20","v":{"v":0,"d":"0%"}},null,{"$f":"CU6+CU8+CU10+CU12+CU14+CU16+CU18+CU20","v":{"v":0,"d":"0%"}},null,{"$f":"CW6+CW8+CW10+CW12+CW14+CW16+CW18+CW20","v":{"v":0,"d":"0%"}},null,{"$f":"CY6+CY8+CY10+CY12+CY14+CY16+CY18+CY20","v":{"v":0,"d":"0%"}},null,{"$f":"DA6+DA8+DA10+DA12+DA14+DA16+DA18+DA20","v":{"v":0,"d":"0%"}},null,{"$f":"DC6+DC8+DC10+DC12+DC14+DC16+DC18+DC20","v":{"v":0,"d":"0%"}},null,{"$f":"DE6+DE8+DE10+DE12+DE14+DE16+DE18+DE20","v":{"v":0,"d":"0%"}},null,{"$f":"DG6+DG8+DG10+DG12+DG14+DG16+DG18+DG20","v":{"v":0,"d":"0%"}},null,{"$f":"DI6+DI8+DI10+DI12+DI14+DI16+DI18+DI20","v":{"v":0,"d":"0%"}},null,{"$f":"DK6+DK8+DK10+DK12+DK14+DK16+DK18+DK20","v":{"v":0,"d":"0%"}},null,{"$f":"DM6+DM8+DM10+DM12+DM14+DM16+DM18+DM20","v":{"v":0,"d":"0%"}},null,{"$f":"DO6+DO8+DO10+DO12+DO14+DO16+DO18+DO20","v":{"v":0,"d":"0%"}},null,{"$f":"DQ6+DQ8+DQ10+DQ12+DQ14+DQ16+DQ18+DQ20","v":{"v":0,"d":"0%"}},null,{"$f":"DS6+DS8+DS10+DS12+DS14+DS16+DS18+DS20","v":{"v":0,"d":"0%"}},null,{"$f":"DU6+DU8+DU10+DU12+DU14+DU16+DU18+DU20","v":{"v":0,"d":"0%"}},null,{"$f":"DW6+DW8+DW10+DW12+DW14+DW16+DW18+DW20","v":{"v":0,"d":"0%"}},null,{"$f":"DY6+DY8+DY10+DY12+DY14+DY16+DY18+DY20","v":{"v":0,"d":"0%"}},null,{"$f":"EA6+EA8+EA10+EA12+EA14+EA16+EA18+EA20","v":{"v":0,"d":"0%"}},null,{"$f":"EC6+EC8+EC10+EC12+EC14+EC16+EC18+EC20","v":{"v":0,"d":"0%"}},null,{"$f":"EE6+EE8+EE10+EE12+EE14+EE16+EE18+EE20","v":{"v":0,"d":"0%"}},null,{"$f":"EG6+EG8+EG10+EG12+EG14+EG16+EG18+EG20","v":{"v":0,"d":"0%"}},null,{"$f":"EI6+EI8+EI10+EI12+EI14+EI16+EI18+EI20","v":{"v":0,"d":"0%"}},null,{"$f":"EK6+EK8+EK10+EK12+EK14+EK16+EK18+EK20","v":{"v":0,"d":"0%"}},null,{"$f":"EM6+EM8+EM10+EM12+EM14+EM16+EM18+EM20","v":{"v":0,"d":"0%"}},null,{"$f":"EO6+EO8+EO10+EO12+EO14+EO16+EO18+EO20","v":{"v":0,"d":"0%"}},null,{"$f":"EQ6+EQ8+EQ10+EQ12+EQ14+EQ16+EQ18+EQ20","v":{"v":0,"d":"0%"}},null,{"$f":"ES6+ES8+ES10+ES12+ES14+ES16+ES18+ES20","v":{"v":0,"d":"0%"}},null,{"$f":"EU6+EU8+EU10+EU12+EU14+EU16+EU18+EU20","v":{"v":0,"d":"0%"}},null,{"$f":"EW6+EW8+EW10+EW12+EW14+EW16+EW18+EW20","v":{"v":0,"d":"0%"}},null,{"$f":"EY6+EY8+EY10+EY12+EY14+EY16+EY18+EY20","v":{"v":0,"d":"0%"}},null,{"$f":"FA6+FA8+FA10+FA12+FA14+FA16+FA18+FA20","v":{"v":0,"d":"0%"}},null,{"$f":"FC6+FC8+FC10+FC12+FC14+FC16+FC18+FC20","v":{"v":0,"d":"0%"}},null,{"$f":"FE6+FE8+FE10+FE12+FE14+FE16+FE18+FE20","v":{"v":0,"d":"0%"}},null,{"$f":"FG6+FG8+FG10+FG12+FG14+FG16+FG18+FG20","v":{"v":0,"d":"0%"}},null,{"$f":"FI6+FI8+FI10+FI12+FI14+FI16+FI18+FI20","v":{"v":0,"d":"0%"}},null,{"$f":"FK6+FK8+FK10+FK12+FK14+FK16+FK18+FK20","v":{"v":0,"d":"0%"}},null,{"$f":"FM6+FM8+FM10+FM12+FM14+FM16+FM18+FM20","v":{"v":0,"d":"0%"}},null,{"$f":"FO6+FO8+FO10+FO12+FO14+FO16+FO18+FO20","v":{"v":0,"d":"0%"}},null,{"$f":"FQ6+FQ8+FQ10+FQ12+FQ14+FQ16+FQ18+FQ20","v":{"v":0,"d":"0%"}},null,{"$f":"FS6+FS8+FS10+FS12+FS14+FS16+FS18+FS20","v":{"v":0,"d":"0%"}},null,{"$f":"FU6+FU8+FU10+FU12+FU14+FU16+FU18+FU20","v":{"v":0,"d":"0%"}},null,{"$f":"FW6+FW8+FW10+FW12+FW14+FW16+FW18+FW20","v":{"v":0,"d":"0%"}},null,{"$f":"FY6+FY8+FY10+FY12+FY14+FY16+FY18+FY20","v":{"v":0,"d":"0%"}},null,{"$f":"GA6+GA8+GA10+GA12+GA14+GA16+GA18+GA20","v":{"v":0,"d":"0%"}},null,{"$f":"GC6+GC8+GC10+GC12+GC14+GC16+GC18+GC20","v":{"v":0,"d":"0%"}},null,{"$f":"GE6+GE8+GE10+GE12+GE14+GE16+GE18+GE20","v":{"v":0,"d":"0%"}},null,{"$f":"GG6+GG8+GG10+GG12+GG14+GG16+GG18+GG20","v":{"v":0,"d":"0%"}},null,{"$f":"GI6+GI8+GI10+GI12+GI14+GI16+GI18+GI20","v":{"v":0,"d":"0%"}},null,{"$f":"GK6+GK8+GK10+GK12+GK14+GK16+GK18+GK20","v":{"v":0,"d":"0%"}},null,{"$f":"GM6+GM8+GM10+GM12+GM14+GM16+GM18+GM20","v":{"v":0,"d":"0%"}},null,{"$f":"GO6+GO8+GO10+GO12+GO14+GO16+GO18+GO20","v":{"v":0,"d":"0%"}},null,{"$f":"GQ6+GQ8+GQ10+GQ12+GQ14+GQ16+GQ18+GQ20","v":{"v":0,"d":"0%"}},null,{"$f":"GS6+GS8+GS10+GS12+GS14+GS16+GS18+GS20","v":{"v":0,"d":"0%"}},null,{"$f":"GU6+GU8+GU10+GU12+GU14+GU16+GU18+GU20","v":{"v":0,"d":"0%"}},null,{"$f":"GW6+GW8+GW10+GW12+GW14+GW16+GW18+GW20","v":{"v":0,"d":"0%"}},null,{"$f":"GY6+GY8+GY10+GY12+GY14+GY16+GY18+GY20","v":{"v":0,"d":"0%"}},null,{"$f":"HA6+HA8+HA10+HA12+HA14+HA16+HA18+HA20","v":{"v":0,"d":"0%"}},null,{"$f":"HC6+HC8+HC10+HC12+HC14+HC16+HC18+HC20","v":{"v":0,"d":"0%"}},null,{"$f":"HE6+HE8+HE10+HE12+HE14+HE16+HE18+HE20","v":{"v":0,"d":"0%"}},null,{"$f":"HG6+HG8+HG10+HG12+HG14+HG16+HG18+HG20","v":{"v":0,"d":"0%"}},null,{"$f":"HI6+HI8+HI10+HI12+HI14+HI16+HI18+HI20","v":{"v":0,"d":"0%"}},null,{"$f":"HK6+HK8+HK10+HK12+HK14+HK16+HK18+HK20","v":{"v":0,"d":"0%"}},null,{"$f":"HM6+HM8+HM10+HM12+HM14+HM16+HM18+HM20","v":{"v":0,"d":"0%"}},null,{"$f":"HO6+HO8+HO10+HO12+HO14+HO16+HO18+HO20","v":{"v":0,"d":"0%"}},null,{"$f":"HQ6+HQ8+HQ10+HQ12+HQ14+HQ16+HQ18+HQ20","v":{"v":0,"d":"0%"}},null,{"$f":"HS6+HS8+HS10+HS12+HS14+HS16+HS18+HS20","v":{"v":0,"d":"0%"}},null,{"$f":"HU6+HU8+HU10+HU12+HU14+HU16+HU18+HU20","v":{"v":0,"d":"0%"}},null,{"$f":"HW6+HW8+HW10+HW12+HW14+HW16+HW18+HW20","v":{"v":0,"d":"0%"}},null,{"$f":"HY6+HY8+HY10+HY12+HY14+HY16+HY18+HY20","v":{"v":0,"d":"0%"}},null,{"$f":"IA6+IA8+IA10+IA12+IA14+IA16+IA18+IA20","v":{"v":0,"d":"0%"}},null,{"$f":"IC6+IC8+IC10+IC12+IC14+IC16+IC18+IC20","v":{"v":0,"d":"0%"}},null,{"$f":"IE6+IE8+IE10+IE12+IE14+IE16+IE18+IE20","v":{"v":0,"d":"0%"}},null,{"$f":"IG6+IG8+IG10+IG12+IG14+IG16+IG18+IG20","v":{"v":0,"d":"0%"}},null,{"$f":"II6+II8+II10+II12+II14+II16+II18+II20","v":{"v":0,"d":"0%"}},null,{"$f":"IK6+IK8+IK10+IK12+IK14+IK16+IK18+IK20","v":{"v":0,"d":"0%"}},null,{"$f":"IM6+IM8+IM10+IM12+IM14+IM16+IM18+IM20","v":{"v":0,"d":"0%"}},null,{"$f":"IO6+IO8+IO10+IO12+IO14+IO16+IO18+IO20","v":{"v":0,"d":"0%"}},null,{"$f":"IQ6+IQ8+IQ10+IQ12+IQ14+IQ16+IQ18+IQ20","v":{"v":0,"d":"0%"}},null,{"$f":"IS6+IS8+IS10+IS12+IS14+IS16+IS18+IS20","v":{"v":0,"d":"0%"}},null,{"$f":"IU6+IU8+IU10+IU12+IU14+IU16+IU18+IU20","v":{"v":0,"d":"0%"}},null,{"$f":"IW6+IW8+IW10+IW12+IW14+IW16+IW18+IW20","v":{"v":0,"d":"0%"}},null,{"$f":"IY6+IY8+IY10+IY12+IY14+IY16+IY18+IY20","v":{"v":0,"d":"0%"}},null,{"$f":"JA6+JA8+JA10+JA12+JA14+JA16+JA18+JA20","v":{"v":0,"d":"0%"}},null,{"$f":"JC6+JC8+JC10+JC12+JC14+JC16+JC18+JC20","v":{"v":0,"d":"0%"}},null,{"$f":"JE6+JE8+JE10+JE12+JE14+JE16+JE18+JE20","v":{"v":0,"d":"0%"}},null,{"$f":"JG6+JG8+JG10+JG12+JG14+JG16+JG18+JG20","v":{"v":0,"d":"0%"}},null,{"$f":"JI6+JI8+JI10+JI12+JI14+JI16+JI18+JI20","v":{"v":0,"d":"0%"}},null,{"$f":"JK6+JK8+JK10+JK12+JK14+JK16+JK18+JK20","v":{"v":0,"d":"0%"}},null,{"$f":"JM6+JM8+JM10+JM12+JM14+JM16+JM18+JM20","v":{"v":0,"d":"0%"}},null,{"$f":"JO6+JO8+JO10+JO12+JO14+JO16+JO18+JO20","v":{"v":0,"d":"0%"}},null,{"$f":"JQ6+JQ8+JQ10+JQ12+JQ14+JQ16+JQ18+JQ20","v":{"v":0,"d":"0%"}},null,{"$f":"JS6+JS8+JS10+JS12+JS14+JS16+JS18+JS20","v":{"v":0,"d":"0%"}},null,{"$f":"JU6+JU8+JU10+JU12+JU14+JU16+JU18+JU20","v":{"v":0,"d":"0%"}},null,{"$f":"JW6+JW8+JW10+JW12+JW14+JW16+JW18+JW20","v":{"v":0,"d":"0%"}},null,{"$f":"JY6+JY8+JY10+JY12+JY14+JY16+JY18+JY20","v":{"v":0,"d":"0%"}},null,{"$f":"KA6+KA8+KA10+KA12+KA14+KA16+KA18+KA20","v":{"v":0,"d":"0%"}},null,{"$f":"KC6+KC8+KC10+KC12+KC14+KC16+KC18+KC20","v":{"v":0,"d":"0%"}},null,{"$f":"KE6+KE8+KE10+KE12+KE14+KE16+KE18+KE20","v":{"v":0,"d":"0%"}},null,{"$f":"KG6+KG8+KG10+KG12+KG14+KG16+KG18+KG20","v":{"v":0,"d":"0%"}},null,{"$f":"KI6+KI8+KI10+KI12+KI14+KI16+KI18+KI20","v":{"v":0,"d":"0%"}},null,{"$f":"KK6+KK8+KK10+KK12+KK14+KK16+KK18+KK20","v":{"v":0,"d":"0%"}},null,{"$f":"KM6+KM8+KM10+KM12+KM14+KM16+KM18+KM20","v":{"v":0,"d":"0%"}},null,{"$f":"KO6+KO8+KO10+KO12+KO14+KO16+KO18+KO20","v":{"v":0,"d":"0%"}},null,{"$f":"KQ6+KQ8+KQ10+KQ12+KQ14+KQ16+KQ18+KQ20","v":{"v":0,"d":"0%"}},null,{"$f":"KS6+KS8+KS10+KS12+KS14+KS16+KS18+KS20","v":{"v":0,"d":"0%"}},null,{"$f":"KU6+KU8+KU10+KU12+KU14+KU16+KU18+KU20","v":{"v":0,"d":"0%"}},null,{"$f":"KW6+KW8+KW10+KW12+KW14+KW16+KW18+KW20","v":{"v":0,"d":"0%"}},null,{"$f":"KY6+KY8+KY10+KY12+KY14+KY16+KY18+KY20","v":{"v":0,"d":"0%"}},null,{"$f":"LA6+LA8+LA10+LA12+LA14+LA16+LA18+LA20","v":{"v":0,"d":"0%"}},null,{"$f":"LC6+LC8+LC10+LC12+LC14+LC16+LC18+LC20","v":{"v":0,"d":"0%"}},null,{"$f":"LE6+LE8+LE10+LE12+LE14+LE16+LE18+LE20","v":{"v":0,"d":"0%"}},null,{"$f":"LG6+LG8+LG10+LG12+LG14+LG16+LG18+LG20","v":{"v":0,"d":"0%"}},null,{"$f":"LI6+LI8+LI10+LI12+LI14+LI16+LI18+LI20","v":{"v":0,"d":"0%"}},null,{"$f":"LK6+LK8+LK10+LK12+LK14+LK16+LK18+LK20","v":{"v":0,"d":"0%"}},null,{"$f":"LM6+LM8+LM10+LM12+LM14+LM16+LM18+LM20","v":{"v":0,"d":"0%"}},null,{"$f":"LO6+LO8+LO10+LO12+LO14+LO16+LO18+LO20","v":{"v":0,"d":"0%"}},null,{"$f":"LQ6+LQ8+LQ10+LQ12+LQ14+LQ16+LQ18+LQ20","v":{"v":0,"d":"0%"}},null,{"$f":"LS6+LS8+LS10+LS12+LS14+LS16+LS18+LS20","v":{"v":0,"d":"0%"}},null,{"$f":"LU6+LU8+LU10+LU12+LU14+LU16+LU18+LU20","v":{"v":0,"d":"0%"}},null,{"$f":"LW6+LW8+LW10+LW12+LW14+LW16+LW18+LW20","v":{"v":0,"d":"0%"}},null,{"$f":"LY6+LY8+LY10+LY12+LY14+LY16+LY18+LY20","v":{"v":0,"d":"0%"}},null,{"$f":"MA6+MA8+MA10+MA12+MA14+MA16+MA18+MA20","v":{"v":0,"d":"0%"}},null,{"$f":"MC6+MC8+MC10+MC12+MC14+MC16+MC18+MC20","v":{"v":0,"d":"0%"}},null,{"$f":"ME6+ME8+ME10+ME12+ME14+ME16+ME18+ME20","v":{"v":0,"d":"0%"}},null,{"$f":"MG6+MG8+MG10+MG12+MG14+MG16+MG18+MG20","v":{"v":0,"d":"0%"}},null,{"$f":"MI6+MI8+MI10+MI12+MI14+MI16+MI18+MI20","v":{"v":0,"d":"0%"}},null,{"$f":"MK6+MK8+MK10+MK12+MK14+MK16+MK18+MK20","v":{"v":0,"d":"0%"}},null,{"$f":"MM6+MM8+MM10+MM12+MM14+MM16+MM18+MM20","v":{"v":0,"d":"0%"}},null,{"$f":"MO6+MO8+MO10+MO12+MO14+MO16+MO18+MO20","v":{"v":0,"d":"0%"}},null,{"$f":"MQ6+MQ8+MQ10+MQ12+MQ14+MQ16+MQ18+MQ20","v":{"v":0,"d":"0%"}},null,{"$f":"MS6+MS8+MS10+MS12+MS14+MS16+MS18+MS20","v":{"v":0,"d":"0%"}},null,{"$f":"MU6+MU8+MU10+MU12+MU14+MU16+MU18+MU20","v":{"v":0,"d":"0%"}},null,{"$f":"MW6+MW8+MW10+MW12+MW14+MW16+MW18+MW20","v":{"v":0,"d":"0%"}},null,{"$f":"MY6+MY8+MY10+MY12+MY14+MY16+MY18+MY20","v":{"v":0,"d":"0%"}},null,{"$f":"NA6+NA8+NA10+NA12+NA14+NA16+NA18+NA20","v":{"v":0,"d":"0%"}},null,{"$f":"NC6+NC8+NC10+NC12+NC14+NC16+NC18+NC20","v":{"v":0,"d":"0%"}},null,{"$f":"NE6+NE8+NE10+NE12+NE14+NE16+NE18+NE20","v":{"v":0,"d":"0%"}},null,{"$f":"NG6+NG8+NG10+NG12+NG14+NG16+NG18+NG20","v":{"v":0,"d":"0%"}},null,{"$f":"NI6+NI8+NI10+NI12+NI14+NI16+NI18+NI20","v":{"v":0,"d":"0%"}},null,{"$f":"NK6+NK8+NK10+NK12+NK14+NK16+NK18+NK20","v":{"v":0,"d":"0%"}},null,{"$f":"NM6+NM8+NM10+NM12+NM14+NM16+NM18+NM20","v":{"v":0,"d":"0%"}},null,{"$f":"NO6+NO8+NO10+NO12+NO14+NO16+NO18+NO20","v":{"v":0,"d":"0%"}},null,{"$f":"NQ6+NQ8+NQ10+NQ12+NQ14+NQ16+NQ18+NQ20","v":{"v":0,"d":"0%"}},null,{"$f":"NS6+NS8+NS10+NS12+NS14+NS16+NS18+NS20","v":{"v":0,"d":"0%"}},null,{"$f":"NU6+NU8+NU10+NU12+NU14+NU16+NU18+NU20","v":{"v":0,"d":"0%"}},null,{"$f":"NW6+NW8+NW10+NW12+NW14+NW16+NW18+NW20","v":{"v":0,"d":"0%"}},null,{"$f":"NY6+NY8+NY10+NY12+NY14+NY16+NY18+NY20","v":{"v":0,"d":"0%"}},null,{"$f":"OA6+OA8+OA10+OA12+OA14+OA16+OA18+OA20","v":{"v":0,"d":"0%"}},null,{"$f":"OC6+OC8+OC10+OC12+OC14+OC16+OC18+OC20","v":{"v":0,"d":"0%"}},null,{"$f":"OE6+OE8+OE10+OE12+OE14+OE16+OE18+OE20","v":{"v":0,"d":"0%"}},null,{"$f":"OG6+OG8+OG10+OG12+OG14+OG16+OG18+OG20","v":{"v":0,"d":"0%"}},null,{"$f":"OI6+OI8+OI10+OI12+OI14+OI16+OI18+OI20","v":{"v":0,"d":"0%"}},null,{"$f":"OK6+OK8+OK10+OK12+OK14+OK16+OK18+OK20","v":{"v":0,"d":"0%"}},null,{"$f":"OM6+OM8+OM10+OM12+OM14+OM16+OM18+OM20","v":{"v":0,"d":"0%"}},null,{"$f":"OO6+OO8+OO10+OO12+OO14+OO16+OO18+OO20","v":{"v":0,"d":"0%"}},null,{"$f":"OQ6+OQ8+OQ10+OQ12+OQ14+OQ16+OQ18+OQ20","v":{"v":0,"d":"0%"}},null,{"$f":"OS6+OS8+OS10+OS12+OS14+OS16+OS18+OS20","v":{"v":0,"d":"0%"}},null,{"$f":"OU6+OU8+OU10+OU12+OU14+OU16+OU18+OU20","v":{"v":0,"d":"0%"}},null,{"$f":"OW6+OW8+OW10+OW12+OW14+OW16+OW18+OW20","v":{"v":0,"d":"0%"}},null,{"$f":"OY6+OY8+OY10+OY12+OY14+OY16+OY18+OY20","v":{"v":0,"d":"0%"}},null,{"$f":"PA6+PA8+PA10+PA12+PA14+PA16+PA18+PA20","v":{"v":0,"d":"0%"}},null,{"$f":"PC6+PC8+PC10+PC12+PC14+PC16+PC18+PC20","v":{"v":0,"d":"0%"}},null,{"$f":"PE6+PE8+PE10+PE12+PE14+PE16+PE18+PE20","v":{"v":0,"d":"0%"}},null,{"$f":"PG6+PG8+PG10+PG12+PG14+PG16+PG18+PG20","v":{"v":0,"d":"0%"}},null,{"$f":"PI6+PI8+PI10+PI12+PI14+PI16+PI18+PI20","v":{"v":0,"d":"0%"}},null,{"$f":"PK6+PK8+PK10+PK12+PK14+PK16+PK18+PK20","v":{"v":0,"d":"0%"}},null,{"$f":"PM6+PM8+PM10+PM12+PM14+PM16+PM18+PM20","v":{"v":0,"d":"0%"}},null,{"$f":"PO6+PO8+PO10+PO12+PO14+PO16+PO18+PO20","v":{"v":0,"d":"0%"}},null,{"$f":"PQ6+PQ8+PQ10+PQ12+PQ14+PQ16+PQ18+PQ20","v":{"v":0,"d":"0%"}},null,{"$f":"PS6+PS8+PS10+PS12+PS14+PS16+PS18+PS20","v":{"v":0,"d":"0%"}},null,{"$f":"PU6+PU8+PU10+PU12+PU14+PU16+PU18+PU20","v":{"v":0,"d":"0%"}},null,{"$f":"PW6+PW8+PW10+PW12+PW14+PW16+PW18+PW20","v":{"v":0,"d":"0%"}},null,{"$f":"PY6+PY8+PY10+PY12+PY14+PY16+PY18+PY20","v":{"v":0,"d":"0%"}},null,{"$f":"QA6+QA8+QA10+QA12+QA14+QA16+QA18+QA20","v":{"v":0,"d":"0%"}},null,{"$f":"QC6+QC8+QC10+QC12+QC14+QC16+QC18+QC20","v":{"v":0,"d":"0%"}},null,{"$f":"QE6+QE8+QE10+QE12+QE14+QE16+QE18+QE20","v":{"v":0,"d":"0%"}},null,{"$f":"QG6+QG8+QG10+QG12+QG14+QG16+QG18+QG20","v":{"v":0,"d":"0%"}},null,{"$f":"QI6+QI8+QI10+QI12+QI14+QI16+QI18+QI20","v":{"v":0,"d":"0%"}},null,{"$f":"QK6+QK8+QK10+QK12+QK14+QK16+QK18+QK20","v":{"v":0,"d":"0%"}},null,{"$f":"QM6+QM8+QM10+QM12+QM14+QM16+QM18+QM20","v":{"v":0,"d":"0%"}},null,{"$f":"QO6+QO8+QO10+QO12+QO14+QO16+QO18+QO20","v":{"v":0,"d":"0%"}},null,{"$f":"QQ6+QQ8+QQ10+QQ12+QQ14+QQ16+QQ18+QQ20","v":{"v":0,"d":"0%"}},null,{"$f":"QS6+QS8+QS10+QS12+QS14+QS16+QS18+QS20","v":{"v":0,"d":"0%"}},null,{"$f":"QU6+QU8+QU10+QU12+QU14+QU16+QU18+QU20","v":{"v":0,"d":"0%"}},null,{"$f":"QW6+QW8+QW10+QW12+QW14+QW16+QW18+QW20","v":{"v":0,"d":"0%"}},null,{"$f":"QY6+QY8+QY10+QY12+QY14+QY16+QY18+QY20","v":{"v":0,"d":"0%"}},null,{"$f":"RA6+RA8+RA10+RA12+RA14+RA16+RA18+RA20","v":{"v":0,"d":"0%"}},null,{"$f":"RC6+RC8+RC10+RC12+RC14+RC16+RC18+RC20","v":{"v":0,"d":"0%"}},null,{"$f":"RE6+RE8+RE10+RE12+RE14+RE16+RE18+RE20","v":{"v":0,"d":"0%"}},null,{"$f":"RG6+RG8+RG10+RG12+RG14+RG16+RG18+RG20","v":{"v":0,"d":"0%"}},null,{"$f":"RI6+RI8+RI10+RI12+RI14+RI16+RI18+RI20","v":{"v":0,"d":"0%"}},null,{"$f":"RK6+RK8+RK10+RK12+RK14+RK16+RK18+RK20","v":{"v":0,"d":"0%"}},null,{"$f":"RM6+RM8+RM10+RM12+RM14+RM16+RM18+RM20","v":{"v":0,"d":"0%"}},null,{"$f":"RO6+RO8+RO10+RO12+RO14+RO16+RO18+RO20","v":{"v":0,"d":"0%"}},null,{"$f":"RQ6+RQ8+RQ10+RQ12+RQ14+RQ16+RQ18+RQ20","v":{"v":0,"d":"0%"}},null,{"$f":"RS6+RS8+RS10+RS12+RS14+RS16+RS18+RS20","v":{"v":0,"d":"0%"}},null,{"$f":"RU6+RU8+RU10+RU12+RU14+RU16+RU18+RU20","v":{"v":0,"d":"0%"}},null,{"$f":"RW6+RW8+RW10+RW12+RW14+RW16+RW18+RW20","v":{"v":0,"d":"0%"}},null,{"$f":"RY6+RY8+RY10+RY12+RY14+RY16+RY18+RY20","v":{"v":0,"d":"0%"}},null,{"$f":"SA6+SA8+SA10+SA12+SA14+SA16+SA18+SA20","v":{"v":0,"d":"0%"}},null,{"$f":"SC6+SC8+SC10+SC12+SC14+SC16+SC18+SC20","v":{"v":0,"d":"0%"}},null,{"$f":"SE6+SE8+SE10+SE12+SE14+SE16+SE18+SE20","v":{"v":0,"d":"0%"}},null,{"$f":"SG6+SG8+SG10+SG12+SG14+SG16+SG18+SG20","v":{"v":0,"d":"0%"}},null,{"$f":"SI6+SI8+SI10+SI12+SI14+SI16+SI18+SI20","v":{"v":0,"d":"0%"}},null,{"$f":"SK6+SK8+SK10+SK12+SK14+SK16+SK18+SK20","v":{"v":0,"d":"0%"}},null,{"$f":"SM6+SM8+SM10+SM12+SM14+SM16+SM18+SM20","v":{"v":0,"d":"0%"}},null,{"$f":"SO6+SO8+SO10+SO12+SO14+SO16+SO18+SO20","v":{"v":0,"d":"0%"}},null,{"$f":"SQ6+SQ8+SQ10+SQ12+SQ14+SQ16+SQ18+SQ20","v":{"v":0,"d":"0%"}},null,{"$f":"SS6+SS8+SS10+SS12+SS14+SS16+SS18+SS20","v":{"v":0,"d":"0%"}},null,{"$f":"SU6+SU8+SU10+SU12+SU14+SU16+SU18+SU20","v":{"v":0,"d":"0%"}},null,{"$f":"SW6+SW8+SW10+SW12+SW14+SW16+SW18+SW20","v":{"v":0,"d":"0%"}},null,{"$f":"SY6+SY8+SY10+SY12+SY14+SY16+SY18+SY20","v":{"v":0,"d":"0%"}},null,{"$f":"TA6+TA8+TA10+TA12+TA14+TA16+TA18+TA20","v":{"v":0,"d":"0%"}},null,{"$f":"TC6+TC8+TC10+TC12+TC14+TC16+TC18+TC20","v":{"v":0,"d":"0%"}},null,{"$f":"TE6+TE8+TE10+TE12+TE14+TE16+TE18+TE20","v":{"v":0,"d":"0%"}},null,{"$f":"TG6+TG8+TG10+TG12+TG14+TG16+TG18+TG20","v":{"v":0,"d":"0%"}},null,{"$f":"TI6+TI8+TI10+TI12+TI14+TI16+TI18+TI20","v":{"v":0,"d":"0%"}},null,{"$f":"TK6+TK8+TK10+TK12+TK14+TK16+TK18+TK20","v":{"v":0,"d":"0%"}},null,{"$f":"TM6+TM8+TM10+TM12+TM14+TM16+TM18+TM20","v":{"v":0,"d":"0%"}},null,{"$f":"TO6+TO8+TO10+TO12+TO14+TO16+TO18+TO20","v":{"v":0,"d":"0%"}},null,{"$f":"TQ6+TQ8+TQ10+TQ12+TQ14+TQ16+TQ18+TQ20","v":{"v":0,"d":"0%"}},null,{"$f":"TS6+TS8+TS10+TS12+TS14+TS16+TS18+TS20","v":{"v":0,"d":"0%"}},null,{"$f":"TU6+TU8+TU10+TU12+TU14+TU16+TU18+TU20","v":{"v":0,"d":"0%"}},null,{"$f":"TW6+TW8+TW10+TW12+TW14+TW16+TW18+TW20","v":{"v":0,"d":"0%"}},null,{"$f":"TY6+TY8+TY10+TY12+TY14+TY16+TY18+TY20","v":{"v":0,"d":"0%"}},null,{"$f":"UA6+UA8+UA10+UA12+UA14+UA16+UA18+UA20","v":{"v":0,"d":"0%"}},null,{"$f":"UC6+UC8+UC10+UC12+UC14+UC16+UC18+UC20","v":{"v":0,"d":"0%"}},null,{"$f":"UE6+UE8+UE10+UE12+UE14+UE16+UE18+UE20","v":{"v":0,"d":"0%"}},null,{"$f":"UG6+UG8+UG10+UG12+UG14+UG16+UG18+UG20","v":{"v":0,"d":"0%"}},null,{"$f":"UI6+UI8+UI10+UI12+UI14+UI16+UI18+UI20","v":{"v":0,"d":"0%"}},null,{"$f":"UK6+UK8+UK10+UK12+UK14+UK16+UK18+UK20","v":{"v":0,"d":"0%"}},null,{"$f":"UM6+UM8+UM10+UM12+UM14+UM16+UM18+UM20","v":{"v":0,"d":"0%"}},null,{"$f":"UO6+UO8+UO10+UO12+UO14+UO16+UO18+UO20","v":{"v":0,"d":"0%"}},null,{"$f":"UQ6+UQ8+UQ10+UQ12+UQ14+UQ16+UQ18+UQ20","v":{"v":0,"d":"0%"}},null,{"$f":"US6+US8+US10+US12+US14+US16+US18+US20","v":{"v":0,"d":"0%"}},null,{"$f":"UU6+UU8+UU10+UU12+UU14+UU16+UU18+UU20","v":{"v":0,"d":"0%"}},null,{"$f":"UW6+UW8+UW10+UW12+UW14+UW16+UW18+UW20","v":{"v":0,"d":"0%"}},null,{"$f":"UY6+UY8+UY10+UY12+UY14+UY16+UY18+UY20","v":{"v":0,"d":"0%"}},null,{"$f":"VA6+VA8+VA10+VA12+VA14+VA16+VA18+VA20","v":{"v":0,"d":"0%"}},null,{"$f":"VC6+VC8+VC10+VC12+VC14+VC16+VC18+VC20","v":{"v":0,"d":"0%"}},null,{"$f":"VE6+VE8+VE10+VE12+VE14+VE16+VE18+VE20","v":{"v":0,"d":"0%"}},null,{"$f":"VG6+VG8+VG10+VG12+VG14+VG16+VG18+VG20","v":{"v":0,"d":"0%"}},null,{"$f":"VI6+VI8+VI10+VI12+VI14+VI16+VI18+VI20","v":{"v":0,"d":"0%"}},null,{"$f":"VK6+VK8+VK10+VK12+VK14+VK16+VK18+VK20","v":{"v":0,"d":"0%"}},null,{"$f":"VM6+VM8+VM10+VM12+VM14+VM16+VM18+VM20","v":{"v":0,"d":"0%"}},null,{"$f":"VO6+VO8+VO10+VO12+VO14+VO16+VO18+VO20","v":{"v":0,"d":"0%"}},null,{"$f":"VQ6+VQ8+VQ10+VQ12+VQ14+VQ16+VQ18+VQ20","v":{"v":0,"d":"0%"}},null,{"$f":"VS6+VS8+VS10+VS12+VS14+VS16+VS18+VS20","v":{"v":0,"d":"0%"}},null,{"$f":"VU6+VU8+VU10+VU12+VU14+VU16+VU18+VU20","v":{"v":0,"d":"0%"}},null,{"$f":"VW6+VW8+VW10+VW12+VW14+VW16+VW18+VW20","v":{"v":0,"d":"0%"}},null,{"$f":"VY6+VY8+VY10+VY12+VY14+VY16+VY18+VY20","v":{"v":0,"d":"0%"}},null,{"$f":"WA6+WA8+WA10+WA12+WA14+WA16+WA18+WA20","v":{"v":0,"d":"0%"}},null,{"$f":"WC6+WC8+WC10+WC12+WC14+WC16+WC18+WC20","v":{"v":0,"d":"0%"}},null,{"$f":"WE6+WE8+WE10+WE12+WE14+WE16+WE18+WE20","v":{"v":0,"d":"0%"}},null,{"$f":"WG6+WG8+WG10+WG12+WG14+WG16+WG18+WG20","v":{"v":0,"d":"0%"}},null,{"$f":"WI6+WI8+WI10+WI12+WI14+WI16+WI18+WI20","v":{"v":0,"d":"0%"}},null,{"$f":"WK6+WK8+WK10+WK12+WK14+WK16+WK18+WK20","v":{"v":0,"d":"0%"}},null,{"$f":"WM6+WM8+WM10+WM12+WM14+WM16+WM18+WM20","v":{"v":0,"d":"0%"}},null,{"$f":"WO6+WO8+WO10+WO12+WO14+WO16+WO18+WO20","v":{"v":0,"d":"0%"}},null,{"$f":"WQ6+WQ8+WQ10+WQ12+WQ14+WQ16+WQ18+WQ20","v":{"v":0,"d":"0%"}},null,{"$f":"WS6+WS8+WS10+WS12+WS14+WS16+WS18+WS20","v":{"v":0,"d":"0%"}},null,{"$f":"WU6+WU8+WU10+WU12+WU14+WU16+WU18+WU20","v":{"v":0,"d":"0%"}},null,{"$f":"WW6+WW8+WW10+WW12+WW14+WW16+WW18+WW20","v":{"v":0,"d":"0%"}},null,{"$f":"WY6+WY8+WY10+WY12+WY14+WY16+WY18+WY20","v":{"v":0,"d":"0%"}},null,{"$f":"XA6+XA8+XA10+XA12+XA14+XA16+XA18+XA20","v":{"v":0,"d":"0%"}},null,{"$f":"XC6+XC8+XC10+XC12+XC14+XC16+XC18+XC20","v":{"v":0,"d":"0%"}},null,{"$f":"XE6+XE8+XE10+XE12+XE14+XE16+XE18+XE20","v":{"v":0,"d":"0%"}},null,{"$f":"XG6+XG8+XG10+XG12+XG14+XG16+XG18+XG20","v":{"v":0,"d":"0%"}},null,{"$f":"XI6+XI8+XI10+XI12+XI14+XI16+XI18+XI20","v":{"v":0,"d":"0%"}},null,{"$f":"XK6+XK8+XK10+XK12+XK14+XK16+XK18+XK20","v":{"v":0,"d":"0%"}},null,{"$f":"XM6+XM8+XM10+XM12+XM14+XM16+XM18+XM20","v":{"v":0,"d":"0%"}},null,{"$f":"XO6+XO8+XO10+XO12+XO14+XO16+XO18+XO20","v":{"v":0,"d":"0%"}},null,{"$f":"XQ6+XQ8+XQ10+XQ12+XQ14+XQ16+XQ18+XQ20","v":{"v":0,"d":"0%"}},null,{"$f":"XS6+XS8+XS10+XS12+XS14+XS16+XS18+XS20","v":{"v":0,"d":"0%"}},null,{"$f":"XU6+XU8+XU10+XU12+XU14+XU16+XU18+XU20","v":{"v":0,"d":"0%"}},null,{"$f":"XW6+XW8+XW10+XW12+XW14+XW16+XW18+XW20","v":{"v":0,"d":"0%"}},null,{"$f":"XY6+XY8+XY10+XY12+XY14+XY16+XY18+XY20","v":{"v":0,"d":"0%"}},null,{"$f":"YA6+YA8+YA10+YA12+YA14+YA16+YA18+YA20","v":{"v":0,"d":"0%"}},null,{"$f":"YC6+YC8+YC10+YC12+YC14+YC16+YC18+YC20","v":{"v":0,"d":"0%"}},null,{"$f":"YE6+YE8+YE10+YE12+YE14+YE16+YE18+YE20","v":{"v":0,"d":"0%"}},null,{"$f":"YG6+YG8+YG10+YG12+YG14+YG16+YG18+YG20","v":{"v":0,"d":"0%"}},null,{"$f":"YI6+YI8+YI10+YI12+YI14+YI16+YI18+YI20","v":{"v":0,"d":"0%"}},null,{"$f":"YK6+YK8+YK10+YK12+YK14+YK16+YK18+YK20","v":{"v":0,"d":"0%"}},null,{"$f":"YM6+YM8+YM10+YM12+YM14+YM16+YM18+YM20","v":{"v":0,"d":"0%"}},null,{"$f":"YO6+YO8+YO10+YO12+YO14+YO16+YO18+YO20","v":{"v":0,"d":"0%"}},null,{"$f":"YQ6+YQ8+YQ10+YQ12+YQ14+YQ16+YQ18+YQ20","v":{"v":0,"d":"0%"}},null,{"$f":"YS6+YS8+YS10+YS12+YS14+YS16+YS18+YS20","v":{"v":0,"d":"0%"}},null,{"$f":"YU6+YU8+YU10+YU12+YU14+YU16+YU18+YU20","v":{"v":0,"d":"0%"}},null,{"$f":"YW6+YW8+YW10+YW12+YW14+YW16+YW18+YW20","v":{"v":0,"d":"0%"}},null,{"$f":"YY6+YY8+YY10+YY12+YY14+YY16+YY18+YY20","v":{"v":0,"d":"0%"}},null,{"$f":"ZA6+ZA8+ZA10+ZA12+ZA14+ZA16+ZA18+ZA20","v":{"v":0,"d":"0%"}},null,{"$f":"ZC6+ZC8+ZC10+ZC12+ZC14+ZC16+ZC18+ZC20","v":{"v":0,"d":"0%"}},null,{"$f":"ZE6+ZE8+ZE10+ZE12+ZE14+ZE16+ZE18+ZE20","v":{"v":0,"d":"0%"}},null,{"$f":"ZG6+ZG8+ZG10+ZG12+ZG14+ZG16+ZG18+ZG20","v":{"v":0,"d":"0%"}},null,{"$f":"ZI6+ZI8+ZI10+ZI12+ZI14+ZI16+ZI18+ZI20","v":{"v":0,"d":"0%"}},null,{"$f":"ZK6+ZK8+ZK10+ZK12+ZK14+ZK16+ZK18+ZK20","v":{"v":0,"d":"0%"}},null,{"$f":"ZM6+ZM8+ZM10+ZM12+ZM14+ZM16+ZM18+ZM20","v":{"v":0,"d":"0%"}},null,{"$f":"ZO6+ZO8+ZO10+ZO12+ZO14+ZO16+ZO18+ZO20","v":{"v":0,"d":"0%"}},null,{"$f":"ZQ6+ZQ8+ZQ10+ZQ12+ZQ14+ZQ16+ZQ18+ZQ20","v":{"v":0,"d":"0%"}},null,{"$f":"ZS6+ZS8+ZS10+ZS12+ZS14+ZS16+ZS18+ZS20","v":{"v":0,"d":"0%"}},null,{"$f":"ZU6+ZU8+ZU10+ZU12+ZU14+ZU16+ZU18+ZU20","v":{"v":0,"d":"0%"}},null,{"$f":"ZW6+ZW8+ZW10+ZW12+ZW14+ZW16+ZW18+ZW20","v":{"v":0,"d":"0%"}},null,{"$f":"ZY6+ZY8+ZY10+ZY12+ZY14+ZY16+ZY18+ZY20","v":{"v":0,"d":"0%"}},null,{"$f":"AAA6+AAA8+AAA10+AAA12+AAA14+AAA16+AAA18+AAA20","v":{"v":0,"d":"0%"}},null,{"$f":"AAC6+AAC8+AAC10+AAC12+AAC14+AAC16+AAC18+AAC20","v":{"v":0,"d":"0%"}},null,{"$f":"AAE6+AAE8+AAE10+AAE12+AAE14+AAE16+AAE18+AAE20","v":{"v":0,"d":"0%"}},null,{"$f":"AAG6+AAG8+AAG10+AAG12+AAG14+AAG16+AAG18+AAG20","v":{"v":0,"d":"0%"}},null,{"$f":"AAI6+AAI8+AAI10+AAI12+AAI14+AAI16+AAI18+AAI20","v":{"v":0,"d":"0%"}},null,{"$f":"AAK6+AAK8+AAK10+AAK12+AAK14+AAK16+AAK18+AAK20","v":{"v":0,"d":"0%"}},null,{"$f":"AAM6+AAM8+AAM10+AAM12+AAM14+AAM16+AAM18+AAM20","v":{"v":0,"d":"0%"}},null,{"$f":"AAO6+AAO8+AAO10+AAO12+AAO14+AAO16+AAO18+AAO20","v":{"v":0,"d":"0%"}},null,{"$f":"AAQ6+AAQ8+AAQ10+AAQ12+AAQ14+AAQ16+AAQ18+AAQ20","v":{"v":0,"d":"0%"}},null,{"$f":"AAS6+AAS8+AAS10+AAS12+AAS14+AAS16+AAS18+AAS20","v":{"v":0,"d":"0%"}},null,{"$f":"AAU6+AAU8+AAU10+AAU12+AAU14+AAU16+AAU18+AAU20","v":{"v":0,"d":"0%"}},null,{"$f":"AAW6+AAW8+AAW10+AAW12+AAW14+AAW16+AAW18+AAW20","v":{"v":0,"d":"0%"}},null,{"$f":"AAY6+AAY8+AAY10+AAY12+AAY14+AAY16+AAY18+AAY20","v":{"v":0,"d":"0%"}},null,{"$f":"ABA6+ABA8+ABA10+ABA12+ABA14+ABA16+ABA18+ABA20","v":{"v":0,"d":"0%"}},null,{"$f":"ABC6+ABC8+ABC10+ABC12+ABC14+ABC16+ABC18+ABC20","v":{"v":0,"d":"0%"}},null,{"$f":"ABE6+ABE8+ABE10+ABE12+ABE14+ABE16+ABE18+ABE20","v":{"v":0,"d":"0%"}},null,{"$f":"ABG6+ABG8+ABG10+ABG12+ABG14+ABG16+ABG18+ABG20","v":{"v":0,"d":"0%"}},null,{"$f":"ABI6+ABI8+ABI10+ABI12+ABI14+ABI16+ABI18+ABI20","v":{"v":0,"d":"0%"}},null,{"$f":"ABK6+ABK8+ABK10+ABK12+ABK14+ABK16+ABK18+ABK20","v":{"v":0,"d":"0%"}},null,{"$f":"ABM6+ABM8+ABM10+ABM12+ABM14+ABM16+ABM18+ABM20","v":{"v":0,"d":"0%"}},null,{"$f":"ABO6+ABO8+ABO10+ABO12+ABO14+ABO16+ABO18+ABO20","v":{"v":0,"d":"0%"}},null,{"$f":"ABQ6+ABQ8+ABQ10+ABQ12+ABQ14+ABQ16+ABQ18+ABQ20","v":{"v":0,"d":"0%"}},null,{"$f":"ABS6+ABS8+ABS10+ABS12+ABS14+ABS16+ABS18+ABS20","v":{"v":0,"d":"0%"}},null,{"$f":"ABU6+ABU8+ABU10+ABU12+ABU14+ABU16+ABU18+ABU20","v":{"v":0,"d":"0%"}},null,{"$f":"ABW6+ABW8+ABW10+ABW12+ABW14+ABW16+ABW18+ABW20","v":{"v":0,"d":"0%"}},null,{"$f":"ABY6+ABY8+ABY10+ABY12+ABY14+ABY16+ABY18+ABY20","v":{"v":0,"d":"0%"}},null,{"$f":"ACA6+ACA8+ACA10+ACA12+ACA14+ACA16+ACA18+ACA20","v":{"v":0,"d":"0%"}},null,{"$f":"ACC6+ACC8+ACC10+ACC12+ACC14+ACC16+ACC18+ACC20","v":{"v":0,"d":"0%"}},null,{"$f":"ACE6+ACE8+ACE10+ACE12+ACE14+ACE16+ACE18+ACE20","v":{"v":0,"d":"0%"}},null,{"$f":"ACG6+ACG8+ACG10+ACG12+ACG14+ACG16+ACG18+ACG20","v":{"v":0,"d":"0%"}},null,{"$f":"ACI6+ACI8+ACI10+ACI12+ACI14+ACI16+ACI18+ACI20","v":{"v":0,"d":"0%"}},null,{"$f":"ACK6+ACK8+ACK10+ACK12+ACK14+ACK16+ACK18+ACK20","v":{"v":0,"d":"0%"}},null,{"$f":"ACM6+ACM8+ACM10+ACM12+ACM14+ACM16+ACM18+ACM20","v":{"v":0,"d":"0%"}},null,{"$f":"ACO6+ACO8+ACO10+ACO12+ACO14+ACO16+ACO18+ACO20","v":{"v":0,"d":"0%"}},null,{"$f":"ACQ6+ACQ8+ACQ10+ACQ12+ACQ14+ACQ16+ACQ18+ACQ20","v":{"v":0,"d":"0%"}},null,{"$f":"ACS6+ACS8+ACS10+ACS12+ACS14+ACS16+ACS18+ACS20","v":{"v":0,"d":"0%"}},null,{"$f":"ACU6+ACU8+ACU10+ACU12+ACU14+ACU16+ACU18+ACU20","v":{"v":0,"d":"0%"}},null,{"$f":"ACW6+ACW8+ACW10+ACW12+ACW14+ACW16+ACW18+ACW20","v":{"v":0,"d":"0%"}},null,{"$f":"ACY6+ACY8+ACY10+ACY12+ACY14+ACY16+ACY18+ACY20","v":{"v":0,"d":"0%"}},null,{"$f":"ADA6+ADA8+ADA10+ADA12+ADA14+ADA16+ADA18+ADA20","v":{"v":0,"d":"0%"}},null,{"$f":"ADC6+ADC8+ADC10+ADC12+ADC14+ADC16+ADC18+ADC20","v":{"v":0,"d":"0%"}},null,{"$f":"ADE6+ADE8+ADE10+ADE12+ADE14+ADE16+ADE18+ADE20","v":{"v":0,"d":"0%"}},null,{"$f":"ADG6+ADG8+ADG10+ADG12+ADG14+ADG16+ADG18+ADG20","v":{"v":0,"d":"0%"}},null,{"$f":"ADI6+ADI8+ADI10+ADI12+ADI14+ADI16+ADI18+ADI20","v":{"v":0,"d":"0%"}},null,{"$f":"ADK6+ADK8+ADK10+ADK12+ADK14+ADK16+ADK18+ADK20","v":{"v":0,"d":"0%"}},null,{"$f":"ADM6+ADM8+ADM10+ADM12+ADM14+ADM16+ADM18+ADM20","v":{"v":0,"d":"0%"}},null,{"$f":"ADO6+ADO8+ADO10+ADO12+ADO14+ADO16+ADO18+ADO20","v":{"v":0,"d":"0%"}},null,{"$f":"ADQ6+ADQ8+ADQ10+ADQ12+ADQ14+ADQ16+ADQ18+ADQ20","v":{"v":0,"d":"0%"}},null,{"$f":"ADS6+ADS8+ADS10+ADS12+ADS14+ADS16+ADS18+ADS20","v":{"v":0,"d":"0%"}},null,{"$f":"ADU6+ADU8+ADU10+ADU12+ADU14+ADU16+ADU18+ADU20","v":{"v":0,"d":"0%"}},null,{"$f":"ADW6+ADW8+ADW10+ADW12+ADW14+ADW16+ADW18+ADW20","v":{"v":0,"d":"0%"}},null,{"$f":"ADY6+ADY8+ADY10+ADY12+ADY14+ADY16+ADY18+ADY20","v":{"v":0,"d":"0%"}},null,{"$f":"AEA6+AEA8+AEA10+AEA12+AEA14+AEA16+AEA18+AEA20","v":{"v":0,"d":"0%"}},null,{"$f":"AEC6+AEC8+AEC10+AEC12+AEC14+AEC16+AEC18+AEC20","v":{"v":0,"d":"0%"}},null,{"$f":"AEE6+AEE8+AEE10+AEE12+AEE14+AEE16+AEE18+AEE20","v":{"v":0,"d":"0%"}},null,{"$f":"AEG6+AEG8+AEG10+AEG12+AEG14+AEG16+AEG18+AEG20","v":{"v":0,"d":"0%"}},null,{"$f":"AEI6+AEI8+AEI10+AEI12+AEI14+AEI16+AEI18+AEI20","v":{"v":0,"d":"0%"}},null,{"$f":"AEK6+AEK8+AEK10+AEK12+AEK14+AEK16+AEK18+AEK20","v":{"v":0,"d":"0%"}},null,{"$f":"AEM6+AEM8+AEM10+AEM12+AEM14+AEM16+AEM18+AEM20","v":{"v":0,"d":"0%"}},null,{"$f":"AEO6+AEO8+AEO10+AEO12+AEO14+AEO16+AEO18+AEO20","v":{"v":0,"d":"0%"}},null,{"$f":"AEQ6+AEQ8+AEQ10+AEQ12+AEQ14+AEQ16+AEQ18+AEQ20","v":{"v":0,"d":"0%"}},null,{"$f":"AES6+AES8+AES10+AES12+AES14+AES16+AES18+AES20","v":{"v":0,"d":"0%"}},null,{"$f":"AEU6+AEU8+AEU10+AEU12+AEU14+AEU16+AEU18+AEU20","v":{"v":0,"d":"0%"}},null,{"$f":"AEW6+AEW8+AEW10+AEW12+AEW14+AEW16+AEW18+AEW20","v":{"v":0,"d":"0%"}},null,{"$f":"AEY6+AEY8+AEY10+AEY12+AEY14+AEY16+AEY18+AEY20","v":{"v":0,"d":"0%"}},null,{"$f":"AFA6+AFA8+AFA10+AFA12+AFA14+AFA16+AFA18+AFA20","v":{"v":0,"d":"0%"}},null,{"$f":"AFC6+AFC8+AFC10+AFC12+AFC14+AFC16+AFC18+AFC20","v":{"v":0,"d":"0%"}},null,{"$f":"AFE6+AFE8+AFE10+AFE12+AFE14+AFE16+AFE18+AFE20","v":{"v":0,"d":"0%"}},null,{"$f":"AFG6+AFG8+AFG10+AFG12+AFG14+AFG16+AFG18+AFG20","v":{"v":0,"d":"0%"}},null,{"$f":"AFI6+AFI8+AFI10+AFI12+AFI14+AFI16+AFI18+AFI20","v":{"v":0,"d":"0%"}},null,{"$f":"AFK6+AFK8+AFK10+AFK12+AFK14+AFK16+AFK18+AFK20","v":{"v":0,"d":"0%"}},null,{"$f":"AFM6+AFM8+AFM10+AFM12+AFM14+AFM16+AFM18+AFM20","v":{"v":0,"d":"0%"}},null,{"$f":"AFO6+AFO8+AFO10+AFO12+AFO14+AFO16+AFO18+AFO20","v":{"v":0,"d":"0%"}},null,{"$f":"AFQ6+AFQ8+AFQ10+AFQ12+AFQ14+AFQ16+AFQ18+AFQ20","v":{"v":0,"d":"0%"}},null,{"$f":"AFS6+AFS8+AFS10+AFS12+AFS14+AFS16+AFS18+AFS20","v":{"v":0,"d":"0%"}},null,{"$f":"AFU6+AFU8+AFU10+AFU12+AFU14+AFU16+AFU18+AFU20","v":{"v":0,"d":"0%"}},null,{"$f":"AFW6+AFW8+AFW10+AFW12+AFW14+AFW16+AFW18+AFW20","v":{"v":0,"d":"0%"}},null,{"$f":"AFY6+AFY8+AFY10+AFY12+AFY14+AFY16+AFY18+AFY20","v":{"v":0,"d":"0%"}},null,{"$f":"AGA6+AGA8+AGA10+AGA12+AGA14+AGA16+AGA18+AGA20","v":{"v":0,"d":"0%"}},null,{"$f":"AGC6+AGC8+AGC10+AGC12+AGC14+AGC16+AGC18+AGC20","v":{"v":0,"d":"0%"}},null,{"$f":"AGE6+AGE8+AGE10+AGE12+AGE14+AGE16+AGE18+AGE20","v":{"v":0,"d":"0%"}},null,{"$f":"AGG6+AGG8+AGG10+AGG12+AGG14+AGG16+AGG18+AGG20","v":{"v":0,"d":"0%"}},null,{"$f":"AGI6+AGI8+AGI10+AGI12+AGI14+AGI16+AGI18+AGI20","v":{"v":0,"d":"0%"}},null,{"$f":"AGK6+AGK8+AGK10+AGK12+AGK14+AGK16+AGK18+AGK20","v":{"v":0,"d":"0%"}},null,{"$f":"AGM6+AGM8+AGM10+AGM12+AGM14+AGM16+AGM18+AGM20","v":{"v":0,"d":"0%"}},null,{"$f":"AGO6+AGO8+AGO10+AGO12+AGO14+AGO16+AGO18+AGO20","v":{"v":0,"d":"0%"}},null,{"$f":"AGQ6+AGQ8+AGQ10+AGQ12+AGQ14+AGQ16+AGQ18+AGQ20","v":{"v":0,"d":"0%"}},null,{"$f":"AGS6+AGS8+AGS10+AGS12+AGS14+AGS16+AGS18+AGS20","v":{"v":0,"d":"0%"}},null,{"$f":"AGU6+AGU8+AGU10+AGU12+AGU14+AGU16+AGU18+AGU20","v":{"v":0,"d":"0%"}},null,{"$f":"AGW6+AGW8+AGW10+AGW12+AGW14+AGW16+AGW18+AGW20","v":{"v":0,"d":"0%"}},null,{"$f":"AGY6+AGY8+AGY10+AGY12+AGY14+AGY16+AGY18+AGY20","v":{"v":0,"d":"0%"}},null,{"$f":"AHA6+AHA8+AHA10+AHA12+AHA14+AHA16+AHA18+AHA20","v":{"v":0,"d":"0%"}},null,{"$f":"AHC6+AHC8+AHC10+AHC12+AHC14+AHC16+AHC18+AHC20","v":{"v":0,"d":"0%"}},null,{"$f":"AHE6+AHE8+AHE10+AHE12+AHE14+AHE16+AHE18+AHE20","v":{"v":0,"d":"0%"}},null,{"$f":"AHG6+AHG8+AHG10+AHG12+AHG14+AHG16+AHG18+AHG20","v":{"v":0,"d":"0%"}},null,{"$f":"AHI6+AHI8+AHI10+AHI12+AHI14+AHI16+AHI18+AHI20","v":{"v":0,"d":"0%"}},null,{"$f":"AHK6+AHK8+AHK10+AHK12+AHK14+AHK16+AHK18+AHK20","v":{"v":0,"d":"0%"}},null,{"$f":"AHM6+AHM8+AHM10+AHM12+AHM14+AHM16+AHM18+AHM20","v":{"v":0,"d":"0%"}},null,{"$f":"AHO6+AHO8+AHO10+AHO12+AHO14+AHO16+AHO18+AHO20","v":{"v":0,"d":"0%"}},null,{"$f":"AHQ6+AHQ8+AHQ10+AHQ12+AHQ14+AHQ16+AHQ18+AHQ20","v":{"v":0,"d":"0%"}},null,{"$f":"AHS6+AHS8+AHS10+AHS12+AHS14+AHS16+AHS18+AHS20","v":{"v":0,"d":"0%"}},null,{"$f":"AHU6+AHU8+AHU10+AHU12+AHU14+AHU16+AHU18+AHU20","v":{"v":0,"d":"0%"}},null,{"$f":"AHW6+AHW8+AHW10+AHW12+AHW14+AHW16+AHW18+AHW20","v":{"v":0,"d":"0%"}},null,{"$f":"AHY6+AHY8+AHY10+AHY12+AHY14+AHY16+AHY18+AHY20","v":{"v":0,"d":"0%"}},null,{"$f":"AIA6+AIA8+AIA10+AIA12+AIA14+AIA16+AIA18+AIA20","v":{"v":0,"d":"0%"}},null,{"$f":"AIC6+AIC8+AIC10+AIC12+AIC14+AIC16+AIC18+AIC20","v":{"v":0,"d":"0%"}},null,{"$f":"AIE6+AIE8+AIE10+AIE12+AIE14+AIE16+AIE18+AIE20","v":{"v":0,"d":"0%"}},null,{"$f":"AIG6+AIG8+AIG10+AIG12+AIG14+AIG16+AIG18+AIG20","v":{"v":0,"d":"0%"}},null,{"$f":"AII6+AII8+AII10+AII12+AII14+AII16+AII18+AII20","v":{"v":0,"d":"0%"}},null,{"$f":"AIK6+AIK8+AIK10+AIK12+AIK14+AIK16+AIK18+AIK20","v":{"v":0,"d":"0%"}},null,{"$f":"AIM6+AIM8+AIM10+AIM12+AIM14+AIM16+AIM18+AIM20","v":{"v":0,"d":"0%"}},null,{"$f":"AIO6+AIO8+AIO10+AIO12+AIO14+AIO16+AIO18+AIO20","v":{"v":0,"d":"0%"}},null,{"$f":"AIQ6+AIQ8+AIQ10+AIQ12+AIQ14+AIQ16+AIQ18+AIQ20","v":{"v":0,"d":"0%"}},null,{"$f":"AIS6+AIS8+AIS10+AIS12+AIS14+AIS16+AIS18+AIS20","v":{"v":0,"d":"0%"}},null,{"$f":"AIU6+AIU8+AIU10+AIU12+AIU14+AIU16+AIU18+AIU20","v":{"v":0,"d":"0%"}},null,{"$f":"AIW6+AIW8+AIW10+AIW12+AIW14+AIW16+AIW18+AIW20","v":{"v":0,"d":"0%"}},null,{"$f":"AIY6+AIY8+AIY10+AIY12+AIY14+AIY16+AIY18+AIY20","v":{"v":0,"d":"0%"}},null,{"$f":"AJA6+AJA8+AJA10+AJA12+AJA14+AJA16+AJA18+AJA20","v":{"v":0,"d":"0%"}},null,{"$f":"AJC6+AJC8+AJC10+AJC12+AJC14+AJC16+AJC18+AJC20","v":{"v":0,"d":"0%"}},null,{"$f":"AJE6+AJE8+AJE10+AJE12+AJE14+AJE16+AJE18+AJE20","v":{"v":0,"d":"0%"}},null,{"$f":"AJG6+AJG8+AJG10+AJG12+AJG14+AJG16+AJG18+AJG20","v":{"v":0,"d":"0%"}},null,{"$f":"AJI6+AJI8+AJI10+AJI12+AJI14+AJI16+AJI18+AJI20","v":{"v":0,"d":"0%"}},null,{"$f":"AJK6+AJK8+AJK10+AJK12+AJK14+AJK16+AJK18+AJK20","v":{"v":0,"d":"0%"}},null,{"$f":"AJM6+AJM8+AJM10+AJM12+AJM14+AJM16+AJM18+AJM20","v":{"v":0,"d":"0%"}},null,{"$f":"AJO6+AJO8+AJO10+AJO12+AJO14+AJO16+AJO18+AJO20","v":{"v":0,"d":"0%"}},null,{"$f":"AJQ6+AJQ8+AJQ10+AJQ12+AJQ14+AJQ16+AJQ18+AJQ20","v":{"v":0,"d":"0%"}},null,{"$f":"AJS6+AJS8+AJS10+AJS12+AJS14+AJS16+AJS18+AJS20","v":{"v":0,"d":"0%"}},null,{"$f":"AJU6+AJU8+AJU10+AJU12+AJU14+AJU16+AJU18+AJU20","v":{"v":0,"d":"0%"}},null,{"$f":"AJW6+AJW8+AJW10+AJW12+AJW14+AJW16+AJW18+AJW20","v":{"v":0,"d":"0%"}},null,{"$f":"AJY6+AJY8+AJY10+AJY12+AJY14+AJY16+AJY18+AJY20","v":{"v":0,"d":"0%"}},null,{"$f":"AKA6+AKA8+AKA10+AKA12+AKA14+AKA16+AKA18+AKA20","v":{"v":0,"d":"0%"}},null,{"$f":"AKC6+AKC8+AKC10+AKC12+AKC14+AKC16+AKC18+AKC20","v":{"v":0,"d":"0%"}},null,{"$f":"AKE6+AKE8+AKE10+AKE12+AKE14+AKE16+AKE18+AKE20","v":{"v":0,"d":"0%"}},null,{"$f":"AKG6+AKG8+AKG10+AKG12+AKG14+AKG16+AKG18+AKG20","v":{"v":0,"d":"0%"}},null,{"$f":"AKI6+AKI8+AKI10+AKI12+AKI14+AKI16+AKI18+AKI20","v":{"v":0,"d":"0%"}},null,{"$f":"AKK6+AKK8+AKK10+AKK12+AKK14+AKK16+AKK18+AKK20","v":{"v":0,"d":"0%"}},null,{"$f":"AKM6+AKM8+AKM10+AKM12+AKM14+AKM16+AKM18+AKM20","v":{"v":0,"d":"0%"}},null,{"$f":"AKO6+AKO8+AKO10+AKO12+AKO14+AKO16+AKO18+AKO20","v":{"v":0,"d":"0%"}},null,{"$f":"AKQ6+AKQ8+AKQ10+AKQ12+AKQ14+AKQ16+AKQ18+AKQ20","v":{"v":0,"d":"0%"}},null,{"$f":"AKS6+AKS8+AKS10+AKS12+AKS14+AKS16+AKS18+AKS20","v":{"v":0,"d":"0%"}},null,{"$f":"AKU6+AKU8+AKU10+AKU12+AKU14+AKU16+AKU18+AKU20","v":{"v":0,"d":"0%"}},null,{"$f":"AKW6+AKW8+AKW10+AKW12+AKW14+AKW16+AKW18+AKW20","v":{"v":0,"d":"0%"}},null,{"$f":"AKY6+AKY8+AKY10+AKY12+AKY14+AKY16+AKY18+AKY20","v":{"v":0,"d":"0%"}},null,{"$f":"ALA6+ALA8+ALA10+ALA12+ALA14+ALA16+ALA18+ALA20","v":{"v":0,"d":"0%"}},null,{"$f":"ALC6+ALC8+ALC10+ALC12+ALC14+ALC16+ALC18+ALC20","v":{"v":0,"d":"0%"}},null,{"$f":"ALE6+ALE8+ALE10+ALE12+ALE14+ALE16+ALE18+ALE20","v":{"v":0,"d":"0%"}},null,{"$f":"ALG6+ALG8+ALG10+ALG12+ALG14+ALG16+ALG18+ALG20","v":{"v":0,"d":"0%"}},null,{"$f":"ALI6+ALI8+ALI10+ALI12+ALI14+ALI16+ALI18+ALI20","v":{"v":0,"d":"0%"}},null,{"$f":"ALK6+ALK8+ALK10+ALK12+ALK14+ALK16+ALK18+ALK20","v":{"v":0,"d":"0%"}},null,{"$f":"ALM6+ALM8+ALM10+ALM12+ALM14+ALM16+ALM18+ALM20","v":{"v":0,"d":"0%"}},null,{"$f":"ALO6+ALO8+ALO10+ALO12+ALO14+ALO16+ALO18+ALO20","v":{"v":0,"d":"0%"}},null,{"$f":"ALQ6+ALQ8+ALQ10+ALQ12+ALQ14+ALQ16+ALQ18+ALQ20","v":{"v":0,"d":"0%"}},null,{"$f":"ALS6+ALS8+ALS10+ALS12+ALS14+ALS16+ALS18+ALS20","v":{"v":0,"d":"0%"}},null,{"$f":"ALU6+ALU8+ALU10+ALU12+ALU14+ALU16+ALU18+ALU20","v":{"v":0,"d":"0%"}},null,{"$f":"ALW6+ALW8+ALW10+ALW12+ALW14+ALW16+ALW18+ALW20","v":{"v":0,"d":"0%"}},null,{"$f":"ALY6+ALY8+ALY10+ALY12+ALY14+ALY16+ALY18+ALY20","v":{"v":0,"d":"0%"}},null,{"$f":"AMA6+AMA8+AMA10+AMA12+AMA14+AMA16+AMA18+AMA20","v":{"v":0,"d":"0%"}},null,{"$f":"AMC6+AMC8+AMC10+AMC12+AMC14+AMC16+AMC18+AMC20","v":{"v":0,"d":"0%"}},null,{"$f":"AME6+AME8+AME10+AME12+AME14+AME16+AME18+AME20","v":{"v":0,"d":"0%"}},null,{"$f":"AMG6+AMG8+AMG10+AMG12+AMG14+AMG16+AMG18+AMG20","v":{"v":0,"d":"0%"}},null,{"$f":"AMI6+AMI8+AMI10+AMI12+AMI14+AMI16+AMI18+AMI20","v":{"v":0,"d":"0%"}},null,{"$f":"AMK6+AMK8+AMK10+AMK12+AMK14+AMK16+AMK18+AMK20","v":{"v":0,"d":"0%"}},null,{"$f":"AMM6+AMM8+AMM10+AMM12+AMM14+AMM16+AMM18+AMM20","v":{"v":0,"d":"0%"}},null,{"$f":"AMO6+AMO8+AMO10+AMO12+AMO14+AMO16+AMO18+AMO20","v":{"v":0,"d":"0%"}},null,{"$f":"AMQ6+AMQ8+AMQ10+AMQ12+AMQ14+AMQ16+AMQ18+AMQ20","v":{"v":0,"d":"0%"}},null,{"$f":"AMS6+AMS8+AMS10+AMS12+AMS14+AMS16+AMS18+AMS20","v":{"v":0,"d":"0%"}},null,{"$f":"AMU6+AMU8+AMU10+AMU12+AMU14+AMU16+AMU18+AMU20","v":{"v":0,"d":"0%"}},null,{"$f":"AMW6+AMW8+AMW10+AMW12+AMW14+AMW16+AMW18+AMW20","v":{"v":0,"d":"0%"}},null,{"$f":"AMY6+AMY8+AMY10+AMY12+AMY14+AMY16+AMY18+AMY20","v":{"v":0,"d":"0%"}},null,{"$f":"ANA6+ANA8+ANA10+ANA12+ANA14+ANA16+ANA18+ANA20","v":{"v":0,"d":"0%"}},null,{"$f":"ANC6+ANC8+ANC10+ANC12+ANC14+ANC16+ANC18+ANC20","v":{"v":0,"d":"0%"}},null,{"$f":"ANE6+ANE8+ANE10+ANE12+ANE14+ANE16+ANE18+ANE20","v":{"v":0,"d":"0%"}},null,{"$f":"ANG6+ANG8+ANG10+ANG12+ANG14+ANG16+ANG18+ANG20","v":{"v":0,"d":"0%"}},null,{"$f":"ANI6+ANI8+ANI10+ANI12+ANI14+ANI16+ANI18+ANI20","v":{"v":0,"d":"0%"}},null,{"$f":"ANK6+ANK8+ANK10+ANK12+ANK14+ANK16+ANK18+ANK20","v":{"v":0,"d":"0%"}},null,{"$f":"ANM6+ANM8+ANM10+ANM12+ANM14+ANM16+ANM18+ANM20","v":{"v":0,"d":"0%"}},null,{"$f":"ANO6+ANO8+ANO10+ANO12+ANO14+ANO16+ANO18+ANO20","v":{"v":0,"d":"0%"}},null,{"$f":"ANQ6+ANQ8+ANQ10+ANQ12+ANQ14+ANQ16+ANQ18+ANQ20","v":{"v":0,"d":"0%"}},null,{"$f":"ANS6+ANS8+ANS10+ANS12+ANS14+ANS16+ANS18+ANS20","v":{"v":0,"d":"0%"}},null,{"$f":"ANU6+ANU8+ANU10+ANU12+ANU14+ANU16+ANU18+ANU20","v":{"v":0,"d":"0%"}},null,{"$f":"ANW6+ANW8+ANW10+ANW12+ANW14+ANW16+ANW18+ANW20","v":{"v":0,"d":"0%"}},null,{"$f":"ANY6+ANY8+ANY10+ANY12+ANY14+ANY16+ANY18+ANY20","v":{"v":0,"d":"0%"}},null,{"$f":"AOA6+AOA8+AOA10+AOA12+AOA14+AOA16+AOA18+AOA20","v":{"v":0,"d":"0%"}},null,{"$f":"AOC6+AOC8+AOC10+AOC12+AOC14+AOC16+AOC18+AOC20","v":{"v":0,"d":"0%"}},null,{"$f":"AOE6+AOE8+AOE10+AOE12+AOE14+AOE16+AOE18+AOE20","v":{"v":0,"d":"0%"}},null,{"$f":"AOG6+AOG8+AOG10+AOG12+AOG14+AOG16+AOG18+AOG20","v":{"v":0,"d":"0%"}},null,{"$f":"AOI6+AOI8+AOI10+AOI12+AOI14+AOI16+AOI18+AOI20","v":{"v":0,"d":"0%"}},null,{"$f":"AOK6+AOK8+AOK10+AOK12+AOK14+AOK16+AOK18+AOK20","v":{"v":0,"d":"0%"}},null,{"$f":"AOM6+AOM8+AOM10+AOM12+AOM14+AOM16+AOM18+AOM20","v":{"v":0,"d":"0%"}},null,{"$f":"AOO6+AOO8+AOO10+AOO12+AOO14+AOO16+AOO18+AOO20","v":{"v":0,"d":"0%"}},null,{"$f":"AOQ6+AOQ8+AOQ10+AOQ12+AOQ14+AOQ16+AOQ18+AOQ20","v":{"v":0,"d":"0%"}},null,{"$f":"AOS6+AOS8+AOS10+AOS12+AOS14+AOS16+AOS18+AOS20","v":{"v":0,"d":"0%"}},null,{"$f":"AOU6+AOU8+AOU10+AOU12+AOU14+AOU16+AOU18+AOU20","v":{"v":0,"d":"0%"}},null,{"$f":"AOW6+AOW8+AOW10+AOW12+AOW14+AOW16+AOW18+AOW20","v":{"v":0,"d":"0%"}},null,{"$f":"AOY6+AOY8+AOY10+AOY12+AOY14+AOY16+AOY18+AOY20","v":{"v":0,"d":"0%"}},null,{"$f":"APA6+APA8+APA10+APA12+APA14+APA16+APA18+APA20","v":{"v":0,"d":"0%"}},null,{"$f":"APC6+APC8+APC10+APC12+APC14+APC16+APC18+APC20","v":{"v":0,"d":"0%"}},null,{"$f":"APE6+APE8+APE10+APE12+APE14+APE16+APE18+APE20","v":{"v":0,"d":"0%"}},null,{"$f":"APG6+APG8+APG10+APG12+APG14+APG16+APG18+APG20","v":{"v":0,"d":"0%"}},null,{"$f":"API6+API8+API10+API12+API14+API16+API18+API20","v":{"v":0,"d":"0%"}},null,{"$f":"APK6+APK8+APK10+APK12+APK14+APK16+APK18+APK20","v":{"v":0,"d":"0%"}},null,{"$f":"APM6+APM8+APM10+APM12+APM14+APM16+APM18+APM20","v":{"v":0,"d":"0%"}},null,{"$f":"APO6+APO8+APO10+APO12+APO14+APO16+APO18+APO20","v":{"v":0,"d":"0%"}},null,{"$f":"APQ6+APQ8+APQ10+APQ12+APQ14+APQ16+APQ18+APQ20","v":{"v":0,"d":"0%"}},null,{"$f":"APS6+APS8+APS10+APS12+APS14+APS16+APS18+APS20","v":{"v":0,"d":"0%"}},null,{"$f":"APU6+APU8+APU10+APU12+APU14+APU16+APU18+APU20","v":{"v":0,"d":"0%"}},null,{"$f":"APW6+APW8+APW10+APW12+APW14+APW16+APW18+APW20","v":{"v":0,"d":"0%"}},null,{"$f":"APY6+APY8+APY10+APY12+APY14+APY16+APY18+APY20","v":{"v":0,"d":"0%"}},null,{"$f":"AQA6+AQA8+AQA10+AQA12+AQA14+AQA16+AQA18+AQA20","v":{"v":0,"d":"0%"}},null,{"$f":"AQC6+AQC8+AQC10+AQC12+AQC14+AQC16+AQC18+AQC20","v":{"v":0,"d":"0%"}},null,{"$f":"AQE6+AQE8+AQE10+AQE12+AQE14+AQE16+AQE18+AQE20","v":{"v":0,"d":"0%"}},null,{"$f":"AQG6+AQG8+AQG10+AQG12+AQG14+AQG16+AQG18+AQG20","v":{"v":0,"d":"0%"}},null,{"$f":"AQI6+AQI8+AQI10+AQI12+AQI14+AQI16+AQI18+AQI20","v":{"v":0,"d":"0%"}},null,{"$f":"AQK6+AQK8+AQK10+AQK12+AQK14+AQK16+AQK18+AQK20","v":{"v":0,"d":"0%"}},null,{"$f":"AQM6+AQM8+AQM10+AQM12+AQM14+AQM16+AQM18+AQM20","v":{"v":0,"d":"0%"}},null,{"$f":"AQO6+AQO8+AQO10+AQO12+AQO14+AQO16+AQO18+AQO20","v":{"v":0,"d":"0%"}},null,{"$f":"AQQ6+AQQ8+AQQ10+AQQ12+AQQ14+AQQ16+AQQ18+AQQ20","v":{"v":0,"d":"0%"}},null,{"$f":"AQS6+AQS8+AQS10+AQS12+AQS14+AQS16+AQS18+AQS20","v":{"v":0,"d":"0%"}},null,{"$f":"AQU6+AQU8+AQU10+AQU12+AQU14+AQU16+AQU18+AQU20","v":{"v":0,"d":"0%"}},null,{"$f":"AQW6+AQW8+AQW10+AQW12+AQW14+AQW16+AQW18+AQW20","v":{"v":0,"d":"0%"}},null,{"$f":"AQY6+AQY8+AQY10+AQY12+AQY14+AQY16+AQY18+AQY20","v":{"v":0,"d":"0%"}},null,{"$f":"ARA6+ARA8+ARA10+ARA12+ARA14+ARA16+ARA18+ARA20","v":{"v":0,"d":"0%"}},null,{"$f":"ARC6+ARC8+ARC10+ARC12+ARC14+ARC16+ARC18+ARC20","v":{"v":0,"d":"0%"}},null,{"$f":"ARE6+ARE8+ARE10+ARE12+ARE14+ARE16+ARE18+ARE20","v":{"v":0,"d":"0%"}},null,{"$f":"ARG6+ARG8+ARG10+ARG12+ARG14+ARG16+ARG18+ARG20","v":{"v":0,"d":"0%"}},null,{"$f":"ARI6+ARI8+ARI10+ARI12+ARI14+ARI16+ARI18+ARI20","v":{"v":0,"d":"0%"}},null,{"$f":"ARK6+ARK8+ARK10+ARK12+ARK14+ARK16+ARK18+ARK20","v":{"v":0,"d":"0%"}},null,{"$f":"ARM6+ARM8+ARM10+ARM12+ARM14+ARM16+ARM18+ARM20","v":{"v":0,"d":"0%"}},null,{"$f":"ARO6+ARO8+ARO10+ARO12+ARO14+ARO16+ARO18+ARO20","v":{"v":0,"d":"0%"}},null,{"$f":"ARQ6+ARQ8+ARQ10+ARQ12+ARQ14+ARQ16+ARQ18+ARQ20","v":{"v":0,"d":"0%"}},null,{"$f":"ARS6+ARS8+ARS10+ARS12+ARS14+ARS16+ARS18+ARS20","v":{"v":0,"d":"0%"}},null,{"$f":"ARU6+ARU8+ARU10+ARU12+ARU14+ARU16+ARU18+ARU20","v":{"v":0,"d":"0%"}},null,{"$f":"ARW6+ARW8+ARW10+ARW12+ARW14+ARW16+ARW18+ARW20","v":{"v":0,"d":"0%"}},null,{"$f":"ARY6+ARY8+ARY10+ARY12+ARY14+ARY16+ARY18+ARY20","v":{"v":0,"d":"0%"}},null,{"$f":"ASA6+ASA8+ASA10+ASA12+ASA14+ASA16+ASA18+ASA20","v":{"v":0,"d":"0%"}},null,{"$f":"ASC6+ASC8+ASC10+ASC12+ASC14+ASC16+ASC18+ASC20","v":{"v":0,"d":"0%"}},null,{"$f":"ASE6+ASE8+ASE10+ASE12+ASE14+ASE16+ASE18+ASE20","v":{"v":0,"d":"0%"}},null,{"$f":"ASG6+ASG8+ASG10+ASG12+ASG14+ASG16+ASG18+ASG20","v":{"v":0,"d":"0%"}},null,{"$f":"ASI6+ASI8+ASI10+ASI12+ASI14+ASI16+ASI18+ASI20","v":{"v":0,"d":"0%"}},null,{"$f":"ASK6+ASK8+ASK10+ASK12+ASK14+ASK16+ASK18+ASK20","v":{"v":0,"d":"0%"}},null,{"$f":"ASM6+ASM8+ASM10+ASM12+ASM14+ASM16+ASM18+ASM20","v":{"v":0,"d":"0%"}},null,{"$f":"ASO6+ASO8+ASO10+ASO12+ASO14+ASO16+ASO18+ASO20","v":{"v":0,"d":"0%"}},null,{"$f":"ASQ6+ASQ8+ASQ10+ASQ12+ASQ14+ASQ16+ASQ18+ASQ20","v":{"v":0,"d":"0%"}},null,{"$f":"ASS6+ASS8+ASS10+ASS12+ASS14+ASS16+ASS18+ASS20","v":{"v":0,"d":"0%"}},null,{"$f":"ASU6+ASU8+ASU10+ASU12+ASU14+ASU16+ASU18+ASU20","v":{"v":0,"d":"0%"}},null,{"$f":"ASW6+ASW8+ASW10+ASW12+ASW14+ASW16+ASW18+ASW20","v":{"v":0,"d":"0%"}},null,{"$f":"ASY6+ASY8+ASY10+ASY12+ASY14+ASY16+ASY18+ASY20","v":{"v":0,"d":"0%"}},null,{"$f":"ATA6+ATA8+ATA10+ATA12+ATA14+ATA16+ATA18+ATA20","v":{"v":0,"d":"0%"}},null,{"$f":"ATC6+ATC8+ATC10+ATC12+ATC14+ATC16+ATC18+ATC20","v":{"v":0,"d":"0%"}},null,{"$f":"ATE6+ATE8+ATE10+ATE12+ATE14+ATE16+ATE18+ATE20","v":{"v":0,"d":"0%"}},null,{"$f":"ATG6+ATG8+ATG10+ATG12+ATG14+ATG16+ATG18+ATG20","v":{"v":0,"d":"0%"}},null,{"$f":"ATI6+ATI8+ATI10+ATI12+ATI14+ATI16+ATI18+ATI20","v":{"v":0,"d":"0%"}},null,{"$f":"ATK6+ATK8+ATK10+ATK12+ATK14+ATK16+ATK18+ATK20","v":{"v":0,"d":"0%"}},null,{"$f":"ATM6+ATM8+ATM10+ATM12+ATM14+ATM16+ATM18+ATM20","v":{"v":0,"d":"0%"}},null,{"$f":"ATO6+ATO8+ATO10+ATO12+ATO14+ATO16+ATO18+ATO20","v":{"v":0,"d":"0%"}},null,{"$f":"ATQ6+ATQ8+ATQ10+ATQ12+ATQ14+ATQ16+ATQ18+ATQ20","v":{"v":0,"d":"0%"}},null,{"$f":"ATS6+ATS8+ATS10+ATS12+ATS14+ATS16+ATS18+ATS20","v":{"v":0,"d":"0%"}},null,{"$f":"ATU6+ATU8+ATU10+ATU12+ATU14+ATU16+ATU18+ATU20","v":{"v":0,"d":"0%"}},null,{"$f":"ATW6+ATW8+ATW10+ATW12+ATW14+ATW16+ATW18+ATW20","v":{"v":0,"d":"0%"}},null,{"$f":"ATY6+ATY8+ATY10+ATY12+ATY14+ATY16+ATY18+ATY20","v":{"v":0,"d":"0%"}},null,{"$f":"AUA6+AUA8+AUA10+AUA12+AUA14+AUA16+AUA18+AUA20","v":{"v":0,"d":"0%"}},null,{"$f":"AUC6+AUC8+AUC10+AUC12+AUC14+AUC16+AUC18+AUC20","v":{"v":0,"d":"0%"}},null,{"$f":"AUE6+AUE8+AUE10+AUE12+AUE14+AUE16+AUE18+AUE20","v":{"v":0,"d":"0%"}},null,{"$f":"AUG6+AUG8+AUG10+AUG12+AUG14+AUG16+AUG18+AUG20","v":{"v":0,"d":"0%"}},null,{"$f":"AUI6+AUI8+AUI10+AUI12+AUI14+AUI16+AUI18+AUI20","v":{"v":0,"d":"0%"}},null,{"$f":"AUK6+AUK8+AUK10+AUK12+AUK14+AUK16+AUK18+AUK20","v":{"v":0,"d":"0%"}},null,{"$f":"AUM6+AUM8+AUM10+AUM12+AUM14+AUM16+AUM18+AUM20","v":{"v":0,"d":"0%"}},null,{"$f":"AUO6+AUO8+AUO10+AUO12+AUO14+AUO16+AUO18+AUO20","v":{"v":0,"d":"0%"}},null,{"$f":"AUQ6+AUQ8+AUQ10+AUQ12+AUQ14+AUQ16+AUQ18+AUQ20","v":{"v":0,"d":"0%"}},null,{"$f":"AUS6+AUS8+AUS10+AUS12+AUS14+AUS16+AUS18+AUS20","v":{"v":0,"d":"0%"}},null,{"$f":"AUU6+AUU8+AUU10+AUU12+AUU14+AUU16+AUU18+AUU20","v":{"v":0,"d":"0%"}},null,{"$f":"AUW6+AUW8+AUW10+AUW12+AUW14+AUW16+AUW18+AUW20","v":{"v":0,"d":"0%"}},null,{"$f":"AUY6+AUY8+AUY10+AUY12+AUY14+AUY16+AUY18+AUY20","v":{"v":0,"d":"0%"}},null,{"$f":"AVA6+AVA8+AVA10+AVA12+AVA14+AVA16+AVA18+AVA20","v":{"v":0,"d":"0%"}},null,{"$f":"AVC6+AVC8+AVC10+AVC12+AVC14+AVC16+AVC18+AVC20","v":{"v":0,"d":"0%"}},null,{"$f":"AVE6+AVE8+AVE10+AVE12+AVE14+AVE16+AVE18+AVE20","v":{"v":0,"d":"0%"}},null,{"$f":"AVG6+AVG8+AVG10+AVG12+AVG14+AVG16+AVG18+AVG20","v":{"v":0,"d":"0%"}},null,{"$f":"AVI6+AVI8+AVI10+AVI12+AVI14+AVI16+AVI18+AVI20","v":{"v":0,"d":"0%"}},null,{"$f":"AVK6+AVK8+AVK10+AVK12+AVK14+AVK16+AVK18+AVK20","v":{"v":0,"d":"0%"}},null,{"$f":"AVM6+AVM8+AVM10+AVM12+AVM14+AVM16+AVM18+AVM20","v":{"v":0,"d":"0%"}},null,{"$f":"AVO6+AVO8+AVO10+AVO12+AVO14+AVO16+AVO18+AVO20","v":{"v":0,"d":"0%"}},null,{"$f":"AVQ6+AVQ8+AVQ10+AVQ12+AVQ14+AVQ16+AVQ18+AVQ20","v":{"v":0,"d":"0%"}},null,{"$f":"AVS6+AVS8+AVS10+AVS12+AVS14+AVS16+AVS18+AVS20","v":{"v":0,"d":"0%"}},null,{"$f":"AVU6+AVU8+AVU10+AVU12+AVU14+AVU16+AVU18+AVU20","v":{"v":0,"d":"0%"}},null,{"$f":"AVW6+AVW8+AVW10+AVW12+AVW14+AVW16+AVW18+AVW20","v":{"v":0,"d":"0%"}},null,{"$f":"AVY6+AVY8+AVY10+AVY12+AVY14+AVY16+AVY18+AVY20","v":{"v":0,"d":"0%"}},null,{"$f":"AWA6+AWA8+AWA10+AWA12+AWA14+AWA16+AWA18+AWA20","v":{"v":0,"d":"0%"}},null,{"$f":"AWC6+AWC8+AWC10+AWC12+AWC14+AWC16+AWC18+AWC20","v":{"v":0,"d":"0%"}},null,{"$f":"AWE6+AWE8+AWE10+AWE12+AWE14+AWE16+AWE18+AWE20","v":{"v":0,"d":"0%"}},null,{"$f":"AWG6+AWG8+AWG10+AWG12+AWG14+AWG16+AWG18+AWG20","v":{"v":0,"d":"0%"}},null,{"$f":"AWI6+AWI8+AWI10+AWI12+AWI14+AWI16+AWI18+AWI20","v":{"v":0,"d":"0%"}},null,{"$f":"AWK6+AWK8+AWK10+AWK12+AWK14+AWK16+AWK18+AWK20","v":{"v":0,"d":"0%"}},null,{"$f":"AWM6+AWM8+AWM10+AWM12+AWM14+AWM16+AWM18+AWM20","v":{"v":0,"d":"0%"}},null,{"$f":"AWO6+AWO8+AWO10+AWO12+AWO14+AWO16+AWO18+AWO20","v":{"v":0,"d":"0%"}},null,{"$f":"AWQ6+AWQ8+AWQ10+AWQ12+AWQ14+AWQ16+AWQ18+AWQ20","v":{"v":0,"d":"0%"}},null,{"$f":"AWS6+AWS8+AWS10+AWS12+AWS14+AWS16+AWS18+AWS20","v":{"v":0,"d":"0%"}},null,{"$f":"AWU6+AWU8+AWU10+AWU12+AWU14+AWU16+AWU18+AWU20","v":{"v":0,"d":"0%"}},null,{"$f":"AWW6+AWW8+AWW10+AWW12+AWW14+AWW16+AWW18+AWW20","v":{"v":0,"d":"0%"}},null,{"$f":"AWY6+AWY8+AWY10+AWY12+AWY14+AWY16+AWY18+AWY20","v":{"v":0,"d":"0%"}},null,{"$f":"AXA6+AXA8+AXA10+AXA12+AXA14+AXA16+AXA18+AXA20","v":{"v":0,"d":"0%"}},null,{"$f":"AXC6+AXC8+AXC10+AXC12+AXC14+AXC16+AXC18+AXC20","v":{"v":0,"d":"0%"}},null,{"$f":"AXE6+AXE8+AXE10+AXE12+AXE14+AXE16+AXE18+AXE20","v":{"v":0,"d":"0%"}},null,{"$f":"AXG6+AXG8+AXG10+AXG12+AXG14+AXG16+AXG18+AXG20","v":{"v":0,"d":"0%"}},null,{"$f":"AXI6+AXI8+AXI10+AXI12+AXI14+AXI16+AXI18+AXI20","v":{"v":0,"d":"0%"}},null,{"$f":"AXK6+AXK8+AXK10+AXK12+AXK14+AXK16+AXK18+AXK20","v":{"v":0,"d":"0%"}},null,{"$f":"AXM6+AXM8+AXM10+AXM12+AXM14+AXM16+AXM18+AXM20","v":{"v":0,"d":"0%"}},null,{"$f":"AXO6+AXO8+AXO10+AXO12+AXO14+AXO16+AXO18+AXO20","v":{"v":0,"d":"0%"}},null,{"$f":"AXQ6+AXQ8+AXQ10+AXQ12+AXQ14+AXQ16+AXQ18+AXQ20","v":{"v":0,"d":"0%"}},null,{"$f":"AXS6+AXS8+AXS10+AXS12+AXS14+AXS16+AXS18+AXS20","v":{"v":0,"d":"0%"}},null,{"$f":"AXU6+AXU8+AXU10+AXU12+AXU14+AXU16+AXU18+AXU20","v":{"v":0,"d":"0%"}},null,{"$f":"AXW6+AXW8+AXW10+AXW12+AXW14+AXW16+AXW18+AXW20","v":{"v":0,"d":"0%"}},null,{"$f":"AXY6+AXY8+AXY10+AXY12+AXY14+AXY16+AXY18+AXY20","v":{"v":0,"d":"0%"}},null,{"$f":"AYA6+AYA8+AYA10+AYA12+AYA14+AYA16+AYA18+AYA20","v":{"v":0,"d":"0%"}},null,{"$f":"AYC6+AYC8+AYC10+AYC12+AYC14+AYC16+AYC18+AYC20","v":{"v":0,"d":"0%"}},null,{"$f":"AYE6+AYE8+AYE10+AYE12+AYE14+AYE16+AYE18+AYE20","v":{"v":0,"d":"0%"}},null,{"$f":"AYG6+AYG8+AYG10+AYG12+AYG14+AYG16+AYG18+AYG20","v":{"v":0,"d":"0%"}},null,{"$f":"AYI6+AYI8+AYI10+AYI12+AYI14+AYI16+AYI18+AYI20","v":{"v":0,"d":"0%"}},null,{"$f":"AYK6+AYK8+AYK10+AYK12+AYK14+AYK16+AYK18+AYK20","v":{"v":0,"d":"0%"}},null,{"$f":"AYM6+AYM8+AYM10+AYM12+AYM14+AYM16+AYM18+AYM20","v":{"v":0,"d":"0%"}},null,{"$f":"AYO6+AYO8+AYO10+AYO12+AYO14+AYO16+AYO18+AYO20","v":{"v":0,"d":"0%"}},null,{"$f":"AYQ6+AYQ8+AYQ10+AYQ12+AYQ14+AYQ16+AYQ18+AYQ20","v":{"v":0,"d":"0%"}},null,{"$f":"AYS6+AYS8+AYS10+AYS12+AYS14+AYS16+AYS18+AYS20","v":{"v":0,"d":"0%"}},null,{"$f":"AYU6+AYU8+AYU10+AYU12+AYU14+AYU16+AYU18+AYU20","v":{"v":0,"d":"0%"}},null,{"$f":"AYW6+AYW8+AYW10+AYW12+AYW14+AYW16+AYW18+AYW20","v":{"v":0,"d":"0%"}},null,{"$f":"AYY6+AYY8+AYY10+AYY12+AYY14+AYY16+AYY18+AYY20","v":{"v":0,"d":"0%"}},null,{"$f":"AZA6+AZA8+AZA10+AZA12+AZA14+AZA16+AZA18+AZA20","v":{"v":0,"d":"0%"}},null,{"$f":"AZC6+AZC8+AZC10+AZC12+AZC14+AZC16+AZC18+AZC20","v":{"v":0,"d":"0%"}},null,{"$f":"AZE6+AZE8+AZE10+AZE12+AZE14+AZE16+AZE18+AZE20","v":{"v":0,"d":"0%"}},null,{"$f":"AZG6+AZG8+AZG10+AZG12+AZG14+AZG16+AZG18+AZG20","v":{"v":0,"d":"0%"}},null,{"$f":"AZI6+AZI8+AZI10+AZI12+AZI14+AZI16+AZI18+AZI20","v":{"v":0,"d":"0%"}},null,{"$f":"AZK6+AZK8+AZK10+AZK12+AZK14+AZK16+AZK18+AZK20","v":{"v":0,"d":"0%"}},null,{"$f":"AZM6+AZM8+AZM10+AZM12+AZM14+AZM16+AZM18+AZM20","v":{"v":0,"d":"0%"}},null,{"$f":"AZO6+AZO8+AZO10+AZO12+AZO14+AZO16+AZO18+AZO20","v":{"v":0,"d":"0%"}},null,{"$f":"AZQ6+AZQ8+AZQ10+AZQ12+AZQ14+AZQ16+AZQ18+AZQ20","v":{"v":0,"d":"0%"}},null,{"$f":"AZS6+AZS8+AZS10+AZS12+AZS14+AZS16+AZS18+AZS20","v":{"v":0,"d":"0%"}},null,{"$f":"AZU6+AZU8+AZU10+AZU12+AZU14+AZU16+AZU18+AZU20","v":{"v":0,"d":"0%"}},null,{"$f":"AZW6+AZW8+AZW10+AZW12+AZW14+AZW16+AZW18+AZW20","v":{"v":0,"d":"0%"}},null,{"$f":"AZY6+AZY8+AZY10+AZY12+AZY14+AZY16+AZY18+AZY20","v":{"v":0,"d":"0%"}},null,{"$f":"BAA6+BAA8+BAA10+BAA12+BAA14+BAA16+BAA18+BAA20","v":{"v":0,"d":"0%"}},null,{"$f":"BAC6+BAC8+BAC10+BAC12+BAC14+BAC16+BAC18+BAC20","v":{"v":0,"d":"0%"}},null,{"$f":"BAE6+BAE8+BAE10+BAE12+BAE14+BAE16+BAE18+BAE20","v":{"v":0,"d":"0%"}},null,{"$f":"BAG6+BAG8+BAG10+BAG12+BAG14+BAG16+BAG18+BAG20","v":{"v":0,"d":"0%"}},null,{"$f":"BAI6+BAI8+BAI10+BAI12+BAI14+BAI16+BAI18+BAI20","v":{"v":0,"d":"0%"}},null,{"$f":"BAK6+BAK8+BAK10+BAK12+BAK14+BAK16+BAK18+BAK20","v":{"v":0,"d":"0%"}},null,{"$f":"BAM6+BAM8+BAM10+BAM12+BAM14+BAM16+BAM18+BAM20","v":{"v":0,"d":"0%"}},null,{"$f":"BAO6+BAO8+BAO10+BAO12+BAO14+BAO16+BAO18+BAO20","v":{"v":0,"d":"0%"}},null,{"$f":"BAQ6+BAQ8+BAQ10+BAQ12+BAQ14+BAQ16+BAQ18+BAQ20","v":{"v":0,"d":"0%"}},null,{"$f":"BAS6+BAS8+BAS10+BAS12+BAS14+BAS16+BAS18+BAS20","v":{"v":0,"d":"0%"}},null,{"$f":"BAU6+BAU8+BAU10+BAU12+BAU14+BAU16+BAU18+BAU20","v":{"v":0,"d":"0%"}},null,{"$f":"BAW6+BAW8+BAW10+BAW12+BAW14+BAW16+BAW18+BAW20","v":{"v":0,"d":"0%"}},null,{"$f":"BAY6+BAY8+BAY10+BAY12+BAY14+BAY16+BAY18+BAY20","v":{"v":0,"d":"0%"}},null,{"$f":"BBA6+BBA8+BBA10+BBA12+BBA14+BBA16+BBA18+BBA20","v":{"v":0,"d":"0%"}},null,{"$f":"BBC6+BBC8+BBC10+BBC12+BBC14+BBC16+BBC18+BBC20","v":{"v":0,"d":"0%"}},null,{"$f":"BBE6+BBE8+BBE10+BBE12+BBE14+BBE16+BBE18+BBE20","v":{"v":0,"d":"0%"}},null,{"$f":"BBG6+BBG8+BBG10+BBG12+BBG14+BBG16+BBG18+BBG20","v":{"v":0,"d":"0%"}},null,{"$f":"BBI6+BBI8+BBI10+BBI12+BBI14+BBI16+BBI18+BBI20","v":{"v":0,"d":"0%"}},null,{"$f":"BBK6+BBK8+BBK10+BBK12+BBK14+BBK16+BBK18+BBK20","v":{"v":0,"d":"0%"}},null,{"$f":"BBM6+BBM8+BBM10+BBM12+BBM14+BBM16+BBM18+BBM20","v":{"v":0,"d":"0%"}},null,{"$f":"BBO6+BBO8+BBO10+BBO12+BBO14+BBO16+BBO18+BBO20","v":{"v":0,"d":"0%"}},null,{"$f":"BBQ6+BBQ8+BBQ10+BBQ12+BBQ14+BBQ16+BBQ18+BBQ20","v":{"v":0,"d":"0%"}},null,{"$f":"BBS6+BBS8+BBS10+BBS12+BBS14+BBS16+BBS18+BBS20","v":{"v":0,"d":"0%"}},null,{"$f":"BBU6+BBU8+BBU10+BBU12+BBU14+BBU16+BBU18+BBU20","v":{"v":0,"d":"0%"}},null,{"$f":"BBW6+BBW8+BBW10+BBW12+BBW14+BBW16+BBW18+BBW20","v":{"v":0,"d":"0%"}},null,{"$f":"BBY6+BBY8+BBY10+BBY12+BBY14+BBY16+BBY18+BBY20","v":{"v":0,"d":"0%"}},null,{"$f":"BCA6+BCA8+BCA10+BCA12+BCA14+BCA16+BCA18+BCA20","v":{"v":0,"d":"0%"}},null,{"$f":"BCC6+BCC8+BCC10+BCC12+BCC14+BCC16+BCC18+BCC20","v":{"v":0,"d":"0%"}},null,{"$f":"BCE6+BCE8+BCE10+BCE12+BCE14+BCE16+BCE18+BCE20","v":{"v":0,"d":"0%"}},null,{"$f":"BCG6+BCG8+BCG10+BCG12+BCG14+BCG16+BCG18+BCG20","v":{"v":0,"d":"0%"}},null,{"$f":"BCI6+BCI8+BCI10+BCI12+BCI14+BCI16+BCI18+BCI20","v":{"v":0,"d":"0%"}},null,{"$f":"BCK6+BCK8+BCK10+BCK12+BCK14+BCK16+BCK18+BCK20","v":{"v":0,"d":"0%"}},null,{"$f":"BCM6+BCM8+BCM10+BCM12+BCM14+BCM16+BCM18+BCM20","v":{"v":0,"d":"0%"}},null,{"$f":"BCO6+BCO8+BCO10+BCO12+BCO14+BCO16+BCO18+BCO20","v":{"v":0,"d":"0%"}},null,{"$f":"BCQ6+BCQ8+BCQ10+BCQ12+BCQ14+BCQ16+BCQ18+BCQ20","v":{"v":0,"d":"0%"}},null,{"$f":"BCS6+BCS8+BCS10+BCS12+BCS14+BCS16+BCS18+BCS20","v":{"v":0,"d":"0%"}},null,{"$f":"BCU6+BCU8+BCU10+BCU12+BCU14+BCU16+BCU18+BCU20","v":{"v":0,"d":"0%"}},null,{"$f":"BCW6+BCW8+BCW10+BCW12+BCW14+BCW16+BCW18+BCW20","v":{"v":0,"d":"0%"}},null,{"$f":"BCY6+BCY8+BCY10+BCY12+BCY14+BCY16+BCY18+BCY20","v":{"v":0,"d":"0%"}},null,{"$f":"BDA6+BDA8+BDA10+BDA12+BDA14+BDA16+BDA18+BDA20","v":{"v":0,"d":"0%"}},null,{"$f":"BDC6+BDC8+BDC10+BDC12+BDC14+BDC16+BDC18+BDC20","v":{"v":0,"d":"0%"}},null,{"$f":"BDE6+BDE8+BDE10+BDE12+BDE14+BDE16+BDE18+BDE20","v":{"v":0,"d":"0%"}},null,{"$f":"BDG6+BDG8+BDG10+BDG12+BDG14+BDG16+BDG18+BDG20","v":{"v":0,"d":"0%"}},null,{"$f":"BDI6+BDI8+BDI10+BDI12+BDI14+BDI16+BDI18+BDI20","v":{"v":0,"d":"0%"}},null,{"$f":"BDK6+BDK8+BDK10+BDK12+BDK14+BDK16+BDK18+BDK20","v":{"v":0,"d":"0%"}},null,{"$f":"BDM6+BDM8+BDM10+BDM12+BDM14+BDM16+BDM18+BDM20","v":{"v":0,"d":"0%"}},null,{"$f":"BDO6+BDO8+BDO10+BDO12+BDO14+BDO16+BDO18+BDO20","v":{"v":0,"d":"0%"}},null,{"$f":"BDQ6+BDQ8+BDQ10+BDQ12+BDQ14+BDQ16+BDQ18+BDQ20","v":{"v":0,"d":"0%"}},null,{"$f":"BDS6+BDS8+BDS10+BDS12+BDS14+BDS16+BDS18+BDS20","v":{"v":0,"d":"0%"}},null,{"$f":"BDU6+BDU8+BDU10+BDU12+BDU14+BDU16+BDU18+BDU20","v":{"v":0,"d":"0%"}},null,{"$f":"BDW6+BDW8+BDW10+BDW12+BDW14+BDW16+BDW18+BDW20","v":{"v":0,"d":"0%"}},null,{"$f":"BDY6+BDY8+BDY10+BDY12+BDY14+BDY16+BDY18+BDY20","v":{"v":0,"d":"0%"}},null,{"$f":"BEA6+BEA8+BEA10+BEA12+BEA14+BEA16+BEA18+BEA20","v":{"v":0,"d":"0%"}},null,{"$f":"BEC6+BEC8+BEC10+BEC12+BEC14+BEC16+BEC18+BEC20","v":{"v":0,"d":"0%"}},null,{"$f":"BEE6+BEE8+BEE10+BEE12+BEE14+BEE16+BEE18+BEE20","v":{"v":0,"d":"0%"}},null,{"$f":"BEG6+BEG8+BEG10+BEG12+BEG14+BEG16+BEG18+BEG20","v":{"v":0,"d":"0%"}},null,{"$f":"BEI6+BEI8+BEI10+BEI12+BEI14+BEI16+BEI18+BEI20","v":{"v":0,"d":"0%"}},null,{"$f":"BEK6+BEK8+BEK10+BEK12+BEK14+BEK16+BEK18+BEK20","v":{"v":0,"d":"0%"}},null,{"$f":"BEM6+BEM8+BEM10+BEM12+BEM14+BEM16+BEM18+BEM20","v":{"v":0,"d":"0%"}},null,{"$f":"BEO6+BEO8+BEO10+BEO12+BEO14+BEO16+BEO18+BEO20","v":{"v":0,"d":"0%"}},null,{"$f":"BEQ6+BEQ8+BEQ10+BEQ12+BEQ14+BEQ16+BEQ18+BEQ20","v":{"v":0,"d":"0%"}},null,{"$f":"BES6+BES8+BES10+BES12+BES14+BES16+BES18+BES20","v":{"v":0,"d":"0%"}},null,{"$f":"BEU6+BEU8+BEU10+BEU12+BEU14+BEU16+BEU18+BEU20","v":{"v":0,"d":"0%"}},null,{"$f":"BEW6+BEW8+BEW10+BEW12+BEW14+BEW16+BEW18+BEW20","v":{"v":0,"d":"0%"}},null,{"$f":"BEY6+BEY8+BEY10+BEY12+BEY14+BEY16+BEY18+BEY20","v":{"v":0,"d":"0%"}},null,{"$f":"BFA6+BFA8+BFA10+BFA12+BFA14+BFA16+BFA18+BFA20","v":{"v":0,"d":"0%"}},null,{"$f":"BFC6+BFC8+BFC10+BFC12+BFC14+BFC16+BFC18+BFC20","v":{"v":0,"d":"0%"}},null,{"$f":"BFE6+BFE8+BFE10+BFE12+BFE14+BFE16+BFE18+BFE20","v":{"v":0,"d":"0%"}},null,{"$f":"BFG6+BFG8+BFG10+BFG12+BFG14+BFG16+BFG18+BFG20","v":{"v":0,"d":"0%"}},null,{"$f":"BFI6+BFI8+BFI10+BFI12+BFI14+BFI16+BFI18+BFI20","v":{"v":0,"d":"0%"}},null,{"$f":"BFK6+BFK8+BFK10+BFK12+BFK14+BFK16+BFK18+BFK20","v":{"v":0,"d":"0%"}},null,{"$f":"BFM6+BFM8+BFM10+BFM12+BFM14+BFM16+BFM18+BFM20","v":{"v":0,"d":"0%"}},null,{"$f":"BFO6+BFO8+BFO10+BFO12+BFO14+BFO16+BFO18+BFO20","v":{"v":0,"d":"0%"}},null,{"$f":"BFQ6+BFQ8+BFQ10+BFQ12+BFQ14+BFQ16+BFQ18+BFQ20","v":{"v":0,"d":"0%"}},null,{"$f":"BFS6+BFS8+BFS10+BFS12+BFS14+BFS16+BFS18+BFS20","v":{"v":0,"d":"0%"}},null,{"$f":"BFU6+BFU8+BFU10+BFU12+BFU14+BFU16+BFU18+BFU20","v":{"v":0,"d":"0%"}},null,{"$f":"BFW6+BFW8+BFW10+BFW12+BFW14+BFW16+BFW18+BFW20","v":{"v":0,"d":"0%"}},null,{"$f":"BFY6+BFY8+BFY10+BFY12+BFY14+BFY16+BFY18+BFY20","v":{"v":0,"d":"0%"}},null,{"$f":"BGA6+BGA8+BGA10+BGA12+BGA14+BGA16+BGA18+BGA20","v":{"v":0,"d":"0%"}},null,{"$f":"BGC6+BGC8+BGC10+BGC12+BGC14+BGC16+BGC18+BGC20","v":{"v":0,"d":"0%"}},null,{"$f":"BGE6+BGE8+BGE10+BGE12+BGE14+BGE16+BGE18+BGE20","v":{"v":0,"d":"0%"}},null,{"$f":"BGG6+BGG8+BGG10+BGG12+BGG14+BGG16+BGG18+BGG20","v":{"v":0,"d":"0%"}},null,{"$f":"BGI6+BGI8+BGI10+BGI12+BGI14+BGI16+BGI18+BGI20","v":{"v":0,"d":"0%"}},null,{"$f":"BGK6+BGK8+BGK10+BGK12+BGK14+BGK16+BGK18+BGK20","v":{"v":0,"d":"0%"}},null,{"$f":"BGM6+BGM8+BGM10+BGM12+BGM14+BGM16+BGM18+BGM20","v":{"v":0,"d":"0%"}},null,{"$f":"BGO6+BGO8+BGO10+BGO12+BGO14+BGO16+BGO18+BGO20","v":{"v":0,"d":"0%"}},null,{"$f":"BGQ6+BGQ8+BGQ10+BGQ12+BGQ14+BGQ16+BGQ18+BGQ20","v":{"v":0,"d":"0%"}},null,{"$f":"BGS6+BGS8+BGS10+BGS12+BGS14+BGS16+BGS18+BGS20","v":{"v":0,"d":"0%"}},null,{"$f":"BGU6+BGU8+BGU10+BGU12+BGU14+BGU16+BGU18+BGU20","v":{"v":0,"d":"0%"}},null,{"$f":"BGW6+BGW8+BGW10+BGW12+BGW14+BGW16+BGW18+BGW20","v":{"v":0,"d":"0%"}},null,{"$f":"BGY6+BGY8+BGY10+BGY12+BGY14+BGY16+BGY18+BGY20","v":{"v":0,"d":"0%"}},null,{"$f":"BHA6+BHA8+BHA10+BHA12+BHA14+BHA16+BHA18+BHA20","v":{"v":0,"d":"0%"}},null,{"$f":"BHC6+BHC8+BHC10+BHC12+BHC14+BHC16+BHC18+BHC20","v":{"v":0,"d":"0%"}},null,{"$f":"BHE6+BHE8+BHE10+BHE12+BHE14+BHE16+BHE18+BHE20","v":{"v":0,"d":"0%"}},null,{"$f":"BHG6+BHG8+BHG10+BHG12+BHG14+BHG16+BHG18+BHG20","v":{"v":0,"d":"0%"}},null,{"$f":"BHI6+BHI8+BHI10+BHI12+BHI14+BHI16+BHI18+BHI20","v":{"v":0,"d":"0%"}},null,{"$f":"BHK6+BHK8+BHK10+BHK12+BHK14+BHK16+BHK18+BHK20","v":{"v":0,"d":"0%"}},null,{"$f":"BHM6+BHM8+BHM10+BHM12+BHM14+BHM16+BHM18+BHM20","v":{"v":0,"d":"0%"}},null,{"$f":"BHO6+BHO8+BHO10+BHO12+BHO14+BHO16+BHO18+BHO20","v":{"v":0,"d":"0%"}},null,{"$f":"BHQ6+BHQ8+BHQ10+BHQ12+BHQ14+BHQ16+BHQ18+BHQ20","v":{"v":0,"d":"0%"}},null,{"$f":"BHS6+BHS8+BHS10+BHS12+BHS14+BHS16+BHS18+BHS20","v":{"v":0,"d":"0%"}},null,{"$f":"BHU6+BHU8+BHU10+BHU12+BHU14+BHU16+BHU18+BHU20","v":{"v":0,"d":"0%"}},null,{"$f":"BHW6+BHW8+BHW10+BHW12+BHW14+BHW16+BHW18+BHW20","v":{"v":0,"d":"0%"}},null,{"$f":"BHY6+BHY8+BHY10+BHY12+BHY14+BHY16+BHY18+BHY20","v":{"v":0,"d":"0%"}},null,{"$f":"BIA6+BIA8+BIA10+BIA12+BIA14+BIA16+BIA18+BIA20","v":{"v":0,"d":"0%"}},null,{"$f":"BIC6+BIC8+BIC10+BIC12+BIC14+BIC16+BIC18+BIC20","v":{"v":0,"d":"0%"}},null,{"$f":"BIE6+BIE8+BIE10+BIE12+BIE14+BIE16+BIE18+BIE20","v":{"v":0,"d":"0%"}},null,{"$f":"BIG6+BIG8+BIG10+BIG12+BIG14+BIG16+BIG18+BIG20","v":{"v":0,"d":"0%"}},null,{"$f":"BII6+BII8+BII10+BII12+BII14+BII16+BII18+BII20","v":{"v":0,"d":"0%"}},null,{"$f":"BIK6+BIK8+BIK10+BIK12+BIK14+BIK16+BIK18+BIK20","v":{"v":0,"d":"0%"}},null,{"$f":"BIM6+BIM8+BIM10+BIM12+BIM14+BIM16+BIM18+BIM20","v":{"v":0,"d":"0%"}},null,{"$f":"BIO6+BIO8+BIO10+BIO12+BIO14+BIO16+BIO18+BIO20","v":{"v":0,"d":"0%"}},null,{"$f":"BIQ6+BIQ8+BIQ10+BIQ12+BIQ14+BIQ16+BIQ18+BIQ20","v":{"v":0,"d":"0%"}},null,{"$f":"BIS6+BIS8+BIS10+BIS12+BIS14+BIS16+BIS18+BIS20","v":{"v":0,"d":"0%"}},null,{"$f":"BIU6+BIU8+BIU10+BIU12+BIU14+BIU16+BIU18+BIU20","v":{"v":0,"d":"0%"}},null,{"$f":"BIW6+BIW8+BIW10+BIW12+BIW14+BIW16+BIW18+BIW20","v":{"v":0,"d":"0%"}},null,{"$f":"BIY6+BIY8+BIY10+BIY12+BIY14+BIY16+BIY18+BIY20","v":{"v":0,"d":"0%"}},null,{"$f":"BJA6+BJA8+BJA10+BJA12+BJA14+BJA16+BJA18+BJA20","v":{"v":0,"d":"0%"}},null,{"$f":"BJC6+BJC8+BJC10+BJC12+BJC14+BJC16+BJC18+BJC20","v":{"v":0,"d":"0%"}},null,{"$f":"BJE6+BJE8+BJE10+BJE12+BJE14+BJE16+BJE18+BJE20","v":{"v":0,"d":"0%"}},null,{"$f":"BJG6+BJG8+BJG10+BJG12+BJG14+BJG16+BJG18+BJG20","v":{"v":0,"d":"0%"}},null,{"$f":"BJI6+BJI8+BJI10+BJI12+BJI14+BJI16+BJI18+BJI20","v":{"v":0,"d":"0%"}},null,{"$f":"BJK6+BJK8+BJK10+BJK12+BJK14+BJK16+BJK18+BJK20","v":{"v":0,"d":"0%"}},null,{"$f":"BJM6+BJM8+BJM10+BJM12+BJM14+BJM16+BJM18+BJM20","v":{"v":0,"d":"0%"}},null,{"$f":"BJO6+BJO8+BJO10+BJO12+BJO14+BJO16+BJO18+BJO20","v":{"v":0,"d":"0%"}},null,{"$f":"BJQ6+BJQ8+BJQ10+BJQ12+BJQ14+BJQ16+BJQ18+BJQ20","v":{"v":0,"d":"0%"}},null,{"$f":"BJS6+BJS8+BJS10+BJS12+BJS14+BJS16+BJS18+BJS20","v":{"v":0,"d":"0%"}},null,{"$f":"BJU6+BJU8+BJU10+BJU12+BJU14+BJU16+BJU18+BJU20","v":{"v":0,"d":"0%"}},null,{"$f":"BJW6+BJW8+BJW10+BJW12+BJW14+BJW16+BJW18+BJW20","v":{"v":0,"d":"0%"}},null,{"$f":"BJY6+BJY8+BJY10+BJY12+BJY14+BJY16+BJY18+BJY20","v":{"v":0,"d":"0%"}},null,{"$f":"BKA6+BKA8+BKA10+BKA12+BKA14+BKA16+BKA18+BKA20","v":{"v":0,"d":"0%"}},null,{"$f":"BKC6+BKC8+BKC10+BKC12+BKC14+BKC16+BKC18+BKC20","v":{"v":0,"d":"0%"}},null,{"$f":"BKE6+BKE8+BKE10+BKE12+BKE14+BKE16+BKE18+BKE20","v":{"v":0,"d":"0%"}},null,{"$f":"BKG6+BKG8+BKG10+BKG12+BKG14+BKG16+BKG18+BKG20","v":{"v":0,"d":"0%"}},null,{"$f":"BKI6+BKI8+BKI10+BKI12+BKI14+BKI16+BKI18+BKI20","v":{"v":0,"d":"0%"}},null,{"$f":"BKK6+BKK8+BKK10+BKK12+BKK14+BKK16+BKK18+BKK20","v":{"v":0,"d":"0%"}},null,{"$f":"BKM6+BKM8+BKM10+BKM12+BKM14+BKM16+BKM18+BKM20","v":{"v":0,"d":"0%"}},null,{"$f":"BKO6+BKO8+BKO10+BKO12+BKO14+BKO16+BKO18+BKO20","v":{"v":0,"d":"0%"}},null,{"$f":"BKQ6+BKQ8+BKQ10+BKQ12+BKQ14+BKQ16+BKQ18+BKQ20","v":{"v":0,"d":"0%"}},null,{"$f":"BKS6+BKS8+BKS10+BKS12+BKS14+BKS16+BKS18+BKS20","v":{"v":0,"d":"0%"}},null,{"$f":"BKU6+BKU8+BKU10+BKU12+BKU14+BKU16+BKU18+BKU20","v":{"v":0,"d":"0%"}},null,{"$f":"BKW6+BKW8+BKW10+BKW12+BKW14+BKW16+BKW18+BKW20","v":{"v":0,"d":"0%"}},null,{"$f":"BKY6+BKY8+BKY10+BKY12+BKY14+BKY16+BKY18+BKY20","v":{"v":0,"d":"0%"}},null,{"$f":"BLA6+BLA8+BLA10+BLA12+BLA14+BLA16+BLA18+BLA20","v":{"v":0,"d":"0%"}},null,{"$f":"BLC6+BLC8+BLC10+BLC12+BLC14+BLC16+BLC18+BLC20","v":{"v":0,"d":"0%"}},null,{"$f":"BLE6+BLE8+BLE10+BLE12+BLE14+BLE16+BLE18+BLE20","v":{"v":0,"d":"0%"}},null,{"$f":"BLG6+BLG8+BLG10+BLG12+BLG14+BLG16+BLG18+BLG20","v":{"v":0,"d":"0%"}},null,{"$f":"BLI6+BLI8+BLI10+BLI12+BLI14+BLI16+BLI18+BLI20","v":{"v":0,"d":"0%"}},null,{"$f":"BLK6+BLK8+BLK10+BLK12+BLK14+BLK16+BLK18+BLK20","v":{"v":0,"d":"0%"}},null,{"$f":"BLM6+BLM8+BLM10+BLM12+BLM14+BLM16+BLM18+BLM20","v":{"v":0,"d":"0%"}},null,{"$f":"BLO6+BLO8+BLO10+BLO12+BLO14+BLO16+BLO18+BLO20","v":{"v":0,"d":"0%"}},null,{"$f":"BLQ6+BLQ8+BLQ10+BLQ12+BLQ14+BLQ16+BLQ18+BLQ20","v":{"v":0,"d":"0%"}},null,{"$f":"BLS6+BLS8+BLS10+BLS12+BLS14+BLS16+BLS18+BLS20","v":{"v":0,"d":"0%"}},null,{"$f":"BLU6+BLU8+BLU10+BLU12+BLU14+BLU16+BLU18+BLU20","v":{"v":0,"d":"0%"}},null,{"$f":"BLW6+BLW8+BLW10+BLW12+BLW14+BLW16+BLW18+BLW20","v":{"v":0,"d":"0%"}},null,{"$f":"BLY6+BLY8+BLY10+BLY12+BLY14+BLY16+BLY18+BLY20","v":{"v":0,"d":"0%"}},null,{"$f":"BMA6+BMA8+BMA10+BMA12+BMA14+BMA16+BMA18+BMA20","v":{"v":0,"d":"0%"}},null,{"$f":"BMC6+BMC8+BMC10+BMC12+BMC14+BMC16+BMC18+BMC20","v":{"v":0,"d":"0%"}},null,{"$f":"BME6+BME8+BME10+BME12+BME14+BME16+BME18+BME20","v":{"v":0,"d":"0%"}},null,{"$f":"BMG6+BMG8+BMG10+BMG12+BMG14+BMG16+BMG18+BMG20","v":{"v":0,"d":"0%"}},null,{"$f":"BMI6+BMI8+BMI10+BMI12+BMI14+BMI16+BMI18+BMI20","v":{"v":0,"d":"0%"}},null,{"$f":"BMK6+BMK8+BMK10+BMK12+BMK14+BMK16+BMK18+BMK20","v":{"v":0,"d":"0%"}},null,{"$f":"BMM6+BMM8+BMM10+BMM12+BMM14+BMM16+BMM18+BMM20","v":{"v":0,"d":"0%"}},null,{"$f":"BMO6+BMO8+BMO10+BMO12+BMO14+BMO16+BMO18+BMO20","v":{"v":0,"d":"0%"}},null,{"$f":"BMQ6+BMQ8+BMQ10+BMQ12+BMQ14+BMQ16+BMQ18+BMQ20","v":{"v":0,"d":"0%"}},null,{"$f":"BMS6+BMS8+BMS10+BMS12+BMS14+BMS16+BMS18+BMS20","v":{"v":0,"d":"0%"}},null,{"$f":"BMU6+BMU8+BMU10+BMU12+BMU14+BMU16+BMU18+BMU20","v":{"v":0,"d":"0%"}},null,{"$f":"BMW6+BMW8+BMW10+BMW12+BMW14+BMW16+BMW18+BMW20","v":{"v":0,"d":"0%"}},null,{"$f":"BMY6+BMY8+BMY10+BMY12+BMY14+BMY16+BMY18+BMY20","v":{"v":0,"d":"0%"}},null,{"$f":"BNA6+BNA8+BNA10+BNA12+BNA14+BNA16+BNA18+BNA20","v":{"v":0,"d":"0%"}},null,{"$f":"BNC6+BNC8+BNC10+BNC12+BNC14+BNC16+BNC18+BNC20","v":{"v":0,"d":"0%"}},null,{"$f":"BNE6+BNE8+BNE10+BNE12+BNE14+BNE16+BNE18+BNE20","v":{"v":0,"d":"0%"}},null,{"$f":"BNG6+BNG8+BNG10+BNG12+BNG14+BNG16+BNG18+BNG20","v":{"v":0,"d":"0%"}},null,{"$f":"BNI6+BNI8+BNI10+BNI12+BNI14+BNI16+BNI18+BNI20","v":{"v":0,"d":"0%"}},null,{"$f":"BNK6+BNK8+BNK10+BNK12+BNK14+BNK16+BNK18+BNK20","v":{"v":0,"d":"0%"}},null,{"$f":"BNM6+BNM8+BNM10+BNM12+BNM14+BNM16+BNM18+BNM20","v":{"v":0,"d":"0%"}},null,{"$f":"BNO6+BNO8+BNO10+BNO12+BNO14+BNO16+BNO18+BNO20","v":{"v":0,"d":"0%"}},null,{"$f":"BNQ6+BNQ8+BNQ10+BNQ12+BNQ14+BNQ16+BNQ18+BNQ20","v":{"v":0,"d":"0%"}},null,{"$f":"BNS6+BNS8+BNS10+BNS12+BNS14+BNS16+BNS18+BNS20","v":{"v":0,"d":"0%"}},null,{"$f":"BNU6+BNU8+BNU10+BNU12+BNU14+BNU16+BNU18+BNU20","v":{"v":0,"d":"0%"}},null,{"$f":"BNW6+BNW8+BNW10+BNW12+BNW14+BNW16+BNW18+BNW20","v":{"v":0,"d":"0%"}},null,{"$f":"BNY6+BNY8+BNY10+BNY12+BNY14+BNY16+BNY18+BNY20","v":{"v":0,"d":"0%"}},null,{"$f":"BOA6+BOA8+BOA10+BOA12+BOA14+BOA16+BOA18+BOA20","v":{"v":0,"d":"0%"}},null,{"$f":"BOC6+BOC8+BOC10+BOC12+BOC14+BOC16+BOC18+BOC20","v":{"v":0,"d":"0%"}},null,{"$f":"BOE6+BOE8+BOE10+BOE12+BOE14+BOE16+BOE18+BOE20","v":{"v":0,"d":"0%"}},null,{"$f":"BOG6+BOG8+BOG10+BOG12+BOG14+BOG16+BOG18+BOG20","v":{"v":0,"d":"0%"}},null,{"$f":"BOI6+BOI8+BOI10+BOI12+BOI14+BOI16+BOI18+BOI20","v":{"v":0,"d":"0%"}},null,{"$f":"BOK6+BOK8+BOK10+BOK12+BOK14+BOK16+BOK18+BOK20","v":{"v":0,"d":"0%"}},null,{"$f":"BOM6+BOM8+BOM10+BOM12+BOM14+BOM16+BOM18+BOM20","v":{"v":0,"d":"0%"}},null,{"$f":"BOO6+BOO8+BOO10+BOO12+BOO14+BOO16+BOO18+BOO20","v":{"v":0,"d":"0%"}},null,{"$f":"BOQ6+BOQ8+BOQ10+BOQ12+BOQ14+BOQ16+BOQ18+BOQ20","v":{"v":0,"d":"0%"}},null,{"$f":"BOS6+BOS8+BOS10+BOS12+BOS14+BOS16+BOS18+BOS20","v":{"v":0,"d":"0%"}},null,{"$f":"BOU6+BOU8+BOU10+BOU12+BOU14+BOU16+BOU18+BOU20","v":{"v":0,"d":"0%"}},null,{"$f":"BOW6+BOW8+BOW10+BOW12+BOW14+BOW16+BOW18+BOW20","v":{"v":0,"d":"0%"}},null,{"$f":"BOY6+BOY8+BOY10+BOY12+BOY14+BOY16+BOY18+BOY20","v":{"v":0,"d":"0%"}},null,{"$f":"BPA6+BPA8+BPA10+BPA12+BPA14+BPA16+BPA18+BPA20","v":{"v":0,"d":"0%"}},null,{"$f":"BPC6+BPC8+BPC10+BPC12+BPC14+BPC16+BPC18+BPC20","v":{"v":0,"d":"0%"}},null,{"$f":"BPE6+BPE8+BPE10+BPE12+BPE14+BPE16+BPE18+BPE20","v":{"v":0,"d":"0%"}},null,{"$f":"BPG6+BPG8+BPG10+BPG12+BPG14+BPG16+BPG18+BPG20","v":{"v":0,"d":"0%"}},null,{"$f":"BPI6+BPI8+BPI10+BPI12+BPI14+BPI16+BPI18+BPI20","v":{"v":0,"d":"0%"}},null,{"$f":"BPK6+BPK8+BPK10+BPK12+BPK14+BPK16+BPK18+BPK20","v":{"v":0,"d":"0%"}},null,{"$f":"BPM6+BPM8+BPM10+BPM12+BPM14+BPM16+BPM18+BPM20","v":{"v":0,"d":"0%"}},null,{"$f":"BPO6+BPO8+BPO10+BPO12+BPO14+BPO16+BPO18+BPO20","v":{"v":0,"d":"0%"}},null,{"$f":"BPQ6+BPQ8+BPQ10+BPQ12+BPQ14+BPQ16+BPQ18+BPQ20","v":{"v":0,"d":"0%"}},null,{"$f":"BPS6+BPS8+BPS10+BPS12+BPS14+BPS16+BPS18+BPS20","v":{"v":0,"d":"0%"}},null,{"$f":"BPU6+BPU8+BPU10+BPU12+BPU14+BPU16+BPU18+BPU20","v":{"v":0,"d":"0%"}},null,{"$f":"BPW6+BPW8+BPW10+BPW12+BPW14+BPW16+BPW18+BPW20","v":{"v":0,"d":"0%"}},null,{"$f":"BPY6+BPY8+BPY10+BPY12+BPY14+BPY16+BPY18+BPY20","v":{"v":0,"d":"0%"}},null,{"$f":"BQA6+BQA8+BQA10+BQA12+BQA14+BQA16+BQA18+BQA20","v":{"v":0,"d":"0%"}},null,{"$f":"BQC6+BQC8+BQC10+BQC12+BQC14+BQC16+BQC18+BQC20","v":{"v":0,"d":"0%"}},null,{"$f":"BQE6+BQE8+BQE10+BQE12+BQE14+BQE16+BQE18+BQE20","v":{"v":0,"d":"0%"}},null,{"$f":"BQG6+BQG8+BQG10+BQG12+BQG14+BQG16+BQG18+BQG20","v":{"v":0,"d":"0%"}},null,{"$f":"BQI6+BQI8+BQI10+BQI12+BQI14+BQI16+BQI18+BQI20","v":{"v":0,"d":"0%"}},null,{"$f":"BQK6+BQK8+BQK10+BQK12+BQK14+BQK16+BQK18+BQK20","v":{"v":0,"d":"0%"}},null,{"$f":"BQM6+BQM8+BQM10+BQM12+BQM14+BQM16+BQM18+BQM20","v":{"v":0,"d":"0%"}},null,{"$f":"BQO6+BQO8+BQO10+BQO12+BQO14+BQO16+BQO18+BQO20","v":{"v":0,"d":"0%"}},null,{"$f":"BQQ6+BQQ8+BQQ10+BQQ12+BQQ14+BQQ16+BQQ18+BQQ20","v":{"v":0,"d":"0%"}},null,{"$f":"BQS6+BQS8+BQS10+BQS12+BQS14+BQS16+BQS18+BQS20","v":{"v":0,"d":"0%"}},null,{"$f":"BQU6+BQU8+BQU10+BQU12+BQU14+BQU16+BQU18+BQU20","v":{"v":0,"d":"0%"}},null,{"$f":"BQW6+BQW8+BQW10+BQW12+BQW14+BQW16+BQW18+BQW20","v":{"v":0,"d":"0%"}},null,{"$f":"BQY6+BQY8+BQY10+BQY12+BQY14+BQY16+BQY18+BQY20","v":{"v":0,"d":"0%"}},null,{"$f":"BRA6+BRA8+BRA10+BRA12+BRA14+BRA16+BRA18+BRA20","v":{"v":0,"d":"0%"}},null,{"$f":"BRC6+BRC8+BRC10+BRC12+BRC14+BRC16+BRC18+BRC20","v":{"v":0,"d":"0%"}},null,{"$f":"BRE6+BRE8+BRE10+BRE12+BRE14+BRE16+BRE18+BRE20","v":{"v":0,"d":"0%"}},null,{"$f":"BRG6+BRG8+BRG10+BRG12+BRG14+BRG16+BRG18+BRG20","v":{"v":0,"d":"0%"}},null,{"$f":"BRI6+BRI8+BRI10+BRI12+BRI14+BRI16+BRI18+BRI20","v":{"v":0,"d":"0%"}},null,{"$f":"BRK6+BRK8+BRK10+BRK12+BRK14+BRK16+BRK18+BRK20","v":{"v":0,"d":"0%"}},null,{"$f":"BRM6+BRM8+BRM10+BRM12+BRM14+BRM16+BRM18+BRM20","v":{"v":0,"d":"0%"}},null,{"$f":"BRO6+BRO8+BRO10+BRO12+BRO14+BRO16+BRO18+BRO20","v":{"v":0,"d":"0%"}},null,{"$f":"BRQ6+BRQ8+BRQ10+BRQ12+BRQ14+BRQ16+BRQ18+BRQ20","v":{"v":0,"d":"0%"}},null,{"$f":"BRS6+BRS8+BRS10+BRS12+BRS14+BRS16+BRS18+BRS20","v":{"v":0,"d":"0%"}},null,{"$f":"BRU6+BRU8+BRU10+BRU12+BRU14+BRU16+BRU18+BRU20","v":{"v":0,"d":"0%"}},null,{"$f":"BRW6+BRW8+BRW10+BRW12+BRW14+BRW16+BRW18+BRW20","v":{"v":0,"d":"0%"}},null,{"$f":"BRY6+BRY8+BRY10+BRY12+BRY14+BRY16+BRY18+BRY20","v":{"v":0,"d":"0%"}},null,{"$f":"BSA6+BSA8+BSA10+BSA12+BSA14+BSA16+BSA18+BSA20","v":{"v":0,"d":"0%"}},null,{"$f":"BSC6+BSC8+BSC10+BSC12+BSC14+BSC16+BSC18+BSC20","v":{"v":0,"d":"0%"}},null,{"$f":"BSE6+BSE8+BSE10+BSE12+BSE14+BSE16+BSE18+BSE20","v":{"v":0,"d":"0%"}},null,{"$f":"BSG6+BSG8+BSG10+BSG12+BSG14+BSG16+BSG18+BSG20","v":{"v":0,"d":"0%"}},null,{"$f":"BSI6+BSI8+BSI10+BSI12+BSI14+BSI16+BSI18+BSI20","v":{"v":0,"d":"0%"}},null,{"$f":"BSK6+BSK8+BSK10+BSK12+BSK14+BSK16+BSK18+BSK20","v":{"v":0,"d":"0%"}},null,{"$f":"BSM6+BSM8+BSM10+BSM12+BSM14+BSM16+BSM18+BSM20","v":{"v":0,"d":"0%"}},null,{"$f":"BSO6+BSO8+BSO10+BSO12+BSO14+BSO16+BSO18+BSO20","v":{"v":0,"d":"0%"}},null,{"$f":"BSQ6+BSQ8+BSQ10+BSQ12+BSQ14+BSQ16+BSQ18+BSQ20","v":{"v":0,"d":"0%"}},null,{"$f":"BSS6+BSS8+BSS10+BSS12+BSS14+BSS16+BSS18+BSS20","v":{"v":0,"d":"0%"}},null,{"$f":"BSU6+BSU8+BSU10+BSU12+BSU14+BSU16+BSU18+BSU20","v":{"v":0,"d":"0%"}},null,{"$f":"BSW6+BSW8+BSW10+BSW12+BSW14+BSW16+BSW18+BSW20","v":{"v":0,"d":"0%"}},null,{"$f":"BSY6+BSY8+BSY10+BSY12+BSY14+BSY16+BSY18+BSY20","v":{"v":0,"d":"0%"}},null,{"$f":"BTA6+BTA8+BTA10+BTA12+BTA14+BTA16+BTA18+BTA20","v":{"v":0,"d":"0%"}},null,{"$f":"BTC6+BTC8+BTC10+BTC12+BTC14+BTC16+BTC18+BTC20","v":{"v":0,"d":"0%"}},null,{"$f":"BTE6+BTE8+BTE10+BTE12+BTE14+BTE16+BTE18+BTE20","v":{"v":0,"d":"0%"}},null,{"$f":"BTG6+BTG8+BTG10+BTG12+BTG14+BTG16+BTG18+BTG20","v":{"v":0,"d":"0%"}},null,{"$f":"BTI6+BTI8+BTI10+BTI12+BTI14+BTI16+BTI18+BTI20","v":{"v":0,"d":"0%"}},null,{"$f":"BTK6+BTK8+BTK10+BTK12+BTK14+BTK16+BTK18+BTK20","v":{"v":0,"d":"0%"}},null,{"$f":"BTM6+BTM8+BTM10+BTM12+BTM14+BTM16+BTM18+BTM20","v":{"v":0,"d":"0%"}},null,{"$f":"BTO6+BTO8+BTO10+BTO12+BTO14+BTO16+BTO18+BTO20","v":{"v":0,"d":"0%"}},null,{"$f":"BTQ6+BTQ8+BTQ10+BTQ12+BTQ14+BTQ16+BTQ18+BTQ20","v":{"v":0,"d":"0%"}},null,{"$f":"BTS6+BTS8+BTS10+BTS12+BTS14+BTS16+BTS18+BTS20","v":{"v":0,"d":"0%"}},null,{"$f":"BTU6+BTU8+BTU10+BTU12+BTU14+BTU16+BTU18+BTU20","v":{"v":0,"d":"0%"}},null,{"$f":"BTW6+BTW8+BTW10+BTW12+BTW14+BTW16+BTW18+BTW20","v":{"v":0,"d":"0%"}},null,{"$f":"BTY6+BTY8+BTY10+BTY12+BTY14+BTY16+BTY18+BTY20","v":{"v":0,"d":"0%"}},null,{"$f":"BUA6+BUA8+BUA10+BUA12+BUA14+BUA16+BUA18+BUA20","v":{"v":0,"d":"0%"}},null,{"$f":"BUC6+BUC8+BUC10+BUC12+BUC14+BUC16+BUC18+BUC20","v":{"v":0,"d":"0%"}},null,{"$f":"BUE6+BUE8+BUE10+BUE12+BUE14+BUE16+BUE18+BUE20","v":{"v":0,"d":"0%"}},null,{"$f":"BUG6+BUG8+BUG10+BUG12+BUG14+BUG16+BUG18+BUG20","v":{"v":0,"d":"0%"}},null,{"$f":"BUI6+BUI8+BUI10+BUI12+BUI14+BUI16+BUI18+BUI20","v":{"v":0,"d":"0%"}},null,{"$f":"BUK6+BUK8+BUK10+BUK12+BUK14+BUK16+BUK18+BUK20","v":{"v":0,"d":"0%"}},null,{"$f":"BUM6+BUM8+BUM10+BUM12+BUM14+BUM16+BUM18+BUM20","v":{"v":0,"d":"0%"}},null,{"$f":"BUO6+BUO8+BUO10+BUO12+BUO14+BUO16+BUO18+BUO20","v":{"v":0,"d":"0%"}},null,{"$f":"BUQ6+BUQ8+BUQ10+BUQ12+BUQ14+BUQ16+BUQ18+BUQ20","v":{"v":0,"d":"0%"}},null,{"$f":"BUS6+BUS8+BUS10+BUS12+BUS14+BUS16+BUS18+BUS20","v":{"v":0,"d":"0%"}},null,{"$f":"BUU6+BUU8+BUU10+BUU12+BUU14+BUU16+BUU18+BUU20","v":{"v":0,"d":"0%"}},null,{"$f":"BUW6+BUW8+BUW10+BUW12+BUW14+BUW16+BUW18+BUW20","v":{"v":0,"d":"0%"}},null,{"$f":"BUY6+BUY8+BUY10+BUY12+BUY14+BUY16+BUY18+BUY20","v":{"v":0,"d":"0%"}},null,{"$f":"BVA6+BVA8+BVA10+BVA12+BVA14+BVA16+BVA18+BVA20","v":{"v":0,"d":"0%"}},null,{"$f":"BVC6+BVC8+BVC10+BVC12+BVC14+BVC16+BVC18+BVC20","v":{"v":0,"d":"0%"}},null,{"$f":"BVE6+BVE8+BVE10+BVE12+BVE14+BVE16+BVE18+BVE20","v":{"v":0,"d":"0%"}},null,{"$f":"BVG6+BVG8+BVG10+BVG12+BVG14+BVG16+BVG18+BVG20","v":{"v":0,"d":"0%"}},null,{"$f":"BVI6+BVI8+BVI10+BVI12+BVI14+BVI16+BVI18+BVI20","v":{"v":0,"d":"0%"}},null,{"$f":"BVK6+BVK8+BVK10+BVK12+BVK14+BVK16+BVK18+BVK20","v":{"v":0,"d":"0%"}},null,{"$f":"BVM6+BVM8+BVM10+BVM12+BVM14+BVM16+BVM18+BVM20","v":{"v":0,"d":"0%"}},null,{"$f":"BVO6+BVO8+BVO10+BVO12+BVO14+BVO16+BVO18+BVO20","v":{"v":0,"d":"0%"}},null,{"$f":"BVQ6+BVQ8+BVQ10+BVQ12+BVQ14+BVQ16+BVQ18+BVQ20","v":{"v":0,"d":"0%"}},null,{"$f":"BVS6+BVS8+BVS10+BVS12+BVS14+BVS16+BVS18+BVS20","v":{"v":0,"d":"0%"}},null,{"$f":"BVU6+BVU8+BVU10+BVU12+BVU14+BVU16+BVU18+BVU20","v":{"v":0,"d":"0%"}},null,{"$f":"BVW6+BVW8+BVW10+BVW12+BVW14+BVW16+BVW18+BVW20","v":{"v":0,"d":"0%"}},null,{"$f":"BVY6+BVY8+BVY10+BVY12+BVY14+BVY16+BVY18+BVY20","v":{"v":0,"d":"0%"}},null,{"$f":"BWA6+BWA8+BWA10+BWA12+BWA14+BWA16+BWA18+BWA20","v":{"v":0,"d":"0%"}},null,{"$f":"BWC6+BWC8+BWC10+BWC12+BWC14+BWC16+BWC18+BWC20","v":{"v":0,"d":"0%"}},null,{"$f":"BWE6+BWE8+BWE10+BWE12+BWE14+BWE16+BWE18+BWE20","v":{"v":0,"d":"0%"}},null,{"$f":"BWG6+BWG8+BWG10+BWG12+BWG14+BWG16+BWG18+BWG20","v":{"v":0,"d":"0%"}},null,{"$f":"BWI6+BWI8+BWI10+BWI12+BWI14+BWI16+BWI18+BWI20","v":{"v":0,"d":"0%"}},null,{"$f":"BWK6+BWK8+BWK10+BWK12+BWK14+BWK16+BWK18+BWK20","v":{"v":0,"d":"0%"}},null,{"$f":"BWM6+BWM8+BWM10+BWM12+BWM14+BWM16+BWM18+BWM20","v":{"v":0,"d":"0%"}},null,{"$f":"BWO6+BWO8+BWO10+BWO12+BWO14+BWO16+BWO18+BWO20","v":{"v":0,"d":"0%"}},null,{"$f":"BWQ6+BWQ8+BWQ10+BWQ12+BWQ14+BWQ16+BWQ18+BWQ20","v":{"v":0,"d":"0%"}},null,{"$f":"BWS6+BWS8+BWS10+BWS12+BWS14+BWS16+BWS18+BWS20","v":{"v":0,"d":"0%"}},null,{"$f":"BWU6+BWU8+BWU10+BWU12+BWU14+BWU16+BWU18+BWU20","v":{"v":0,"d":"0%"}},null,{"$f":"BWW6+BWW8+BWW10+BWW12+BWW14+BWW16+BWW18+BWW20","v":{"v":0,"d":"0%"}},null,"実務経歴書記載の年月数　計"]
[{"$nulls":5},{"$f":"SUMPRODUCT((MOD(ROW(F5:F20),2)=1)*((F5:F20=\"○\")))","v":0},null,{"$f":"SUMPRODUCT((MOD(ROW(H5:H20),2)=1)*((H5:H20=\"○\")))","v":0},null,{"$f":"SUMPRODUCT((MOD(ROW(J5:J20),2)=1)*((J5:J20=\"○\")))","v":0},null,{"$f":"SUMPRODUCT((MOD(ROW(L5:L20),2)=1)*((L5:L20=\"○\")))","v":0},null,{"$f":"SUMPRODUCT((MOD(ROW(N5:N20),2)=1)*((N5:N20=\"○\")))","v":0},null,{"$f":"SUMPRODUCT((MOD(ROW(P5:P20),2)=1)*((P5:P20=\"○\")))","v":0},null,{"$f":"SUMPRODUCT((MOD(ROW(R5:R20),2)=1)*((R5:R20=\"○\")))","v":0},null,{"$f":"SUMPRODUCT((MOD(ROW(T5:T20),2)=1)*((T5:T20=\"○\")))","v":0},null,{"$f":"SUMPRODUCT((MOD(ROW(V5:V20),2)=1)*((V5:V20=\"○\")))","v":0},null,{"$f":"SUMPRODUCT((MOD(ROW(X5:X20),2)=1)*((X5:X20=\"○\")))","v":0},null,{"$f":"SUMPRODUCT((MOD(ROW(Z5:Z20),2)=1)*((Z5:Z20=\"○\")))","v":0},null,{"$f":"SUMPRODUCT((MOD(ROW(AB5:AB20),2)=1)*((AB5:AB20=\"○\")))","v":0},null,{"$f":"SUMPRODUCT((MOD(ROW(AD5:AD20),2)=1)*((AD5:AD20=\"○\")))","v":0},null,{"$f":"SUMPRODUCT((MOD(ROW(AF5:AF20),2)=1)*((AF5:AF20=\"○\")))","v":0},null,{"$f":"SUMPRODUCT((MOD(ROW(AH5:AH20),2)=1)*((AH5:AH20=\"○\")))","v":0},null,{"$f":"SUMPRODUCT((MOD(ROW(AJ5:AJ20),2)=1)*((AJ5:AJ20=\"○\")))","v":0},null,{"$f":"SUMPRODUCT((MOD(ROW(AL5:AL20),2)=1)*((AL5:AL20=\"○\")))","v":0},null,{"$f":"SUMPRODUCT((MOD(ROW(AN5:AN20),2)=1)*((AN5:AN20=\"○\")))","v":0},null,{"$f":"SUMPRODUCT((MOD(ROW(AP5:AP20),2)=1)*((AP5:AP20=\"○\")))","v":0},null,{"$f":"SUMPRODUCT((MOD(ROW(AR5:AR20),2)=1)*((AR5:AR20=\"○\")))","v":0},null,{"$f":"SUMPRODUCT((MOD(ROW(AT5:AT20),2)=1)*((AT5:AT20=\"○\")))","v":0},null,{"$f":"SUMPRODUCT((MOD(ROW(AV5:AV20),2)=1)*((AV5:AV20=\"○\")))","v":0},null,{"$f":"SUMPRODUCT((MOD(ROW(AX5:AX20),2)=1)*((AX5:AX20=\"○\")))","v":0},null,{"$f":"SUMPRODUCT((MOD(ROW(AZ5:AZ20),2)=1)*((AZ5:AZ20=\"○\")))","v":0},null,{"$f":"SUMPRODUCT((MOD(ROW(BB5:BB20),2)=1)*((BB5:BB20=\"○\")))","v":0},null,{"$f":"SUMPRODUCT((MOD(ROW(BD5:BD20),2)=1)*((BD5:BD20=\"○\")))","v":0},null,{"$f":"SUMPRODUCT((MOD(ROW(BF5:BF20),2)=1)*((BF5:BF20=\"○\")))","v":0},null,{"$f":"SUMPRODUCT((MOD(ROW(BH5:BH20),2)=1)*((BH5:BH20=\"○\")))","v":0},null,{"$f":"SUMPRODUCT((MOD(ROW(BJ5:BJ20),2)=1)*((BJ5:BJ20=\"○\")))","v":0},null,{"$f":"SUMPRODUCT((MOD(ROW(BL5:BL20),2)=1)*((BL5:BL20=\"○\")))","v":0},null,{"$f":"SUMPRODUCT((MOD(ROW(BN5:BN20),2)=1)*((BN5:BN20=\"○\")))","v":0},null,{"$f":"SUMPRODUCT((MOD(ROW(BP5:BP20),2)=1)*((BP5:BP20=\"○\")))","v":0},null,{"$f":"SUMPRODUCT((MOD(ROW(BR5:BR20),2)=1)*((BR5:BR20=\"○\")))","v":0},null,{"$f":"SUMPRODUCT((MOD(ROW(BT5:BT20),2)=1)*((BT5:BT20=\"○\")))","v":0},null,{"$f":"SUMPRODUCT((MOD(ROW(BV5:BV20),2)=1)*((BV5:BV20=\"○\")))","v":0},null,{"$f":"SUMPRODUCT((MOD(ROW(BX5:BX20),2)=1)*((BX5:BX20=\"○\")))","v":0},null,{"$f":"SUMPRODUCT((MOD(ROW(BZ5:BZ20),2)=1)*((BZ5:BZ20=\"○\")))","v":0},null,{"$f":"SUMPRODUCT((MOD(ROW(CB5:CB20),2)=1)*((CB5:CB20=\"○\")))","v":0},null,{"$f":"SUMPRODUCT((MOD(ROW(CD5:CD20),2)=1)*((CD5:CD20=\"○\")))","v":0},null,{"$f":"SUMPRODUCT((MOD(ROW(CF5:CF20),2)=1)*((CF5:CF20=\"○\")))","v":0},null,{"$f":"SUMPRODUCT((MOD(ROW(CH5:CH20),2)=1)*((CH5:CH20=\"○\")))","v":0},null,{"$f":"SUMPRODUCT((MOD(ROW(CJ5:CJ20),2)=1)*((CJ5:CJ20=\"○\")))","v":0},null,{"$f":"SUMPRODUCT((MOD(ROW(CL5:CL20),2)=1)*((CL5:CL20=\"○\")))","v":0},null,{"$f":"SUMPRODUCT((MOD(ROW(CN5:CN20),2)=1)*((CN5:CN20=\"○\")))","v":0},null,{"$f":"SUMPRODUCT((MOD(ROW(CP5:CP20),2)=1)*((CP5:CP20=\"○\")))","v":0},null,{"$f":"SUMPRODUCT((MOD(ROW(CR5:CR20),2)=1)*((CR5:CR20=\"○\")))","v":0},null,{"$f":"SUMPRODUCT((MOD(ROW(CT5:CT20),2)=1)*((CT5:CT20=\"○\")))","v":0},null,{"$f":"SUMPRODUCT((MOD(ROW(CV5:CV20),2)=1)*((CV5:CV20=\"○\")))","v":0},null,{"$f":"SUMPRODUCT((MOD(ROW(CX5:CX20),2)=1)*((CX5:CX20=\"○\")))","v":0},null,{"$f":"SUMPRODUCT((MOD(ROW(CZ5:CZ20),2)=1)*((CZ5:CZ20=\"○\")))","v":0},null,{"$f":"SUMPRODUCT((MOD(ROW(DB5:DB20),2)=1)*((DB5:DB20=\"○\")))","v":0},null,{"$f":"SUMPRODUCT((MOD(ROW(DD5:DD20),2)=1)*((DD5:DD20=\"○\")))","v":0},null,{"$f":"SUMPRODUCT((MOD(ROW(DF5:DF20),2)=1)*((DF5:DF20=\"○\")))","v":0},null,{"$f":"SUMPRODUCT((MOD(ROW(DH5:DH20),2)=1)*((DH5:DH20=\"○\")))","v":0},null,{"$f":"SUMPRODUCT((MOD(ROW(DJ5:DJ20),2)=1)*((DJ5:DJ20=\"○\")))","v":0},null,{"$f":"SUMPRODUCT((MOD(ROW(DL5:DL20),2)=1)*((DL5:DL20=\"○\")))","v":0},null,{"$f":"SUMPRODUCT((MOD(ROW(DN5:DN20),2)=1)*((DN5:DN20=\"○\")))","v":0},null,{"$f":"SUMPRODUCT((MOD(ROW(DP5:DP20),2)=1)*((DP5:DP20=\"○\")))","v":0},null,{"$f":"SUMPRODUCT((MOD(ROW(DR5:DR20),2)=1)*((DR5:DR20=\"○\")))","v":0},null,{"$f":"SUMPRODUCT((MOD(ROW(DT5:DT20),2)=1)*((DT5:DT20=\"○\")))","v":0},null,{"$f":"SUMPRODUCT((MOD(ROW(DV5:DV20),2)=1)*((DV5:DV20=\"○\")))","v":0},null,{"$f":"SUMPRODUCT((MOD(ROW(DX5:DX20),2)=1)*((DX5:DX20=\"○\")))","v":0},null,{"$f":"SUMPRODUCT((MOD(ROW(DZ5:DZ20),2)=1)*((DZ5:DZ20=\"○\")))","v":0},null,{"$f":"SUMPRODUCT((MOD(ROW(EB5:EB20),2)=1)*((EB5:EB20=\"○\")))","v":0},null,{"$f":"SUMPRODUCT((MOD(ROW(ED5:ED20),2)=1)*((ED5:ED20=\"○\")))","v":0},null,{"$f":"SUMPRODUCT((MOD(ROW(EF5:EF20),2)=1)*((EF5:EF20=\"○\")))","v":0},null,{"$f":"SUMPRODUCT((MOD(ROW(EH5:EH20),2)=1)*((EH5:EH20=\"○\")))","v":0},null,{"$f":"SUMPRODUCT((MOD(ROW(EJ5:EJ20),2)=1)*((EJ5:EJ20=\"○\")))","v":0},null,{"$f":"SUMPRODUCT((MOD(ROW(EL5:EL20),2)=1)*((EL5:EL20=\"○\")))","v":0},null,{"$f":"SUMPRODUCT((MOD(ROW(EN5:EN20),2)=1)*((EN5:EN20=\"○\")))","v":0},null,{"$f":"SUMPRODUCT((MOD(ROW(EP5:EP20),2)=1)*((EP5:EP20=\"○\")))","v":0},null,{"$f":"SUMPRODUCT((MOD(ROW(ER5:ER20),2)=1)*((ER5:ER20=\"○\")))","v":0},null,{"$f":"SUMPRODUCT((MOD(ROW(ET5:ET20),2)=1)*((ET5:ET20=\"○\")))","v":0},null,{"$f":"SUMPRODUCT((MOD(ROW(EV5:EV20),2)=1)*((EV5:EV20=\"○\")))","v":0},null,{"$f":"SUMPRODUCT((MOD(ROW(EX5:EX20),2)=1)*((EX5:EX20=\"○\")))","v":0},null,{"$f":"SUMPRODUCT((MOD(ROW(EZ5:EZ20),2)=1)*((EZ5:EZ20=\"○\")))","v":0},null,{"$f":"SUMPRODUCT((MOD(ROW(FB5:FB20),2)=1)*((FB5:FB20=\"○\")))","v":0},null,{"$f":"SUMPRODUCT((MOD(ROW(FD5:FD20),2)=1)*((FD5:FD20=\"○\")))","v":0},null,{"$f":"SUMPRODUCT((MOD(ROW(FF5:FF20),2)=1)*((FF5:FF20=\"○\")))","v":0},null,{"$f":"SUMPRODUCT((MOD(ROW(FH5:FH20),2)=1)*((FH5:FH20=\"○\")))","v":0},null,{"$f":"SUMPRODUCT((MOD(ROW(FJ5:FJ20),2)=1)*((FJ5:FJ20=\"○\")))","v":0},null,{"$f":"SUMPRODUCT((MOD(ROW(FL5:FL20),2)=1)*((FL5:FL20=\"○\")))","v":0},null,{"$f":"SUMPRODUCT((MOD(ROW(FN5:FN20),2)=1)*((FN5:FN20=\"○\")))","v":0},null,{"$f":"SUMPRODUCT((MOD(ROW(FP5:FP20),2)=1)*((FP5:FP20=\"○\")))","v":0},null,{"$f":"SUMPRODUCT((MOD(ROW(FR5:FR20),2)=1)*((FR5:FR20=\"○\")))","v":0},null,{"$f":"SUMPRODUCT((MOD(ROW(FT5:FT20),2)=1)*((FT5:FT20=\"○\")))","v":0},null,{"$f":"SUMPRODUCT((MOD(ROW(FV5:FV20),2)=1)*((FV5:FV20=\"○\")))","v":0},null,{"$f":"SUMPRODUCT((MOD(ROW(FX5:FX20),2)=1)*((FX5:FX20=\"○\")))","v":0},null,{"$f":"SUMPRODUCT((MOD(ROW(FZ5:FZ20),2)=1)*((FZ5:FZ20=\"○\")))","v":0},null,{"$f":"SUMPRODUCT((MOD(ROW(GB5:GB20),2)=1)*((GB5:GB20=\"○\")))","v":0},null,{"$f":"SUMPRODUCT((MOD(ROW(GD5:GD20),2)=1)*((GD5:GD20=\"○\")))","v":0},null,{"$f":"SUMPRODUCT((MOD(ROW(GF5:GF20),2)=1)*((GF5:GF20=\"○\")))","v":0},null,{"$f":"SUMPRODUCT((MOD(ROW(GH5:GH20),2)=1)*((GH5:GH20=\"○\")))","v":0},null,{"$f":"SUMPRODUCT((MOD(ROW(GJ5:GJ20),2)=1)*((GJ5:GJ20=\"○\")))","v":0},null,{"$f":"SUMPRODUCT((MOD(ROW(GL5:GL20),2)=1)*((GL5:GL20=\"○\")))","v":0},null,{"$f":"SUMPRODUCT((MOD(ROW(GN5:GN20),2)=1)*((GN5:GN20=\"○\")))","v":0},null,{"$f":"SUMPRODUCT((MOD(ROW(GP5:GP20),2)=1)*((GP5:GP20=\"○\")))","v":0},null,{"$f":"SUMPRODUCT((MOD(ROW(GR5:GR20),2)=1)*((GR5:GR20=\"○\")))","v":0},null,{"$f":"SUMPRODUCT((MOD(ROW(GT5:GT20),2)=1)*((GT5:GT20=\"○\")))","v":0},null,{"$f":"SUMPRODUCT((MOD(ROW(GV5:GV20),2)=1)*((GV5:GV20=\"○\")))","v":0},null,{"$f":"SUMPRODUCT((MOD(ROW(GX5:GX20),2)=1)*((GX5:GX20=\"○\")))","v":0},null,{"$f":"SUMPRODUCT((MOD(ROW(GZ5:GZ20),2)=1)*((GZ5:GZ20=\"○\")))","v":0},null,{"$f":"SUMPRODUCT((MOD(ROW(HB5:HB20),2)=1)*((HB5:HB20=\"○\")))","v":0},null,{"$f":"SUMPRODUCT((MOD(ROW(HD5:HD20),2)=1)*((HD5:HD20=\"○\")))","v":0},null,{"$f":"SUMPRODUCT((MOD(ROW(HF5:HF20),2)=1)*((HF5:HF20=\"○\")))","v":0},null,{"$f":"SUMPRODUCT((MOD(ROW(HH5:HH20),2)=1)*((HH5:HH20=\"○\")))","v":0},null,{"$f":"SUMPRODUCT((MOD(ROW(HJ5:HJ20),2)=1)*((HJ5:HJ20=\"○\")))","v":0},null,{"$f":"SUMPRODUCT((MOD(ROW(HL5:HL20),2)=1)*((HL5:HL20=\"○\")))","v":0},null,{"$f":"SUMPRODUCT((MOD(ROW(HN5:HN20),2)=1)*((HN5:HN20=\"○\")))","v":0},null,{"$f":"SUMPRODUCT((MOD(ROW(HP5:HP20),2)=1)*((HP5:HP20=\"○\")))","v":0},null,{"$f":"SUMPRODUCT((MOD(ROW(HR5:HR20),2)=1)*((HR5:HR20=\"○\")))","v":0},null,{"$f":"SUMPRODUCT((MOD(ROW(HT5:HT20),2)=1)*((HT5:HT20=\"○\")))","v":0},null,{"$f":"SUMPRODUCT((MOD(ROW(HV5:HV20),2)=1)*((HV5:HV20=\"○\")))","v":0},null,{"$f":"SUMPRODUCT((MOD(ROW(HX5:HX20),2)=1)*((HX5:HX20=\"○\")))","v":0},null,{"$f":"SUMPRODUCT((MOD(ROW(HZ5:HZ20),2)=1)*((HZ5:HZ20=\"○\")))","v":0},null,{"$f":"SUMPRODUCT((MOD(ROW(IB5:IB20),2)=1)*((IB5:IB20=\"○\")))","v":0},null,{"$f":"SUMPRODUCT((MOD(ROW(ID5:ID20),2)=1)*((ID5:ID20=\"○\")))","v":0},null,{"$f":"SUMPRODUCT((MOD(ROW(IF5:IF20),2)=1)*((IF5:IF20=\"○\")))","v":0},null,{"$f":"SUMPRODUCT((MOD(ROW(IH5:IH20),2)=1)*((IH5:IH20=\"○\")))","v":0},null,{"$f":"SUMPRODUCT((MOD(ROW(IJ5:IJ20),2)=1)*((IJ5:IJ20=\"○\")))","v":0},null,{"$f":"SUMPRODUCT((MOD(ROW(IL5:IL20),2)=1)*((IL5:IL20=\"○\")))","v":0},null,{"$f":"SUMPRODUCT((MOD(ROW(IN5:IN20),2)=1)*((IN5:IN20=\"○\")))","v":0},null,{"$f":"SUMPRODUCT((MOD(ROW(IP5:IP20),2)=1)*((IP5:IP20=\"○\")))","v":0},null,{"$f":"SUMPRODUCT((MOD(ROW(IR5:IR20),2)=1)*((IR5:IR20=\"○\")))","v":0},null,{"$f":"SUMPRODUCT((MOD(ROW(IT5:IT20),2)=1)*((IT5:IT20=\"○\")))","v":0},null,{"$f":"SUMPRODUCT((MOD(ROW(IV5:IV20),2)=1)*((IV5:IV20=\"○\")))","v":0},null,{"$f":"SUMPRODUCT((MOD(ROW(IX5:IX20),2)=1)*((IX5:IX20=\"○\")))","v":0},null,{"$f":"SUMPRODUCT((MOD(ROW(IZ5:IZ20),2)=1)*((IZ5:IZ20=\"○\")))","v":0},null,{"$f":"SUMPRODUCT((MOD(ROW(JB5:JB20),2)=1)*((JB5:JB20=\"○\")))","v":0},null,{"$f":"SUMPRODUCT((MOD(ROW(JD5:JD20),2)=1)*((JD5:JD20=\"○\")))","v":0},null,{"$f":"SUMPRODUCT((MOD(ROW(JF5:JF20),2)=1)*((JF5:JF20=\"○\")))","v":0},null,{"$f":"SUMPRODUCT((MOD(ROW(JH5:JH20),2)=1)*((JH5:JH20=\"○\")))","v":0},null,{"$f":"SUMPRODUCT((MOD(ROW(JJ5:JJ20),2)=1)*((JJ5:JJ20=\"○\")))","v":0},null,{"$f":"SUMPRODUCT((MOD(ROW(JL5:JL20),2)=1)*((JL5:JL20=\"○\")))","v":0},null,{"$f":"SUMPRODUCT((MOD(ROW(JN5:JN20),2)=1)*((JN5:JN20=\"○\")))","v":0},null,{"$f":"SUMPRODUCT((MOD(ROW(JP5:JP20),2)=1)*((JP5:JP20=\"○\")))","v":0},null,{"$f":"SUMPRODUCT((MOD(ROW(JR5:JR20),2)=1)*((JR5:JR20=\"○\")))","v":0},null,{"$f":"SUMPRODUCT((MOD(ROW(JT5:JT20),2)=1)*((JT5:JT20=\"○\")))","v":0},null,{"$f":"SUMPRODUCT((MOD(ROW(JV5:JV20),2)=1)*((JV5:JV20=\"○\")))","v":0},null,{"$f":"SUMPRODUCT((MOD(ROW(JX5:JX20),2)=1)*((JX5:JX20=\"○\")))","v":0},null,{"$f":"SUMPRODUCT((MOD(ROW(JZ5:JZ20),2)=1)*((JZ5:JZ20=\"○\")))","v":0},null,{"$f":"SUMPRODUCT((MOD(ROW(KB5:KB20),2)=1)*((KB5:KB20=\"○\")))","v":0},null,{"$f":"SUMPRODUCT((MOD(ROW(KD5:KD20),2)=1)*((KD5:KD20=\"○\")))","v":0},null,{"$f":"SUMPRODUCT((MOD(ROW(KF5:KF20),2)=1)*((KF5:KF20=\"○\")))","v":0},null,{"$f":"SUMPRODUCT((MOD(ROW(KH5:KH20),2)=1)*((KH5:KH20=\"○\")))","v":0},null,{"$f":"SUMPRODUCT((MOD(ROW(KJ5:KJ20),2)=1)*((KJ5:KJ20=\"○\")))","v":0},null,{"$f":"SUMPRODUCT((MOD(ROW(KL5:KL20),2)=1)*((KL5:KL20=\"○\")))","v":0},null,{"$f":"SUMPRODUCT((MOD(ROW(KN5:KN20),2)=1)*((KN5:KN20=\"○\")))","v":0},null,{"$f":"SUMPRODUCT((MOD(ROW(KP5:KP20),2)=1)*((KP5:KP20=\"○\")))","v":0},null,{"$f":"SUMPRODUCT((MOD(ROW(KR5:KR20),2)=1)*((KR5:KR20=\"○\")))","v":0},null,{"$f":"SUMPRODUCT((MOD(ROW(KT5:KT20),2)=1)*((KT5:KT20=\"○\")))","v":0},null,{"$f":"SUMPRODUCT((MOD(ROW(KV5:KV20),2)=1)*((KV5:KV20=\"○\")))","v":0},null,{"$f":"SUMPRODUCT((MOD(ROW(KX5:KX20),2)=1)*((KX5:KX20=\"○\")))","v":0},null,{"$f":"SUMPRODUCT((MOD(ROW(KZ5:KZ20),2)=1)*((KZ5:KZ20=\"○\")))","v":0},null,{"$f":"SUMPRODUCT((MOD(ROW(LB5:LB20),2)=1)*((LB5:LB20=\"○\")))","v":0},null,{"$f":"SUMPRODUCT((MOD(ROW(LD5:LD20),2)=1)*((LD5:LD20=\"○\")))","v":0},null,{"$f":"SUMPRODUCT((MOD(ROW(LF5:LF20),2)=1)*((LF5:LF20=\"○\")))","v":0},null,{"$f":"SUMPRODUCT((MOD(ROW(LH5:LH20),2)=1)*((LH5:LH20=\"○\")))","v":0},null,{"$f":"SUMPRODUCT((MOD(ROW(LJ5:LJ20),2)=1)*((LJ5:LJ20=\"○\")))","v":0},null,{"$f":"SUMPRODUCT((MOD(ROW(LL5:LL20),2)=1)*((LL5:LL20=\"○\")))","v":0},null,{"$f":"SUMPRODUCT((MOD(ROW(LN5:LN20),2)=1)*((LN5:LN20=\"○\")))","v":0},null,{"$f":"SUMPRODUCT((MOD(ROW(LP5:LP20),2)=1)*((LP5:LP20=\"○\")))","v":0},null,{"$f":"SUMPRODUCT((MOD(ROW(LR5:LR20),2)=1)*((LR5:LR20=\"○\")))","v":0},null,{"$f":"SUMPRODUCT((MOD(ROW(LT5:LT20),2)=1)*((LT5:LT20=\"○\")))","v":0},null,{"$f":"SUMPRODUCT((MOD(ROW(LV5:LV20),2)=1)*((LV5:LV20=\"○\")))","v":0},null,{"$f":"SUMPRODUCT((MOD(ROW(LX5:LX20),2)=1)*((LX5:LX20=\"○\")))","v":0},null,{"$f":"SUMPRODUCT((MOD(ROW(LZ5:LZ20),2)=1)*((LZ5:LZ20=\"○\")))","v":0},null,{"$f":"SUMPRODUCT((MOD(ROW(MB5:MB20),2)=1)*((MB5:MB20=\"○\")))","v":0},null,{"$f":"SUMPRODUCT((MOD(ROW(MD5:MD20),2)=1)*((MD5:MD20=\"○\")))","v":0},null,{"$f":"SUMPRODUCT((MOD(ROW(MF5:MF20),2)=1)*((MF5:MF20=\"○\")))","v":0},null,{"$f":"SUMPRODUCT((MOD(ROW(MH5:MH20),2)=1)*((MH5:MH20=\"○\")))","v":0},null,{"$f":"SUMPRODUCT((MOD(ROW(MJ5:MJ20),2)=1)*((MJ5:MJ20=\"○\")))","v":0},null,{"$f":"SUMPRODUCT((MOD(ROW(ML5:ML20),2)=1)*((ML5:ML20=\"○\")))","v":0},null,{"$f":"SUMPRODUCT((MOD(ROW(MN5:MN20),2)=1)*((MN5:MN20=\"○\")))","v":0},null,{"$f":"SUMPRODUCT((MOD(ROW(MP5:MP20),2)=1)*((MP5:MP20=\"○\")))","v":0},null,{"$f":"SUMPRODUCT((MOD(ROW(MR5:MR20),2)=1)*((MR5:MR20=\"○\")))","v":0},null,{"$f":"SUMPRODUCT((MOD(ROW(MT5:MT20),2)=1)*((MT5:MT20=\"○\")))","v":0},null,{"$f":"SUMPRODUCT((MOD(ROW(MV5:MV20),2)=1)*((MV5:MV20=\"○\")))","v":0},null,{"$f":"SUMPRODUCT((MOD(ROW(MX5:MX20),2)=1)*((MX5:MX20=\"○\")))","v":0},null,{"$f":"SUMPRODUCT((MOD(ROW(MZ5:MZ20),2)=1)*((MZ5:MZ20=\"○\")))","v":0},null,{"$f":"SUMPRODUCT((MOD(ROW(NB5:NB20),2)=1)*((NB5:NB20=\"○\")))","v":0},null,{"$f":"SUMPRODUCT((MOD(ROW(ND5:ND20),2)=1)*((ND5:ND20=\"○\")))","v":0},null,{"$f":"SUMPRODUCT((MOD(ROW(NF5:NF20),2)=1)*((NF5:NF20=\"○\")))","v":0},null,{"$f":"SUMPRODUCT((MOD(ROW(NH5:NH20),2)=1)*((NH5:NH20=\"○\")))","v":0},null,{"$f":"SUMPRODUCT((MOD(ROW(NJ5:NJ20),2)=1)*((NJ5:NJ20=\"○\")))","v":0},null,{"$f":"SUMPRODUCT((MOD(ROW(NL5:NL20),2)=1)*((NL5:NL20=\"○\")))","v":0},null,{"$f":"SUMPRODUCT((MOD(ROW(NN5:NN20),2)=1)*((NN5:NN20=\"○\")))","v":0},null,{"$f":"SUMPRODUCT((MOD(ROW(NP5:NP20),2)=1)*((NP5:NP20=\"○\")))","v":0},null,{"$f":"SUMPRODUCT((MOD(ROW(NR5:NR20),2)=1)*((NR5:NR20=\"○\")))","v":0},null,{"$f":"SUMPRODUCT((MOD(ROW(NT5:NT20),2)=1)*((NT5:NT20=\"○\")))","v":0},null,{"$f":"SUMPRODUCT((MOD(ROW(NV5:NV20),2)=1)*((NV5:NV20=\"○\")))","v":0},null,{"$f":"SUMPRODUCT((MOD(ROW(NX5:NX20),2)=1)*((NX5:NX20=\"○\")))","v":0},null,{"$f":"SUMPRODUCT((MOD(ROW(NZ5:NZ20),2)=1)*((NZ5:NZ20=\"○\")))","v":0},null,{"$f":"SUMPRODUCT((MOD(ROW(OB5:OB20),2)=1)*((OB5:OB20=\"○\")))","v":0},null,{"$f":"SUMPRODUCT((MOD(ROW(OD5:OD20),2)=1)*((OD5:OD20=\"○\")))","v":0},null,{"$f":"SUMPRODUCT((MOD(ROW(OF5:OF20),2)=1)*((OF5:OF20=\"○\")))","v":0},null,{"$f":"SUMPRODUCT((MOD(ROW(OH5:OH20),2)=1)*((OH5:OH20=\"○\")))","v":0},null,{"$f":"SUMPRODUCT((MOD(ROW(OJ5:OJ20),2)=1)*((OJ5:OJ20=\"○\")))","v":0},null,{"$f":"SUMPRODUCT((MOD(ROW(OL5:OL20),2)=1)*((OL5:OL20=\"○\")))","v":0},null,{"$f":"SUMPRODUCT((MOD(ROW(ON5:ON20),2)=1)*((ON5:ON20=\"○\")))","v":0},null,{"$f":"SUMPRODUCT((MOD(ROW(OP5:OP20),2)=1)*((OP5:OP20=\"○\")))","v":0},null,{"$f":"SUMPRODUCT((MOD(ROW(OR5:OR20),2)=1)*((OR5:OR20=\"○\")))","v":0},null,{"$f":"SUMPRODUCT((MOD(ROW(OT5:OT20),2)=1)*((OT5:OT20=\"○\")))","v":0},null,{"$f":"SUMPRODUCT((MOD(ROW(OV5:OV20),2)=1)*((OV5:OV20=\"○\")))","v":0},null,{"$f":"SUMPRODUCT((MOD(ROW(OX5:OX20),2)=1)*((OX5:OX20=\"○\")))","v":0},null,{"$f":"SUMPRODUCT((MOD(ROW(OZ5:OZ20),2)=1)*((OZ5:OZ20=\"○\")))","v":0},null,{"$f":"SUMPRODUCT((MOD(ROW(PB5:PB20),2)=1)*((PB5:PB20=\"○\")))","v":0},null,{"$f":"SUMPRODUCT((MOD(ROW(PD5:PD20),2)=1)*((PD5:PD20=\"○\")))","v":0},null,{"$f":"SUMPRODUCT((MOD(ROW(PF5:PF20),2)=1)*((PF5:PF20=\"○\")))","v":0},null,{"$f":"SUMPRODUCT((MOD(ROW(PH5:PH20),2)=1)*((PH5:PH20=\"○\")))","v":0},null,{"$f":"SUMPRODUCT((MOD(ROW(PJ5:PJ20),2)=1)*((PJ5:PJ20=\"○\")))","v":0},null,{"$f":"SUMPRODUCT((MOD(ROW(PL5:PL20),2)=1)*((PL5:PL20=\"○\")))","v":0},null,{"$f":"SUMPRODUCT((MOD(ROW(PN5:PN20),2)=1)*((PN5:PN20=\"○\")))","v":0},null,{"$f":"SUMPRODUCT((MOD(ROW(PP5:PP20),2)=1)*((PP5:PP20=\"○\")))","v":0},null,{"$f":"SUMPRODUCT((MOD(ROW(PR5:PR20),2)=1)*((PR5:PR20=\"○\")))","v":0},null,{"$f":"SUMPRODUCT((MOD(ROW(PT5:PT20),2)=1)*((PT5:PT20=\"○\")))","v":0},null,{"$f":"SUMPRODUCT((MOD(ROW(PV5:PV20),2)=1)*((PV5:PV20=\"○\")))","v":0},null,{"$f":"SUMPRODUCT((MOD(ROW(PX5:PX20),2)=1)*((PX5:PX20=\"○\")))","v":0},null,{"$f":"SUMPRODUCT((MOD(ROW(PZ5:PZ20),2)=1)*((PZ5:PZ20=\"○\")))","v":0},null,{"$f":"SUMPRODUCT((MOD(ROW(QB5:QB20),2)=1)*((QB5:QB20=\"○\")))","v":0},null,{"$f":"SUMPRODUCT((MOD(ROW(QD5:QD20),2)=1)*((QD5:QD20=\"○\")))","v":0},null,{"$f":"SUMPRODUCT((MOD(ROW(QF5:QF20),2)=1)*((QF5:QF20=\"○\")))","v":0},null,{"$f":"SUMPRODUCT((MOD(ROW(QH5:QH20),2)=1)*((QH5:QH20=\"○\")))","v":0},null,{"$f":"SUMPRODUCT((MOD(ROW(QJ5:QJ20),2)=1)*((QJ5:QJ20=\"○\")))","v":0},null,{"$f":"SUMPRODUCT((MOD(ROW(QL5:QL20),2)=1)*((QL5:QL20=\"○\")))","v":0},null,{"$f":"SUMPRODUCT((MOD(ROW(QN5:QN20),2)=1)*((QN5:QN20=\"○\")))","v":0},null,{"$f":"SUMPRODUCT((MOD(ROW(QP5:QP20),2)=1)*((QP5:QP20=\"○\")))","v":0},null,{"$f":"SUMPRODUCT((MOD(ROW(QR5:QR20),2)=1)*((QR5:QR20=\"○\")))","v":0},null,{"$f":"SUMPRODUCT((MOD(ROW(QT5:QT20),2)=1)*((QT5:QT20=\"○\")))","v":0},null,{"$f":"SUMPRODUCT((MOD(ROW(QV5:QV20),2)=1)*((QV5:QV20=\"○\")))","v":0},null,{"$f":"SUMPRODUCT((MOD(ROW(QX5:QX20),2)=1)*((QX5:QX20=\"○\")))","v":0},null,{"$f":"SUMPRODUCT((MOD(ROW(QZ5:QZ20),2)=1)*((QZ5:QZ20=\"○\")))","v":0},null,{"$f":"SUMPRODUCT((MOD(ROW(RB5:RB20),2)=1)*((RB5:RB20=\"○\")))","v":0},null,{"$f":"SUMPRODUCT((MOD(ROW(RD5:RD20),2)=1)*((RD5:RD20=\"○\")))","v":0},null,{"$f":"SUMPRODUCT((MOD(ROW(RF5:RF20),2)=1)*((RF5:RF20=\"○\")))","v":0},null,{"$f":"SUMPRODUCT((MOD(ROW(RH5:RH20),2)=1)*((RH5:RH20=\"○\")))","v":0},null,{"$f":"SUMPRODUCT((MOD(ROW(RJ5:RJ20),2)=1)*((RJ5:RJ20=\"○\")))","v":0},null,{"$f":"SUMPRODUCT((MOD(ROW(RL5:RL20),2)=1)*((RL5:RL20=\"○\")))","v":0},null,{"$f":"SUMPRODUCT((MOD(ROW(RN5:RN20),2)=1)*((RN5:RN20=\"○\")))","v":0},null,{"$f":"SUMPRODUCT((MOD(ROW(RP5:RP20),2)=1)*((RP5:RP20=\"○\")))","v":0},null,{"$f":"SUMPRODUCT((MOD(ROW(RR5:RR20),2)=1)*((RR5:RR20=\"○\")))","v":0},null,{"$f":"SUMPRODUCT((MOD(ROW(RT5:RT20),2)=1)*((RT5:RT20=\"○\")))","v":0},null,{"$f":"SUMPRODUCT((MOD(ROW(RV5:RV20),2)=1)*((RV5:RV20=\"○\")))","v":0},null,{"$f":"SUMPRODUCT((MOD(ROW(RX5:RX20),2)=1)*((RX5:RX20=\"○\")))","v":0},null,{"$f":"SUMPRODUCT((MOD(ROW(RZ5:RZ20),2)=1)*((RZ5:RZ20=\"○\")))","v":0},null,{"$f":"SUMPRODUCT((MOD(ROW(SB5:SB20),2)=1)*((SB5:SB20=\"○\")))","v":0},null,{"$f":"SUMPRODUCT((MOD(ROW(SD5:SD20),2)=1)*((SD5:SD20=\"○\")))","v":0},null,{"$f":"SUMPRODUCT((MOD(ROW(SF5:SF20),2)=1)*((SF5:SF20=\"○\")))","v":0},null,{"$f":"SUMPRODUCT((MOD(ROW(SH5:SH20),2)=1)*((SH5:SH20=\"○\")))","v":0},null,{"$f":"SUMPRODUCT((MOD(ROW(SJ5:SJ20),2)=1)*((SJ5:SJ20=\"○\")))","v":0},null,{"$f":"SUMPRODUCT((MOD(ROW(SL5:SL20),2)=1)*((SL5:SL20=\"○\")))","v":0},null,{"$f":"SUMPRODUCT((MOD(ROW(SN5:SN20),2)=1)*((SN5:SN20=\"○\")))","v":0},null,{"$f":"SUMPRODUCT((MOD(ROW(SP5:SP20),2)=1)*((SP5:SP20=\"○\")))","v":0},null,{"$f":"SUMPRODUCT((MOD(ROW(SR5:SR20),2)=1)*((SR5:SR20=\"○\")))","v":0},null,{"$f":"SUMPRODUCT((MOD(ROW(ST5:ST20),2)=1)*((ST5:ST20=\"○\")))","v":0},null,{"$f":"SUMPRODUCT((MOD(ROW(SV5:SV20),2)=1)*((SV5:SV20=\"○\")))","v":0},null,{"$f":"SUMPRODUCT((MOD(ROW(SX5:SX20),2)=1)*((SX5:SX20=\"○\")))","v":0},null,{"$f":"SUMPRODUCT((MOD(ROW(SZ5:SZ20),2)=1)*((SZ5:SZ20=\"○\")))","v":0},null,{"$f":"SUMPRODUCT((MOD(ROW(TB5:TB20),2)=1)*((TB5:TB20=\"○\")))","v":0},null,{"$f":"SUMPRODUCT((MOD(ROW(TD5:TD20),2)=1)*((TD5:TD20=\"○\")))","v":0},null,{"$f":"SUMPRODUCT((MOD(ROW(TF5:TF20),2)=1)*((TF5:TF20=\"○\")))","v":0},null,{"$f":"SUMPRODUCT((MOD(ROW(TH5:TH20),2)=1)*((TH5:TH20=\"○\")))","v":0},null,{"$f":"SUMPRODUCT((MOD(ROW(TJ5:TJ20),2)=1)*((TJ5:TJ20=\"○\")))","v":0},null,{"$f":"SUMPRODUCT((MOD(ROW(TL5:TL20),2)=1)*((TL5:TL20=\"○\")))","v":0},null,{"$f":"SUMPRODUCT((MOD(ROW(TN5:TN20),2)=1)*((TN5:TN20=\"○\")))","v":0},null,{"$f":"SUMPRODUCT((MOD(ROW(TP5:TP20),2)=1)*((TP5:TP20=\"○\")))","v":0},null,{"$f":"SUMPRODUCT((MOD(ROW(TR5:TR20),2)=1)*((TR5:TR20=\"○\")))","v":0},null,{"$f":"SUMPRODUCT((MOD(ROW(TT5:TT20),2)=1)*((TT5:TT20=\"○\")))","v":0},null,{"$f":"SUMPRODUCT((MOD(ROW(TV5:TV20),2)=1)*((TV5:TV20=\"○\")))","v":0},null,{"$f":"SUMPRODUCT((MOD(ROW(TX5:TX20),2)=1)*((TX5:TX20=\"○\")))","v":0},null,{"$f":"SUMPRODUCT((MOD(ROW(TZ5:TZ20),2)=1)*((TZ5:TZ20=\"○\")))","v":0},null,{"$f":"SUMPRODUCT((MOD(ROW(UB5:UB20),2)=1)*((UB5:UB20=\"○\")))","v":0},null,{"$f":"SUMPRODUCT((MOD(ROW(UD5:UD20),2)=1)*((UD5:UD20=\"○\")))","v":0},null,{"$f":"SUMPRODUCT((MOD(ROW(UF5:UF20),2)=1)*((UF5:UF20=\"○\")))","v":0},null,{"$f":"SUMPRODUCT((MOD(ROW(UH5:UH20),2)=1)*((UH5:UH20=\"○\")))","v":0},null,{"$f":"SUMPRODUCT((MOD(ROW(UJ5:UJ20),2)=1)*((UJ5:UJ20=\"○\")))","v":0},null,{"$f":"SUMPRODUCT((MOD(ROW(UL5:UL20),2)=1)*((UL5:UL20=\"○\")))","v":0},null,{"$f":"SUMPRODUCT((MOD(ROW(UN5:UN20),2)=1)*((UN5:UN20=\"○\")))","v":0},null,{"$f":"SUMPRODUCT((MOD(ROW(UP5:UP20),2)=1)*((UP5:UP20=\"○\")))","v":0},null,{"$f":"SUMPRODUCT((MOD(ROW(UR5:UR20),2)=1)*((UR5:UR20=\"○\")))","v":0},null,{"$f":"SUMPRODUCT((MOD(ROW(UT5:UT20),2)=1)*((UT5:UT20=\"○\")))","v":0},null,{"$f":"SUMPRODUCT((MOD(ROW(UV5:UV20),2)=1)*((UV5:UV20=\"○\")))","v":0},null,{"$f":"SUMPRODUCT((MOD(ROW(UX5:UX20),2)=1)*((UX5:UX20=\"○\")))","v":0},null,{"$f":"SUMPRODUCT((MOD(ROW(UZ5:UZ20),2)=1)*((UZ5:UZ20=\"○\")))","v":0},null,{"$f":"SUMPRODUCT((MOD(ROW(VB5:VB20),2)=1)*((VB5:VB20=\"○\")))","v":0},null,{"$f":"SUMPRODUCT((MOD(ROW(VD5:VD20),2)=1)*((VD5:VD20=\"○\")))","v":0},null,{"$f":"SUMPRODUCT((MOD(ROW(VF5:VF20),2)=1)*((VF5:VF20=\"○\")))","v":0},null,{"$f":"SUMPRODUCT((MOD(ROW(VH5:VH20),2)=1)*((VH5:VH20=\"○\")))","v":0},null,{"$f":"SUMPRODUCT((MOD(ROW(VJ5:VJ20),2)=1)*((VJ5:VJ20=\"○\")))","v":0},null,{"$f":"SUMPRODUCT((MOD(ROW(VL5:VL20),2)=1)*((VL5:VL20=\"○\")))","v":0},null,{"$f":"SUMPRODUCT((MOD(ROW(VN5:VN20),2)=1)*((VN5:VN20=\"○\")))","v":0},null,{"$f":"SUMPRODUCT((MOD(ROW(VP5:VP20),2)=1)*((VP5:VP20=\"○\")))","v":0},null,{"$f":"SUMPRODUCT((MOD(ROW(VR5:VR20),2)=1)*((VR5:VR20=\"○\")))","v":0},null,{"$f":"SUMPRODUCT((MOD(ROW(VT5:VT20),2)=1)*((VT5:VT20=\"○\")))","v":0},null,{"$f":"SUMPRODUCT((MOD(ROW(VV5:VV20),2)=1)*((VV5:VV20=\"○\")))","v":0},null,{"$f":"SUMPRODUCT((MOD(ROW(VX5:VX20),2)=1)*((VX5:VX20=\"○\")))","v":0},null,{"$f":"SUMPRODUCT((MOD(ROW(VZ5:VZ20),2)=1)*((VZ5:VZ20=\"○\")))","v":0},null,{"$f":"SUMPRODUCT((MOD(ROW(WB5:WB20),2)=1)*((WB5:WB20=\"○\")))","v":0},null,{"$f":"SUMPRODUCT((MOD(ROW(WD5:WD20),2)=1)*((WD5:WD20=\"○\")))","v":0},null,{"$f":"SUMPRODUCT((MOD(ROW(WF5:WF20),2)=1)*((WF5:WF20=\"○\")))","v":0},null,{"$f":"SUMPRODUCT((MOD(ROW(WH5:WH20),2)=1)*((WH5:WH20=\"○\")))","v":0},null,{"$f":"SUMPRODUCT((MOD(ROW(WJ5:WJ20),2)=1)*((WJ5:WJ20=\"○\")))","v":0},null,{"$f":"SUMPRODUCT((MOD(ROW(WL5:WL20),2)=1)*((WL5:WL20=\"○\")))","v":0},null,{"$f":"SUMPRODUCT((MOD(ROW(WN5:WN20),2)=1)*((WN5:WN20=\"○\")))","v":0},null,{"$f":"SUMPRODUCT((MOD(ROW(WP5:WP20),2)=1)*((WP5:WP20=\"○\")))","v":0},null,{"$f":"SUMPRODUCT((MOD(ROW(WR5:WR20),2)=1)*((WR5:WR20=\"○\")))","v":0},null,{"$f":"SUMPRODUCT((MOD(ROW(WT5:WT20),2)=1)*((WT5:WT20=\"○\")))","v":0},null,{"$f":"SUMPRODUCT((MOD(ROW(WV5:WV20),2)=1)*((WV5:WV20=\"○\")))","v":0},null,{"$f":"SUMPRODUCT((MOD(ROW(WX5:WX20),2)=1)*((WX5:WX20=\"○\")))","v":0},null,{"$f":"SUMPRODUCT((MOD(ROW(WZ5:WZ20),2)=1)*((WZ5:WZ20=\"○\")))","v":0},null,{"$f":"SUMPRODUCT((MOD(ROW(XB5:XB20),2)=1)*((XB5:XB20=\"○\")))","v":0},null,{"$f":"SUMPRODUCT((MOD(ROW(XD5:XD20),2)=1)*((XD5:XD20=\"○\")))","v":0},null,{"$f":"SUMPRODUCT((MOD(ROW(XF5:XF20),2)=1)*((XF5:XF20=\"○\")))","v":0},null,{"$f":"SUMPRODUCT((MOD(ROW(XH5:XH20),2)=1)*((XH5:XH20=\"○\")))","v":0},null,{"$f":"SUMPRODUCT((MOD(ROW(XJ5:XJ20),2)=1)*((XJ5:XJ20=\"○\")))","v":0},null,{"$f":"SUMPRODUCT((MOD(ROW(XL5:XL20),2)=1)*((XL5:XL20=\"○\")))","v":0},null,{"$f":"SUMPRODUCT((MOD(ROW(XN5:XN20),2)=1)*((XN5:XN20=\"○\")))","v":0},null,{"$f":"SUMPRODUCT((MOD(ROW(XP5:XP20),2)=1)*((XP5:XP20=\"○\")))","v":0},null,{"$f":"SUMPRODUCT((MOD(ROW(XR5:XR20),2)=1)*((XR5:XR20=\"○\")))","v":0},null,{"$f":"SUMPRODUCT((MOD(ROW(XT5:XT20),2)=1)*((XT5:XT20=\"○\")))","v":0},null,{"$f":"SUMPRODUCT((MOD(ROW(XV5:XV20),2)=1)*((XV5:XV20=\"○\")))","v":0},null,{"$f":"SUMPRODUCT((MOD(ROW(XX5:XX20),2)=1)*((XX5:XX20=\"○\")))","v":0},null,{"$f":"SUMPRODUCT((MOD(ROW(XZ5:XZ20),2)=1)*((XZ5:XZ20=\"○\")))","v":0},null,{"$f":"SUMPRODUCT((MOD(ROW(YB5:YB20),2)=1)*((YB5:YB20=\"○\")))","v":0},null,{"$f":"SUMPRODUCT((MOD(ROW(YD5:YD20),2)=1)*((YD5:YD20=\"○\")))","v":0},null,{"$f":"SUMPRODUCT((MOD(ROW(YF5:YF20),2)=1)*((YF5:YF20=\"○\")))","v":0},null,{"$f":"SUMPRODUCT((MOD(ROW(YH5:YH20),2)=1)*((YH5:YH20=\"○\")))","v":0},null,{"$f":"SUMPRODUCT((MOD(ROW(YJ5:YJ20),2)=1)*((YJ5:YJ20=\"○\")))","v":0},null,{"$f":"SUMPRODUCT((MOD(ROW(YL5:YL20),2)=1)*((YL5:YL20=\"○\")))","v":0},null,{"$f":"SUMPRODUCT((MOD(ROW(YN5:YN20),2)=1)*((YN5:YN20=\"○\")))","v":0},null,{"$f":"SUMPRODUCT((MOD(ROW(YP5:YP20),2)=1)*((YP5:YP20=\"○\")))","v":0},null,{"$f":"SUMPRODUCT((MOD(ROW(YR5:YR20),2)=1)*((YR5:YR20=\"○\")))","v":0},null,{"$f":"SUMPRODUCT((MOD(ROW(YT5:YT20),2)=1)*((YT5:YT20=\"○\")))","v":0},null,{"$f":"SUMPRODUCT((MOD(ROW(YV5:YV20),2)=1)*((YV5:YV20=\"○\")))","v":0},null,{"$f":"SUMPRODUCT((MOD(ROW(YX5:YX20),2)=1)*((YX5:YX20=\"○\")))","v":0},null,{"$f":"SUMPRODUCT((MOD(ROW(YZ5:YZ20),2)=1)*((YZ5:YZ20=\"○\")))","v":0},null,{"$f":"SUMPRODUCT((MOD(ROW(ZB5:ZB20),2)=1)*((ZB5:ZB20=\"○\")))","v":0},null,{"$f":"SUMPRODUCT((MOD(ROW(ZD5:ZD20),2)=1)*((ZD5:ZD20=\"○\")))","v":0},null,{"$f":"SUMPRODUCT((MOD(ROW(ZF5:ZF20),2)=1)*((ZF5:ZF20=\"○\")))","v":0},null,{"$f":"SUMPRODUCT((MOD(ROW(ZH5:ZH20),2)=1)*((ZH5:ZH20=\"○\")))","v":0},null,{"$f":"SUMPRODUCT((MOD(ROW(ZJ5:ZJ20),2)=1)*((ZJ5:ZJ20=\"○\")))","v":0},null,{"$f":"SUMPRODUCT((MOD(ROW(ZL5:ZL20),2)=1)*((ZL5:ZL20=\"○\")))","v":0},null,{"$f":"SUMPRODUCT((MOD(ROW(ZN5:ZN20),2)=1)*((ZN5:ZN20=\"○\")))","v":0},null,{"$f":"SUMPRODUCT((MOD(ROW(ZP5:ZP20),2)=1)*((ZP5:ZP20=\"○\")))","v":0},null,{"$f":"SUMPRODUCT((MOD(ROW(ZR5:ZR20),2)=1)*((ZR5:ZR20=\"○\")))","v":0},null,{"$f":"SUMPRODUCT((MOD(ROW(ZT5:ZT20),2)=1)*((ZT5:ZT20=\"○\")))","v":0},null,{"$f":"SUMPRODUCT((MOD(ROW(ZV5:ZV20),2)=1)*((ZV5:ZV20=\"○\")))","v":0},null,{"$f":"SUMPRODUCT((MOD(ROW(ZX5:ZX20),2)=1)*((ZX5:ZX20=\"○\")))","v":0},null,{"$f":"SUMPRODUCT((MOD(ROW(ZZ5:ZZ20),2)=1)*((ZZ5:ZZ20=\"○\")))","v":0},null,{"$f":"SUMPRODUCT((MOD(ROW(AAB5:AAB20),2)=1)*((AAB5:AAB20=\"○\")))","v":0},null,{"$f":"SUMPRODUCT((MOD(ROW(AAD5:AAD20),2)=1)*((AAD5:AAD20=\"○\")))","v":0},null,{"$f":"SUMPRODUCT((MOD(ROW(AAF5:AAF20),2)=1)*((AAF5:AAF20=\"○\")))","v":0},null,{"$f":"SUMPRODUCT((MOD(ROW(AAH5:AAH20),2)=1)*((AAH5:AAH20=\"○\")))","v":0},null,{"$f":"SUMPRODUCT((MOD(ROW(AAJ5:AAJ20),2)=1)*((AAJ5:AAJ20=\"○\")))","v":0},null,{"$f":"SUMPRODUCT((MOD(ROW(AAL5:AAL20),2)=1)*((AAL5:AAL20=\"○\")))","v":0},null,{"$f":"SUMPRODUCT((MOD(ROW(AAN5:AAN20),2)=1)*((AAN5:AAN20=\"○\")))","v":0},null,{"$f":"SUMPRODUCT((MOD(ROW(AAP5:AAP20),2)=1)*((AAP5:AAP20=\"○\")))","v":0},null,{"$f":"SUMPRODUCT((MOD(ROW(AAR5:AAR20),2)=1)*((AAR5:AAR20=\"○\")))","v":0},null,{"$f":"SUMPRODUCT((MOD(ROW(AAT5:AAT20),2)=1)*((AAT5:AAT20=\"○\")))","v":0},null,{"$f":"SUMPRODUCT((MOD(ROW(AAV5:AAV20),2)=1)*((AAV5:AAV20=\"○\")))","v":0},null,{"$f":"SUMPRODUCT((MOD(ROW(AAX5:AAX20),2)=1)*((AAX5:AAX20=\"○\")))","v":0},null,{"$f":"SUMPRODUCT((MOD(ROW(AAZ5:AAZ20),2)=1)*((AAZ5:AAZ20=\"○\")))","v":0},null,{"$f":"SUMPRODUCT((MOD(ROW(ABB5:ABB20),2)=1)*((ABB5:ABB20=\"○\")))","v":0},null,{"$f":"SUMPRODUCT((MOD(ROW(ABD5:ABD20),2)=1)*((ABD5:ABD20=\"○\")))","v":0},null,{"$f":"SUMPRODUCT((MOD(ROW(ABF5:ABF20),2)=1)*((ABF5:ABF20=\"○\")))","v":0},null,{"$f":"SUMPRODUCT((MOD(ROW(ABH5:ABH20),2)=1)*((ABH5:ABH20=\"○\")))","v":0},null,{"$f":"SUMPRODUCT((MOD(ROW(ABJ5:ABJ20),2)=1)*((ABJ5:ABJ20=\"○\")))","v":0},null,{"$f":"SUMPRODUCT((MOD(ROW(ABL5:ABL20),2)=1)*((ABL5:ABL20=\"○\")))","v":0},null,{"$f":"SUMPRODUCT((MOD(ROW(ABN5:ABN20),2)=1)*((ABN5:ABN20=\"○\")))","v":0},null,{"$f":"SUMPRODUCT((MOD(ROW(ABP5:ABP20),2)=1)*((ABP5:ABP20=\"○\")))","v":0},null,{"$f":"SUMPRODUCT((MOD(ROW(ABR5:ABR20),2)=1)*((ABR5:ABR20=\"○\")))","v":0},null,{"$f":"SUMPRODUCT((MOD(ROW(ABT5:ABT20),2)=1)*((ABT5:ABT20=\"○\")))","v":0},null,{"$f":"SUMPRODUCT((MOD(ROW(ABV5:ABV20),2)=1)*((ABV5:ABV20=\"○\")))","v":0},null,{"$f":"SUMPRODUCT((MOD(ROW(ABX5:ABX20),2)=1)*((ABX5:ABX20=\"○\")))","v":0},null,{"$f":"SUMPRODUCT((MOD(ROW(ABZ5:ABZ20),2)=1)*((ABZ5:ABZ20=\"○\")))","v":0},null,{"$f":"SUMPRODUCT((MOD(ROW(ACB5:ACB20),2)=1)*((ACB5:ACB20=\"○\")))","v":0},null,{"$f":"SUMPRODUCT((MOD(ROW(ACD5:ACD20),2)=1)*((ACD5:ACD20=\"○\")))","v":0},null,{"$f":"SUMPRODUCT((MOD(ROW(ACF5:ACF20),2)=1)*((ACF5:ACF20=\"○\")))","v":0},null,{"$f":"SUMPRODUCT((MOD(ROW(ACH5:ACH20),2)=1)*((ACH5:ACH20=\"○\")))","v":0},null,{"$f":"SUMPRODUCT((MOD(ROW(ACJ5:ACJ20),2)=1)*((ACJ5:ACJ20=\"○\")))","v":0},null,{"$f":"SUMPRODUCT((MOD(ROW(ACL5:ACL20),2)=1)*((ACL5:ACL20=\"○\")))","v":0},null,{"$f":"SUMPRODUCT((MOD(ROW(ACN5:ACN20),2)=1)*((ACN5:ACN20=\"○\")))","v":0},null,{"$f":"SUMPRODUCT((MOD(ROW(ACP5:ACP20),2)=1)*((ACP5:ACP20=\"○\")))","v":0},null,{"$f":"SUMPRODUCT((MOD(ROW(ACR5:ACR20),2)=1)*((ACR5:ACR20=\"○\")))","v":0},null,{"$f":"SUMPRODUCT((MOD(ROW(ACT5:ACT20),2)=1)*((ACT5:ACT20=\"○\")))","v":0},null,{"$f":"SUMPRODUCT((MOD(ROW(ACV5:ACV20),2)=1)*((ACV5:ACV20=\"○\")))","v":0},null,{"$f":"SUMPRODUCT((MOD(ROW(ACX5:ACX20),2)=1)*((ACX5:ACX20=\"○\")))","v":0},null,{"$f":"SUMPRODUCT((MOD(ROW(ACZ5:ACZ20),2)=1)*((ACZ5:ACZ20=\"○\")))","v":0},null,{"$f":"SUMPRODUCT((MOD(ROW(ADB5:ADB20),2)=1)*((ADB5:ADB20=\"○\")))","v":0},null,{"$f":"SUMPRODUCT((MOD(ROW(ADD5:ADD20),2)=1)*((ADD5:ADD20=\"○\")))","v":0},null,{"$f":"SUMPRODUCT((MOD(ROW(ADF5:ADF20),2)=1)*((ADF5:ADF20=\"○\")))","v":0},null,{"$f":"SUMPRODUCT((MOD(ROW(ADH5:ADH20),2)=1)*((ADH5:ADH20=\"○\")))","v":0},null,{"$f":"SUMPRODUCT((MOD(ROW(ADJ5:ADJ20),2)=1)*((ADJ5:ADJ20=\"○\")))","v":0},null,{"$f":"SUMPRODUCT((MOD(ROW(ADL5:ADL20),2)=1)*((ADL5:ADL20=\"○\")))","v":0},null,{"$f":"SUMPRODUCT((MOD(ROW(ADN5:ADN20),2)=1)*((ADN5:ADN20=\"○\")))","v":0},null,{"$f":"SUMPRODUCT((MOD(ROW(ADP5:ADP20),2)=1)*((ADP5:ADP20=\"○\")))","v":0},null,{"$f":"SUMPRODUCT((MOD(ROW(ADR5:ADR20),2)=1)*((ADR5:ADR20=\"○\")))","v":0},null,{"$f":"SUMPRODUCT((MOD(ROW(ADT5:ADT20),2)=1)*((ADT5:ADT20=\"○\")))","v":0},null,{"$f":"SUMPRODUCT((MOD(ROW(ADV5:ADV20),2)=1)*((ADV5:ADV20=\"○\")))","v":0},null,{"$f":"SUMPRODUCT((MOD(ROW(ADX5:ADX20),2)=1)*((ADX5:ADX20=\"○\")))","v":0},null,{"$f":"SUMPRODUCT((MOD(ROW(ADZ5:ADZ20),2)=1)*((ADZ5:ADZ20=\"○\")))","v":0},null,{"$f":"SUMPRODUCT((MOD(ROW(AEB5:AEB20),2)=1)*((AEB5:AEB20=\"○\")))","v":0},null,{"$f":"SUMPRODUCT((MOD(ROW(AED5:AED20),2)=1)*((AED5:AED20=\"○\")))","v":0},null,{"$f":"SUMPRODUCT((MOD(ROW(AEF5:AEF20),2)=1)*((AEF5:AEF20=\"○\")))","v":0},null,{"$f":"SUMPRODUCT((MOD(ROW(AEH5:AEH20),2)=1)*((AEH5:AEH20=\"○\")))","v":0},null,{"$f":"SUMPRODUCT((MOD(ROW(AEJ5:AEJ20),2)=1)*((AEJ5:AEJ20=\"○\")))","v":0},null,{"$f":"SUMPRODUCT((MOD(ROW(AEL5:AEL20),2)=1)*((AEL5:AEL20=\"○\")))","v":0},null,{"$f":"SUMPRODUCT((MOD(ROW(AEN5:AEN20),2)=1)*((AEN5:AEN20=\"○\")))","v":0},null,{"$f":"SUMPRODUCT((MOD(ROW(AEP5:AEP20),2)=1)*((AEP5:AEP20=\"○\")))","v":0},null,{"$f":"SUMPRODUCT((MOD(ROW(AER5:AER20),2)=1)*((AER5:AER20=\"○\")))","v":0},null,{"$f":"SUMPRODUCT((MOD(ROW(AET5:AET20),2)=1)*((AET5:AET20=\"○\")))","v":0},null,{"$f":"SUMPRODUCT((MOD(ROW(AEV5:AEV20),2)=1)*((AEV5:AEV20=\"○\")))","v":0},null,{"$f":"SUMPRODUCT((MOD(ROW(AEX5:AEX20),2)=1)*((AEX5:AEX20=\"○\")))","v":0},null,{"$f":"SUMPRODUCT((MOD(ROW(AEZ5:AEZ20),2)=1)*((AEZ5:AEZ20=\"○\")))","v":0},null,{"$f":"SUMPRODUCT((MOD(ROW(AFB5:AFB20),2)=1)*((AFB5:AFB20=\"○\")))","v":0},null,{"$f":"SUMPRODUCT((MOD(ROW(AFD5:AFD20),2)=1)*((AFD5:AFD20=\"○\")))","v":0},null,{"$f":"SUMPRODUCT((MOD(ROW(AFF5:AFF20),2)=1)*((AFF5:AFF20=\"○\")))","v":0},null,{"$f":"SUMPRODUCT((MOD(ROW(AFH5:AFH20),2)=1)*((AFH5:AFH20=\"○\")))","v":0},null,{"$f":"SUMPRODUCT((MOD(ROW(AFJ5:AFJ20),2)=1)*((AFJ5:AFJ20=\"○\")))","v":0},null,{"$f":"SUMPRODUCT((MOD(ROW(AFL5:AFL20),2)=1)*((AFL5:AFL20=\"○\")))","v":0},null,{"$f":"SUMPRODUCT((MOD(ROW(AFN5:AFN20),2)=1)*((AFN5:AFN20=\"○\")))","v":0},null,{"$f":"SUMPRODUCT((MOD(ROW(AFP5:AFP20),2)=1)*((AFP5:AFP20=\"○\")))","v":0},null,{"$f":"SUMPRODUCT((MOD(ROW(AFR5:AFR20),2)=1)*((AFR5:AFR20=\"○\")))","v":0},null,{"$f":"SUMPRODUCT((MOD(ROW(AFT5:AFT20),2)=1)*((AFT5:AFT20=\"○\")))","v":0},null,{"$f":"SUMPRODUCT((MOD(ROW(AFV5:AFV20),2)=1)*((AFV5:AFV20=\"○\")))","v":0},null,{"$f":"SUMPRODUCT((MOD(ROW(AFX5:AFX20),2)=1)*((AFX5:AFX20=\"○\")))","v":0},null,{"$f":"SUMPRODUCT((MOD(ROW(AFZ5:AFZ20),2)=1)*((AFZ5:AFZ20=\"○\")))","v":0},null,{"$f":"SUMPRODUCT((MOD(ROW(AGB5:AGB20),2)=1)*((AGB5:AGB20=\"○\")))","v":0},null,{"$f":"SUMPRODUCT((MOD(ROW(AGD5:AGD20),2)=1)*((AGD5:AGD20=\"○\")))","v":0},null,{"$f":"SUMPRODUCT((MOD(ROW(AGF5:AGF20),2)=1)*((AGF5:AGF20=\"○\")))","v":0},null,{"$f":"SUMPRODUCT((MOD(ROW(AGH5:AGH20),2)=1)*((AGH5:AGH20=\"○\")))","v":0},null,{"$f":"SUMPRODUCT((MOD(ROW(AGJ5:AGJ20),2)=1)*((AGJ5:AGJ20=\"○\")))","v":0},null,{"$f":"SUMPRODUCT((MOD(ROW(AGL5:AGL20),2)=1)*((AGL5:AGL20=\"○\")))","v":0},null,{"$f":"SUMPRODUCT((MOD(ROW(AGN5:AGN20),2)=1)*((AGN5:AGN20=\"○\")))","v":0},null,{"$f":"SUMPRODUCT((MOD(ROW(AGP5:AGP20),2)=1)*((AGP5:AGP20=\"○\")))","v":0},null,{"$f":"SUMPRODUCT((MOD(ROW(AGR5:AGR20),2)=1)*((AGR5:AGR20=\"○\")))","v":0},null,{"$f":"SUMPRODUCT((MOD(ROW(AGT5:AGT20),2)=1)*((AGT5:AGT20=\"○\")))","v":0},null,{"$f":"SUMPRODUCT((MOD(ROW(AGV5:AGV20),2)=1)*((AGV5:AGV20=\"○\")))","v":0},null,{"$f":"SUMPRODUCT((MOD(ROW(AGX5:AGX20),2)=1)*((AGX5:AGX20=\"○\")))","v":0},null,{"$f":"SUMPRODUCT((MOD(ROW(AGZ5:AGZ20),2)=1)*((AGZ5:AGZ20=\"○\")))","v":0},null,{"$f":"SUMPRODUCT((MOD(ROW(AHB5:AHB20),2)=1)*((AHB5:AHB20=\"○\")))","v":0},null,{"$f":"SUMPRODUCT((MOD(ROW(AHD5:AHD20),2)=1)*((AHD5:AHD20=\"○\")))","v":0},null,{"$f":"SUMPRODUCT((MOD(ROW(AHF5:AHF20),2)=1)*((AHF5:AHF20=\"○\")))","v":0},null,{"$f":"SUMPRODUCT((MOD(ROW(AHH5:AHH20),2)=1)*((AHH5:AHH20=\"○\")))","v":0},null,{"$f":"SUMPRODUCT((MOD(ROW(AHJ5:AHJ20),2)=1)*((AHJ5:AHJ20=\"○\")))","v":0},null,{"$f":"SUMPRODUCT((MOD(ROW(AHL5:AHL20),2)=1)*((AHL5:AHL20=\"○\")))","v":0},null,{"$f":"SUMPRODUCT((MOD(ROW(AHN5:AHN20),2)=1)*((AHN5:AHN20=\"○\")))","v":0},null,{"$f":"SUMPRODUCT((MOD(ROW(AHP5:AHP20),2)=1)*((AHP5:AHP20=\"○\")))","v":0},null,{"$f":"SUMPRODUCT((MOD(ROW(AHR5:AHR20),2)=1)*((AHR5:AHR20=\"○\")))","v":0},null,{"$f":"SUMPRODUCT((MOD(ROW(AHT5:AHT20),2)=1)*((AHT5:AHT20=\"○\")))","v":0},null,{"$f":"SUMPRODUCT((MOD(ROW(AHV5:AHV20),2)=1)*((AHV5:AHV20=\"○\")))","v":0},null,{"$f":"SUMPRODUCT((MOD(ROW(AHX5:AHX20),2)=1)*((AHX5:AHX20=\"○\")))","v":0},null,{"$f":"SUMPRODUCT((MOD(ROW(AHZ5:AHZ20),2)=1)*((AHZ5:AHZ20=\"○\")))","v":0},null,{"$f":"SUMPRODUCT((MOD(ROW(AIB5:AIB20),2)=1)*((AIB5:AIB20=\"○\")))","v":0},null,{"$f":"SUMPRODUCT((MOD(ROW(AID5:AID20),2)=1)*((AID5:AID20=\"○\")))","v":0},null,{"$f":"SUMPRODUCT((MOD(ROW(AIF5:AIF20),2)=1)*((AIF5:AIF20=\"○\")))","v":0},null,{"$f":"SUMPRODUCT((MOD(ROW(AIH5:AIH20),2)=1)*((AIH5:AIH20=\"○\")))","v":0},null,{"$f":"SUMPRODUCT((MOD(ROW(AIJ5:AIJ20),2)=1)*((AIJ5:AIJ20=\"○\")))","v":0},null,{"$f":"SUMPRODUCT((MOD(ROW(AIL5:AIL20),2)=1)*((AIL5:AIL20=\"○\")))","v":0},null,{"$f":"SUMPRODUCT((MOD(ROW(AIN5:AIN20),2)=1)*((AIN5:AIN20=\"○\")))","v":0},null,{"$f":"SUMPRODUCT((MOD(ROW(AIP5:AIP20),2)=1)*((AIP5:AIP20=\"○\")))","v":0},null,{"$f":"SUMPRODUCT((MOD(ROW(AIR5:AIR20),2)=1)*((AIR5:AIR20=\"○\")))","v":0},null,{"$f":"SUMPRODUCT((MOD(ROW(AIT5:AIT20),2)=1)*((AIT5:AIT20=\"○\")))","v":0},null,{"$f":"SUMPRODUCT((MOD(ROW(AIV5:AIV20),2)=1)*((AIV5:AIV20=\"○\")))","v":0},null,{"$f":"SUMPRODUCT((MOD(ROW(AIX5:AIX20),2)=1)*((AIX5:AIX20=\"○\")))","v":0},null,{"$f":"SUMPRODUCT((MOD(ROW(AIZ5:AIZ20),2)=1)*((AIZ5:AIZ20=\"○\")))","v":0},null,{"$f":"SUMPRODUCT((MOD(ROW(AJB5:AJB20),2)=1)*((AJB5:AJB20=\"○\")))","v":0},null,{"$f":"SUMPRODUCT((MOD(ROW(AJD5:AJD20),2)=1)*((AJD5:AJD20=\"○\")))","v":0},null,{"$f":"SUMPRODUCT((MOD(ROW(AJF5:AJF20),2)=1)*((AJF5:AJF20=\"○\")))","v":0},null,{"$f":"SUMPRODUCT((MOD(ROW(AJH5:AJH20),2)=1)*((AJH5:AJH20=\"○\")))","v":0},null,{"$f":"SUMPRODUCT((MOD(ROW(AJJ5:AJJ20),2)=1)*((AJJ5:AJJ20=\"○\")))","v":0},null,{"$f":"SUMPRODUCT((MOD(ROW(AJL5:AJL20),2)=1)*((AJL5:AJL20=\"○\")))","v":0},null,{"$f":"SUMPRODUCT((MOD(ROW(AJN5:AJN20),2)=1)*((AJN5:AJN20=\"○\")))","v":0},null,{"$f":"SUMPRODUCT((MOD(ROW(AJP5:AJP20),2)=1)*((AJP5:AJP20=\"○\")))","v":0},null,{"$f":"SUMPRODUCT((MOD(ROW(AJR5:AJR20),2)=1)*((AJR5:AJR20=\"○\")))","v":0},null,{"$f":"SUMPRODUCT((MOD(ROW(AJT5:AJT20),2)=1)*((AJT5:AJT20=\"○\")))","v":0},null,{"$f":"SUMPRODUCT((MOD(ROW(AJV5:AJV20),2)=1)*((AJV5:AJV20=\"○\")))","v":0},null,{"$f":"SUMPRODUCT((MOD(ROW(AJX5:AJX20),2)=1)*((AJX5:AJX20=\"○\")))","v":0},null,{"$f":"SUMPRODUCT((MOD(ROW(AJZ5:AJZ20),2)=1)*((AJZ5:AJZ20=\"○\")))","v":0},null,{"$f":"SUMPRODUCT((MOD(ROW(AKB5:AKB20),2)=1)*((AKB5:AKB20=\"○\")))","v":0},null,{"$f":"SUMPRODUCT((MOD(ROW(AKD5:AKD20),2)=1)*((AKD5:AKD20=\"○\")))","v":0},null,{"$f":"SUMPRODUCT((MOD(ROW(AKF5:AKF20),2)=1)*((AKF5:AKF20=\"○\")))","v":0},null,{"$f":"SUMPRODUCT((MOD(ROW(AKH5:AKH20),2)=1)*((AKH5:AKH20=\"○\")))","v":0},null,{"$f":"SUMPRODUCT((MOD(ROW(AKJ5:AKJ20),2)=1)*((AKJ5:AKJ20=\"○\")))","v":0},null,{"$f":"SUMPRODUCT((MOD(ROW(AKL5:AKL20),2)=1)*((AKL5:AKL20=\"○\")))","v":0},null,{"$f":"SUMPRODUCT((MOD(ROW(AKN5:AKN20),2)=1)*((AKN5:AKN20=\"○\")))","v":0},null,{"$f":"SUMPRODUCT((MOD(ROW(AKP5:AKP20),2)=1)*((AKP5:AKP20=\"○\")))","v":0},null,{"$f":"SUMPRODUCT((MOD(ROW(AKR5:AKR20),2)=1)*((AKR5:AKR20=\"○\")))","v":0},null,{"$f":"SUMPRODUCT((MOD(ROW(AKT5:AKT20),2)=1)*((AKT5:AKT20=\"○\")))","v":0},null,{"$f":"SUMPRODUCT((MOD(ROW(AKV5:AKV20),2)=1)*((AKV5:AKV20=\"○\")))","v":0},null,{"$f":"SUMPRODUCT((MOD(ROW(AKX5:AKX20),2)=1)*((AKX5:AKX20=\"○\")))","v":0},null,{"$f":"SUMPRODUCT((MOD(ROW(AKZ5:AKZ20),2)=1)*((AKZ5:AKZ20=\"○\")))","v":0},null,{"$f":"SUMPRODUCT((MOD(ROW(ALB5:ALB20),2)=1)*((ALB5:ALB20=\"○\")))","v":0},null,{"$f":"SUMPRODUCT((MOD(ROW(ALD5:ALD20),2)=1)*((ALD5:ALD20=\"○\")))","v":0},null,{"$f":"SUMPRODUCT((MOD(ROW(ALF5:ALF20),2)=1)*((ALF5:ALF20=\"○\")))","v":0},null,{"$f":"SUMPRODUCT((MOD(ROW(ALH5:ALH20),2)=1)*((ALH5:ALH20=\"○\")))","v":0},null,{"$f":"SUMPRODUCT((MOD(ROW(ALJ5:ALJ20),2)=1)*((ALJ5:ALJ20=\"○\")))","v":0},null,{"$f":"SUMPRODUCT((MOD(ROW(ALL5:ALL20),2)=1)*((ALL5:ALL20=\"○\")))","v":0},null,{"$f":"SUMPRODUCT((MOD(ROW(ALN5:ALN20),2)=1)*((ALN5:ALN20=\"○\")))","v":0},null,{"$f":"SUMPRODUCT((MOD(ROW(ALP5:ALP20),2)=1)*((ALP5:ALP20=\"○\")))","v":0},null,{"$f":"SUMPRODUCT((MOD(ROW(ALR5:ALR20),2)=1)*((ALR5:ALR20=\"○\")))","v":0},null,{"$f":"SUMPRODUCT((MOD(ROW(ALT5:ALT20),2)=1)*((ALT5:ALT20=\"○\")))","v":0},null,{"$f":"SUMPRODUCT((MOD(ROW(ALV5:ALV20),2)=1)*((ALV5:ALV20=\"○\")))","v":0},null,{"$f":"SUMPRODUCT((MOD(ROW(ALX5:ALX20),2)=1)*((ALX5:ALX20=\"○\")))","v":0},null,{"$f":"SUMPRODUCT((MOD(ROW(ALZ5:ALZ20),2)=1)*((ALZ5:ALZ20=\"○\")))","v":0},null,{"$f":"SUMPRODUCT((MOD(ROW(AMB5:AMB20),2)=1)*((AMB5:AMB20=\"○\")))","v":0},null,{"$f":"SUMPRODUCT((MOD(ROW(AMD5:AMD20),2)=1)*((AMD5:AMD20=\"○\")))","v":0},null,{"$f":"SUMPRODUCT((MOD(ROW(AMF5:AMF20),2)=1)*((AMF5:AMF20=\"○\")))","v":0},null,{"$f":"SUMPRODUCT((MOD(ROW(AMH5:AMH20),2)=1)*((AMH5:AMH20=\"○\")))","v":0},null,{"$f":"SUMPRODUCT((MOD(ROW(AMJ5:AMJ20),2)=1)*((AMJ5:AMJ20=\"○\")))","v":0},null,{"$f":"SUMPRODUCT((MOD(ROW(AML5:AML20),2)=1)*((AML5:AML20=\"○\")))","v":0},null,{"$f":"SUMPRODUCT((MOD(ROW(AMN5:AMN20),2)=1)*((AMN5:AMN20=\"○\")))","v":0},null,{"$f":"SUMPRODUCT((MOD(ROW(AMP5:AMP20),2)=1)*((AMP5:AMP20=\"○\")))","v":0},null,{"$f":"SUMPRODUCT((MOD(ROW(AMR5:AMR20),2)=1)*((AMR5:AMR20=\"○\")))","v":0},null,{"$f":"SUMPRODUCT((MOD(ROW(AMT5:AMT20),2)=1)*((AMT5:AMT20=\"○\")))","v":0},null,{"$f":"SUMPRODUCT((MOD(ROW(AMV5:AMV20),2)=1)*((AMV5:AMV20=\"○\")))","v":0},null,{"$f":"SUMPRODUCT((MOD(ROW(AMX5:AMX20),2)=1)*((AMX5:AMX20=\"○\")))","v":0},null,{"$f":"SUMPRODUCT((MOD(ROW(AMZ5:AMZ20),2)=1)*((AMZ5:AMZ20=\"○\")))","v":0},null,{"$f":"SUMPRODUCT((MOD(ROW(ANB5:ANB20),2)=1)*((ANB5:ANB20=\"○\")))","v":0},null,{"$f":"SUMPRODUCT((MOD(ROW(AND5:AND20),2)=1)*((AND5:AND20=\"○\")))","v":0},null,{"$f":"SUMPRODUCT((MOD(ROW(ANF5:ANF20),2)=1)*((ANF5:ANF20=\"○\")))","v":0},null,{"$f":"SUMPRODUCT((MOD(ROW(ANH5:ANH20),2)=1)*((ANH5:ANH20=\"○\")))","v":0},null,{"$f":"SUMPRODUCT((MOD(ROW(ANJ5:ANJ20),2)=1)*((ANJ5:ANJ20=\"○\")))","v":0},null,{"$f":"SUMPRODUCT((MOD(ROW(ANL5:ANL20),2)=1)*((ANL5:ANL20=\"○\")))","v":0},null,{"$f":"SUMPRODUCT((MOD(ROW(ANN5:ANN20),2)=1)*((ANN5:ANN20=\"○\")))","v":0},null,{"$f":"SUMPRODUCT((MOD(ROW(ANP5:ANP20),2)=1)*((ANP5:ANP20=\"○\")))","v":0},null,{"$f":"SUMPRODUCT((MOD(ROW(ANR5:ANR20),2)=1)*((ANR5:ANR20=\"○\")))","v":0},null,{"$f":"SUMPRODUCT((MOD(ROW(ANT5:ANT20),2)=1)*((ANT5:ANT20=\"○\")))","v":0},null,{"$f":"SUMPRODUCT((MOD(ROW(ANV5:ANV20),2)=1)*((ANV5:ANV20=\"○\")))","v":0},null,{"$f":"SUMPRODUCT((MOD(ROW(ANX5:ANX20),2)=1)*((ANX5:ANX20=\"○\")))","v":0},null,{"$f":"SUMPRODUCT((MOD(ROW(ANZ5:ANZ20),2)=1)*((ANZ5:ANZ20=\"○\")))","v":0},null,{"$f":"SUMPRODUCT((MOD(ROW(AOB5:AOB20),2)=1)*((AOB5:AOB20=\"○\")))","v":0},null,{"$f":"SUMPRODUCT((MOD(ROW(AOD5:AOD20),2)=1)*((AOD5:AOD20=\"○\")))","v":0},null,{"$f":"SUMPRODUCT((MOD(ROW(AOF5:AOF20),2)=1)*((AOF5:AOF20=\"○\")))","v":0},null,{"$f":"SUMPRODUCT((MOD(ROW(AOH5:AOH20),2)=1)*((AOH5:AOH20=\"○\")))","v":0},null,{"$f":"SUMPRODUCT((MOD(ROW(AOJ5:AOJ20),2)=1)*((AOJ5:AOJ20=\"○\")))","v":0},null,{"$f":"SUMPRODUCT((MOD(ROW(AOL5:AOL20),2)=1)*((AOL5:AOL20=\"○\")))","v":0},null,{"$f":"SUMPRODUCT((MOD(ROW(AON5:AON20),2)=1)*((AON5:AON20=\"○\")))","v":0},null,{"$f":"SUMPRODUCT((MOD(ROW(AOP5:AOP20),2)=1)*((AOP5:AOP20=\"○\")))","v":0},null,{"$f":"SUMPRODUCT((MOD(ROW(AOR5:AOR20),2)=1)*((AOR5:AOR20=\"○\")))","v":0},null,{"$f":"SUMPRODUCT((MOD(ROW(AOT5:AOT20),2)=1)*((AOT5:AOT20=\"○\")))","v":0},null,{"$f":"SUMPRODUCT((MOD(ROW(AOV5:AOV20),2)=1)*((AOV5:AOV20=\"○\")))","v":0},null,{"$f":"SUMPRODUCT((MOD(ROW(AOX5:AOX20),2)=1)*((AOX5:AOX20=\"○\")))","v":0},null,{"$f":"SUMPRODUCT((MOD(ROW(AOZ5:AOZ20),2)=1)*((AOZ5:AOZ20=\"○\")))","v":0},null,{"$f":"SUMPRODUCT((MOD(ROW(APB5:APB20),2)=1)*((APB5:APB20=\"○\")))","v":0},null,{"$f":"SUMPRODUCT((MOD(ROW(APD5:APD20),2)=1)*((APD5:APD20=\"○\")))","v":0},null,{"$f":"SUMPRODUCT((MOD(ROW(APF5:APF20),2)=1)*((APF5:APF20=\"○\")))","v":0},null,{"$f":"SUMPRODUCT((MOD(ROW(APH5:APH20),2)=1)*((APH5:APH20=\"○\")))","v":0},null,{"$f":"SUMPRODUCT((MOD(ROW(APJ5:APJ20),2)=1)*((APJ5:APJ20=\"○\")))","v":0},null,{"$f":"SUMPRODUCT((MOD(ROW(APL5:APL20),2)=1)*((APL5:APL20=\"○\")))","v":0},null,{"$f":"SUMPRODUCT((MOD(ROW(APN5:APN20),2)=1)*((APN5:APN20=\"○\")))","v":0},null,{"$f":"SUMPRODUCT((MOD(ROW(APP5:APP20),2)=1)*((APP5:APP20=\"○\")))","v":0},null,{"$f":"SUMPRODUCT((MOD(ROW(APR5:APR20),2)=1)*((APR5:APR20=\"○\")))","v":0},null,{"$f":"SUMPRODUCT((MOD(ROW(APT5:APT20),2)=1)*((APT5:APT20=\"○\")))","v":0},null,{"$f":"SUMPRODUCT((MOD(ROW(APV5:APV20),2)=1)*((APV5:APV20=\"○\")))","v":0},null,{"$f":"SUMPRODUCT((MOD(ROW(APX5:APX20),2)=1)*((APX5:APX20=\"○\")))","v":0},null,{"$f":"SUMPRODUCT((MOD(ROW(APZ5:APZ20),2)=1)*((APZ5:APZ20=\"○\")))","v":0},null,{"$f":"SUMPRODUCT((MOD(ROW(AQB5:AQB20),2)=1)*((AQB5:AQB20=\"○\")))","v":0},null,{"$f":"SUMPRODUCT((MOD(ROW(AQD5:AQD20),2)=1)*((AQD5:AQD20=\"○\")))","v":0},null,{"$f":"SUMPRODUCT((MOD(ROW(AQF5:AQF20),2)=1)*((AQF5:AQF20=\"○\")))","v":0},null,{"$f":"SUMPRODUCT((MOD(ROW(AQH5:AQH20),2)=1)*((AQH5:AQH20=\"○\")))","v":0},null,{"$f":"SUMPRODUCT((MOD(ROW(AQJ5:AQJ20),2)=1)*((AQJ5:AQJ20=\"○\")))","v":0},null,{"$f":"SUMPRODUCT((MOD(ROW(AQL5:AQL20),2)=1)*((AQL5:AQL20=\"○\")))","v":0},null,{"$f":"SUMPRODUCT((MOD(ROW(AQN5:AQN20),2)=1)*((AQN5:AQN20=\"○\")))","v":0},null,{"$f":"SUMPRODUCT((MOD(ROW(AQP5:AQP20),2)=1)*((AQP5:AQP20=\"○\")))","v":0},null,{"$f":"SUMPRODUCT((MOD(ROW(AQR5:AQR20),2)=1)*((AQR5:AQR20=\"○\")))","v":0},null,{"$f":"SUMPRODUCT((MOD(ROW(AQT5:AQT20),2)=1)*((AQT5:AQT20=\"○\")))","v":0},null,{"$f":"SUMPRODUCT((MOD(ROW(AQV5:AQV20),2)=1)*((AQV5:AQV20=\"○\")))","v":0},null,{"$f":"SUMPRODUCT((MOD(ROW(AQX5:AQX20),2)=1)*((AQX5:AQX20=\"○\")))","v":0},null,{"$f":"SUMPRODUCT((MOD(ROW(AQZ5:AQZ20),2)=1)*((AQZ5:AQZ20=\"○\")))","v":0},null,{"$f":"SUMPRODUCT((MOD(ROW(ARB5:ARB20),2)=1)*((ARB5:ARB20=\"○\")))","v":0},null,{"$f":"SUMPRODUCT((MOD(ROW(ARD5:ARD20),2)=1)*((ARD5:ARD20=\"○\")))","v":0},null,{"$f":"SUMPRODUCT((MOD(ROW(ARF5:ARF20),2)=1)*((ARF5:ARF20=\"○\")))","v":0},null,{"$f":"SUMPRODUCT((MOD(ROW(ARH5:ARH20),2)=1)*((ARH5:ARH20=\"○\")))","v":0},null,{"$f":"SUMPRODUCT((MOD(ROW(ARJ5:ARJ20),2)=1)*((ARJ5:ARJ20=\"○\")))","v":0},null,{"$f":"SUMPRODUCT((MOD(ROW(ARL5:ARL20),2)=1)*((ARL5:ARL20=\"○\")))","v":0},null,{"$f":"SUMPRODUCT((MOD(ROW(ARN5:ARN20),2)=1)*((ARN5:ARN20=\"○\")))","v":0},null,{"$f":"SUMPRODUCT((MOD(ROW(ARP5:ARP20),2)=1)*((ARP5:ARP20=\"○\")))","v":0},null,{"$f":"SUMPRODUCT((MOD(ROW(ARR5:ARR20),2)=1)*((ARR5:ARR20=\"○\")))","v":0},null,{"$f":"SUMPRODUCT((MOD(ROW(ART5:ART20),2)=1)*((ART5:ART20=\"○\")))","v":0},null,{"$f":"SUMPRODUCT((MOD(ROW(ARV5:ARV20),2)=1)*((ARV5:ARV20=\"○\")))","v":0},null,{"$f":"SUMPRODUCT((MOD(ROW(ARX5:ARX20),2)=1)*((ARX5:ARX20=\"○\")))","v":0},null,{"$f":"SUMPRODUCT((MOD(ROW(ARZ5:ARZ20),2)=1)*((ARZ5:ARZ20=\"○\")))","v":0},null,{"$f":"SUMPRODUCT((MOD(ROW(ASB5:ASB20),2)=1)*((ASB5:ASB20=\"○\")))","v":0},null,{"$f":"SUMPRODUCT((MOD(ROW(ASD5:ASD20),2)=1)*((ASD5:ASD20=\"○\")))","v":0},null,{"$f":"SUMPRODUCT((MOD(ROW(ASF5:ASF20),2)=1)*((ASF5:ASF20=\"○\")))","v":0},null,{"$f":"SUMPRODUCT((MOD(ROW(ASH5:ASH20),2)=1)*((ASH5:ASH20=\"○\")))","v":0},null,{"$f":"SUMPRODUCT((MOD(ROW(ASJ5:ASJ20),2)=1)*((ASJ5:ASJ20=\"○\")))","v":0},null,{"$f":"SUMPRODUCT((MOD(ROW(ASL5:ASL20),2)=1)*((ASL5:ASL20=\"○\")))","v":0},null,{"$f":"SUMPRODUCT((MOD(ROW(ASN5:ASN20),2)=1)*((ASN5:ASN20=\"○\")))","v":0},null,{"$f":"SUMPRODUCT((MOD(ROW(ASP5:ASP20),2)=1)*((ASP5:ASP20=\"○\")))","v":0},null,{"$f":"SUMPRODUCT((MOD(ROW(ASR5:ASR20),2)=1)*((ASR5:ASR20=\"○\")))","v":0},null,{"$f":"SUMPRODUCT((MOD(ROW(AST5:AST20),2)=1)*((AST5:AST20=\"○\")))","v":0},null,{"$f":"SUMPRODUCT((MOD(ROW(ASV5:ASV20),2)=1)*((ASV5:ASV20=\"○\")))","v":0},null,{"$f":"SUMPRODUCT((MOD(ROW(ASX5:ASX20),2)=1)*((ASX5:ASX20=\"○\")))","v":0},null,{"$f":"SUMPRODUCT((MOD(ROW(ASZ5:ASZ20),2)=1)*((ASZ5:ASZ20=\"○\")))","v":0},null,{"$f":"SUMPRODUCT((MOD(ROW(ATB5:ATB20),2)=1)*((ATB5:ATB20=\"○\")))","v":0},null,{"$f":"SUMPRODUCT((MOD(ROW(ATD5:ATD20),2)=1)*((ATD5:ATD20=\"○\")))","v":0},null,{"$f":"SUMPRODUCT((MOD(ROW(ATF5:ATF20),2)=1)*((ATF5:ATF20=\"○\")))","v":0},null,{"$f":"SUMPRODUCT((MOD(ROW(ATH5:ATH20),2)=1)*((ATH5:ATH20=\"○\")))","v":0},null,{"$f":"SUMPRODUCT((MOD(ROW(ATJ5:ATJ20),2)=1)*((ATJ5:ATJ20=\"○\")))","v":0},null,{"$f":"SUMPRODUCT((MOD(ROW(ATL5:ATL20),2)=1)*((ATL5:ATL20=\"○\")))","v":0},null,{"$f":"SUMPRODUCT((MOD(ROW(ATN5:ATN20),2)=1)*((ATN5:ATN20=\"○\")))","v":0},null,{"$f":"SUMPRODUCT((MOD(ROW(ATP5:ATP20),2)=1)*((ATP5:ATP20=\"○\")))","v":0},null,{"$f":"SUMPRODUCT((MOD(ROW(ATR5:ATR20),2)=1)*((ATR5:ATR20=\"○\")))","v":0},null,{"$f":"SUMPRODUCT((MOD(ROW(ATT5:ATT20),2)=1)*((ATT5:ATT20=\"○\")))","v":0},null,{"$f":"SUMPRODUCT((MOD(ROW(ATV5:ATV20),2)=1)*((ATV5:ATV20=\"○\")))","v":0},null,{"$f":"SUMPRODUCT((MOD(ROW(ATX5:ATX20),2)=1)*((ATX5:ATX20=\"○\")))","v":0},null,{"$f":"SUMPRODUCT((MOD(ROW(ATZ5:ATZ20),2)=1)*((ATZ5:ATZ20=\"○\")))","v":0},null,{"$f":"SUMPRODUCT((MOD(ROW(AUB5:AUB20),2)=1)*((AUB5:AUB20=\"○\")))","v":0},null,{"$f":"SUMPRODUCT((MOD(ROW(AUD5:AUD20),2)=1)*((AUD5:AUD20=\"○\")))","v":0},null,{"$f":"SUMPRODUCT((MOD(ROW(AUF5:AUF20),2)=1)*((AUF5:AUF20=\"○\")))","v":0},null,{"$f":"SUMPRODUCT((MOD(ROW(AUH5:AUH20),2)=1)*((AUH5:AUH20=\"○\")))","v":0},null,{"$f":"SUMPRODUCT((MOD(ROW(AUJ5:AUJ20),2)=1)*((AUJ5:AUJ20=\"○\")))","v":0},null,{"$f":"SUMPRODUCT((MOD(ROW(AUL5:AUL20),2)=1)*((AUL5:AUL20=\"○\")))","v":0},null,{"$f":"SUMPRODUCT((MOD(ROW(AUN5:AUN20),2)=1)*((AUN5:AUN20=\"○\")))","v":0},null,{"$f":"SUMPRODUCT((MOD(ROW(AUP5:AUP20),2)=1)*((AUP5:AUP20=\"○\")))","v":0},null,{"$f":"SUMPRODUCT((MOD(ROW(AUR5:AUR20),2)=1)*((AUR5:AUR20=\"○\")))","v":0},null,{"$f":"SUMPRODUCT((MOD(ROW(AUT5:AUT20),2)=1)*((AUT5:AUT20=\"○\")))","v":0},null,{"$f":"SUMPRODUCT((MOD(ROW(AUV5:AUV20),2)=1)*((AUV5:AUV20=\"○\")))","v":0},null,{"$f":"SUMPRODUCT((MOD(ROW(AUX5:AUX20),2)=1)*((AUX5:AUX20=\"○\")))","v":0},null,{"$f":"SUMPRODUCT((MOD(ROW(AUZ5:AUZ20),2)=1)*((AUZ5:AUZ20=\"○\")))","v":0},null,{"$f":"SUMPRODUCT((MOD(ROW(AVB5:AVB20),2)=1)*((AVB5:AVB20=\"○\")))","v":0},null,{"$f":"SUMPRODUCT((MOD(ROW(AVD5:AVD20),2)=1)*((AVD5:AVD20=\"○\")))","v":0},null,{"$f":"SUMPRODUCT((MOD(ROW(AVF5:AVF20),2)=1)*((AVF5:AVF20=\"○\")))","v":0},null,{"$f":"SUMPRODUCT((MOD(ROW(AVH5:AVH20),2)=1)*((AVH5:AVH20=\"○\")))","v":0},null,{"$f":"SUMPRODUCT((MOD(ROW(AVJ5:AVJ20),2)=1)*((AVJ5:AVJ20=\"○\")))","v":0},null,{"$f":"SUMPRODUCT((MOD(ROW(AVL5:AVL20),2)=1)*((AVL5:AVL20=\"○\")))","v":0},null,{"$f":"SUMPRODUCT((MOD(ROW(AVN5:AVN20),2)=1)*((AVN5:AVN20=\"○\")))","v":0},null,{"$f":"SUMPRODUCT((MOD(ROW(AVP5:AVP20),2)=1)*((AVP5:AVP20=\"○\")))","v":0},null,{"$f":"SUMPRODUCT((MOD(ROW(AVR5:AVR20),2)=1)*((AVR5:AVR20=\"○\")))","v":0},null,{"$f":"SUMPRODUCT((MOD(ROW(AVT5:AVT20),2)=1)*((AVT5:AVT20=\"○\")))","v":0},null,{"$f":"SUMPRODUCT((MOD(ROW(AVV5:AVV20),2)=1)*((AVV5:AVV20=\"○\")))","v":0},null,{"$f":"SUMPRODUCT((MOD(ROW(AVX5:AVX20),2)=1)*((AVX5:AVX20=\"○\")))","v":0},null,{"$f":"SUMPRODUCT((MOD(ROW(AVZ5:AVZ20),2)=1)*((AVZ5:AVZ20=\"○\")))","v":0},null,{"$f":"SUMPRODUCT((MOD(ROW(AWB5:AWB20),2)=1)*((AWB5:AWB20=\"○\")))","v":0},null,{"$f":"SUMPRODUCT((MOD(ROW(AWD5:AWD20),2)=1)*((AWD5:AWD20=\"○\")))","v":0},null,{"$f":"SUMPRODUCT((MOD(ROW(AWF5:AWF20),2)=1)*((AWF5:AWF20=\"○\")))","v":0},null,{"$f":"SUMPRODUCT((MOD(ROW(AWH5:AWH20),2)=1)*((AWH5:AWH20=\"○\")))","v":0},null,{"$f":"SUMPRODUCT((MOD(ROW(AWJ5:AWJ20),2)=1)*((AWJ5:AWJ20=\"○\")))","v":0},null,{"$f":"SUMPRODUCT((MOD(ROW(AWL5:AWL20),2)=1)*((AWL5:AWL20=\"○\")))","v":0},null,{"$f":"SUMPRODUCT((MOD(ROW(AWN5:AWN20),2)=1)*((AWN5:AWN20=\"○\")))","v":0},null,{"$f":"SUMPRODUCT((MOD(ROW(AWP5:AWP20),2)=1)*((AWP5:AWP20=\"○\")))","v":0},null,{"$f":"SUMPRODUCT((MOD(ROW(AWR5:AWR20),2)=1)*((AWR5:AWR20=\"○\")))","v":0},null,{"$f":"SUMPRODUCT((MOD(ROW(AWT5:AWT20),2)=1)*((AWT5:AWT20=\"○\")))","v":0},null,{"$f":"SUMPRODUCT((MOD(ROW(AWV5:AWV20),2)=1)*((AWV5:AWV20=\"○\")))","v":0},null,{"$f":"SUMPRODUCT((MOD(ROW(AWX5:AWX20),2)=1)*((AWX5:AWX20=\"○\")))","v":0},null,{"$f":"SUMPRODUCT((MOD(ROW(AWZ5:AWZ20),2)=1)*((AWZ5:AWZ20=\"○\")))","v":0},null,{"$f":"SUMPRODUCT((MOD(ROW(AXB5:AXB20),2)=1)*((AXB5:AXB20=\"○\")))","v":0},null,{"$f":"SUMPRODUCT((MOD(ROW(AXD5:AXD20),2)=1)*((AXD5:AXD20=\"○\")))","v":0},null,{"$f":"SUMPRODUCT((MOD(ROW(AXF5:AXF20),2)=1)*((AXF5:AXF20=\"○\")))","v":0},null,{"$f":"SUMPRODUCT((MOD(ROW(AXH5:AXH20),2)=1)*((AXH5:AXH20=\"○\")))","v":0},null,{"$f":"SUMPRODUCT((MOD(ROW(AXJ5:AXJ20),2)=1)*((AXJ5:AXJ20=\"○\")))","v":0},null,{"$f":"SUMPRODUCT((MOD(ROW(AXL5:AXL20),2)=1)*((AXL5:AXL20=\"○\")))","v":0},null,{"$f":"SUMPRODUCT((MOD(ROW(AXN5:AXN20),2)=1)*((AXN5:AXN20=\"○\")))","v":0},null,{"$f":"SUMPRODUCT((MOD(ROW(AXP5:AXP20),2)=1)*((AXP5:AXP20=\"○\")))","v":0},null,{"$f":"SUMPRODUCT((MOD(ROW(AXR5:AXR20),2)=1)*((AXR5:AXR20=\"○\")))","v":0},null,{"$f":"SUMPRODUCT((MOD(ROW(AXT5:AXT20),2)=1)*((AXT5:AXT20=\"○\")))","v":0},null,{"$f":"SUMPRODUCT((MOD(ROW(AXV5:AXV20),2)=1)*((AXV5:AXV20=\"○\")))","v":0},null,{"$f":"SUMPRODUCT((MOD(ROW(AXX5:AXX20),2)=1)*((AXX5:AXX20=\"○\")))","v":0},null,{"$f":"SUMPRODUCT((MOD(ROW(AXZ5:AXZ20),2)=1)*((AXZ5:AXZ20=\"○\")))","v":0},null,{"$f":"SUMPRODUCT((MOD(ROW(AYB5:AYB20),2)=1)*((AYB5:AYB20=\"○\")))","v":0},null,{"$f":"SUMPRODUCT((MOD(ROW(AYD5:AYD20),2)=1)*((AYD5:AYD20=\"○\")))","v":0},null,{"$f":"SUMPRODUCT((MOD(ROW(AYF5:AYF20),2)=1)*((AYF5:AYF20=\"○\")))","v":0},null,{"$f":"SUMPRODUCT((MOD(ROW(AYH5:AYH20),2)=1)*((AYH5:AYH20=\"○\")))","v":0},null,{"$f":"SUMPRODUCT((MOD(ROW(AYJ5:AYJ20),2)=1)*((AYJ5:AYJ20=\"○\")))","v":0},null,{"$f":"SUMPRODUCT((MOD(ROW(AYL5:AYL20),2)=1)*((AYL5:AYL20=\"○\")))","v":0},null,{"$f":"SUMPRODUCT((MOD(ROW(AYN5:AYN20),2)=1)*((AYN5:AYN20=\"○\")))","v":0},null,{"$f":"SUMPRODUCT((MOD(ROW(AYP5:AYP20),2)=1)*((AYP5:AYP20=\"○\")))","v":0},null,{"$f":"SUMPRODUCT((MOD(ROW(AYR5:AYR20),2)=1)*((AYR5:AYR20=\"○\")))","v":0},null,{"$f":"SUMPRODUCT((MOD(ROW(AYT5:AYT20),2)=1)*((AYT5:AYT20=\"○\")))","v":0},null,{"$f":"SUMPRODUCT((MOD(ROW(AYV5:AYV20),2)=1)*((AYV5:AYV20=\"○\")))","v":0},null,{"$f":"SUMPRODUCT((MOD(ROW(AYX5:AYX20),2)=1)*((AYX5:AYX20=\"○\")))","v":0},null,{"$f":"SUMPRODUCT((MOD(ROW(AYZ5:AYZ20),2)=1)*((AYZ5:AYZ20=\"○\")))","v":0},null,{"$f":"SUMPRODUCT((MOD(ROW(AZB5:AZB20),2)=1)*((AZB5:AZB20=\"○\")))","v":0},null,{"$f":"SUMPRODUCT((MOD(ROW(AZD5:AZD20),2)=1)*((AZD5:AZD20=\"○\")))","v":0},null,{"$f":"SUMPRODUCT((MOD(ROW(AZF5:AZF20),2)=1)*((AZF5:AZF20=\"○\")))","v":0},null,{"$f":"SUMPRODUCT((MOD(ROW(AZH5:AZH20),2)=1)*((AZH5:AZH20=\"○\")))","v":0},null,{"$f":"SUMPRODUCT((MOD(ROW(AZJ5:AZJ20),2)=1)*((AZJ5:AZJ20=\"○\")))","v":0},null,{"$f":"SUMPRODUCT((MOD(ROW(AZL5:AZL20),2)=1)*((AZL5:AZL20=\"○\")))","v":0},null,{"$f":"SUMPRODUCT((MOD(ROW(AZN5:AZN20),2)=1)*((AZN5:AZN20=\"○\")))","v":0},null,{"$f":"SUMPRODUCT((MOD(ROW(AZP5:AZP20),2)=1)*((AZP5:AZP20=\"○\")))","v":0},null,{"$f":"SUMPRODUCT((MOD(ROW(AZR5:AZR20),2)=1)*((AZR5:AZR20=\"○\")))","v":0},null,{"$f":"SUMPRODUCT((MOD(ROW(AZT5:AZT20),2)=1)*((AZT5:AZT20=\"○\")))","v":0},null,{"$f":"SUMPRODUCT((MOD(ROW(AZV5:AZV20),2)=1)*((AZV5:AZV20=\"○\")))","v":0},null,{"$f":"SUMPRODUCT((MOD(ROW(AZX5:AZX20),2)=1)*((AZX5:AZX20=\"○\")))","v":0},null,{"$f":"SUMPRODUCT((MOD(ROW(AZZ5:AZZ20),2)=1)*((AZZ5:AZZ20=\"○\")))","v":0},null,{"$f":"SUMPRODUCT((MOD(ROW(BAB5:BAB20),2)=1)*((BAB5:BAB20=\"○\")))","v":0},null,{"$f":"SUMPRODUCT((MOD(ROW(BAD5:BAD20),2)=1)*((BAD5:BAD20=\"○\")))","v":0},null,{"$f":"SUMPRODUCT((MOD(ROW(BAF5:BAF20),2)=1)*((BAF5:BAF20=\"○\")))","v":0},null,{"$f":"SUMPRODUCT((MOD(ROW(BAH5:BAH20),2)=1)*((BAH5:BAH20=\"○\")))","v":0},null,{"$f":"SUMPRODUCT((MOD(ROW(BAJ5:BAJ20),2)=1)*((BAJ5:BAJ20=\"○\")))","v":0},null,{"$f":"SUMPRODUCT((MOD(ROW(BAL5:BAL20),2)=1)*((BAL5:BAL20=\"○\")))","v":0},null,{"$f":"SUMPRODUCT((MOD(ROW(BAN5:BAN20),2)=1)*((BAN5:BAN20=\"○\")))","v":0},null,{"$f":"SUMPRODUCT((MOD(ROW(BAP5:BAP20),2)=1)*((BAP5:BAP20=\"○\")))","v":0},null,{"$f":"SUMPRODUCT((MOD(ROW(BAR5:BAR20),2)=1)*((BAR5:BAR20=\"○\")))","v":0},null,{"$f":"SUMPRODUCT((MOD(ROW(BAT5:BAT20),2)=1)*((BAT5:BAT20=\"○\")))","v":0},null,{"$f":"SUMPRODUCT((MOD(ROW(BAV5:BAV20),2)=1)*((BAV5:BAV20=\"○\")))","v":0},null,{"$f":"SUMPRODUCT((MOD(ROW(BAX5:BAX20),2)=1)*((BAX5:BAX20=\"○\")))","v":0},null,{"$f":"SUMPRODUCT((MOD(ROW(BAZ5:BAZ20),2)=1)*((BAZ5:BAZ20=\"○\")))","v":0},null,{"$f":"SUMPRODUCT((MOD(ROW(BBB5:BBB20),2)=1)*((BBB5:BBB20=\"○\")))","v":0},null,{"$f":"SUMPRODUCT((MOD(ROW(BBD5:BBD20),2)=1)*((BBD5:BBD20=\"○\")))","v":0},null,{"$f":"SUMPRODUCT((MOD(ROW(BBF5:BBF20),2)=1)*((BBF5:BBF20=\"○\")))","v":0},null,{"$f":"SUMPRODUCT((MOD(ROW(BBH5:BBH20),2)=1)*((BBH5:BBH20=\"○\")))","v":0},null,{"$f":"SUMPRODUCT((MOD(ROW(BBJ5:BBJ20),2)=1)*((BBJ5:BBJ20=\"○\")))","v":0},null,{"$f":"SUMPRODUCT((MOD(ROW(BBL5:BBL20),2)=1)*((BBL5:BBL20=\"○\")))","v":0},null,{"$f":"SUMPRODUCT((MOD(ROW(BBN5:BBN20),2)=1)*((BBN5:BBN20=\"○\")))","v":0},null,{"$f":"SUMPRODUCT((MOD(ROW(BBP5:BBP20),2)=1)*((BBP5:BBP20=\"○\")))","v":0},null,{"$f":"SUMPRODUCT((MOD(ROW(BBR5:BBR20),2)=1)*((BBR5:BBR20=\"○\")))","v":0},null,{"$f":"SUMPRODUCT((MOD(ROW(BBT5:BBT20),2)=1)*((BBT5:BBT20=\"○\")))","v":0},null,{"$f":"SUMPRODUCT((MOD(ROW(BBV5:BBV20),2)=1)*((BBV5:BBV20=\"○\")))","v":0},null,{"$f":"SUMPRODUCT((MOD(ROW(BBX5:BBX20),2)=1)*((BBX5:BBX20=\"○\")))","v":0},null,{"$f":"SUMPRODUCT((MOD(ROW(BBZ5:BBZ20),2)=1)*((BBZ5:BBZ20=\"○\")))","v":0},null,{"$f":"SUMPRODUCT((MOD(ROW(BCB5:BCB20),2)=1)*((BCB5:BCB20=\"○\")))","v":0},null,{"$f":"SUMPRODUCT((MOD(ROW(BCD5:BCD20),2)=1)*((BCD5:BCD20=\"○\")))","v":0},null,{"$f":"SUMPRODUCT((MOD(ROW(BCF5:BCF20),2)=1)*((BCF5:BCF20=\"○\")))","v":0},null,{"$f":"SUMPRODUCT((MOD(ROW(BCH5:BCH20),2)=1)*((BCH5:BCH20=\"○\")))","v":0},null,{"$f":"SUMPRODUCT((MOD(ROW(BCJ5:BCJ20),2)=1)*((BCJ5:BCJ20=\"○\")))","v":0},null,{"$f":"SUMPRODUCT((MOD(ROW(BCL5:BCL20),2)=1)*((BCL5:BCL20=\"○\")))","v":0},null,{"$f":"SUMPRODUCT((MOD(ROW(BCN5:BCN20),2)=1)*((BCN5:BCN20=\"○\")))","v":0},null,{"$f":"SUMPRODUCT((MOD(ROW(BCP5:BCP20),2)=1)*((BCP5:BCP20=\"○\")))","v":0},null,{"$f":"SUMPRODUCT((MOD(ROW(BCR5:BCR20),2)=1)*((BCR5:BCR20=\"○\")))","v":0},null,{"$f":"SUMPRODUCT((MOD(ROW(BCT5:BCT20),2)=1)*((BCT5:BCT20=\"○\")))","v":0},null,{"$f":"SUMPRODUCT((MOD(ROW(BCV5:BCV20),2)=1)*((BCV5:BCV20=\"○\")))","v":0},null,{"$f":"SUMPRODUCT((MOD(ROW(BCX5:BCX20),2)=1)*((BCX5:BCX20=\"○\")))","v":0},null,{"$f":"SUMPRODUCT((MOD(ROW(BCZ5:BCZ20),2)=1)*((BCZ5:BCZ20=\"○\")))","v":0},null,{"$f":"SUMPRODUCT((MOD(ROW(BDB5:BDB20),2)=1)*((BDB5:BDB20=\"○\")))","v":0},null,{"$f":"SUMPRODUCT((MOD(ROW(BDD5:BDD20),2)=1)*((BDD5:BDD20=\"○\")))","v":0},null,{"$f":"SUMPRODUCT((MOD(ROW(BDF5:BDF20),2)=1)*((BDF5:BDF20=\"○\")))","v":0},null,{"$f":"SUMPRODUCT((MOD(ROW(BDH5:BDH20),2)=1)*((BDH5:BDH20=\"○\")))","v":0},null,{"$f":"SUMPRODUCT((MOD(ROW(BDJ5:BDJ20),2)=1)*((BDJ5:BDJ20=\"○\")))","v":0},null,{"$f":"SUMPRODUCT((MOD(ROW(BDL5:BDL20),2)=1)*((BDL5:BDL20=\"○\")))","v":0},null,{"$f":"SUMPRODUCT((MOD(ROW(BDN5:BDN20),2)=1)*((BDN5:BDN20=\"○\")))","v":0},null,{"$f":"SUMPRODUCT((MOD(ROW(BDP5:BDP20),2)=1)*((BDP5:BDP20=\"○\")))","v":0},null,{"$f":"SUMPRODUCT((MOD(ROW(BDR5:BDR20),2)=1)*((BDR5:BDR20=\"○\")))","v":0},null,{"$f":"SUMPRODUCT((MOD(ROW(BDT5:BDT20),2)=1)*((BDT5:BDT20=\"○\")))","v":0},null,{"$f":"SUMPRODUCT((MOD(ROW(BDV5:BDV20),2)=1)*((BDV5:BDV20=\"○\")))","v":0},null,{"$f":"SUMPRODUCT((MOD(ROW(BDX5:BDX20),2)=1)*((BDX5:BDX20=\"○\")))","v":0},null,{"$f":"SUMPRODUCT((MOD(ROW(BDZ5:BDZ20),2)=1)*((BDZ5:BDZ20=\"○\")))","v":0},null,{"$f":"SUMPRODUCT((MOD(ROW(BEB5:BEB20),2)=1)*((BEB5:BEB20=\"○\")))","v":0},null,{"$f":"SUMPRODUCT((MOD(ROW(BED5:BED20),2)=1)*((BED5:BED20=\"○\")))","v":0},null,{"$f":"SUMPRODUCT((MOD(ROW(BEF5:BEF20),2)=1)*((BEF5:BEF20=\"○\")))","v":0},null,{"$f":"SUMPRODUCT((MOD(ROW(BEH5:BEH20),2)=1)*((BEH5:BEH20=\"○\")))","v":0},null,{"$f":"SUMPRODUCT((MOD(ROW(BEJ5:BEJ20),2)=1)*((BEJ5:BEJ20=\"○\")))","v":0},null,{"$f":"SUMPRODUCT((MOD(ROW(BEL5:BEL20),2)=1)*((BEL5:BEL20=\"○\")))","v":0},null,{"$f":"SUMPRODUCT((MOD(ROW(BEN5:BEN20),2)=1)*((BEN5:BEN20=\"○\")))","v":0},null,{"$f":"SUMPRODUCT((MOD(ROW(BEP5:BEP20),2)=1)*((BEP5:BEP20=\"○\")))","v":0},null,{"$f":"SUMPRODUCT((MOD(ROW(BER5:BER20),2)=1)*((BER5:BER20=\"○\")))","v":0},null,{"$f":"SUMPRODUCT((MOD(ROW(BET5:BET20),2)=1)*((BET5:BET20=\"○\")))","v":0},null,{"$f":"SUMPRODUCT((MOD(ROW(BEV5:BEV20),2)=1)*((BEV5:BEV20=\"○\")))","v":0},null,{"$f":"SUMPRODUCT((MOD(ROW(BEX5:BEX20),2)=1)*((BEX5:BEX20=\"○\")))","v":0},null,{"$f":"SUMPRODUCT((MOD(ROW(BEZ5:BEZ20),2)=1)*((BEZ5:BEZ20=\"○\")))","v":0},null,{"$f":"SUMPRODUCT((MOD(ROW(BFB5:BFB20),2)=1)*((BFB5:BFB20=\"○\")))","v":0},null,{"$f":"SUMPRODUCT((MOD(ROW(BFD5:BFD20),2)=1)*((BFD5:BFD20=\"○\")))","v":0},null,{"$f":"SUMPRODUCT((MOD(ROW(BFF5:BFF20),2)=1)*((BFF5:BFF20=\"○\")))","v":0},null,{"$f":"SUMPRODUCT((MOD(ROW(BFH5:BFH20),2)=1)*((BFH5:BFH20=\"○\")))","v":0},null,{"$f":"SUMPRODUCT((MOD(ROW(BFJ5:BFJ20),2)=1)*((BFJ5:BFJ20=\"○\")))","v":0},null,{"$f":"SUMPRODUCT((MOD(ROW(BFL5:BFL20),2)=1)*((BFL5:BFL20=\"○\")))","v":0},null,{"$f":"SUMPRODUCT((MOD(ROW(BFN5:BFN20),2)=1)*((BFN5:BFN20=\"○\")))","v":0},null,{"$f":"SUMPRODUCT((MOD(ROW(BFP5:BFP20),2)=1)*((BFP5:BFP20=\"○\")))","v":0},null,{"$f":"SUMPRODUCT((MOD(ROW(BFR5:BFR20),2)=1)*((BFR5:BFR20=\"○\")))","v":0},null,{"$f":"SUMPRODUCT((MOD(ROW(BFT5:BFT20),2)=1)*((BFT5:BFT20=\"○\")))","v":0},null,{"$f":"SUMPRODUCT((MOD(ROW(BFV5:BFV20),2)=1)*((BFV5:BFV20=\"○\")))","v":0},null,{"$f":"SUMPRODUCT((MOD(ROW(BFX5:BFX20),2)=1)*((BFX5:BFX20=\"○\")))","v":0},null,{"$f":"SUMPRODUCT((MOD(ROW(BFZ5:BFZ20),2)=1)*((BFZ5:BFZ20=\"○\")))","v":0},null,{"$f":"SUMPRODUCT((MOD(ROW(BGB5:BGB20),2)=1)*((BGB5:BGB20=\"○\")))","v":0},null,{"$f":"SUMPRODUCT((MOD(ROW(BGD5:BGD20),2)=1)*((BGD5:BGD20=\"○\")))","v":0},null,{"$f":"SUMPRODUCT((MOD(ROW(BGF5:BGF20),2)=1)*((BGF5:BGF20=\"○\")))","v":0},null,{"$f":"SUMPRODUCT((MOD(ROW(BGH5:BGH20),2)=1)*((BGH5:BGH20=\"○\")))","v":0},null,{"$f":"SUMPRODUCT((MOD(ROW(BGJ5:BGJ20),2)=1)*((BGJ5:BGJ20=\"○\")))","v":0},null,{"$f":"SUMPRODUCT((MOD(ROW(BGL5:BGL20),2)=1)*((BGL5:BGL20=\"○\")))","v":0},null,{"$f":"SUMPRODUCT((MOD(ROW(BGN5:BGN20),2)=1)*((BGN5:BGN20=\"○\")))","v":0},null,{"$f":"SUMPRODUCT((MOD(ROW(BGP5:BGP20),2)=1)*((BGP5:BGP20=\"○\")))","v":0},null,{"$f":"SUMPRODUCT((MOD(ROW(BGR5:BGR20),2)=1)*((BGR5:BGR20=\"○\")))","v":0},null,{"$f":"SUMPRODUCT((MOD(ROW(BGT5:BGT20),2)=1)*((BGT5:BGT20=\"○\")))","v":0},null,{"$f":"SUMPRODUCT((MOD(ROW(BGV5:BGV20),2)=1)*((BGV5:BGV20=\"○\")))","v":0},null,{"$f":"SUMPRODUCT((MOD(ROW(BGX5:BGX20),2)=1)*((BGX5:BGX20=\"○\")))","v":0},null,{"$f":"SUMPRODUCT((MOD(ROW(BGZ5:BGZ20),2)=1)*((BGZ5:BGZ20=\"○\")))","v":0},null,{"$f":"SUMPRODUCT((MOD(ROW(BHB5:BHB20),2)=1)*((BHB5:BHB20=\"○\")))","v":0},null,{"$f":"SUMPRODUCT((MOD(ROW(BHD5:BHD20),2)=1)*((BHD5:BHD20=\"○\")))","v":0},null,{"$f":"SUMPRODUCT((MOD(ROW(BHF5:BHF20),2)=1)*((BHF5:BHF20=\"○\")))","v":0},null,{"$f":"SUMPRODUCT((MOD(ROW(BHH5:BHH20),2)=1)*((BHH5:BHH20=\"○\")))","v":0},null,{"$f":"SUMPRODUCT((MOD(ROW(BHJ5:BHJ20),2)=1)*((BHJ5:BHJ20=\"○\")))","v":0},null,{"$f":"SUMPRODUCT((MOD(ROW(BHL5:BHL20),2)=1)*((BHL5:BHL20=\"○\")))","v":0},null,{"$f":"SUMPRODUCT((MOD(ROW(BHN5:BHN20),2)=1)*((BHN5:BHN20=\"○\")))","v":0},null,{"$f":"SUMPRODUCT((MOD(ROW(BHP5:BHP20),2)=1)*((BHP5:BHP20=\"○\")))","v":0},null,{"$f":"SUMPRODUCT((MOD(ROW(BHR5:BHR20),2)=1)*((BHR5:BHR20=\"○\")))","v":0},null,{"$f":"SUMPRODUCT((MOD(ROW(BHT5:BHT20),2)=1)*((BHT5:BHT20=\"○\")))","v":0},null,{"$f":"SUMPRODUCT((MOD(ROW(BHV5:BHV20),2)=1)*((BHV5:BHV20=\"○\")))","v":0},null,{"$f":"SUMPRODUCT((MOD(ROW(BHX5:BHX20),2)=1)*((BHX5:BHX20=\"○\")))","v":0},null,{"$f":"SUMPRODUCT((MOD(ROW(BHZ5:BHZ20),2)=1)*((BHZ5:BHZ20=\"○\")))","v":0},null,{"$f":"SUMPRODUCT((MOD(ROW(BIB5:BIB20),2)=1)*((BIB5:BIB20=\"○\")))","v":0},null,{"$f":"SUMPRODUCT((MOD(ROW(BID5:BID20),2)=1)*((BID5:BID20=\"○\")))","v":0},null,{"$f":"SUMPRODUCT((MOD(ROW(BIF5:BIF20),2)=1)*((BIF5:BIF20=\"○\")))","v":0},null,{"$f":"SUMPRODUCT((MOD(ROW(BIH5:BIH20),2)=1)*((BIH5:BIH20=\"○\")))","v":0},null,{"$f":"SUMPRODUCT((MOD(ROW(BIJ5:BIJ20),2)=1)*((BIJ5:BIJ20=\"○\")))","v":0},null,{"$f":"SUMPRODUCT((MOD(ROW(BIL5:BIL20),2)=1)*((BIL5:BIL20=\"○\")))","v":0},null,{"$f":"SUMPRODUCT((MOD(ROW(BIN5:BIN20),2)=1)*((BIN5:BIN20=\"○\")))","v":0},null,{"$f":"SUMPRODUCT((MOD(ROW(BIP5:BIP20),2)=1)*((BIP5:BIP20=\"○\")))","v":0},null,{"$f":"SUMPRODUCT((MOD(ROW(BIR5:BIR20),2)=1)*((BIR5:BIR20=\"○\")))","v":0},null,{"$f":"SUMPRODUCT((MOD(ROW(BIT5:BIT20),2)=1)*((BIT5:BIT20=\"○\")))","v":0},null,{"$f":"SUMPRODUCT((MOD(ROW(BIV5:BIV20),2)=1)*((BIV5:BIV20=\"○\")))","v":0},null,{"$f":"SUMPRODUCT((MOD(ROW(BIX5:BIX20),2)=1)*((BIX5:BIX20=\"○\")))","v":0},null,{"$f":"SUMPRODUCT((MOD(ROW(BIZ5:BIZ20),2)=1)*((BIZ5:BIZ20=\"○\")))","v":0},null,{"$f":"SUMPRODUCT((MOD(ROW(BJB5:BJB20),2)=1)*((BJB5:BJB20=\"○\")))","v":0},null,{"$f":"SUMPRODUCT((MOD(ROW(BJD5:BJD20),2)=1)*((BJD5:BJD20=\"○\")))","v":0},null,{"$f":"SUMPRODUCT((MOD(ROW(BJF5:BJF20),2)=1)*((BJF5:BJF20=\"○\")))","v":0},null,{"$f":"SUMPRODUCT((MOD(ROW(BJH5:BJH20),2)=1)*((BJH5:BJH20=\"○\")))","v":0},null,{"$f":"SUMPRODUCT((MOD(ROW(BJJ5:BJJ20),2)=1)*((BJJ5:BJJ20=\"○\")))","v":0},null,{"$f":"SUMPRODUCT((MOD(ROW(BJL5:BJL20),2)=1)*((BJL5:BJL20=\"○\")))","v":0},null,{"$f":"SUMPRODUCT((MOD(ROW(BJN5:BJN20),2)=1)*((BJN5:BJN20=\"○\")))","v":0},null,{"$f":"SUMPRODUCT((MOD(ROW(BJP5:BJP20),2)=1)*((BJP5:BJP20=\"○\")))","v":0},null,{"$f":"SUMPRODUCT((MOD(ROW(BJR5:BJR20),2)=1)*((BJR5:BJR20=\"○\")))","v":0},null,{"$f":"SUMPRODUCT((MOD(ROW(BJT5:BJT20),2)=1)*((BJT5:BJT20=\"○\")))","v":0},null,{"$f":"SUMPRODUCT((MOD(ROW(BJV5:BJV20),2)=1)*((BJV5:BJV20=\"○\")))","v":0},null,{"$f":"SUMPRODUCT((MOD(ROW(BJX5:BJX20),2)=1)*((BJX5:BJX20=\"○\")))","v":0},null,{"$f":"SUMPRODUCT((MOD(ROW(BJZ5:BJZ20),2)=1)*((BJZ5:BJZ20=\"○\")))","v":0},null,{"$f":"SUMPRODUCT((MOD(ROW(BKB5:BKB20),2)=1)*((BKB5:BKB20=\"○\")))","v":0},null,{"$f":"SUMPRODUCT((MOD(ROW(BKD5:BKD20),2)=1)*((BKD5:BKD20=\"○\")))","v":0},null,{"$f":"SUMPRODUCT((MOD(ROW(BKF5:BKF20),2)=1)*((BKF5:BKF20=\"○\")))","v":0},null,{"$f":"SUMPRODUCT((MOD(ROW(BKH5:BKH20),2)=1)*((BKH5:BKH20=\"○\")))","v":0},null,{"$f":"SUMPRODUCT((MOD(ROW(BKJ5:BKJ20),2)=1)*((BKJ5:BKJ20=\"○\")))","v":0},null,{"$f":"SUMPRODUCT((MOD(ROW(BKL5:BKL20),2)=1)*((BKL5:BKL20=\"○\")))","v":0},null,{"$f":"SUMPRODUCT((MOD(ROW(BKN5:BKN20),2)=1)*((BKN5:BKN20=\"○\")))","v":0},null,{"$f":"SUMPRODUCT((MOD(ROW(BKP5:BKP20),2)=1)*((BKP5:BKP20=\"○\")))","v":0},null,{"$f":"SUMPRODUCT((MOD(ROW(BKR5:BKR20),2)=1)*((BKR5:BKR20=\"○\")))","v":0},null,{"$f":"SUMPRODUCT((MOD(ROW(BKT5:BKT20),2)=1)*((BKT5:BKT20=\"○\")))","v":0},null,{"$f":"SUMPRODUCT((MOD(ROW(BKV5:BKV20),2)=1)*((BKV5:BKV20=\"○\")))","v":0},null,{"$f":"SUMPRODUCT((MOD(ROW(BKX5:BKX20),2)=1)*((BKX5:BKX20=\"○\")))","v":0},null,{"$f":"SUMPRODUCT((MOD(ROW(BKZ5:BKZ20),2)=1)*((BKZ5:BKZ20=\"○\")))","v":0},null,{"$f":"SUMPRODUCT((MOD(ROW(BLB5:BLB20),2)=1)*((BLB5:BLB20=\"○\")))","v":0},null,{"$f":"SUMPRODUCT((MOD(ROW(BLD5:BLD20),2)=1)*((BLD5:BLD20=\"○\")))","v":0},null,{"$f":"SUMPRODUCT((MOD(ROW(BLF5:BLF20),2)=1)*((BLF5:BLF20=\"○\")))","v":0},null,{"$f":"SUMPRODUCT((MOD(ROW(BLH5:BLH20),2)=1)*((BLH5:BLH20=\"○\")))","v":0},null,{"$f":"SUMPRODUCT((MOD(ROW(BLJ5:BLJ20),2)=1)*((BLJ5:BLJ20=\"○\")))","v":0},null,{"$f":"SUMPRODUCT((MOD(ROW(BLL5:BLL20),2)=1)*((BLL5:BLL20=\"○\")))","v":0},null,{"$f":"SUMPRODUCT((MOD(ROW(BLN5:BLN20),2)=1)*((BLN5:BLN20=\"○\")))","v":0},null,{"$f":"SUMPRODUCT((MOD(ROW(BLP5:BLP20),2)=1)*((BLP5:BLP20=\"○\")))","v":0},null,{"$f":"SUMPRODUCT((MOD(ROW(BLR5:BLR20),2)=1)*((BLR5:BLR20=\"○\")))","v":0},null,{"$f":"SUMPRODUCT((MOD(ROW(BLT5:BLT20),2)=1)*((BLT5:BLT20=\"○\")))","v":0},null,{"$f":"SUMPRODUCT((MOD(ROW(BLV5:BLV20),2)=1)*((BLV5:BLV20=\"○\")))","v":0},null,{"$f":"SUMPRODUCT((MOD(ROW(BLX5:BLX20),2)=1)*((BLX5:BLX20=\"○\")))","v":0},null,{"$f":"SUMPRODUCT((MOD(ROW(BLZ5:BLZ20),2)=1)*((BLZ5:BLZ20=\"○\")))","v":0},null,{"$f":"SUMPRODUCT((MOD(ROW(BMB5:BMB20),2)=1)*((BMB5:BMB20=\"○\")))","v":0},null,{"$f":"SUMPRODUCT((MOD(ROW(BMD5:BMD20),2)=1)*((BMD5:BMD20=\"○\")))","v":0},null,{"$f":"SUMPRODUCT((MOD(ROW(BMF5:BMF20),2)=1)*((BMF5:BMF20=\"○\")))","v":0},null,{"$f":"SUMPRODUCT((MOD(ROW(BMH5:BMH20),2)=1)*((BMH5:BMH20=\"○\")))","v":0},null,{"$f":"SUMPRODUCT((MOD(ROW(BMJ5:BMJ20),2)=1)*((BMJ5:BMJ20=\"○\")))","v":0},null,{"$f":"SUMPRODUCT((MOD(ROW(BML5:BML20),2)=1)*((BML5:BML20=\"○\")))","v":0},null,{"$f":"SUMPRODUCT((MOD(ROW(BMN5:BMN20),2)=1)*((BMN5:BMN20=\"○\")))","v":0},null,{"$f":"SUMPRODUCT((MOD(ROW(BMP5:BMP20),2)=1)*((BMP5:BMP20=\"○\")))","v":0},null,{"$f":"SUMPRODUCT((MOD(ROW(BMR5:BMR20),2)=1)*((BMR5:BMR20=\"○\")))","v":0},null,{"$f":"SUMPRODUCT((MOD(ROW(BMT5:BMT20),2)=1)*((BMT5:BMT20=\"○\")))","v":0},null,{"$f":"SUMPRODUCT((MOD(ROW(BMV5:BMV20),2)=1)*((BMV5:BMV20=\"○\")))","v":0},null,{"$f":"SUMPRODUCT((MOD(ROW(BMX5:BMX20),2)=1)*((BMX5:BMX20=\"○\")))","v":0},null,{"$f":"SUMPRODUCT((MOD(ROW(BMZ5:BMZ20),2)=1)*((BMZ5:BMZ20=\"○\")))","v":0},null,{"$f":"SUMPRODUCT((MOD(ROW(BNB5:BNB20),2)=1)*((BNB5:BNB20=\"○\")))","v":0},null,{"$f":"SUMPRODUCT((MOD(ROW(BND5:BND20),2)=1)*((BND5:BND20=\"○\")))","v":0},null,{"$f":"SUMPRODUCT((MOD(ROW(BNF5:BNF20),2)=1)*((BNF5:BNF20=\"○\")))","v":0},null,{"$f":"SUMPRODUCT((MOD(ROW(BNH5:BNH20),2)=1)*((BNH5:BNH20=\"○\")))","v":0},null,{"$f":"SUMPRODUCT((MOD(ROW(BNJ5:BNJ20),2)=1)*((BNJ5:BNJ20=\"○\")))","v":0},null,{"$f":"SUMPRODUCT((MOD(ROW(BNL5:BNL20),2)=1)*((BNL5:BNL20=\"○\")))","v":0},null,{"$f":"SUMPRODUCT((MOD(ROW(BNN5:BNN20),2)=1)*((BNN5:BNN20=\"○\")))","v":0},null,{"$f":"SUMPRODUCT((MOD(ROW(BNP5:BNP20),2)=1)*((BNP5:BNP20=\"○\")))","v":0},null,{"$f":"SUMPRODUCT((MOD(ROW(BNR5:BNR20),2)=1)*((BNR5:BNR20=\"○\")))","v":0},null,{"$f":"SUMPRODUCT((MOD(ROW(BNT5:BNT20),2)=1)*((BNT5:BNT20=\"○\")))","v":0},null,{"$f":"SUMPRODUCT((MOD(ROW(BNV5:BNV20),2)=1)*((BNV5:BNV20=\"○\")))","v":0},null,{"$f":"SUMPRODUCT((MOD(ROW(BNX5:BNX20),2)=1)*((BNX5:BNX20=\"○\")))","v":0},null,{"$f":"SUMPRODUCT((MOD(ROW(BNZ5:BNZ20),2)=1)*((BNZ5:BNZ20=\"○\")))","v":0},null,{"$f":"SUMPRODUCT((MOD(ROW(BOB5:BOB20),2)=1)*((BOB5:BOB20=\"○\")))","v":0},null,{"$f":"SUMPRODUCT((MOD(ROW(BOD5:BOD20),2)=1)*((BOD5:BOD20=\"○\")))","v":0},null,{"$f":"SUMPRODUCT((MOD(ROW(BOF5:BOF20),2)=1)*((BOF5:BOF20=\"○\")))","v":0},null,{"$f":"SUMPRODUCT((MOD(ROW(BOH5:BOH20),2)=1)*((BOH5:BOH20=\"○\")))","v":0},null,{"$f":"SUMPRODUCT((MOD(ROW(BOJ5:BOJ20),2)=1)*((BOJ5:BOJ20=\"○\")))","v":0},null,{"$f":"SUMPRODUCT((MOD(ROW(BOL5:BOL20),2)=1)*((BOL5:BOL20=\"○\")))","v":0},null,{"$f":"SUMPRODUCT((MOD(ROW(BON5:BON20),2)=1)*((BON5:BON20=\"○\")))","v":0},null,{"$f":"SUMPRODUCT((MOD(ROW(BOP5:BOP20),2)=1)*((BOP5:BOP20=\"○\")))","v":0},null,{"$f":"SUMPRODUCT((MOD(ROW(BOR5:BOR20),2)=1)*((BOR5:BOR20=\"○\")))","v":0},null,{"$f":"SUMPRODUCT((MOD(ROW(BOT5:BOT20),2)=1)*((BOT5:BOT20=\"○\")))","v":0},null,{"$f":"SUMPRODUCT((MOD(ROW(BOV5:BOV20),2)=1)*((BOV5:BOV20=\"○\")))","v":0},null,{"$f":"SUMPRODUCT((MOD(ROW(BOX5:BOX20),2)=1)*((BOX5:BOX20=\"○\")))","v":0},null,{"$f":"SUMPRODUCT((MOD(ROW(BOZ5:BOZ20),2)=1)*((BOZ5:BOZ20=\"○\")))","v":0},null,{"$f":"SUMPRODUCT((MOD(ROW(BPB5:BPB20),2)=1)*((BPB5:BPB20=\"○\")))","v":0},null,{"$f":"SUMPRODUCT((MOD(ROW(BPD5:BPD20),2)=1)*((BPD5:BPD20=\"○\")))","v":0},null,{"$f":"SUMPRODUCT((MOD(ROW(BPF5:BPF20),2)=1)*((BPF5:BPF20=\"○\")))","v":0},null,{"$f":"SUMPRODUCT((MOD(ROW(BPH5:BPH20),2)=1)*((BPH5:BPH20=\"○\")))","v":0},null,{"$f":"SUMPRODUCT((MOD(ROW(BPJ5:BPJ20),2)=1)*((BPJ5:BPJ20=\"○\")))","v":0},null,{"$f":"SUMPRODUCT((MOD(ROW(BPL5:BPL20),2)=1)*((BPL5:BPL20=\"○\")))","v":0},null,{"$f":"SUMPRODUCT((MOD(ROW(BPN5:BPN20),2)=1)*((BPN5:BPN20=\"○\")))","v":0},null,{"$f":"SUMPRODUCT((MOD(ROW(BPP5:BPP20),2)=1)*((BPP5:BPP20=\"○\")))","v":0},null,{"$f":"SUMPRODUCT((MOD(ROW(BPR5:BPR20),2)=1)*((BPR5:BPR20=\"○\")))","v":0},null,{"$f":"SUMPRODUCT((MOD(ROW(BPT5:BPT20),2)=1)*((BPT5:BPT20=\"○\")))","v":0},null,{"$f":"SUMPRODUCT((MOD(ROW(BPV5:BPV20),2)=1)*((BPV5:BPV20=\"○\")))","v":0},null,{"$f":"SUMPRODUCT((MOD(ROW(BPX5:BPX20),2)=1)*((BPX5:BPX20=\"○\")))","v":0},null,{"$f":"SUMPRODUCT((MOD(ROW(BPZ5:BPZ20),2)=1)*((BPZ5:BPZ20=\"○\")))","v":0},null,{"$f":"SUMPRODUCT((MOD(ROW(BQB5:BQB20),2)=1)*((BQB5:BQB20=\"○\")))","v":0},null,{"$f":"SUMPRODUCT((MOD(ROW(BQD5:BQD20),2)=1)*((BQD5:BQD20=\"○\")))","v":0},null,{"$f":"SUMPRODUCT((MOD(ROW(BQF5:BQF20),2)=1)*((BQF5:BQF20=\"○\")))","v":0},null,{"$f":"SUMPRODUCT((MOD(ROW(BQH5:BQH20),2)=1)*((BQH5:BQH20=\"○\")))","v":0},null,{"$f":"SUMPRODUCT((MOD(ROW(BQJ5:BQJ20),2)=1)*((BQJ5:BQJ20=\"○\")))","v":0},null,{"$f":"SUMPRODUCT((MOD(ROW(BQL5:BQL20),2)=1)*((BQL5:BQL20=\"○\")))","v":0},null,{"$f":"SUMPRODUCT((MOD(ROW(BQN5:BQN20),2)=1)*((BQN5:BQN20=\"○\")))","v":0},null,{"$f":"SUMPRODUCT((MOD(ROW(BQP5:BQP20),2)=1)*((BQP5:BQP20=\"○\")))","v":0},null,{"$f":"SUMPRODUCT((MOD(ROW(BQR5:BQR20),2)=1)*((BQR5:BQR20=\"○\")))","v":0},null,{"$f":"SUMPRODUCT((MOD(ROW(BQT5:BQT20),2)=1)*((BQT5:BQT20=\"○\")))","v":0},null,{"$f":"SUMPRODUCT((MOD(ROW(BQV5:BQV20),2)=1)*((BQV5:BQV20=\"○\")))","v":0},null,{"$f":"SUMPRODUCT((MOD(ROW(BQX5:BQX20),2)=1)*((BQX5:BQX20=\"○\")))","v":0},null,{"$f":"SUMPRODUCT((MOD(ROW(BQZ5:BQZ20),2)=1)*((BQZ5:BQZ20=\"○\")))","v":0},null,{"$f":"SUMPRODUCT((MOD(ROW(BRB5:BRB20),2)=1)*((BRB5:BRB20=\"○\")))","v":0},null,{"$f":"SUMPRODUCT((MOD(ROW(BRD5:BRD20),2)=1)*((BRD5:BRD20=\"○\")))","v":0},null,{"$f":"SUMPRODUCT((MOD(ROW(BRF5:BRF20),2)=1)*((BRF5:BRF20=\"○\")))","v":0},null,{"$f":"SUMPRODUCT((MOD(ROW(BRH5:BRH20),2)=1)*((BRH5:BRH20=\"○\")))","v":0},null,{"$f":"SUMPRODUCT((MOD(ROW(BRJ5:BRJ20),2)=1)*((BRJ5:BRJ20=\"○\")))","v":0},null,{"$f":"SUMPRODUCT((MOD(ROW(BRL5:BRL20),2)=1)*((BRL5:BRL20=\"○\")))","v":0},null,{"$f":"SUMPRODUCT((MOD(ROW(BRN5:BRN20),2)=1)*((BRN5:BRN20=\"○\")))","v":0},null,{"$f":"SUMPRODUCT((MOD(ROW(BRP5:BRP20),2)=1)*((BRP5:BRP20=\"○\")))","v":0},null,{"$f":"SUMPRODUCT((MOD(ROW(BRR5:BRR20),2)=1)*((BRR5:BRR20=\"○\")))","v":0},null,{"$f":"SUMPRODUCT((MOD(ROW(BRT5:BRT20),2)=1)*((BRT5:BRT20=\"○\")))","v":0},null,{"$f":"SUMPRODUCT((MOD(ROW(BRV5:BRV20),2)=1)*((BRV5:BRV20=\"○\")))","v":0},null,{"$f":"SUMPRODUCT((MOD(ROW(BRX5:BRX20),2)=1)*((BRX5:BRX20=\"○\")))","v":0},null,{"$f":"SUMPRODUCT((MOD(ROW(BRZ5:BRZ20),2)=1)*((BRZ5:BRZ20=\"○\")))","v":0},null,{"$f":"SUMPRODUCT((MOD(ROW(BSB5:BSB20),2)=1)*((BSB5:BSB20=\"○\")))","v":0},null,{"$f":"SUMPRODUCT((MOD(ROW(BSD5:BSD20),2)=1)*((BSD5:BSD20=\"○\")))","v":0},null,{"$f":"SUMPRODUCT((MOD(ROW(BSF5:BSF20),2)=1)*((BSF5:BSF20=\"○\")))","v":0},null,{"$f":"SUMPRODUCT((MOD(ROW(BSH5:BSH20),2)=1)*((BSH5:BSH20=\"○\")))","v":0},null,{"$f":"SUMPRODUCT((MOD(ROW(BSJ5:BSJ20),2)=1)*((BSJ5:BSJ20=\"○\")))","v":0},null,{"$f":"SUMPRODUCT((MOD(ROW(BSL5:BSL20),2)=1)*((BSL5:BSL20=\"○\")))","v":0},null,{"$f":"SUMPRODUCT((MOD(ROW(BSN5:BSN20),2)=1)*((BSN5:BSN20=\"○\")))","v":0},null,{"$f":"SUMPRODUCT((MOD(ROW(BSP5:BSP20),2)=1)*((BSP5:BSP20=\"○\")))","v":0},null,{"$f":"SUMPRODUCT((MOD(ROW(BSR5:BSR20),2)=1)*((BSR5:BSR20=\"○\")))","v":0},null,{"$f":"SUMPRODUCT((MOD(ROW(BST5:BST20),2)=1)*((BST5:BST20=\"○\")))","v":0},null,{"$f":"SUMPRODUCT((MOD(ROW(BSV5:BSV20),2)=1)*((BSV5:BSV20=\"○\")))","v":0},null,{"$f":"SUMPRODUCT((MOD(ROW(BSX5:BSX20),2)=1)*((BSX5:BSX20=\"○\")))","v":0},null,{"$f":"SUMPRODUCT((MOD(ROW(BSZ5:BSZ20),2)=1)*((BSZ5:BSZ20=\"○\")))","v":0},null,{"$f":"SUMPRODUCT((MOD(ROW(BTB5:BTB20),2)=1)*((BTB5:BTB20=\"○\")))","v":0},null,{"$f":"SUMPRODUCT((MOD(ROW(BTD5:BTD20),2)=1)*((BTD5:BTD20=\"○\")))","v":0},null,{"$f":"SUMPRODUCT((MOD(ROW(BTF5:BTF20),2)=1)*((BTF5:BTF20=\"○\")))","v":0},null,{"$f":"SUMPRODUCT((MOD(ROW(BTH5:BTH20),2)=1)*((BTH5:BTH20=\"○\")))","v":0},null,{"$f":"SUMPRODUCT((MOD(ROW(BTJ5:BTJ20),2)=1)*((BTJ5:BTJ20=\"○\")))","v":0},null,{"$f":"SUMPRODUCT((MOD(ROW(BTL5:BTL20),2)=1)*((BTL5:BTL20=\"○\")))","v":0},null,{"$f":"SUMPRODUCT((MOD(ROW(BTN5:BTN20),2)=1)*((BTN5:BTN20=\"○\")))","v":0},null,{"$f":"SUMPRODUCT((MOD(ROW(BTP5:BTP20),2)=1)*((BTP5:BTP20=\"○\")))","v":0},null,{"$f":"SUMPRODUCT((MOD(ROW(BTR5:BTR20),2)=1)*((BTR5:BTR20=\"○\")))","v":0},null,{"$f":"SUMPRODUCT((MOD(ROW(BTT5:BTT20),2)=1)*((BTT5:BTT20=\"○\")))","v":0},null,{"$f":"SUMPRODUCT((MOD(ROW(BTV5:BTV20),2)=1)*((BTV5:BTV20=\"○\")))","v":0},null,{"$f":"SUMPRODUCT((MOD(ROW(BTX5:BTX20),2)=1)*((BTX5:BTX20=\"○\")))","v":0},null,{"$f":"SUMPRODUCT((MOD(ROW(BTZ5:BTZ20),2)=1)*((BTZ5:BTZ20=\"○\")))","v":0},null,{"$f":"SUMPRODUCT((MOD(ROW(BUB5:BUB20),2)=1)*((BUB5:BUB20=\"○\")))","v":0},null,{"$f":"SUMPRODUCT((MOD(ROW(BUD5:BUD20),2)=1)*((BUD5:BUD20=\"○\")))","v":0},null,{"$f":"SUMPRODUCT((MOD(ROW(BUF5:BUF20),2)=1)*((BUF5:BUF20=\"○\")))","v":0},null,{"$f":"SUMPRODUCT((MOD(ROW(BUH5:BUH20),2)=1)*((BUH5:BUH20=\"○\")))","v":0},null,{"$f":"SUMPRODUCT((MOD(ROW(BUJ5:BUJ20),2)=1)*((BUJ5:BUJ20=\"○\")))","v":0},null,{"$f":"SUMPRODUCT((MOD(ROW(BUL5:BUL20),2)=1)*((BUL5:BUL20=\"○\")))","v":0},null,{"$f":"SUMPRODUCT((MOD(ROW(BUN5:BUN20),2)=1)*((BUN5:BUN20=\"○\")))","v":0},null,{"$f":"SUMPRODUCT((MOD(ROW(BUP5:BUP20),2)=1)*((BUP5:BUP20=\"○\")))","v":0},null,{"$f":"SUMPRODUCT((MOD(ROW(BUR5:BUR20),2)=1)*((BUR5:BUR20=\"○\")))","v":0},null,{"$f":"SUMPRODUCT((MOD(ROW(BUT5:BUT20),2)=1)*((BUT5:BUT20=\"○\")))","v":0},null,{"$f":"SUMPRODUCT((MOD(ROW(BUV5:BUV20),2)=1)*((BUV5:BUV20=\"○\")))","v":0},null,{"$f":"SUMPRODUCT((MOD(ROW(BUX5:BUX20),2)=1)*((BUX5:BUX20=\"○\")))","v":0},null,{"$f":"SUMPRODUCT((MOD(ROW(BUZ5:BUZ20),2)=1)*((BUZ5:BUZ20=\"○\")))","v":0},null,{"$f":"SUMPRODUCT((MOD(ROW(BVB5:BVB20),2)=1)*((BVB5:BVB20=\"○\")))","v":0},null,{"$f":"SUMPRODUCT((MOD(ROW(BVD5:BVD20),2)=1)*((BVD5:BVD20=\"○\")))","v":0},null,{"$f":"SUMPRODUCT((MOD(ROW(BVF5:BVF20),2)=1)*((BVF5:BVF20=\"○\")))","v":0},null,{"$f":"SUMPRODUCT((MOD(ROW(BVH5:BVH20),2)=1)*((BVH5:BVH20=\"○\")))","v":0},null,{"$f":"SUMPRODUCT((MOD(ROW(BVJ5:BVJ20),2)=1)*((BVJ5:BVJ20=\"○\")))","v":0},null,{"$f":"SUMPRODUCT((MOD(ROW(BVL5:BVL20),2)=1)*((BVL5:BVL20=\"○\")))","v":0},null,{"$f":"SUMPRODUCT((MOD(ROW(BVN5:BVN20),2)=1)*((BVN5:BVN20=\"○\")))","v":0},null,{"$f":"SUMPRODUCT((MOD(ROW(BVP5:BVP20),2)=1)*((BVP5:BVP20=\"○\")))","v":0},null,{"$f":"SUMPRODUCT((MOD(ROW(BVR5:BVR20),2)=1)*((BVR5:BVR20=\"○\")))","v":0},null,{"$f":"SUMPRODUCT((MOD(ROW(BVT5:BVT20),2)=1)*((BVT5:BVT20=\"○\")))","v":0},null,{"$f":"SUMPRODUCT((MOD(ROW(BVV5:BVV20),2)=1)*((BVV5:BVV20=\"○\")))","v":0},null,{"$f":"SUMPRODUCT((MOD(ROW(BVX5:BVX20),2)=1)*((BVX5:BVX20=\"○\")))","v":0},null,{"$f":"SUMPRODUCT((MOD(ROW(BVZ5:BVZ20),2)=1)*((BVZ5:BVZ20=\"○\")))","v":0},null,{"$f":"SUMPRODUCT((MOD(ROW(BWB5:BWB20),2)=1)*((BWB5:BWB20=\"○\")))","v":0},null,{"$f":"SUMPRODUCT((MOD(ROW(BWD5:BWD20),2)=1)*((BWD5:BWD20=\"○\")))","v":0},null,{"$f":"SUMPRODUCT((MOD(ROW(BWF5:BWF20),2)=1)*((BWF5:BWF20=\"○\")))","v":0},null,{"$f":"SUMPRODUCT((MOD(ROW(BWH5:BWH20),2)=1)*((BWH5:BWH20=\"○\")))","v":0},null,{"$f":"SUMPRODUCT((MOD(ROW(BWJ5:BWJ20),2)=1)*((BWJ5:BWJ20=\"○\")))","v":0},null,{"$f":"SUMPRODUCT((MOD(ROW(BWL5:BWL20),2)=1)*((BWL5:BWL20=\"○\")))","v":0},null,{"$f":"SUMPRODUCT((MOD(ROW(BWN5:BWN20),2)=1)*((BWN5:BWN20=\"○\")))","v":0},null,{"$f":"SUMPRODUCT((MOD(ROW(BWP5:BWP20),2)=1)*((BWP5:BWP20=\"○\")))","v":0},null,{"$f":"SUMPRODUCT((MOD(ROW(BWR5:BWR20),2)=1)*((BWR5:BWR20=\"○\")))","v":0},null,{"$f":"SUMPRODUCT((MOD(ROW(BWT5:BWT20),2)=1)*((BWT5:BWT20=\"○\")))","v":0},null,{"$f":"SUMPRODUCT((MOD(ROW(BWV5:BWV20),2)=1)*((BWV5:BWV20=\"○\")))","v":0},null,{"$f":"SUM(BWX5:BWX20)","v":{"v":0,"d":"0.00"}},"月",null,{"$f":"SUM(BXA5:BXA20)","v":{"v":0,"d":"0.00"}},{"$f":"QUOTIENT(BXA22,12)","v":0},{"$f":"MOD(BXA22,12)","v":{"v":0,"d":"0.00"}}]